{"text_format":"2","workbook":"xlsx","n_sheets":5,"sheets":["CISTERNAS PARAÍBA","B.D.I SERVIÇOS (SEM DES.)","B.D.I MATERIAIS (SEM DES.)","COMPOSIÇÕES","Cronograma Físico-Financeiro"],"not_rendered":{"charts":0,"images":2,"macros":0,"external_links":2,"defined_names":4591,"comments":0,"pivot_tables":0},"unopened":[],"bounds":{"document_bytes":16777216,"sheet_cells":100000,"run_cost":"one","rows_first":2000,"rows_last":500,"rows_between":2000,"halvings":0,"cell_chars":16384,"cell_head_chars":4096},"cells_cut":0,"cells_raw":0,"read":"whole","date_system":"1900"}

{"sheet":"CISTERNAS PARAÍBA","index":0,"n_rows":69,"n_cols":10,"rows_kept":69,"cut":false,"hidden":false,"merged":[[5,8,5,9],[6,8,6,9],[7,8,7,9],[67,6,67,7],[62,6,62,7],[5,6,5,7],[6,6,6,7],[7,6,7,7],[68,6,68,7],[0,1,0,9],[1,1,1,9],[2,1,2,9],[3,6,3,9],[4,6,4,7],[64,6,64,7],[65,6,65,7],[66,6,66,7],[3,1,3,5],[4,1,4,5],[5,1,5,5],[6,1,6,5],[7,1,7,5],[63,6,63,7],[4,8,4,9]]}
[null,"MINISTÉRIO DO DESENVOLVIMENTO REGIONAL - MDR"]
[null,"COMPANHIA DE DESENVOLVIMENTO DOS VALES DO SÃO FRANCISCO E DO PARNAÍBA"]
[null,"ÁREA DE REVITALIZAÇÃO DAS BACIAS HIDROGRÁFICAS"]
[{"$nulls":6},"BASES DE REFERÊNCIA.: SINAPI / ORSE / DNIT"]
[{"$nulls":6},"BASE",null,"SETEMBRO / 2020"]
["OBJETO:","TRANSPORTE E INSTALAÇÃO DE CISTERNAS PARA CAPTAÇÃO DA ÁGUA DA CHUVA - PARAÍBA",{"$nulls":4},"BDI SERVIÇOS",null,{"$f":"'B.D.I SERVIÇOS (SEM DES.)'!F32/100","v":0.2545}]
[{"$nulls":6},"BDI MATERIAIS",null,{"$f":"'B.D.I MATERIAIS (SEM DES.)'!F32/100","v":0.10890000000000001}]
[null,"PLANILHA ORÇAMENTÁRIA",{"$nulls":4},"QTD DE CISTERNAS",null,{"$f":"J65","v":1566}]
[]
["ITEM","ESPECIFICAÇÃO DOS SERVIÇOS","CÓDIGO / BASE","UND","QUANTIDADE ESTIMADA / CISTERNA","QUANTIDADE TOTAL","VALOR\nUNIT.\nS/BDI (R$)","VALOR\nUNIT.\nC/BDI (R$)","VALOR\nTOTAL (R$)","VALOR (R$)\n/ CISTERNA "]
[]
["01","SERVIÇOS                                                                                                                                                                                                ",null,null," ",null," ",null,{"$f":"SUBTOTAL(9,I13:I39)","v":2469115.8099999996},{"$f":"I12/$I$8","v":1576.7023052362706}]
[null,"                                                                                                                                                                                                        ",null,null," ",null," ",null," "]
["01.01","SERVIÇOS PRELIMINAES E CANTEIRO DE OBRAS                                                                                                                                                                ",null,null," ",null," ",null,{"$f":"SUBTOTAL(9,I15:I20)","v":524869.03},{"$f":"I14/$I$8","v":335.16540868454661}]
["01.01.01","MOBILIZAÇÃO E DESMOBILIZAÇÃO DE PESSOAL E EQUIPAMENTOS                                                                                                                                                  ","CPU0001","UN",null,1,7491.95,{"$f":"ROUND(G15+G15*$I$6,2)","v":9398.65},{"$f":"ROUND(ROUND(F15,2)*ROUND(H15,2),2)","v":9398.65}]
["01.01.02","INSTALAÇÃO DE CANTEIRO DE OBRAS (LOCAÇÃO DE IMÓVEL)                                                                                                                                                     ","CPU0002","UN",null,1,26550.3,{"$f":"ROUND(G16+G16*$I$6,2)","v":33307.35},{"$f":"ROUND(ROUND(F16,2)*ROUND(H16,2),2)","v":33307.35}]
["01.01.03","ADMINISTRAÇÃO LOCAL E MANUTENÇÃO DO CANTEIRO DE OBRAS                                                                                                                                                   ","CPU0003","UN",null,1,314444.27,394470.34,394470.34]
["01.01.04","VEÍCULO PICK-UP CABINE DUPLA 4X4 (163 CV), COM AR-CONDICIONADO PARA APOIO À FISCALIZAÇÃO, INCLUINDO DESPESAS COM COMBUSTÍVEL, ÓLEOS, MANUTENÇÃO, LICENCIAMENTO, SEGUROS, IMPOSTOS, ETC.                 ","CPU0004","MÊS",null,7,6474.26,8121.96,56853.72]
["01.01.05","PLACA DE OBRA EM CHAPA DE ACO GALVANIZADO (01 PLACA DE 3,60 X 1,80M POR MUNICÍPIO)                                                                                                                                  ","CPU0005","M2",null,64.800000000000011,379.36,475.91,30838.97]
[null,"                                                                                                                                                                                                        ","              ",null," ",null,null,null," "]
["01.02","INSTALAÇÃO DAS CISTERNAS                                                                                                                                                                    ","              ",null," ",null,null,null,{"$f":"SUBTOTAL(9,I22:I28)","v":883632.41},{"$f":"I21/$I$8","v":564.26079821200517}]
["01.02.01","ESCAVAÇÃO MANUAL - ABERTURA DA CISTERNA - H=80CM                                                                                                                                                        ","CPU0006","M3",7.7,12058.2,43.5,{"$f":"ROUND(G22+G22*$I$6,2)","v":54.57},{"$f":"ROUND(ROUND(F22,2)*ROUND(H22,2),2)","v":658015.97}]
["01.02.02","REGULARIZAÇÃO COM SOLO-CIMENTO TRAÇO 1:20, ESP=10CM                                                                                                                                                     ","CPU0007","M3",0.96,1503.36,68.959999999999994,86.51,130055.67]
["01.02.03","REATERRO COMPACTADO LATERAL, CONFORME ESPECIFICADO EM PROJETO.                                     ","CPU0008","M3",1.1000000000000001,1722.6,21.75,27.29,47009.75]
["01.02.04","ESCAVACAO E CARGA MATERIAL DE JAZIDA 1A CATEGORIA (MATERIAL DE EMPRÉSTIMO)                                                                                                                                                       ","CPU0009","M3",1.62,2536.92,2.44,3.06,7762.98]
["01.02.05","TRANSPORTE LOCAL MATERIAL DE JAZIDA DMT= 10KM - ROD. NÃO PAVIMENTADA (MATERIAL DE EMPRÉSTIMO)                                                                                                                                    ","CPU0010","M3XKM",16.2,25369.200000000001,1.1500000000000001,1.44,36531.65]
["01.02.06","ESPALHAMENTO DO MATERIAL ESCAVADO NÃO UTILIZADO PARA  ATERRO                                                                                                                                            ","CPU0011","M3",4.53,7093.98,0.48,0.6,4256.3900000000003]
[null,"                                                                                                                                                                                                        ","              ",null," ",null,null,null," "]
["01.03","SERVIÇOS COMPLEMENTARES                                                                                                                                                                                 ","              ",null," ",null,null,null,{"$f":"SUBTOTAL(9,I30:I34)","v":1023819.48},{"$f":"I29/$I$8","v":653.78}]
["01.03.01","ASSENTAMENTO DE TUBOS E CONEXÕES (INCLUSIVE FILTRO SEPARADOR DE FOLHAS E ABRAÇADEIRAS)                                                                                                                                                                        ","CPU0012","M",15,23490,3.5,{"$f":"ROUND(G30+G30*$I$6,2)","v":4.3899999999999997},{"$f":"ROUND(ROUND(F30,2)*ROUND(H30,2),2)","v":103121.1}]
["01.03.02","CALHA EM CHAPA DE AÇO GALVANIZADO NÚMERO 26. DESENVOLVIMENTO DE 30 CM. INCLUSO TRANSPORTE VERTICAL. (SINAPI 94227 ADAPTADA)                                                                             ","CPU0013","M",16,25056,26.56,33.32,834865.92]
["01.03.03","INSTALAÇÃO DA BOMBA MANUAL (INCLUSIVE CONJUNTO DE SUCÇÃO FLUTUANTE COM MANGUEIRA FLEXIVEL)                                                                                                                                                                             ","CPU0014","UN",1,1566,18.950000000000003,23.77,37223.82]
["01.03.04","BLOCO DE ANCORAGEM 25 X 30 X 25CM","CPU0015","UN",1,1566,24.740000000000002,31.04,48608.639999999999]
[null,"                                                                                                                                                                                                        ","              ",null," ",null,null,null," "]
["01.04","TRANSPORTE DAS CISTERNAS                                                                                                                                                                                ","              ",null," ",null,null,null,{"$f":"SUBTOTAL(9,I36:I39)","v":36794.89},{"$f":"I35/$I$8","v":23.49609833971903}]
["01.04.01","TRANSP COMERC DO LOCAL DE ARMAZENAMENTO AO MUNICÍPIO DE INSTALAÇÃO EM RODOVIA PAVIMENTADA","CPU0016","UNXKM",9.5299999999999994,14923.98,1.1400000000000001,{"$f":"ROUND(G36+G36*$I$6,2)","v":1.43},{"$f":"ROUND(ROUND(F36,2)*ROUND(H36,2),2)","v":21341.29}]
["01.04.02","TRANSP COMERC COM CAMINHAO CARROCERIA 9 T, RODOVIA PAVIMENTADA, NO MUNICÍPIO DE INSTALAÇÃO","CPU0017","UNXKM",0.61,955.26,2.36,2.96,2827.57]
["01.04.03","TRANSP COMERC COM CAMINHAO CARROCERIA 9 T, RODOVIA EM LEITO NATURAL, NO MUNICÍPIO DE INSTALAÇÃO","CPU0018","UNXKM",1.82,2850.12,3.5300000000000002,4.43,12626.03]
[null,"                                                                                                                                                                                                        ",null,null," ",null," ",null," "]
["02","FORNECIMENTO DE MATERIAIS",null,null," ",null," ",null,{"$f":"SUBTOTAL(9,I41:I59)","v":12529557.390000001},{"$f":"I40/$I$8","v":8000.9945019157094}]
[]
["02.01","MATERIAIS PARA INSTALAÇÃO DAS CISTERNAS",{"$nulls":6},{"$f":"SUBTOTAL(9,I43:I44)","v":11669534.460000001},{"$f":"I42/$I$8","v":7451.81}]
["02.01.01","CISTERNA DE POLIETILENO 16.000L, COM EXTRAVASOR ACOPLADO                                                                                                                                                            ","COTAÇÃO","UN",1,1566,6720,{"$f":"ROUND(G43+G43*$I$7,2)","v":7451.81},{"$f":"ROUND(ROUND(F43,2)*ROUND(H43,2),2)","v":11669534.460000001}]
[]
["02.02","MATERIAIS PARA INSTALAÇÃO DAS CISTERNAS (SERVIÇOS COMPLEMENTARES)",{"$nulls":6},{"$f":"SUBTOTAL(9,I46:I59)","v":860022.93},{"$f":"I45/$I$8","v":549.18450191570889}]
["02.02.01","PLACA DE ALUMINIO ANODIZADO PARA NUMERAÇÃO DAS CISTERNAS","COTAÇÃO","UN",1,1566,2.25,{"$f":"ROUND(G46+G46*$I$7,2)","v":2.5},{"$f":"ROUND(ROUND(F46,2)*ROUND(H46,2),2)","v":3915}]
["02.02.02","BOMBA DÁGUA DE MEMBRANA ANGULAR MANUAL, PRODUZIDA EM PLÁSTICO DE ENGENHARIA ATÓXICO, RESISTENTE A EXPOSIÇÃO PROLONGADA AO SOL.","COTAÇÃO","UN",1,1566,132.46,146.88,230014.07999999999]
["02.02.03","CONJUNTO DE SUCÇÃO FLUTUANTE COM MANGUEIRA FLEXIVEL: BOIA 15CM COM ARGOLAS DE FIXAÇÃO, BRAÇADEIRA, CONECTOR ANGULAR PARA TUBOS, 2,5M MANGUEIRA 1\" PVC COM REFORÇO SILICONE ESPIRALADA","COTAÇÃO","UN",1,1566,46.41,51.46,80586.36]
["02.02.04","FILTRO SEPARADOR DE FOLHAS E DETRITOS","COTAÇÃO","UN",0.95,1487.7,68.239999999999995,75.67,112574.26]
["02.02.05","GRELHA HEMISFÉRICA PVC FLEXÍVEL 88MM X 100 MM","COTAÇÃO","UN",0.1,156.6,24.15,26.78,4193.75]
["02.02.06","ABRAÇADEIRA TIPO U AÇO PERFILADO ZINCADO 4\"","SINAPI INS - 39145","UN",5,7830,2.5,2.77,21689.1]
["02.02.07","ARRUELA 3/16 ZINCADA","COTAÇÃO","UN",10,15660,7.0000000000000007E-2,0.08,1252.8]
["02.02.08","TUBO DE PVC PARA ESGOTO PREDIAL DN 100MM ","SINAPI INS - 9836","M",15,23490,"9,42",10.45,245470.5]
["02.02.09","TÊ SANITÁRIO PVC PARA ESGOTO PREDIAL DN 100MM","SINAPI INS - 7091","UN",2,3132,"10,28",11.4,35704.800000000003]
["02.02.10","JOELHO PVC SOLD. 90G PB P/ESGOTO PREDIAL DN 100MM","SINAPI INS - 3520","UN",7,10962,"5,35",5.93,65004.66]
["02.02.11","LUVA SIMPLES PVC P/ESG. PREDIAL DN 100MM","SINAPI INS - 3899","UN",6,9396,"4,08",4.5199999999999996,42469.919999999998]
["02.02.12","CAP PVC, SOLDAVEL, DN 100 MM, SERIE NORMAL, PARA ESGOTO PREDIAL","SINAPI INS - 1200","UN",1,1566,"5,82",6.45,10100.700000000001]
["02.02.13","BUCHA DE NYLON SEM ABA S8, COM PARAFUSO DE 4,80 X 50 MM EM ACO ZINCADO COM ROSCA SOBERBA, CABECA CHATA E FENDA PHILLIPS","SINAPI INS - 7583","UN",10,15660,"0,41",0.45,7047]
[]
[null,"VALOR TOTAL DA PLANILHA",{"$nulls":6},{"$f":"SUBTOTAL(9,I12:I59)","v":14998673.199999999},{"$f":"I60/$I$8","v":9577.6968071519786}]
[]
[]
[null,"APAGAR ANTES DE ENVIAR PARA A LICITAÇÃO",{"$nulls":4},"Valor total disponibilizado",null,15000000]
[]
[{"$nulls":6},"Valor p/ cisternas",null,{"$f":"I60","v":14998673.199999999},1566]
[{"$nulls":6},"Valor p/ apoio (10%)",null,{"$f":"I63-I65","v":1326.8000000007451},{"$f":"I66/I63","v":8.8453333333383006E-5}]
[{"$nulls":8},{"$f":"I66/I8","v":0.84725415070290233}]
[]
[{"$nulls":6},"Valor cisterna + apoio",null,{"$f":"J60+I67","v":9578.5440613026822}]

{"sheet":"B.D.I SERVIÇOS (SEM DES.)","index":1,"n_rows":36,"n_cols":6,"rows_kept":36,"cut":false,"hidden":false,"merged":[[31,2,31,4],[35,2,36,7],[3,0,3,7],[4,0,4,7],[5,0,5,7],[7,0,7,6],[8,0,8,6]]}
[]
[]
[]
["Ministério do Desenvolvimento Regional"]
["Companhia de Desenvolvimento do Vale do São Francisco e Parnaíba"]
["Codevasf/Sede"]
[]
["DETALHAMENTO DO BDI - SERVIÇOS"]
[]
[]
[]
[]
[null,null,"Item","Descrição dos serviços","Preço de Venda (%)","Custo Direto (%)"]
[]
[null,null,1,"Administração Central (A)",null,0.04]
[]
[null,null,2,"Impostos e Taxas (I)",null,{"$f":"E18+E19+E20+E21","v":8.6499999999999994E-2}]
[null,null,"2.1","ISS",0.05]
[null,null,"2.2","PIS",6.5000000000000006E-3]
[null,null,"2.3","Cofins",0.03]
[null,null,"2.4","CPRB (INSS)",0]
[]
[null,null,"3","Risco, seguro e garantia (R) ",null,{"$f":"E24+E25+E26","v":1.6E-2}]
[null,null,"3.1","Risco",1.2E-2]
[null,null,"3.2","Seguro + garantia",4.0000000000000001E-3]
[]
[]
[null,null,4,"Despesas Financeiras (DF)",null,9.4999999999999998E-3]
[]
[null,null,5,"Lucro (L)",null,7.4999999999999997E-2]
[]
[null,null,"BDI* (%):",null,null,{"$f":"ROUND(((((1+(F15+F23))*(1+F28)*(1+F30)/(1-F17))-1)*100),2)","v":25.45}]
[]
[null,"Considerações:","Acórdão nº 2622/2013 - TCU /Plenário"]
[null,null,"(*) BDI (%) = (((1+(AC+S+R+G))*(1+DF)*(1+L)/(1-I))-1)*100"]
[null,null,"* Considerando a Lei nº 12.844/2013 e Acórdão 2293/2013-TCU -Plenário  (Desoneração da Folha de Pagamento)"]

{"sheet":"B.D.I MATERIAIS (SEM DES.)","index":2,"n_rows":36,"n_cols":6,"rows_kept":36,"cut":false,"hidden":false,"merged":[[31,2,31,4],[35,2,36,7],[3,0,3,7],[4,0,4,7],[5,0,5,7],[7,0,7,6],[8,0,8,6]]}
[]
[]
[]
["Ministério do Desenvolvimento Regional"]
["Companhia de Desenvolvimento do Vale do São Francisco e Parnaíba"]
["Codevasf/Sede"]
[]
["DETALHAMENTO DO BDI - FORNECIMENTO DE MATERIAIS"]
[]
[]
[]
[]
[null,null,"Item","Descrição dos serviços","Preço de Venda (%)","Custo Direto (%)"]
[]
[null,null,1,"Administração Central (A)",null,1.4999999999999999E-2]
[]
[null,null,2,"Impostos e Taxas (I)",null,{"$f":"E18+E19+E20+E21","v":3.6499999999999998E-2}]
[null,null,"2.1","ISS",0]
[null,null,"2.2","PIS",6.5000000000000006E-3]
[null,null,"2.3","Cofins",0.03]
[null,null,"2.4","CPRB (INSS)",0]
[]
[null,null,"3","Risco, seguro e garantia (R) ",null,{"$f":"E24+E25+E26","v":8.6E-3}]
[null,null,"3.1","Risco",5.5999999999999999E-3]
[null,null,"3.2","Seguro + garantia",3.0000000000000001E-3]
[]
[]
[null,null,4,"Despesas Financeiras (DF)",null,8.5000000000000006E-3]
[]
[null,null,5,"Lucro (L)",null,3.5000000000000003E-2]
[]
[null,null,"BDI* (%):",null,null,{"$f":"ROUND(((((1+(F15+F23))*(1+F28)*(1+F30)/(1-F17))-1)*100),2)","v":10.89}]
[]
[null,"Considerações:","Acórdão nº 2622/2013 - TCU /Plenário"]
[null,null,"(*) BDI (%) = (((1+(AC+S+R+G))*(1+DF)*(1+L)/(1-I))-1)*100"]
[null,null,"* Considerando a Lei nº 12.844/2013 e Acórdão 2293/2013-TCU -Plenário  (Desoneração da Folha de Pagamento)"]

{"sheet":"COMPOSIÇÕES","index":3,"n_rows":119,"n_cols":8,"rows_kept":119,"cut":false,"hidden":false,"merged":[[0,1,0,7],[1,1,1,7],[2,1,2,7]]}
[null,"MINISTÉRIO DO DESENVOLVIMENTO REGIONAL - MDR"]
[null,"COMPANHIA DE DESENVOLVIMENTO DOS VALES DO SÃO FRANCISCO E DO PARNAÍBA"]
[null,"ÁREA DE REVITALIZAÇÃO DAS BACIAS HIDROGRÁFICAS"]
[]
["OBJETO:","TRANSPORTE E INSTALAÇÃO DE CISTERNAS PARA CAPTAÇÃO DA ÁGUA DA CHUVA - PARAÍBA"]
[]
["COMPOSICÕES DE CUSTOS UNITÁRIOS DE SERVICOS"]
[]
["ITEM","Fonte","Código","DESCRIÇÃO","Unidade","Quantidade","Preço unitário","Preço total"]
[]
["01.01.01",null,"CPU0001","MOBILIZAÇÃO E DESMOBILIZAÇÃO DE PESSOAL E EQUIPAMENTOS","UN    "]
[null,"Sinapi Serv",73467,"CAMINHÃO TOCO. PBT 14.300 KG. CARGA ÚTIL MÁX. 9.710 KG. DIST. ENTRE EIXOS 3.56 M. POTÊNCIA 185 CV. INCLUSIVE CARROCERIA FIXA ABERTA DE MADEIRA P/ TRANSPORTE GERAL DE CARGA SECA. DIMEN. APROX. 2.50 X 6","CHP   ",72.808032128514057,"88,40",{"$f":"ROUND(F12*G12,2)","v":6436.23}]
[null,"Sinapi Serv",88316,"SERVENTE COM ENCARGOS COMPLEMENTARES                                                                                                                                                                    ","H     ",72.808032128514057,"14,50",{"$f":"ROUND(F13*G13,2)","v":1055.72}]
[null,null,"01.01.01","Custo Direto Total",null,null,null,{"$f":"SUBTOTAL(9,H12:H13)","v":7491.95}]
[]
["01.01.02",null,"CPU0002","INSTALAÇÃO DE CANTEIRO DE OBRAS (LOCAÇÃO DE IMÓVEL)","MÊS   "]
[null,"DNIT","Tab. Cons.","ALOJAMENTO/ESCRITÓRIO/ALMOXARIFADO                                                                                                                                                 ","MÊS   ",14,1896.45,{"$f":"ROUND(F17*G17,2)","v":26550.3}]
[null,null,"01.01.02","Custo Direto Total",null,null,null,{"$f":"SUBTOTAL(9,H17:H17)","v":26550.3}]
[]
["01.01.03",null,"CPU0003","ADMINISTRAÇÃO LOCAL E MANUTENÇÃO DO CANTEIRO DE OBRAS","MÊS   "]
[null,"Codevasf","B3","VEÍCULO LEVE 1.3 - TABELA CODEVASF 7SR CÓD B3                                                                                                                                                           ","MÊS   ",14,3251.84,{"$f":"ROUND(F21*G21,2)","v":45525.760000000002}]
[null,"Codevasf","B11","PICK-UP CD 4X4 DIESEL - TABELA CODEVASF 7SR CÓD B11                                                                                                                                                     ","MÊS   ",14,6474.26,90639.64]
[null,"Sinapi Serv",100319,"ENGENHEIRO CIVIL JUNIOR COM ENCARGOS COMPLEMENTARES                                                                                                                                                     ","MES   ",7,"15.735,17",{"$f":"ROUND(F23*G23,2)","v":110146.19}]
[null,"Sinapi Serv",100321,"TÉCNICO EM SEGURANÇA DO TRABALHO COM ENCARGOS COMPLEMENTARES                                                                                                                                            ","MES   ",7,"3.507,78",24554.46]
[null,"Sinapi Serv",93572,"ENCARREGADO GERAL DE OBRAS COM ENCARGOS COMPLEMENTARES                                                                                                                                                  ","MES   ",14,"3.112,73",43578.22]
[null,null,"01.01.03","Custo Direto Total",null,null,null,{"$f":"SUBTOTAL(9,H21:H25)","v":314444.27}]
[]
["01.01.04",null,"CPU0004","VEÍCULO PICK-UP CABINE DUPLA 4X4 (163 CV), COM AR-CONDICIONADO PARA APOIO À FISCALIZAÇÃO, INCLUINDO DESPESAS COM COMBUSTÍVEL, ÓLEOS, MANUTENÇÃO, LICENCIAMENTO, SEGUROS, IMPOSTOS, ETC.","MÊS   "]
[null,"Codevasf","B11","PICK-UP CD 4X4 DIESEL - TABELA CODEVASF 7SR CÓD B11                                                                                                                                                     ","MÊS   ",1,6474.26,{"$f":"ROUND(F29*G29,2)","v":6474.26}]
[null,null,"01.01.04","Custo Direto Total",null,null,null,{"$f":"SUBTOTAL(9,H29)","v":6474.26}]
[]
["01.01.05",null,"CPU0005","PLACA DE OBRA EM CHAPA DE ACO GALVANIZADO (15 PLACAS DE 12M2)","M2    "]
[null,"Sinapi Ins",4417,"SARRAFO DE MADEIRA NAO APARELHADA *2.5 X 7* CM. MACARANDUBA. ANGELIM OU EQUIVALENTE DA REGIAO                                                                                                           ","M     ",1,"4,21",{"$f":"ROUND(F33*G33,2)","v":4.21}]
[null,"Sinapi Ins",4491,"PONTALETE DE MADEIRA NAO APARELHADA *7.5 X 7.5* CM (3 X 3 \") PINUS. MISTA OU EQUIVALENTE DA REGIAO                                                                                                      ","M     ",4,"5,91",23.64]
[null,"Sinapi Ins",4813,"PLACA DE OBRA (PARA CONSTRUCAO CIVIL) EM CHAPA GALVANIZADA *N. 22*. ADESIVADA. DE *2.0 X 1.125* M                                                                                                       ","M2    ",1,"300,00",300]
[null,"Sinapi Ins",5075,"PREGO DE ACO POLIDO COM CABECA 18 X 30 (2 3/4 X 10)                                                                                                                                                     ","KG    ",0.11,"13,73",1.51]
[null,"Sinapi Serv",88262,"CARPINTEIRO DE FORMAS COM ENCARGOS COMPLEMENTARES                                                                                                                                                       ","H     ",1,"18,35",{"$f":"ROUND(F37*G37,2)","v":18.350000000000001}]
[null,"Sinapi Serv",88316,"SERVENTE COM ENCARGOS COMPLEMENTARES                                                                                                                                                                    ","H     ",2,"14,50",29]
[null,"Sinapi Serv",94962,"CONCRETO MAGRO PARA LASTRO. TRAÇO 1:4.5:4.5 (CIMENTO/ AREIA MÉDIA/ BRITA 1)  - PREPARO MECÂNICO COM BETONEIRA 400 L. AF_07/2016                                                                         ","M3    ",0.01,"265,39",2.65]
[null,null,"01.01.05","Custo Direto Total",null,null,null,{"$f":"SUBTOTAL(9,H33:H39)","v":379.36}]
[]
["01.02.01",null,"CPU0006","ESCAVAÇÃO MANUAL - ABERTURA DA CISTERNA - H=80CM","M3    "]
[null,"Sinapi Serv",88316,"SERVENTE COM ENCARGOS COMPLEMENTARES                                                                                                                                                                    ","H     ",3,"14,50",{"$f":"ROUND(F43*G43,2)","v":43.5}]
[null,null,"01.02.01","Custo Direto Total",null,null,null,{"$f":"SUBTOTAL(9,H43)","v":43.5}]
[]
["01.02.02",null,"CPU0007","REGULARIZAÇÃO COM SOLO-CIMENTO TRAÇO 1:20, ESP=10CM","M3    "]
[null,"Sinapi Ins",1379,"CIMENTO PORTLAND COMPOSTO CP II-32                                                                                                                                                                      ","KG    ",130,"0,52",{"$f":"ROUND(F47*G47,2)","v":67.599999999999994}]
[null,"Sinapi Serv",88316,"SERVENTE COM ENCARGOS COMPLEMENTARES                                                                                                                                                                    ","H     ",9.4117000000000006E-2,"14,50",{"$f":"ROUND(F48*G48,2)","v":1.36}]
[null,null,"01.02.02","Custo Direto Total",null,null,null,{"$f":"SUBTOTAL(9,H47:H48)","v":68.959999999999994}]
[]
["01.02.03",null,"CPU0008","REATERRO COMPACTADO LATERAL, CONFORME ESPECIFICADO EM PROJETO, COM APROVEITAMENTO DO MATERIAL ESCAVADO","M3    "]
[null,"Sinapi Serv",88316,"SERVENTE COM ENCARGOS COMPLEMENTARES                                                                                                                                                                    ","H     ",1.5,"14,50",{"$f":"ROUND(F52*G52,2)","v":21.75}]
[null,null,"01.02.03","Custo Direto Total",null,null,null,{"$f":"SUBTOTAL(9,H52)","v":21.75}]
[]
["01.02.04",null,"CPU0009","ESCAVACAO E CARGA MATERIAL DE JAZIDA 1A CATEGORIA","M3    "]
[null,"Sinapi Serv",5851,"TRATOR DE ESTEIRAS. POTÊNCIA 150 HP. PESO OPERACIONAL 16.7 T. COM RODA MOTRIZ ELEVADA E LÂMINA 3.18 M3 - CHP DIURNO. AF_06/2014                                                                         ","CHP   ",9.3457999999999996E-3,"141,21",{"$f":"ROUND(F56*G56,2)","v":1.32}]
[null,"Sinapi Serv",5944,"PÁ CARREGADEIRA SOBRE RODAS. POTÊNCIA 197 HP. CAPACIDADE DA CAÇAMBA 2.5 A 3.5 M3. PESO OPERACIONAL 18338 KG - CHP DIURNO. AF_06/2014                                                                    ","CHP   ",5.4206000000000002E-3,"121,70",0.66]
[null,"Sinapi Serv",5946,"PÁ CARREGADEIRA SOBRE RODAS. POTÊNCIA 197 HP. CAPACIDADE DA CAÇAMBA 2.5 A 3.5 M3. PESO OPERACIONAL 18338 KG - CHI DIURNO. AF_06/2014                                                                    ","CHI   ",3.9252000000000002E-3,"48,14",0.19]
[null,"Sinapi Serv",88316,"SERVENTE COM ENCARGOS COMPLEMENTARES                                                                                                                                                                    ","H     ",1.8691599999999999E-2,"14,50",0.27]
[null,null,"01.02.04","Custo Direto Total",null,null,null,{"$f":"SUBTOTAL(9,H56:H59)","v":2.44}]
[]
["01.02.05",null,"CPU0010","TRANSPORTE LOCAL MATERIAL DE JAZIDA DMT= 10KM - ROD. NÃO PAVIMENTADA","M3XKM "]
[null,"Sinapi Serv",67826,"CAMINHÃO BASCULANTE 6 M3 TOCO. PESO BRUTO TOTAL 16.000 KG. CARGA ÚTIL MÁXIMA 11.130 KG. DISTÂNCIA ENTRE EIXOS 5.36 M. POTÊNCIA 185 CV. INCLUSIVE CAÇAMBA METÁLICA - CHP DIURNO. AF_06/2014              ","CHP   ",1.111E-2,"96,10",{"$f":"ROUND(F63*G63,2)","v":1.07}]
[null,"Sinapi Serv",67827,"CAMINHÃO BASCULANTE 6 M3 TOCO. PESO BRUTO TOTAL 16.000 KG. CARGA ÚTIL MÁXIMA 11.130 KG. DISTÂNCIA ENTRE EIXOS 5.36 M. POTÊNCIA 185 CV. INCLUSIVE CAÇAMBA METÁLICA - CHI DIURNO. AF_06/2014              ","CHI   ",2.7799999999999999E-3,"29,38",0.08]
[null,null,"01.02.05","Custo Direto Total",null,null,null,{"$f":"SUBTOTAL(9,H63:H64)","v":1.1500000000000001}]
[]
["01.02.06",null,"CPU0011","ESPALHAMENTO DO MATERIAL ESCAVADO NÃO UTILIZADO PARA  ATERRO","M3    "]
[null,"Sinapi Serv",88316,"SERVENTE COM ENCARGOS COMPLEMENTARES                                                                                                                                                                    ","H     ",3.3333000000000002E-2,"14,50",{"$f":"ROUND(F68*G68,2)","v":0.48}]
[null,null,"01.02.06","Custo Direto Total",null,null,null,{"$f":"SUBTOTAL(9,H68)","v":0.48}]
[]
["01.03.01",null,"CPU0012","ASSENTAMENTO DE TUBOS E CONEXÕES","M     "]
[null,"Sinapi Serv",88267,"ENCANADOR OU BOMBEIRO HIDRÁULICO COM ENCARGOS COMPLEMENTARES","H     ",0.1074,"18,07",{"$f":"ROUND(F72*G72,2)","v":1.94}]
[null,"Sinapi Serv",88316,"SERVENTE COM ENCARGOS COMPLEMENTARES                                                                                                                                                                    ","H     ",0.1074,"14,50",1.56]
[null,null,"01.03.01","Custo Direto Total",null,null,null,{"$f":"SUBTOTAL(9,H72:H73)","v":3.5}]
[]
["01.03.02",null,"CPU0013","CALHA EM CHAPA DE AÇO GALVANIZADO NÚMERO 26. DESENVOLVIMENTO DE 30 CM. INCLUSO TRANSPORTE VERTICAL. (SINAPI 94227 ADAPTADA)","M     "]
[null,"Sinapi Ins",1109,"CALHA QUADRADA DE CHAPA DE ACO GALVANIZADA NUM 26, CORTE 30 CM (SINAPI INS 1109 ADAPTADO)                                                                                                                   ","M     ",1.05,17.254545454545454,{"$f":"ROUND(F77*G77,2)","v":18.12}]
[null,"Sinapi Ins",142,"SELANTE ELASTICO MONOCOMPONENTE A BASE DE POLIURETANO (PU) PARA JUNTAS DIVERSAS                                                                                                                         ","310ML ",7.0000000000000001E-3,27.91,{"$f":"ROUND(F78*G78,2)","v":0.2}]
[null,"Sinapi Ins",5104,"REBITE DE ALUMINIO VAZADO DE REPUXO. 3.2 X 8 MM (1KG = 1025 UNIDADES)                                                                                                                                   ","KG    ",3.0000000000000001E-3,49.45,0.15]
[null,"Sinapi Serv",88316,"SERVENTE COM ENCARGOS COMPLEMENTARES                                                                                                                                                                    ","H     ",0.28199999999999997,"14,50",{"$f":"ROUND(F80*G80,2)","v":4.09}]
[null,"Sinapi Serv",88323,"TELHADISTA COM ENCARGOS COMPLEMENTARES                                                                                                                                                                  ","H     ",0.188,"21,30",4]
[null,null,"01.03.02","Custo Direto Total",null,null,null,{"$f":"SUBTOTAL(9,H77:H81)","v":26.56}]
[]
["01.03.03",null,"CPU0014","INSTALAÇÃO DA BOMBA MANUAL","UN    "]
[null,"Sinapi Ins",4332,"PARAFUSO ZINCADO, SEXTAVADO, COM ROSCA INTEIRA, DIAMETRO 3/8\", COMPRIMENTO 2\"                                                                                                                           ","un    ",4,0.66,{"$f":"ROUND(F85*G85,2)","v":2.64}]
[null,"Sinapi Ins",4337,"PORCA ZINCADA, QUADRADA, DIAMETRO 5/8\"                                                                                                                                                                  ","un    ",4,1.54,6.16]
[null,"Sinapi Serv",88316,"SERVENTE COM ENCARGOS COMPLEMENTARES                                                                                                                                                                    ","H     ",0.7,"14,50",{"$f":"ROUND(F87*G87,2)","v":10.15}]
[null,null,"01.03.03","Custo Direto Total",null,null,null,{"$f":"SUBTOTAL(9,H85:H87)","v":18.950000000000003}]
[]
["01.03.04",null,"CPU0015","BLOCO DE ANCORAGEM 25 X 30 X 25CM","UN    "]
[null,"Composição","CPU0019","ARMAÇÃO UTILIZANDO AÇO CA-60 DE 5.0 MM - MONTAGEM.                                                                                                                                                      ","KG    ",0.96896800000000005,7.8500000000000005,{"$f":"ROUND(F91*G91,2)","v":7.61}]
[null,"Sinapi Serv",88309,"PEDREIRO COM ENCARGOS COMPLEMENTARES                                                                                                                                                                    ","H     ",0.1,"18,49",1.85]
[null,"Sinapi Serv",88316,"SERVENTE COM ENCARGOS COMPLEMENTARES                                                                                                                                                                    ","H     ",0.15,"14,50",2.1800000000000002]
[null,"Sinapi Serv",94975,"CONCRETO FCK = 15MPA. TRAÇO 1:3.4:3.5 (CIMENTO/ AREIA MÉDIA/ BRITA 1)  - PREPARO MANUAL. AF_07/2016                                                                                                     ","M3    ",1.8464999999999999E-2,"390,27",7.21]
[null,"Sinapi Serv",97086,"FABRICAÇÃO. MONTAGEM E DESMONTAGEM DE FORMA PARA RADIER. EM MADEIRA SERRADA. 4 UTILIZAÇÕES. AF_09/2017                                                                                                  ","M2    ",7.3332999999999995E-2,"80,34",5.89]
[null,null,"01.03.04","Custo Direto Total",null,null,null,{"$f":"SUBTOTAL(9,H91:H95)","v":24.740000000000002}]
[]
[null,null,"CPU0019","ARMAÇÃO UTILIZANDO AÇO CA-60 DE 5.0 MM - MONTAGEM.","KG    "," 31/01/2020"]
[null,"Sinapi Ins",39017,"ESPACADOR / DISTANCIADOR CIRCULAR COM ENTRADA LATERAL. EM PLASTICO. PARA VERGALHAO *4.2 A 12.5* MM. COBRIMENTO 20 MM                                                                                    ","UN    ",0.97,0.13,{"$f":"ROUND(F99*G99,2)","v":0.13}]
[null,"Sinapi Ins",43059,"ACO CA-60. 4.2 MM. OU 5.0 MM. OU 6.0 MM. OU 7.0 MM. VERGALHAO                                                                                                                                           ","KG    ",1,5.5,5.5]
[null,"Sinapi Ins",43132,"ARAME RECOZIDO 16 BWG. D = 1.60 MM (0.016 KG/M) OU 18 BWG. D = 1.25 MM (0.01 KG/M)                                                                                                                      ","KG    ",2.5000000000000001E-2,10.75,0.27]
[null,"Sinapi Serv",88238,"AJUDANTE DE ARMADOR COM ENCARGOS COMPLEMENTARES                                                                                                                                                         ","H     ",1.55E-2,"13,79",0.21]
[null,"Sinapi Serv",88245,"ARMADOR COM ENCARGOS COMPLEMENTARES                                                                                                                                                                     ","H     ",9.4700000000000006E-2,"18,39",1.74]
[null,null,null,"Custo Direto Total",null,null,null,{"$f":"SUBTOTAL(9,H99:H103)","v":7.8500000000000005}]
[]
["01.04.01",null,"CPU0016","TRANSP COMERC DO LOCAL DE ARMAZENAMENTO AO MUNICÍPIO DE INSTALAÇÃO EM RODOVIA PAVIMENTADA","UNXKM "]
[null,"Sinapi Serv",88316,"SERVENTE COM ENCARGOS COMPLEMENTARES                                                                                                                                                                    ","H     ",8.0321285140562242E-3,"14,50",{"$f":"ROUND(F107*G107,2)","v":0.12}]
[null,"Sinapi Serv",91031,"CAMINHÃO TRUCADO (C/ TERCEIRO EIXO) ELETRÔNICO - POTÊNCIA 231CV - PBT = 22000KG - DIST. ENTRE EIXOS 5170 MM - INCLUI CARROCERIA FIXA ABERTA DE MADEIRA - CHP DIURNO. AF_06/2015                         ","CHP   ",8.0321285140562242E-3,"126,89",1.02]
[null,null,"01.04.01","Custo Direto Total",null,null,null,{"$f":"SUBTOTAL(9,H107:H108)","v":1.1400000000000001}]
[]
["01.04.02",null,"CPU0017","TRANSP COMERC COM CAMINHAO CARROCERIA 9 T, RODOVIA PAVIMENTADA, NO MUNICÍPIO DE INSTALAÇÃO","UNXKM "]
[null,"Sinapi Serv",73467,"CAMINHÃO TOCO. PBT 14.300 KG. CARGA ÚTIL MÁX. 9.710 KG. DIST. ENTRE EIXOS 3.56 M. POTÊNCIA 185 CV. INCLUSIVE CARROCERIA FIXA ABERTA DE MADEIRA P/ TRANSPORTE GERAL DE CARGA SECA. DIMEN. APROX. 2.50 X 6","CHP   ",2.0080321285140562E-2,"88,40",{"$f":"ROUND(F112*G112,2)","v":1.78}]
[null,"Sinapi Serv",88316,"SERVENTE COM ENCARGOS COMPLEMENTARES                                                                                                                                                                    ","H     ",4.0160642570281124E-2,"14,50",0.57999999999999996]
[null,null,"01.04.02","Custo Direto Total",null,null,null,{"$f":"SUBTOTAL(9,H112:H113)","v":2.36}]
[]
["01.04.03",null,"CPU0018","TRANSP COMERC COM CAMINHAO CARROCERIA 9 T, RODOVIA EM LEITO NATURAL, NO MUNICÍPIO DE INSTALAÇÃO","UNXKM "]
[null,"Sinapi Serv",73467,"CAMINHÃO TOCO. PBT 14.300 KG. CARGA ÚTIL MÁX. 9.710 KG. DIST. ENTRE EIXOS 3.56 M. POTÊNCIA 185 CV. INCLUSIVE CARROCERIA FIXA ABERTA DE MADEIRA P/ TRANSPORTE GERAL DE CARGA SECA. DIMEN. APROX. 2.50 X 6","CHP   ",3.0120481927710847E-2,"88,40",{"$f":"ROUND(F117*G117,2)","v":2.66}]
[null,"Sinapi Serv",88316,"SERVENTE COM ENCARGOS COMPLEMENTARES                                                                                                                                                                    ","H     ",6.0240963855421693E-2,"14,50",0.87]
[null,null,"01.04.03","Custo Direto Total",null,null,null,{"$f":"SUBTOTAL(9,H117:H118)","v":3.5300000000000002}]

{"sheet":"Cronograma Físico-Financeiro","index":4,"n_rows":18,"n_cols":11,"rows_kept":18,"cut":false,"hidden":false,"merged":[[7,0,7,10]]}
[null,null,"MINISTÉRIO DO DESENVOLVIMENTO REGIONAL - MDR"]
[null,null,"COMPANHIA DE DESENVOLVIMENTO DOS VALES DO SÃO FRANCISCO E DO PARNAÍBA"]
[null,null,"ÁREA DE REVITALIZAÇÃO DAS BACIAS HIDROGRÁFICAS"]
[]
[]
["OBJETO:","TRANSPORTE E INSTALAÇÃO DE CISTERNAS PARA CAPTAÇÃO DA ÁGUA DA CHUVA - PARAÍBA"]
[]
["CRONOGRAMA FÍSICO-FINANCEIRO"]
[]
["ITEM","ESPECIFICAÇÃO DOS SERVIÇOS","VALOR TOTAL (R$)","Mês 01","Mês 02","Mês 03","Mês 04","Mês 05","Mês 06","Mês 07","Total"]
["01.01",{"$f":"'CISTERNAS PARAÍBA'!B14","v":"SERVIÇOS PRELIMINAES E CANTEIRO DE OBRAS                                                                                                                                                                "},{"$f":"'CISTERNAS PARAÍBA'!I14","v":524869.03},{"$f":"('CISTERNAS PARAÍBA'!I15+'CISTERNAS PARAÍBA'!I16+'CISTERNAS PARAÍBA'!I17+'CISTERNAS PARAÍBA'!I18)/7+'CISTERNAS PARAÍBA'!I19","v":101414.69285714287},{"$f":"('CISTERNAS PARAÍBA'!I15+'CISTERNAS PARAÍBA'!I16+'CISTERNAS PARAÍBA'!I17+'CISTERNAS PARAÍBA'!I18)/7","v":70575.722857142871},{"$f":"E11","v":70575.722857142871},{"$f":"F11","v":70575.722857142871},70575.722857142871,70575.722857142871,{"$f":"C11-SUM(D11:I11)","v":70575.722857142857},{"$f":"SUM(D11:J11)","v":524869.03}]
["01.02",{"$f":"'CISTERNAS PARAÍBA'!B21","v":"INSTALAÇÃO DAS CISTERNAS                                                                                                                                                                    "},{"$f":"'CISTERNAS PARAÍBA'!I21","v":883632.41},{"$f":"C12/6/2","v":73636.034166666665},{"$f":"C12/6","v":147272.06833333333},{"$f":"E12","v":147272.06833333333},{"$f":"F12","v":147272.06833333333},147272.06833333333,147272.06833333333,{"$f":"C12-SUM(D12:I12)","v":73636.034166666679},{"$f":"SUM(D12:J12)","v":883632.41}]
["01.03",{"$f":"'CISTERNAS PARAÍBA'!B29","v":"SERVIÇOS COMPLEMENTARES                                                                                                                                                                                 "},{"$f":"'CISTERNAS PARAÍBA'!I29","v":1023819.48},{"$f":"C13/6/2","v":85318.29},{"$f":"C13/6","v":170636.58},{"$f":"E13","v":170636.58},{"$f":"F13","v":170636.58},{"$f":"G13","v":170636.58},{"$f":"H13","v":170636.58},{"$f":"C13-SUM(D13:I13)","v":85318.290000000154},1023819.48]
["01.04",{"$f":"'CISTERNAS PARAÍBA'!B35","v":"TRANSPORTE DAS CISTERNAS                                                                                                                                                                                "},{"$f":"'CISTERNAS PARAÍBA'!I35","v":36794.89},3066.2408333333333,6132.4816666666666,6132.4816666666666,6132.4816666666666,6132.4816666666666,6132.4816666666666,3066.2408333333296,36794.89]
["02.01",{"$f":"'CISTERNAS PARAÍBA'!B42","v":"MATERIAIS PARA INSTALAÇÃO DAS CISTERNAS"},{"$f":"'CISTERNAS PARAÍBA'!I42","v":11669534.460000001},972461.20500000007,1944922.4100000001,1944922.4100000001,1944922.4100000001,1944922.4100000001,1944922.4100000001,972461.20500000007,11669534.460000001]
["02.02",{"$f":"'CISTERNAS PARAÍBA'!B45","v":"MATERIAIS PARA INSTALAÇÃO DAS CISTERNAS (SERVIÇOS COMPLEMENTARES)"},{"$f":"'CISTERNAS PARAÍBA'!I45","v":860022.93},71668.577499999999,143337.155,143337.155,143337.155,143337.155,143337.155,71668.577500000014,860022.93]
[null,"VALOR TOTAL DA PLANILHA",{"$f":"SUM(C11:C16)","v":14998673.200000001},{"$f":"SUM(D11:D16)","v":1307565.0403571429},{"$f":"SUM(E11:E16)","v":2482876.4178571426},2482876.4178571426,2482876.4178571426,2482876.4178571426,2482876.4178571426,1276726.0703571429,{"$f":"SUM(D17:J17)","v":14998673.199999999}]
[null,"PERCENTUAL EXECUTADO",{"$f":"C17/C17","v":1},{"$f":"D17/$C$17","v":8.7178713938319746E-2},{"$f":"E17/$C$17","v":0.16553973706535205},0.16553973706535205,0.16553973706535205,0.16553973706535205,0.16553973706535205,8.5122600734919868E-2,{"$f":"SUM(D18:J18)","v":0.99999999999999989}]