{"text_format":"2","workbook":"xlsx","n_sheets":9,"sheets":["Resumo","FSUP","FSUP-I EQUIPE TÉCNICA","FSUP-II VIAGENS","FSUP-III Manutenção Operac","FSUP-IV Mobiliz Desmob","FSUP-V Det. custos Adm.","FSUP-VI Det. Desp Fiscais","FSUP-VII Det. Enc. Sociais"],"not_rendered":{"charts":0,"images":0,"macros":0,"external_links":1,"defined_names":28,"comments":0,"pivot_tables":0},"unopened":[],"bounds":{"document_bytes":16777216,"sheet_cells":100000,"run_cost":"one","rows_first":2000,"rows_last":500,"rows_between":2000,"halvings":0,"cell_chars":16384,"cell_head_chars":4096},"cells_cut":0,"cells_raw":0,"read":"whole","date_system":"1900"}

{"sheet":"Resumo","index":0,"n_rows":3,"n_cols":14,"rows_kept":3,"cut":false,"hidden":false,"merged":[[2,0,2,12],[2,13,2,14],[0,0,0,12],[0,13,0,14],[1,0,1,12],[1,13,1,14]]}
["TOTAL DOS CUSTOS DIRETOS",{"$nulls":12},{"$f":"FSUP!N33","v":0}]
["TOTAL DO CUSTOS INDIRETOS",{"$nulls":12},{"$f":"FSUP!N37","v":0}]
["TOTAL DA PROPOSTA",{"$nulls":12},{"$f":"FSUP!N38","v":0}]

{"sheet":"FSUP","index":1,"n_rows":43,"n_cols":14,"rows_kept":43,"cut":false,"hidden":false,"merged":[[10,0,10,12],[10,13,10,14],[11,0,11,12],[11,13,11,14],[9,0,9,14],[8,0,8,14],[2,0,3,12],[2,13,2,14],[3,13,3,14],[4,0,4,14],[5,0,5,14],[6,0,6,3],[6,4,6,12],[6,13,6,14],[7,0,7,3],[7,4,7,12],[7,13,7,14],[12,0,12,12],[12,13,12,14],[20,0,20,12],[20,13,20,14],[15,0,15,12],[15,13,15,14],[16,0,16,12],[16,13,16,14],[17,13,17,14],[14,0,14,12],[14,13,14,14],[13,0,13,14],[18,0,18,12],[18,13,18,14],[19,0,19,12],[19,13,19,14],[28,0,28,12],[28,13,28,14],[21,0,21,12],[21,13,21,14],[22,0,22,12],[22,13,22,14],[23,0,23,14],[24,0,24,14],[25,0,25,12],[25,13,25,14],[26,0,26,12],[26,13,26,14],[27,0,27,12],[27,13,27,14],[29,0,29,12],[29,13,29,14],[38,0,38,8],[38,9,38,14],[30,0,30,12],[30,13,30,14],[32,0,32,12],[32,13,32,14],[33,0,33,12],[33,13,33,14],[31,0,31,12],[31,13,31,14],[39,0,39,8],[39,9,39,14],[34,0,34,12],[34,13,34,14],[35,13,35,14],[37,0,37,12],[37,13,37,14],[36,0,36,12],[36,13,36,14],[46,0,46,14],[40,0,40,12],[40,13,40,14],[41,0,41,12],[41,13,41,14],[42,0,42,14],[43,1,43,14],[44,0,44,14],[45,0,45,14]]}
[]
[]
["PROPOSTA FINANCEIRA SUP. E APOIO A FISC. DE OBRA",{"$nulls":12},"CODIGO:"]
[{"$nulls":13},"FSUP"]
["NOME DA CONSULTORA:"]
[]
["PROJETO:",null,null,null,"OBJETO:",{"$nulls":8},"EDITAL:"]
["Meio Ambiente",null,null,null,"Regularidade Ambiental de Barragens"]
["SERVIÇOS PAGOS A PREÇO UNITÁRIO"]
["MOBILIZAÇÃO/DESMOBILIZAÇÃO"]
[" A1 - MOBILIZAÇÃO (FSUP-IV)",{"$nulls":12},{"$f":"'FSUP-IV Mobiliz Desmob'!H41","v":0}]
[" A2 - DESMOBILIZAÇÃO (FSUP-IV)",{"$nulls":12},{"$f":"'FSUP-IV Mobiliz Desmob'!L41","v":0}]
[" A - TOTAL DOS CUSTOS COM MOBILIZAÇÃO E DESMOBILIZAÇÃO",{"$nulls":12},{"$f":"N11+N12","v":0}]
["MÃO-DE-OBRA"]
[" B1 - TOTAL DE SALÁRIO DA EQUIPE COM VÍNCULO (FSUP-I)",{"$nulls":12},{"$f":"'FSUP-I EQUIPE TÉCNICA'!L37","v":0}]
[" B2 - TOTAL DE SALÁRIO DO AUTÔNOMO (FSUP-I)",{"$nulls":12},{"$f":"'FSUP-I EQUIPE TÉCNICA'!M14","v":0}]
[" B - TOTAL DOS CUSTOS DE SALÁRIOS DA EQUIPE",{"$nulls":12},{"$f":"SUM(N15:O16)","v":0}]
[" C1 - ENCARGOS SOCIAiS DE B1 =",{"$nulls":4},{"$f":"'FSUP-VII Det. Enc. Sociais'!F49","v":0},{"$nulls":7},{"$f":"ROUND(N15*F18,2)","v":0}]
[" C2 - ENCARGOS SOCIAIS DE B2 (20% DO B2)",{"$nulls":12},{"$f":"ROUND(N16*0.2,2)","v":0}]
[" C - TOTAL DOS CUSTOS COM ENCARGOS SOCIAIS",{"$nulls":12},{"$f":"SUM(N18:O19)","v":0}]
[" D1 - CUSTO TOTAL DAS PASSAGENS AÉREAS E TERRESTRES (FSUP-II)",{"$nulls":12},{"$f":"'FSUP-II VIAGENS'!H32","v":0}]
[" D2 - CUSTO TOTAL DAS DIÁRIAS (FSUP-II)",{"$nulls":12},{"$f":"'FSUP-II VIAGENS'!M32","v":0}]
[" D - TOTAL DO CUSTO COM VIAGENS",{"$nulls":12},{"$f":"SUM(N21:O22)","v":0}]
[]
["MANUTENÇÃO OPERACIONAL"]
["1 - CUSTO DOS VEÍCULOS (FSUP-III, ITEM 1)",{"$nulls":12},{"$f":"'FSUP-III Manutenção Operac'!I14","v":0}]
["2 - CUSTO DA MANUTENÇÃO E ADMINISTRAÇÃO DO ESCRITÓRIO DE APOIO (FSUP-III, ITEM 2)",{"$nulls":12},{"$f":"'FSUP-III Manutenção Operac'!I24","v":0}]
["3 - ANÁLISE LABORATORIAIS - MONITORAMENTO DA QUALIDADE DE ÁGUA",{"$nulls":12},{"$f":"'FSUP-III Manutenção Operac'!I64","v":0}]
["4 - EQUIPAMENTO (FSUP-III, ITEM 4)",{"$nulls":12},{"$f":"'FSUP-III Manutenção Operac'!I70","v":0}]
["5 - SERVIÇOS GRÁFICOS/COMPUTAÇÃO  (FSUP-III, ITEM 4)",{"$nulls":12},{"$f":"'FSUP-III Manutenção Operac'!I76","v":0}]
[]
["E - TOTAL DOS PREÇOS COM MANUTENÇÃO OPERACIONAL",{"$nulls":12},{"$f":"SUM(N26:O31)","v":0}]
["TOTAL DOS CUSTOS DIRETOS",{"$nulls":12},{"$f":"SUM(N13+N17+N20+N23+N32)","v":0}]
[" F - CUSTOS DE ADMINISTRAÇÃO = (20% DO B)",{"$nulls":12},{"$f":"ROUND(N17*0.2,2)","v":0}]
[" G - REMUNERAÇÃO DA EMPRESA (LUCRO) = (10% DE A + B + C + D + E + F)",{"$nulls":12},{"$f":"ROUND(0.1*(N13+N17+N20+N23+N32+N34),2)","v":0}]
[" H - DESPESAS FISCAIS = (A + B + C + D + E + F + G) = ",{"$nulls":7},{"$f":"'FSUP-VI Det. Desp Fiscais'!G29","v":0},{"$nulls":4},{"$f":"ROUND(I36*(N13+N17+N20+N23+N32+N34+N35),2)","v":0}]
["TOTAL DO CUSTOS INDIRETOS",{"$nulls":12},{"$f":"SUM(N34:O36)","v":0}]
["TOTAL DA PROPOSTA",{"$nulls":12},{"$f":"N33+N37","v":0}]
["NOME DO INFORMANTE:",{"$nulls":8},"QUALIFICAÇÃO:"]
[]
["ASSINATURA:",{"$nulls":12},"DATA:"]
[]
["OBSERVAÇÃO:"]

{"sheet":"FSUP-I EQUIPE TÉCNICA","index":2,"n_rows":54,"n_cols":13,"rows_kept":54,"cut":false,"hidden":false,"merged":[[4,14,4,15],[2,0,3,10],[2,11,2,12],[3,11,3,12],[4,0,4,12],[8,0,8,3],[8,4,8,10],[8,11,8,12],[6,2,6,10],[7,11,7,12],[7,2,7,10],[6,11,6,12],[6,0,6,1],[10,0,10,1],[11,0,11,1],[9,0,9,1],[13,0,13,1],[14,0,14,1],[12,0,12,1],[21,0,21,1],[22,0,22,1],[19,0,19,1],[15,0,15,1],[20,0,20,1],[17,0,17,1],[16,0,16,1],[18,0,18,1],[23,0,23,1],[28,0,28,1],[27,0,27,1],[25,0,25,1],[26,0,26,1],[54,0,54,12],[48,0,48,12],[49,0,49,12],[50,0,50,12],[52,0,52,12],[46,0,46,12],[45,0,45,12],[53,0,53,12],[0,0,1,12],[42,0,42,12],[37,0,37,6],[37,7,37,12],[39,0,39,10],[39,11,39,12],[33,0,33,1],[30,0,30,1],[35,4,35,10],[36,0,36,10],[41,0,41,12],[43,0,43,12],[47,0,47,12],[34,0,34,1],[35,0,35,2],[29,0,29,1],[38,7,38,12],[40,0,40,10],[40,11,40,12],[38,0,38,6],[32,0,32,1],[31,0,31,1]]}
[]
[]
["SALÁRIOS DA EQUIPE TÉCNICA",{"$nulls":10},"CODIGO:"]
[{"$nulls":11},"FSUP- I"]
["NOME DA CONSULTORA:"]
[]
["PROJETO:",null,"OBJETO:",{"$nulls":8},"EDITAL:"]
["Meio Ambiente",null,"Regularidade Ambiental de Barragens"]
["EQUIPE TÉCNICA",null,null,null,"COMPOSIÇÃO DOS SALÁRIOS POR PROFISSÃO/FUNÇÃO",{"$nulls":6},"CUSTOS "]
[{"$nulls":4},"SALÁRIO","ENC.","CUSTO ","R. EMP.","DESP.","SALÁRIO","HORA","SALÁRIO","SALÁRIO"]
["PROFISSÃO/FUNÇÃO",null,"S","QTD","CATEG.","SOCIAIS","ADM.","LUCRO","FISCAIS","MENSAL","TÉCNICA","B1","B2"]
[]
["NÍVEL SUPERIOR"]
["Consultoria (SICRO - P8061 + 20%)",null,null,{"$f":"0.75*2","v":1.5},null,{"$f":"ROUND(E14*0.2,2)","v":0},{"$f":"ROUND(E14*0.2,2)","v":0},{"$f":"ROUND(0.1*(E14+F14+G14),2)","v":0},{"$f":"ROUND('FSUP-VI Det. Desp Fiscais'!$G$29*(E14+F14+G14+H14),2)","v":0},{"$f":"SUM(E14:I14)","v":0},{"$f":"ROUND(J14/176,2)","v":0},null,{"$f":"D14*E14","v":0}]
["Coordenador Ambiental (SICRO - P8044)",null," ",27,null,{"$f":"ROUND(E15*'FSUP-VII Det. Enc. Sociais'!$F$49,2)","v":0},{"$f":"ROUND(E15*'FSUP-V Det. custos Adm.'!$F$38/100,2)","v":0},{"$f":"ROUND(0.1*(E15+F15+G15),2)","v":0},{"$f":"ROUND('FSUP-VI Det. Desp Fiscais'!$G$29*(E15+F15+G15+H15),2)","v":0},{"$f":"SUM(E15:I15)","v":0},{"$f":"ROUND(J15/176,2)","v":0},{"$f":"ROUND(D15*E15,2)","v":0}]
["Geógrafo junior (SICRO - P8051)",null,null,6,null,{"$f":"ROUND(E16*'FSUP-VII Det. Enc. Sociais'!$F$49,2)","v":0},{"$f":"ROUND(E16*'FSUP-V Det. custos Adm.'!$F$38/100,2)","v":0},{"$f":"ROUND(0.1*(E16+F16+G16),2)","v":0},{"$f":"ROUND('FSUP-VI Det. Desp Fiscais'!$G$29*(E16+F16+G16+H16),2)","v":0},{"$f":"SUM(E16:I16)","v":0},{"$f":"ROUND(J16/176,2)","v":0},{"$f":"ROUND(D16*E16,2)","v":0}]
["Geólogo junior (SICRO - P8080)",null,null,8,null,{"$f":"ROUND(E17*'FSUP-VII Det. Enc. Sociais'!$F$49,2)","v":0},{"$f":"ROUND(E17*'FSUP-V Det. custos Adm.'!$F$38/100,2)","v":0},0,{"$f":"ROUND('FSUP-VI Det. Desp Fiscais'!$G$29*(E17+F17+G17+H17),2)","v":0},0,0,0]
["Engenheiro SICRO - (P8059)",null,null,30,null,{"$f":"ROUND(E18*'FSUP-VII Det. Enc. Sociais'!$F$49,2)","v":0},{"$f":"ROUND(E18*'FSUP-V Det. custos Adm.'!$F$38/100,2)","v":0},0,{"$f":"ROUND('FSUP-VI Det. Desp Fiscais'!$G$29*(E18+F18+G18+H18),2)","v":0},0,0,{"$f":"ROUND(D18*E18,2)","v":0}]
["Biólogo pleno (SICRO - P8033)",null,null,44,null,{"$f":"ROUND(E19*'FSUP-VII Det. Enc. Sociais'!$F$49,2)","v":0},{"$f":"ROUND(E19*'FSUP-V Det. custos Adm.'!$F$38/100,2)","v":0},0,{"$f":"ROUND('FSUP-VI Det. Desp Fiscais'!$G$29*(E19+F19+G19+H19),2)","v":0},0,0,0]
["Economista pleno (SICRO - P8046)",null,null,8,null,{"$f":"ROUND(E20*'FSUP-VII Det. Enc. Sociais'!$F$49,2)","v":0},{"$f":"ROUND(E20*'FSUP-V Det. custos Adm.'!$F$38/100,2)","v":0},0,{"$f":"ROUND('FSUP-VI Det. Desp Fiscais'!$G$29*(E20+F20+G20+H20),2)","v":0},0,0,0]
["Arqueólogo sênior (SICRO - P8125)",null,null,6,null,{"$f":"ROUND(E21*'FSUP-VII Det. Enc. Sociais'!$F$49,2)","v":0},{"$f":"ROUND(E21*'FSUP-V Det. custos Adm.'!$F$38/100,2)","v":0},0,{"$f":"ROUND('FSUP-VI Det. Desp Fiscais'!$G$29*(E21+F21+G21+H21),2)","v":0},0,0,0]
["Pedagogo/Assist. Social pleno (SICRO - 8130)",null,null,14,null,{"$f":"ROUND(E22*'FSUP-VII Det. Enc. Sociais'!$F$49,2)","v":0},{"$f":"ROUND(E22*'FSUP-V Det. custos Adm.'!$F$38/100,2)","v":0},0,{"$f":"ROUND('FSUP-VI Det. Desp Fiscais'!$G$29*(E22+F22+G22+H22),2)","v":0},0,0,0]
["Advogado pleno (SICRO - P8002)",null,null,1,null,{"$f":"ROUND(E23*'FSUP-VII Det. Enc. Sociais'!$F$49,2)","v":0},{"$f":"ROUND(E23*'FSUP-V Det. custos Adm.'!$F$38/100,2)","v":0},0,{"$f":"ROUND('FSUP-VI Det. Desp Fiscais'!$G$29*(E23+F23+G23+H23),2)","v":0},0,0,0]
[]
["NÍVEL TÉCNICO"]
["Técnico em geoprocessamento (SICRO - P8155)",null," ",23,null,{"$f":"ROUND(E26*'FSUP-VII Det. Enc. Sociais'!$F$49,2)","v":0},{"$f":"ROUND(E26*'FSUP-V Det. custos Adm.'!$F$38/100,2)","v":0},{"$f":"ROUND(0.1*(E26+F26+G26),2)","v":0},{"$f":"ROUND('FSUP-VI Det. Desp Fiscais'!$G$29*(E26+F26+G26+H26),2)","v":0},{"$f":"SUM(E26:I26)","v":0},{"$f":"ROUND(J26/176,2)","v":0},{"$f":"ROUND(D26*E26,2)","v":0}]
["Técnico ambiental (SICRO - 8143)",null," ",23,null,{"$f":"ROUND(E27*'FSUP-VII Det. Enc. Sociais'!$F$49,2)","v":0},{"$f":"ROUND(E27*'FSUP-V Det. custos Adm.'!$F$38/100,2)","v":0},{"$f":"ROUND(0.1*(E27+F27+G27),2)","v":0},{"$f":"ROUND('FSUP-VI Det. Desp Fiscais'!$G$29*(E27+F27+G27+H27),2)","v":0},{"$f":"SUM(E27:I27)","v":0},{"$f":"ROUND(J27/176,2)","v":0},{"$f":"ROUND(D27*E27,2)","v":0}]
[]
[]
["NÍVEL AUXILIAR"]
[]
["Auxiliar administrativo (SICRO - P8026)",null," ",27,null,{"$f":"ROUND(E32*0.7272,2)","v":0},{"$f":"ROUND(E32*'FSUP-V Det. custos Adm.'!$F$38/100,2)","v":0},{"$f":"ROUND(0.1*(E32+F32+G32),2)","v":0},{"$f":"ROUND(0.1396*(E32+F32+G32+H32),2)","v":0},{"$f":"SUM(E32:I32)","v":0},{"$f":"ROUND(J32/176,2)","v":0},{"$f":"ROUND(D32*E32,2)","v":0}]
["Piloto fluvial (SICRO/MA - P9940)",null,null,4,null,{"$f":"ROUND(E33*0.7272,2)","v":0},{"$f":"ROUND(E33*'FSUP-V Det. custos Adm.'!$F$38/100,2)","v":0},{"$f":"ROUND(0.1*(E33+F33+G33),2)","v":0},{"$f":"ROUND(0.1396*(E33+F33+G33+H33),2)","v":0},{"$f":"SUM(E33:I33)","v":0},{"$f":"ROUND(J33/176,2)","v":0},{"$f":"ROUND(D33*E33,2)","v":0}]
[]
[]
[]
["TOTAIS DOS  SALÁRIOS DA EQUIPE",{"$nulls":10},{"$f":"ROUND(SUM(L13:L36),2)","v":0},{"$f":"SUM(M13:M36)","v":0}]
["NOME DO INFORMANTE:",{"$nulls":6},"QUALIFICAÇÃO:"]
[]
["ASSINATURA:",{"$nulls":10},"DATA:"]
[]
["OBSERVAÇÃO:"]
["1 - UTILIZAR  OS PARÂMETROS DE CLASSIFICAÇÃO  INDICADOS NO TSUP- II EQUIPE TÉCNICA"]
["2- UTILIZAR OS SÍMBOLOS INDICADOS NO TSUP-II EQUIPE TÉCNICA"]
["3- INDICAR A QUANTIDADE DE HOMENS POR CATEGORIA. "]
["4- INIDCAR O SALÁRIO BASE DA CATEGORIA"]
["5 - ENC. SOCIAIS, APLICAR NO MÁXIMO 20%  PARA AUTÔNOMOS E  73,34% PARA EMPREG. COM VÍNCULO DETALHAR NO FSUP-VII"]
["6- CUSTO DE ADMINISTRAÇÃO, APLICAR NO MÁXIMO 25% SOBRE O SALÁRIO BASE DA CATEGORIA"]
["7 - REMUN. DA EMPRESA (LUCRO), APLICAR NO MÁXIMO 10% SOBRE O SALÁRIO DA CATEG + ENCARGOS SOCIAIS + CUSTO DE ADM."]
["8 - DESP. FISCAIS, APLICAR O DF' CALCULADO NO FSUP-VI SOBRE O SALÁRIO DA CATEG. + ENC. SOCIAIS + CUSTO DE ADM. + LUCRO "]
["9- PREÇO DO HOMEM MÊS POR CATEGORIA = SOMATÓRIO DOS ITENS   (4) + (5) + (6) + (7) +(8) "]
["10- PREÇO DA HORA TÉCNICA = (9) / 176"]
["11 - SALÁRIOS DE B1 = SALARIO DOS EMPREGADOS COM VÍNCULO X QTD HOMEM MÊS. EXPORTAR O TOTAL PARA LINHA B1 DO FSUP"]
["12 - SALÁRIO DE B2 = SALÁRIO DO AUTÔNOMO X QTD HOMEM X MÊS. EXPORTAR O TOTAL PARA A LINHA B2 DO FSUP"]

{"sheet":"FSUP-II VIAGENS","index":3,"n_rows":47,"n_cols":19,"rows_kept":47,"cut":false,"hidden":false,"merged":[[2,0,3,12],[2,13,2,14],[3,13,3,14],[4,0,4,14],[9,13,9,14],[8,11,8,14],[8,0,10,0],[7,2,7,8],[9,11,9,12],[8,4,8,9],[9,4,10,4],[9,5,10,5],[9,6,9,7],[15,1,15,3],[16,1,16,3],[9,10,10,10],[6,0,6,1],[6,2,6,14],[9,8,9,9],[33,0,33,5],[33,6,33,14],[34,0,34,11],[34,12,34,14],[20,1,20,3],[32,6,32,14],[28,1,28,3],[29,1,29,3],[30,1,30,3],[31,0,31,5],[32,0,32,5],[0,0,1,14],[21,1,21,3],[22,1,22,3],[23,1,23,3],[27,1,27,3],[26,1,26,3],[25,1,25,3],[24,1,24,3],[11,1,11,3],[13,1,13,3],[14,1,14,3],[8,1,10,3],[12,1,12,3],[17,1,17,3],[18,1,18,3],[19,1,19,3],[43,0,43,14],[35,12,35,14],[36,0,36,14],[38,0,38,14],[35,0,35,11],[39,0,39,14],[40,0,40,14],[41,0,41,14]]}
[]
[]
["VIAGENS DA EQUIPE TÉCNICA",{"$nulls":12},"CODIGO:"]
[{"$nulls":13},"FSUP-II"]
["NOME DA CONSULTORA:"]
[]
["PROJETO:",null,"OBJETO:"]
["Meio Ambiente",null,"Regularidade Ambiental de Barragens"]
["SIMBOLO","ROTEIRO (ida e volta) SICRO",null,null,"PASSAGENS",{"$nulls":6},"DIÁRIAS"]
[{"$nulls":4},"A/T","QTD","CUSTO",null,"PREÇO",null,"QTD","CUSTO",null,"PREÇO"]
[{"$nulls":6},"UNITÁRIO","TOTAL","UNITÁRIO","TOTAL",null,"UNITÁRIO","TOTAL","UNITÁRIO","TOTAL"]
[]
["C/P0/P1/P2/T1","Sede/Diversos/Sede",null,null,"A",{"$f":"(2*29)+(2*8)+(2*3)","v":80},null,{"$f":"ROUND(G13*F13,2)","v":0},{"$f":"ROUND((1+0.1)*(1+'FSUP-VI Det. Desp Fiscais'!$G$29)*G13,2)","v":0},{"$f":"ROUND(F13*I13,2)","v":0},{"$f":"(2*108)+(2*31)+(2*12)","v":302},null,{"$f":"ROUND(L13*K13,2)","v":0},{"$f":"ROUND((1+0.1)*(1+'FSUP-VI Det. Desp Fiscais'!$G$29)*L13,2)","v":0},{"$f":"ROUND(K13*N13,2)","v":0},null,"10 viagens Aereas/mês",null,360]
[{"$nulls":16},"2 viagens / mês",null,72]
[]
[{"$nulls":16},"30 diárias/mês",null,1080]
{"$rows_empty":15}
["TOTAIS DE CUSTOS E DE PREÇOS DE PASSAGENS E DIÁRIAS",{"$nulls":6},{"$f":"SUM(H12:H31)","v":0},null,{"$f":"SUM(J12:J31)","v":0},null,null,{"$f":"SUM(M12:M31)","v":0},null,{"$f":"SUM(O12:O31)","v":0}]
["NOME DO INFORMANTE:",{"$nulls":5},"QUALIFICAÇÃO:"]
[]
["ASSINATURA:",{"$nulls":11},"DATA:"]
[]
["OBSERVAÇÕES:"]
["1 - VIAGENS DURANTE  A EXECUÇÃO DOS SERVIÇOS,  INCLUÍNDO REUNIÕES NA ADM. CENTRAL DA CODEVASF "]
["2 - NÂO INCLUIR  VIAGENS COM MOBILIZAÇÃO/DESMOBILIZAÇÃO DA EQUIPE QUE SERÃO CALCULADOS NO PSUP-IV"]
["3 - AS DIÁRIAS COBREM DESPESAS COM TAXI, ALIMENTAÇÃO E HOSPEDAGEM"]
["4 - INDICAR (A) PARA AS PASSAGENS  AÉREAS E (T) PARA AS TERRESTRES"]
["5 - CUSTO DO ITEM SEM LUCRO E SEM DESPESAS FISCAIS"]
["6 - EXPORTAR O TOTAL DO CUSTO COM PASSAGENS E DIÁRIAS, RESPECTIVAMENTE,  LINHAS  \"D1\" E \"D2\" DO PSUP"]
["6 - PREÇO = CUSTO + LUCRO+ DESPESAS FISCAIS E SERÁ CALCULADO COM A SEGUINTE FORMULA:CUSTO*(1+0,1)*(1+0,1662)"]
["7 - OS PREÇOS UNITÁRIOS SERÃO UTILIZADOS PARA FINS  DE FATURARAMENTO"]
["8 - AS PASSAGENS AÉREAS POSSUEM VALOR UNITÁRIO MÉDIO ENTRE OS TRECHOS SDU/BSB/SDU, GRU/BSB/GRU, POA/BSB/POA E SSA/BSB/SSA "]
["9 - AS PASSAGENS TERRESTRES SÃO COM BASE NO VALOR DA PASSAGEM DA CAPITAL AO INTERIOR DO ESTADO DA BAHIA (MAIOR ESTADO DA ÁREA DE ATUAÇÃO DA CODEVASF) "]

{"sheet":"FSUP-III Manutenção Operac","index":4,"n_rows":86,"n_cols":16,"rows_kept":86,"cut":false,"hidden":false,"merged":[[40,0,40,4],[41,0,41,4],[42,0,42,4],[43,0,43,4],[60,0,60,4],[44,0,44,4],[45,0,45,4],[46,0,46,4],[47,0,47,4],[54,0,54,4],[10,0,10,4],[84,0,84,10],[76,0,76,10],[79,0,79,6],[81,0,81,10],[82,0,82,10],[78,0,78,5],[78,6,78,10],[80,7,80,10],[83,0,83,10],[11,0,11,4],[12,0,12,4],[13,0,13,6],[70,0,70,10],[75,0,75,6],[39,0,39,4],[14,0,14,10],[64,0,64,10],[69,0,69,6],[56,0,56,4],[57,0,57,4],[34,0,34,4],[36,0,36,4],[38,0,38,4],[48,0,48,4],[58,0,58,4],[25,0,25,4],[51,0,51,4],[53,0,53,4],[55,0,55,4],[20,0,20,4],[63,0,63,6],[0,0,1,10],[7,0,7,1],[7,2,7,8],[7,9,7,10],[8,0,9,4],[8,5,9,5],[8,6,9,6],[8,7,8,8],[8,9,8,10],[6,0,6,1],[6,2,6,8],[6,9,6,10],[2,0,3,8],[2,9,2,10],[3,9,3,10],[4,0,4,10],[21,0,21,4],[22,0,22,4],[23,0,23,6],[52,0,52,4],[24,0,24,10],[49,0,49,4],[50,0,50,4],[26,0,26,4],[28,0,28,4],[29,0,29,4],[30,0,30,4],[31,0,31,4],[32,0,32,4],[33,0,33,4],[35,0,35,4],[37,0,37,4],[15,0,15,4],[16,0,16,4],[17,0,17,4],[18,0,18,4],[19,0,19,4]]}
[]
[]
[" MANUTENÇÃO OPERACIONAL",{"$nulls":8},"CODIGO:"]
[{"$nulls":9},"FSUP-III"]
["NOME DA CONSULTORA:"]
[]
["PROJETO:",null,"OBJETO:",{"$nulls":6},"EDITAL:"]
["Meio Ambiente ",null,"Regularidade Ambiental de Barragens"]
["DISCRIMINAÇÃO",{"$nulls":4},"UND","QTD","CUSTOS 2",null,"PREÇOS 3"]
[{"$nulls":7},"UNT","TOTAL","UNT","TOTAL",null,"Quantitativo proporcional para 3 anos",null,"Qtativo 3 anos+15%"]
["1    VEÍCULOS"]
["1.1 Aluguel de veículos 4x4 - Tipo Caminhonete (Cabine Dupla) (Eng. Cons. 2020)",{"$nulls":4},"mês",26,null,{"$f":"ROUND(G12*H12,2)","v":0},{"$f":"ROUND((1+0.1)*(1+'FSUP-VI Det. Desp Fiscais'!$G$29)*H12,2)","v":0},{"$f":"ROUND(G12*J12,2)","v":0},null,60,null,{"$f":"M12+(M12*0.15)","v":69}]
["1.2 Locação de barco (SICRO E9043)",{"$nulls":4},"mês",4,null,{"$f":"ROUND(G13*H13,2)","v":0},{"$f":"ROUND((1+0.1)*(1+'FSUP-VI Det. Desp Fiscais'!$G$29)*H13,2)","v":0},{"$f":"ROUND(G13*J13,2)","v":0},null,48,null,{"$f":"M13+(M13*0.15)","v":55.2}]
["Total dos custos e dos preços dos veículos",{"$nulls":7},{"$f":"SUM(I12:I13)","v":0},null,{"$f":"SUM(K12:K13)","v":0}]
["2     MANUTENÇÃO E ADMINISTRAÇÃO DO ESCRITÓRIO DE APOIO (BRASÍLIA/DF)"]
["2.1 Aluguel de escritório com mobiliário (Consultoria SICRO-Esc.1615,80+Mob.862,56)",{"$nulls":4},"mês",27,null,{"$f":"ROUND(G16*H16,2)","v":0},{"$f":"ROUND((1+0.1)*(1+'FSUP-VI Det. Desp Fiscais'!$G$29)*H16,2)","v":0},{"$f":"ROUND(G16*J16,2)","v":0}]
["2.2 Telefone (10557/ORSE)",{"$nulls":4},"mês","27",null,0,{"$f":"ROUND((1+0.1)*(1+'FSUP-VI Det. Desp Fiscais'!$G$29)*H17,2)","v":0},0]
["2.3 Energia elétrica",{"$nulls":4},"mês","27",null,0,{"$f":"ROUND((1+0.1)*(1+'FSUP-VI Det. Desp Fiscais'!$G$29)*H18,2)","v":0},0]
["2.4 água  e esgoto (AGETOP-Agua/2755-Esgoto/2759)",{"$nulls":4},"mês","27",null,0,{"$f":"ROUND((1+0.1)*(1+'FSUP-VI Det. Desp Fiscais'!$G$29)*H19,2)","v":0},0]
["2.5 Material de limpeza (10563/ORSE)",{"$nulls":4},"mês","27",null,0,{"$f":"ROUND((1+0.1)*(1+'FSUP-VI Det. Desp Fiscais'!$G$29)*H20,2)","v":0},0]
["2.6 Internet (10562/ORSE)",{"$nulls":4},"mês","27",null,0,{"$f":"ROUND((1+0.1)*(1+'FSUP-VI Det. Desp Fiscais'!$G$29)*H21,2)","v":0},0]
["2.7 Material de escritório (10562/ORSE)",{"$nulls":4},"mês","27",null,0,{"$f":"ROUND((1+0.1)*(1+'FSUP-VI Det. Desp Fiscais'!$G$29)*H22,2)","v":0},0]
[]
["Total dos custos e dos preços da manut. E adm. Do escritório de apoio em Brasília",{"$nulls":7},{"$f":"SUM(I15:I22)","v":0},null,{"$f":"SUM(K15:K22)","v":0}]
["3     Análises Laboratoriais - Monitoramento de Qualidade de Àgua"]
["3.1 Alumínio Dissolvido",{"$nulls":4},"unid",20,null,{"$f":"ROUND(G26*H26,2)","v":0},{"$f":"ROUND((1+0.1)*(1+'FSUP-VI Det. Desp Fiscais'!$G$29)*H26,2)","v":0},{"$f":"ROUND(G26*J26,2)","v":0}]
["3.2 Arsênio Total",{"$nulls":4},"und",20,null,0,{"$f":"ROUND((1+0.1)*(1+'FSUP-VI Det. Desp Fiscais'!$G$29)*H27,2)","v":0},0]
["3.3 Boro Total",{"$nulls":4},"und",20,null,0,{"$f":"ROUND((1+0.1)*(1+'FSUP-VI Det. Desp Fiscais'!$G$29)*H28,2)","v":0},0]
["3.4 Bário Total",{"$nulls":4},"und",20,null,0,{"$f":"ROUND((1+0.1)*(1+'FSUP-VI Det. Desp Fiscais'!$G$29)*H29,2)","v":0},0]
["3.5 Cádmio Total",{"$nulls":4},"und",20,null,0,{"$f":"ROUND((1+0.1)*(1+'FSUP-VI Det. Desp Fiscais'!$G$29)*H30,2)","v":0},0]
["3.6 Chumbo Total",{"$nulls":4},"und",20,null,0,{"$f":"ROUND((1+0.1)*(1+'FSUP-VI Det. Desp Fiscais'!$G$29)*H31,2)","v":0},0]
["3.7 Cloreto Total",{"$nulls":4},"und",20,null,0,{"$f":"ROUND((1+0.1)*(1+'FSUP-VI Det. Desp Fiscais'!$G$29)*H32,2)","v":0},0]
["3.8 Cobre Dissolvido",{"$nulls":4},"und",20,null,0,{"$f":"ROUND((1+0.1)*(1+'FSUP-VI Det. Desp Fiscais'!$G$29)*H33,2)","v":0},0]
["3.9 Coliformes Termotolerantes TM",{"$nulls":4},"und",20,null,0,{"$f":"ROUND((1+0.1)*(1+'FSUP-VI Det. Desp Fiscais'!$G$29)*H34,2)","v":0},0]
["3.10 Condutividade Elétrica/Salinidade",{"$nulls":4},"unid",20,null,0,{"$f":"ROUND((1+0.1)*(1+'FSUP-VI Det. Desp Fiscais'!$G$29)*H35,2)","v":0},0]
["3.11 Cromo Total",{"$nulls":4},"und",20,null,0,{"$f":"ROUND((1+0.1)*(1+'FSUP-VI Det. Desp Fiscais'!$G$29)*H36,2)","v":0},0]
["3.12 DBO",{"$nulls":4},"unid",20,null,0,{"$f":"ROUND((1+0.1)*(1+'FSUP-VI Det. Desp Fiscais'!$G$29)*H37,2)","v":0},0]
["3.13 Ferro Dissolvido",{"$nulls":4},"und",20,null,0,{"$f":"ROUND((1+0.1)*(1+'FSUP-VI Det. Desp Fiscais'!$G$29)*H38,2)","v":0},0]
["3.14 Fósforo Total",{"$nulls":4},"unid",20,null,0,{"$f":"ROUND((1+0.1)*(1+'FSUP-VI Det. Desp Fiscais'!$G$29)*H39,2)","v":0},0]
["3.15 Manganês Total",{"$nulls":4},"und",20,null,0,{"$f":"ROUND((1+0.1)*(1+'FSUP-VI Det. Desp Fiscais'!$G$29)*H40,2)","v":0},0]
["3.16 Mercúrio Total",{"$nulls":4},"und",20,null,0,{"$f":"ROUND((1+0.1)*(1+'FSUP-VI Det. Desp Fiscais'!$G$29)*H41,2)","v":0},0]
["3.17 Nitrogênio - Amoniacal Total",{"$nulls":4},"und",20,null,0,{"$f":"ROUND((1+0.1)*(1+'FSUP-VI Det. Desp Fiscais'!$G$29)*H42,2)","v":0},0]
["3.18 Nitrogênio - Nitratos",{"$nulls":4},"und",20,null,0,{"$f":"ROUND((1+0.1)*(1+'FSUP-VI Det. Desp Fiscais'!$G$29)*H43,2)","v":0},0]
["3.19 Nitrogênio - Nitritos",{"$nulls":4},"und",20,null,0,{"$f":"ROUND((1+0.1)*(1+'FSUP-VI Det. Desp Fiscais'!$G$29)*H44,2)","v":0},0]
["3.20 Nitrogênio Total",{"$nulls":4},"und",20,null,0,{"$f":"ROUND((1+0.1)*(1+'FSUP-VI Det. Desp Fiscais'!$G$29)*H45,2)","v":0},0]
["3.21 Óleos e Graxas",{"$nulls":4},"und",20,null,0,{"$f":"ROUND((1+0.1)*(1+'FSUP-VI Det. Desp Fiscais'!$G$29)*H46,2)","v":0},0]
["3.22 Oxigênio Dissolvido",{"$nulls":4},"und",20,null,0,{"$f":"ROUND((1+0.1)*(1+'FSUP-VI Det. Desp Fiscais'!$G$29)*H47,2)","v":0},0]
["3.23 pH",{"$nulls":4},"und",20,null,0,{"$f":"ROUND((1+0.1)*(1+'FSUP-VI Det. Desp Fiscais'!$G$29)*H48,2)","v":0},0]
["3.24 Sólidos Dissolvidos Totais",{"$nulls":4},"unid",20,null,0,{"$f":"ROUND((1+0.1)*(1+'FSUP-VI Det. Desp Fiscais'!$G$29)*H49,2)","v":0},0]
["3.25 Sólidos Suspensos",{"$nulls":4},"unid",20,null,0,{"$f":"ROUND((1+0.1)*(1+'FSUP-VI Det. Desp Fiscais'!$G$29)*H50,2)","v":0},0]
["3.26 Sulfato Total",{"$nulls":4},"unid",20,null,0,{"$f":"ROUND((1+0.1)*(1+'FSUP-VI Det. Desp Fiscais'!$G$29)*H51,2)","v":0},0]
["3.27 Temperatura",{"$nulls":4},"unid",20,null,0,{"$f":"ROUND((1+0.1)*(1+'FSUP-VI Det. Desp Fiscais'!$G$29)*H52,2)","v":0},0]
["3.28 Turbidez",{"$nulls":4},"unid",20,null,0,{"$f":"ROUND((1+0.1)*(1+'FSUP-VI Det. Desp Fiscais'!$G$29)*H53,2)","v":0},0]
["3.29 Zinco Total",{"$nulls":4},"unid",20,null,0,{"$f":"ROUND((1+0.1)*(1+'FSUP-VI Det. Desp Fiscais'!$G$29)*H54,2)","v":0},0]
["Organofosforados"]
["3.30 2,4-D",{"$nulls":4},"unid",20,null,0,{"$f":"ROUND((1+0.1)*(1+'FSUP-VI Det. Desp Fiscais'!$G$29)*H56,2)","v":0},0]
["3.31 Benzeno",{"$nulls":4},"unid",20,null,0,{"$f":"ROUND((1+0.1)*(1+'FSUP-VI Det. Desp Fiscais'!$G$29)*H57,2)","v":0},0]
["3.32 Malation",{"$nulls":4},"unid",20,null,0,{"$f":"ROUND((1+0.1)*(1+'FSUP-VI Det. Desp Fiscais'!$G$29)*H58,2)","v":0},0]
["3.33 Parathion",{"$nulls":4},"unid",20,null,0,{"$f":"ROUND((1+0.1)*(1+'FSUP-VI Det. Desp Fiscais'!$G$29)*H59,2)","v":0},0]
["3.34 Glifosato",{"$nulls":4},"unid",20,null,0,{"$f":"ROUND((1+0.1)*(1+'FSUP-VI Det. Desp Fiscais'!$G$29)*H60,2)","v":0},0]
["Organoclorados"]
["3.35 Alaclor",{"$nulls":4},"unid",20,null,0,{"$f":"ROUND((1+0.1)*(1+'FSUP-VI Det. Desp Fiscais'!$G$29)*H62,2)","v":0},0]
["3.36 Metolacloro",{"$nulls":4},"unid",20,null,0,{"$f":"ROUND((1+0.1)*(1+'FSUP-VI Det. Desp Fiscais'!$G$29)*H63,2)","v":0},0]
["Total dos custos do monitoramento de água",{"$nulls":7},{"$f":"SUM(I26:I63)","v":0},null,{"$f":"SUM(K26:K63)","v":0}]
["4     EQUIPAMENTOS/SERVIÇOS ",{"$nulls":13},"qtativo mês + 15% PISF","Total"]
["4.1 Notebook (P0, P1, P2 e T1) - (Core i7, 8Gb RAM, 1Tb) ",{"$nulls":4},"mês",218.5,null,{"$f":"ROUND(G66*H66,2)","v":0},{"$f":"ROUND((1+0.1)*(1+'FSUP-VI Det. Desp Fiscais'!$G$29)*H66,2)","v":0},{"$f":"ROUND(G66*J66,2)","v":0},null,24,"UNID/MÊS",{"$f":"M66+(M66*0.15)","v":27.6},{"$f":"O66*36","v":993.6}]
["4.2 Máquina fotográfica (16.1MP, 8Gb de memória) ",{"$nulls":4},"mês",10,null,0,{"$f":"ROUND((1+0.1)*(1+'FSUP-VI Det. Desp Fiscais'!$G$29)*H67,2)","v":0},0,null,10,"UNID/MÊS",{"$f":"M67+(M67*0.15)","v":11.5},{"$f":"O67*36","v":414}]
["4.3 GPS ( Resolução nativa de 176 x 220)",{"$nulls":4},"mês",10,null,0,{"$f":"ROUND((1+0.1)*(1+'FSUP-VI Det. Desp Fiscais'!$G$29)*H68,2)","v":0},0,null,10,"UNID/MÊS",{"$f":"M68+(M68*0.15)","v":11.5},{"$f":"O68*36","v":414}]
["4.4 Vant PPK/RTK",{"$nulls":4},"mês",6,null,0,{"$f":"ROUND((1+0.1)*(1+'FSUP-VI Det. Desp Fiscais'!$G$29)*H69,2)","v":0},0,null,4,"UNID/MÊS",{"$f":"M69+(M69*0.15)","v":4.5999999999999996},{"$f":"O69*36","v":165.6}]
["Total dos custos e dos preços dos equip. de apoio em Brasília/DF",{"$nulls":7},{"$f":"SUM(I66:I69)","v":0},null,{"$f":"SUM(K66:K69)","v":0}]
["5     SERVIÇOS GRÁFICOS"]
["5.1 Relatórios de Andamento (média = 50 folhas) (Cotação_2020)",{"$nulls":4},"unid.",40,null,{"$f":"ROUND(G72*H72,2)","v":0},{"$f":"ROUND((1+0.1)*(1+'FSUP-VI Det. Desp Fiscais'!$G$29)*H72,2)","v":0},{"$f":"ROUND(G72*J72,2)","v":0}]
["5.2 Relatório Final (produtos finais) (Cotação_2020)",{"$nulls":4},"unid.",24,null,0,{"$f":"ROUND((1+0.1)*(1+'FSUP-VI Det. Desp Fiscais'!$G$29)*H73,2)","v":0},0,null,550,null,{"$f":"M73+(M73*0.15)","v":632.5}]
["5.3 Banner - impressão A1(PACUERAs)",{"$nulls":4},"unid.",10,null,0,{"$f":"ROUND((1+0.1)*(1+'FSUP-VI Det. Desp Fiscais'!$G$29)*H74,2)","v":0},0]
["5.4 Placas em chapa de zinco 2,0x2,8 m com as bases de madeira instalada no local",{"$nulls":4},"unid.",5,null,0,{"$f":"ROUND((1+0.1)*(1+'FSUP-VI Det. Desp Fiscais'!$G$29)*H75,2)","v":0},0]
["Total dos custos e dos preços dos serv. gráficos/computação",{"$nulls":7},{"$f":"SUM(I72:I75)","v":0},null,{"$f":"SUM(K72:K75)","v":0}]
[]
["NOME DO INFORMANTE:",{"$nulls":5},"QUALIFICAÇÃO:"]
[]
["ASSINATURA:",{"$nulls":6},"DATA:"]
[]
["OBSERVAÇÃO:"]
["1. Aluguel de veículos e barco inclui combustível e manutenção até o limite de 3000km/mês"]
["2. Custo do item sem lucro e despesas fiscais"]
["3. Preço = custo + lucro + despesas fiscais. Para calcular o preço aplica-se a seguinte fórmula: custo*(1+0,1)*(1+0,1662)"]
["4. Exportar \" total custo\" para a  linha corresponde no FSUP. Os preços serão aplicados para fins de faturamento"]

{"sheet":"FSUP-IV Mobiliz Desmob","index":5,"n_rows":47,"n_cols":14,"rows_kept":47,"cut":false,"hidden":false,"merged":[[42,0,42,5],[37,0,37,2],[40,0,40,5],[8,3,10,3],[41,0,41,5],[0,0,1,13],[8,10,8,13],[2,0,3,11],[2,12,2,13],[3,12,3,13],[6,0,6,1],[6,2,6,11],[8,6,8,9],[8,0,10,2],[8,5,10,5],[41,6,41,13],[8,4,10,4],[45,0,45,13],[4,0,4,13],[46,0,46,13],[6,12,6,13],[42,6,42,13],[43,0,43,10],[43,11,43,13],[7,12,7,13],[44,0,44,10],[9,6,9,7],[44,11,44,13],[9,8,9,9],[9,10,9,11],[9,12,9,13]]}
[]
[]
["MOBILIZAÇÃO E DESMOBILIZAÇÃO",{"$nulls":11},"CODIGO:"]
[{"$nulls":12},"FSUP-IV"]
["NOME DA CONSULTORA:"]
[{"$nulls":12},"DF'=",{"$f":"'FSUP-VI Det. Desp Fiscais'!G29","v":0}]
["PROJETO:",null,"OBJETO:",{"$nulls":9},"EDITAL:"]
["Meio Ambiente",null,"Regularidade Ambiental de Barragens"]
["DISCRIMINAÇÃO",null,null,"SÍMB.","UNID","QTD.","MOBILIZAÇÃO",null,null,null,"DESMOBILIZAÇÃO"]
[{"$nulls":6},"CUSTO",null,"PREÇO",null,"CUSTO",null,"PREÇO"]
[{"$nulls":6},"UNITÁRIO","TOTAL","UNITÁRIO","TOTAL","UNITÁRIO","TOTAL","UNITÁRIO","TOTAL"]
["1.      DESLOCAMENTO DA EQUIPE"]
["1.1    Passagens aéreas"]
["         a) Coordenador",null,null,"P0","unid.",1,{"$f":"'FSUP-II VIAGENS'!G13","v":0},{"$f":"ROUND(F14*G14,2)","v":0},{"$f":"ROUND((1+0.1)*(1+'FSUP-VI Det. Desp Fiscais'!$G$29)*G14,2)","v":0},{"$f":"ROUND(F14*I14,2)","v":0},{"$f":"G14","v":0},{"$f":"ROUND(K14*F14,2)","v":0},{"$f":"ROUND((1+0.1)*(1+'FSUP-VI Det. Desp Fiscais'!$G$29)*K14,2)","v":0},{"$f":"ROUND(F14*M14,2)","v":0}]
{"$rows_empty":9}
["1.2    Diárias"]
["         a)  Coordenador",null,null,"P0","unid.",1,null,{"$f":"ROUND(F25*G25,2)","v":0},{"$f":"ROUND((1+0.1)*(1+0.1396)*G25,2)","v":0},{"$f":"ROUND(F25*I25,2)","v":0}]
{"$rows_empty":15}
["TOTAIS DE CUSTOS E DE PREÇOS DE MOBILIZAÇÃO/DESMOBILIZAÇÃO",{"$nulls":6},{"$f":"SUM(H12:H40)","v":0},null,{"$f":"SUM(J12:J40)","v":0},null,{"$f":"SUM(L12:L40)","v":0},null,{"$f":"SUM(N12:N40)","v":0}]
["NOME DO INFORMANTE:",{"$nulls":5},"QUALIFICAÇÃO:"]
[]
["ASSINATURA:",{"$nulls":10},"DATA:"]
[]
["OBS: 1 - Custo do item sem lucro e sem despesas fiscais. Os totais detes deverão ser exportados para o item correspondente no FSUP"]
["         2 -  Preço = custo + lucro + despesas fiscais e será calculado com a seguinte fórmula: custo*(1+0,1)*(1+0,1662). O preço será utilizado para fins de faturamento"]

{"sheet":"FSUP-V Det. custos Adm.","index":6,"n_rows":44,"n_cols":7,"rows_kept":44,"cut":false,"hidden":false,"merged":[[43,0,43,6],[10,1,10,4],[11,1,11,4],[12,1,12,4],[37,1,37,4],[42,0,42,6],[39,0,39,2],[39,3,39,6],[40,5,40,6],[0,0,1,6],[2,0,3,5],[4,0,4,6],[6,2,6,5],[8,0,9,0],[8,1,9,4],[8,5,8,6]]}
[]
[]
["DETALHAMENTO DOS CUSTOS DE ADMINISTRAÇÃO",{"$nulls":5},"CODIGO:"]
[{"$nulls":6},"FSUP-V"]
["NOME DA CONSULTORA:"]
[]
["PROJETO:",null,"OBJETO:",null,null,null,"EDITAL:"]
["Meio Ambiente",null,"Regularização Ambiental de Barragens"]
["SEQ.","DISCRIMINAÇÃO",null,null,null,"VALORES"]
[{"$nulls":5},"%","R$"]
[1,"Custos da equipe da administração central da empresa consultora(diretoria, pessoal técnico de apoio e pessoal administrativo não diretamente vinculado à prestação dos serviços)",{"$nulls":4},{"$f":"ROUND(F11/$F$38*FSUP!N$34,2)","v":{"$error":"#DIV/0!"}}]
[2,"Outras despesas que afetam o custo de produção como treinamento, biblioteca, programa de qualidade, auditoria interna e externa",{"$nulls":4},{"$f":"ROUND(F12/$F$38*FSUP!N$34,2)","v":{"$error":"#DIV/0!"}}]
[3,"Despesas com aluguéis, comunicação, manutenção e transporte não diretamente relacionados com o custo direto dos serviços",{"$nulls":4},{"$f":"ROUND(F13/$F$38*FSUP!N$34,2)","v":{"$error":"#DIV/0!"}}]
{"$rows_empty":24}
[null,"TOTAIS DO CUSTO DE ADMINISTRAÇÃO",null,null,null,{"$f":"SUM(F11:F22)","v":0},{"$f":"SUM(G11:G37)","v":{"$error":"#DIV/0!"}}]
[]
["NOME DO INFORMANTE: ",null,null,"QUALIFICAÇÃO: \n                                   "]
["ASSINATURA:",{"$nulls":4},"DATA: "]
["OBSERVAÇAO:"]
["1 - RELACIONAR OS CUSTOS DE ADMINISTRAÇÃO COM RESPECTIVOS PERCENTUAIS INCIDENTES NA MÃO -DE-OBRA DOS "]
["     SERVIÇOS"]

{"sheet":"FSUP-VI Det. Desp Fiscais","index":7,"n_rows":45,"n_cols":8,"rows_kept":45,"cut":false,"hidden":false,"merged":[[31,6,31,7],[30,0,30,4],[20,0,20,4],[2,0,3,6],[4,0,4,7],[5,0,5,7],[6,2,6,6],[31,0,31,5],[8,5,8,7],[24,0,24,4],[14,0,14,4],[21,0,21,4],[22,0,22,4],[13,0,13,4],[0,0,1,7],[23,0,23,4],[25,0,25,4],[33,0,33,7],[27,0,27,4],[28,0,28,4],[29,0,29,4],[29,5,29,7],[32,6,32,7],[32,0,32,5],[8,0,9,4],[10,0,10,4],[11,0,11,4],[12,0,12,4],[26,0,26,4],[30,5,30,7]]}
[]
[]
[" DETALHAMENTO DAS DESPESAS FISCAIS",{"$nulls":6},"CODIGO:"]
[{"$nulls":7},"FSUP-VI"]
["NOME DA CONSULTORA:"]
[]
["PROJETO:",null,"OBJETO:",{"$nulls":4},"EDITAL:"]
["Meio Ambiente",null,"Regularização Ambiental de Barragens"]
["DISCRIMINAÇÃO 1",{"$nulls":4},"VALORES"]
[{"$nulls":5}," DF (%) 2","DF' (%) 3","R$"]
[]
["1 - ISS ",{"$nulls":5},{"$f":"(1/(1-$F$29))*F12","v":0},{"$f":"ROUND(G12/G$29*FSUP!N$36,2)","v":{"$error":"#DIV/0!"}}]
["2 - PIS",{"$nulls":5},{"$f":"(1/(1-$F$29))*F13","v":0},{"$f":"ROUND(G13/G$29*FSUP!N$36,2)","v":{"$error":"#DIV/0!"}}]
["3 - COFINS",{"$nulls":5},{"$f":"(1/(1-$F$29))*F14","v":0},{"$f":"ROUND(G14/G$29*FSUP!N$36,2)","v":{"$error":"#DIV/0!"}}]
{"$rows_empty":14}
["TOTAIS DE DESPESAS FISCAIS ",{"$nulls":4},{"$f":"SUM(F12:F28)","v":0},{"$f":"SUM(G12:G28)","v":0},{"$f":"SUM(H12:H28)","v":{"$error":"#DIV/0!"}}]
["NOME DO INFORMANTE:",{"$nulls":4},"QUALIFICAÇÃO:"]
[]
["ASSINATURA:",{"$nulls":5},"DATA:"]
[]
["Observação:"]
["1 - DISCRIMINAR OS TRIBUTOS QUE INCIDEM SOBRE OS CUSTOS DA PRESTAÇÃO DOS SERVIÇOS"]
["2 - DF = INDICAR OS % DE CADA TRIBUTO E A SOMA DOS MESMOS (ISS 5% + PIS 1,65% + COFINS 7,60% = 14,25%). "]
["OBS.: Tendo em vista que o contrato será desenvolvido em localidades diversas, foi adotada a alíquota de 5% de ISS, "]
["usual em muitos municípios."]
["3 - AS DESPESAS FISCAIS (DF) INCIDEM SOBRE O TOTAL DA FATURA E NÃO SOBRE OS CUSTOS INCORRIDOS, "]
["     DEVENDO SER CALCULADO O DF' APLICANDO-SE A SEGUINTE FÓRMULA:"]
["     DF' ="," { [ 1 / ( 1 - DF) ] - 1 } x 100"]
["DF\"="," { [ 1 / ( 1 - 14,25) ] - 1 } x 100"]
["     DF' =","16% ou 0,1662 (APLICAR O % ENCONTRADO NA LINHA \"H\" DO FSUP PARA CALCULAR AS DESPESAS FISCAIS)"]
[" O TOTAL CALCULADO NA LINHA \"H\" DO PFSUP  SERÁ IMPORTADO PARA COMPOR ESTE DETALHAMENTO."]
[" O TOTAL CALCULADO NA LINHA \"H\" DO PFSUP  SERÁ IMPORTADO PARA COMPOR ESTE DETALHAMENTO."]

{"sheet":"FSUP-VII Det. Enc. Sociais","index":8,"n_rows":56,"n_cols":7,"rows_kept":56,"cut":false,"hidden":false,"merged":[[29,1,29,2],[30,1,30,2],[31,1,31,2],[32,1,32,2],[38,1,38,4],[33,0,33,4],[34,1,34,6],[24,1,24,2],[25,1,25,2],[26,1,26,2],[27,1,27,2],[28,1,28,2],[55,0,56,6],[0,0,1,6],[10,1,10,4],[2,0,3,5],[4,0,4,6],[5,0,5,6],[6,0,6,1],[6,2,6,5],[8,0,9,4],[8,5,8,6],[50,0,50,2],[50,3,50,6],[52,5,52,6],[20,0,20,4],[21,0,21,5],[22,1,22,4],[48,0,48,4],[35,1,35,4],[36,1,36,4],[37,1,37,4],[40,1,40,4],[45,1,45,4],[46,0,46,4],[42,0,42,6],[43,1,43,4],[44,1,44,4],[41,0,41,4],[39,1,39,4]]}
["SINAPI - COMPOSIÇÃO DOS ENCARGOS SOCIAIS - BA"]
[]
["DETALHAMENTO DOS ENCARGOS SOCIAIS",{"$nulls":5},"CODIGO:"]
[{"$nulls":6},"FSUP-VII"]
["NOME DA CONSULTORA:"]
[]
["PROJETO:",null,"OBJETO:",null,null,null,"EDITAL:"]
["Meio Ambiente",null,"Regularização Ambiental de Barragens"]
["DISCRIMINAÇÃO",{"$nulls":4},"VALORES"]
[{"$nulls":5},"%","R$"]
["A","ENCARGOS SOCIAIS BÁSICOS (SINAPI)"]
["A1","INSS",{"$nulls":4},{"$f":"ROUND(F12*'FSUP-I EQUIPE TÉCNICA'!L$37,2)","v":0}]
["A2","SESI",{"$nulls":4},{"$f":"ROUND(F13*'FSUP-I EQUIPE TÉCNICA'!L$37,2)","v":0}]
["A3","SENAI",{"$nulls":4},{"$f":"ROUND(F14*'FSUP-I EQUIPE TÉCNICA'!L$37,2)","v":0}]
["A4","INCRA",{"$nulls":4},{"$f":"ROUND(F15*'FSUP-I EQUIPE TÉCNICA'!L$37,2)","v":0}]
["A5","SEBRAE",{"$nulls":4},{"$f":"ROUND(F16*'FSUP-I EQUIPE TÉCNICA'!L$37,2)","v":0}]
["A6","Salário Educação"]
["A7","Seguro Contra Acidentes de Trabalho"]
["A8","FGTS",{"$nulls":4},{"$f":"ROUND(F19*'FSUP-I EQUIPE TÉCNICA'!L$37,2)","v":0}]
["A9","SECONCI",{"$nulls":4},{"$f":"ROUND(F20*'FSUP-I EQUIPE TÉCNICA'!L$37,2)","v":0}]
["SUBTOTAL DE \"A\"",{"$nulls":4},{"$f":"ROUND(SUM(F12:F20),4)","v":0},{"$f":"ROUND(SUM(G12:G20),2)","v":0}]
[]
["B"," ENCARGOS SOCIAIS QUE RECEBEM INCIDÊNCIA DE \"A\" (SINAPI)"]
["B1","Repouso Semanal Remunerado",{"$nulls":4},{"$f":"ROUND(F24*'FSUP-I EQUIPE TÉCNICA'!L$37,2)","v":0}]
["B2","Feriados",{"$nulls":4},{"$f":"ROUND(F25*'FSUP-I EQUIPE TÉCNICA'!L$37,2)","v":0}]
["B3","Auxílio - Enfermidade",{"$nulls":4},{"$f":"ROUND(F26*'FSUP-I EQUIPE TÉCNICA'!L$37,2)","v":0}]
["B4","13º Salário  ",{"$nulls":4},{"$f":"ROUND(F27*'FSUP-I EQUIPE TÉCNICA'!L$37,2)","v":0}]
["B5","Licença Paternidade",{"$nulls":4},{"$f":"ROUND(F28*'FSUP-I EQUIPE TÉCNICA'!L$37,2)","v":0}]
["B6","faltas Justificadas",{"$nulls":4},{"$f":"ROUND(F29*'FSUP-I EQUIPE TÉCNICA'!L$37,2)","v":0}]
["B7","Dias de Chuvas",{"$nulls":4},{"$f":"ROUND(F30*'FSUP-I EQUIPE TÉCNICA'!L$37,2)","v":0}]
["B8","Auxílio Acidente de Trabalho",{"$nulls":4},{"$f":"ROUND(F31*'FSUP-I EQUIPE TÉCNICA'!L$37,2)","v":0}]
["B9","Férias Gozadas",{"$nulls":4},{"$f":"ROUND(F32*'FSUP-I EQUIPE TÉCNICA'!L$37,2)","v":0}]
["B10","Salário Maternidade",{"$nulls":4},{"$f":"ROUND(F33*'FSUP-I EQUIPE TÉCNICA'!L$37,2)","v":0}]
["SUBTOTAL DE  \"B\"",{"$nulls":4},{"$f":"ROUND(SUM(F24:F33),4)","v":0},{"$f":"ROUND(SUM(G24:G33),2)","v":0}]
[]
["C"," ENCARGOS SOCIAIS QUE NÃO RECEBEM INCIDÊNCIA DE \"A\" (SINAPI)"]
["C1","Depósito por despedida sem justa causa",{"$nulls":4},{"$f":"ROUND(F37*'FSUP-I EQUIPE TÉCNICA'!L$37,2)","v":0}]
["C2","Férias",{"$nulls":4},{"$f":"ROUND(F38*'FSUP-I EQUIPE TÉCNICA'!L$37,2)","v":0}]
["C3","Indenização Adicional",{"$nulls":4},{"$f":"ROUND(F39*'FSUP-I EQUIPE TÉCNICA'!L$37,2)","v":0}]
["C4","Aviso prévio Trabalhado",{"$nulls":4},{"$f":"ROUND(F40*'FSUP-I EQUIPE TÉCNICA'!L$37,2)","v":0}]
["C5","Aviso prévio Indenizado",{"$nulls":4},{"$f":"ROUND(F41*'FSUP-I EQUIPE TÉCNICA'!L$37,2)","v":0}]
["SUBTOTAL DE \"C\"",{"$nulls":4},{"$f":"ROUND(SUM(F37:F41),4)","v":0},{"$f":"ROUND(SUM(G37:G41),2)","v":0}]
[]
["D"," REINCIDÊNCIAS (SINAPI)"]
["D1","Reincidência de \"A\" sobre \"B\"",{"$nulls":4},{"$f":"ROUND(F45*'FSUP-I EQUIPE TÉCNICA'!L$37,2)","v":0}]
["D2","Reincidência de \"A\" sobre aviso prévio",{"$nulls":4},{"$f":"ROUND(F46*'FSUP-I EQUIPE TÉCNICA'!L$37,2)","v":0}]
["SUBTOTAL DE \"D\"",{"$nulls":4},{"$f":"SUM(F45:F46)","v":0},{"$f":"ROUND(SUM(G45:G46),2)","v":0}]
[]
["TOTAIS DE ENCARGOS SOCIAIS",{"$nulls":4},{"$f":"ROUND(F21+F34+F42+F47,4)","v":0},{"$f":"ROUND(G21+G34+G42+G47,2)","v":0}]
["NOME DO INFORMANTE:",null,null,"QUALIFICAÇÃO:"]
[]
["ASSINATURA:",{"$nulls":4},"DATA:"]
[]
["Observação:"]
["1 - DISCRIMINAR OS ENCARGOS SOCIAIS COM SEUS RESPECTIVOS PERCENTUAS TOTALIZANDO OS MESMOS. "]
["2 - O % TOTAL SERÁ APLICADO PARA CÁLCULAR OS E. SOCIAIS INCIDENTES NA MÃO-DE-OBRA COM VÍNCULO, LINHA \"B1\" DO FSUP"]