{"text_format":"2","workbook":"xlsx","n_sheets":19,"sheets":["C.C.U","DADOS DE ENTRADA","ORÇ. GERAL","SERV. GER. E ADMIN LOCAL","ADUTOR LESTE","DIQUE ITIÚBA","P12 E TRIBUTÁRIOS","CANAIS BOACICA","CRONOGRAMA","M. CÁL. ADUTOR LESTE","M, CÁL. DIQUE ITIUBA","M. CÁL. P12 E TRIB.","M. CÁL. CANAIS BOACICA","BD_Mobilização e Serv. iniciais","Aux. Manut Canteiro","CCU VEÍCULO","BDI SERVIÇOS","BDI FORNECIMENTO","Plan1"],"not_rendered":{"charts":0,"images":3,"macros":0,"external_links":0,"defined_names":157,"comments":2,"pivot_tables":0},"unopened":[],"bounds":{"document_bytes":16777216,"sheet_cells":100000,"run_cost":"one","rows_first":2000,"rows_last":500,"rows_between":2000,"halvings":0,"cell_chars":16384,"cell_head_chars":4096},"cells_cut":0,"cells_raw":0,"read":"whole","date_system":"1900"}

{"sheet":"C.C.U","index":0,"n_rows":4127,"n_cols":15,"rows_kept":4127,"cut":false,"hidden":false,"merged":[[195,10,195,11],[201,2,201,6],[206,2,206,6],[212,2,212,6],[217,2,217,6],[221,3,221,4],[223,3,223,6],[196,10,196,11],[4061,10,4061,11],[4061,2,4061,9],[4063,2,4063,6],[4063,7,4063,9],[4063,10,4063,11],[4064,2,4064,6],[4064,8,4064,9],[4066,2,4066,6],[3909,10,3909,11],[4027,10,4028,11],[4028,2,4028,9],[4030,2,4030,6],[4030,7,4030,9],[4030,10,4030,11],[4031,2,4031,6],[4031,8,4031,9],[4033,2,4033,6],[3970,8,3970,9],[3972,2,3972,6],[3912,2,3912,6],[3916,2,3916,6],[3921,2,3921,6],[3976,2,3976,6],[3981,2,3981,6],[4071,2,4071,6],[4076,2,4076,6],[4084,2,4084,6],[4089,3,4089,4],[4091,3,4091,6],[534,10,535,11],[535,2,535,9],[537,2,537,6],[537,7,537,9],[537,10,537,11],[538,2,538,6],[538,8,538,9],[545,2,545,6],[550,2,550,6],[556,2,556,6],[561,3,561,4],[563,3,563,6],[4043,2,4043,6],[4051,2,4051,6],[4057,3,4057,4],[4059,3,4059,6],[4000,2,4000,6],[4000,8,4000,9],[4002,2,4002,6],[4006,2,4006,6],[3964,3,3964,6],[3966,10,3967,11],[3967,2,3967,9],[3969,2,3969,6],[3907,2,3907,9],[3909,2,3909,6],[3909,7,3909,9],[3986,2,3986,6],[4038,2,4038,6],[3996,10,3997,11],[3997,2,3997,9],[3999,2,3999,6],[3999,7,3999,9],[3999,10,3999,11],[3910,2,3910,6],[3910,8,3910,9],[4011,2,4011,6],[3852,2,3852,6],[3852,8,3852,9],[3854,2,3854,6],[3859,2,3859,6],[3864,2,3864,6],[3868,2,3868,6],[3873,3,3873,4],[3875,3,3875,6],[3877,10,3878,11],[3878,2,3878,9],[3880,2,3880,6],[3880,7,3880,9],[3880,10,3880,11],[3881,2,3881,6],[3881,8,3881,9],[3883,2,3883,6],[3888,2,3888,6],[3893,2,3893,6],[3897,2,3897,6],[3902,3,3902,4],[3904,3,3904,6],[3906,10,3907,11],[3970,2,3970,6],[3846,3,3846,6],[3851,2,3851,6],[3848,10,3849,11],[3849,2,3849,9],[3851,7,3851,9],[3851,10,3851,11],[3789,2,3789,9],[3791,2,3791,6],[3791,7,3791,9],[3791,10,3791,11],[3792,2,3792,6],[3792,8,3792,9],[3794,2,3794,6],[3799,2,3799,6],[3804,2,3804,6],[3810,2,3810,6],[3815,3,3815,4],[3817,3,3817,6],[3819,10,3820,11],[3820,2,3820,9],[3822,2,3822,6],[3822,7,3822,9],[3822,10,3822,11],[3823,2,3823,6],[3823,8,3823,9],[3825,2,3825,6],[3830,2,3830,6],[3835,2,3835,6],[3759,2,3759,9],[3761,2,3761,6],[3761,7,3761,9],[3761,10,3761,11],[3762,2,3762,6],[3762,8,3762,9],[3764,2,3764,6],[3769,2,3769,6],[4016,2,4016,6],[4023,3,4023,4],[4025,3,4025,6],[3926,2,3926,6],[3932,3,3932,4],[3934,3,3934,6],[3936,10,3937,11],[3937,2,3937,9],[3939,2,3939,6],[3939,7,3939,9],[3939,10,3939,11],[3940,2,3940,6],[3940,8,3940,9],[3942,2,3942,6],[3946,2,3946,6],[3951,2,3951,6],[3956,2,3956,6],[3962,3,3962,4],[3969,7,3969,9],[3969,10,3969,11],[3992,3,3992,4],[3994,3,3994,6],[3839,2,3839,6],[3844,3,3844,4],[3774,2,3774,6],[3779,2,3779,6],[3784,3,3784,4],[3786,3,3786,6],[3788,10,3789,11],[3700,10,3700,11],[3700,2,3700,9],[3702,2,3702,6],[3702,7,3702,9],[3702,10,3702,11],[3703,2,3703,6],[3703,8,3703,9],[3705,2,3705,6],[3710,2,3710,6],[3715,2,3715,6],[3720,2,3720,6],[3725,3,3725,4],[3727,3,3727,6],[3729,10,3729,11],[3729,2,3729,9],[3731,2,3731,6],[3731,7,3731,9],[3731,10,3731,11],[3732,2,3732,6],[3732,8,3732,9],[3734,2,3734,6],[3739,2,3739,6],[3744,2,3744,6],[3749,2,3749,6],[3754,3,3754,4],[3756,3,3756,6],[3758,10,3759,11],[3667,2,3667,6],[3667,8,3667,9],[3669,2,3669,6],[3681,2,3681,6],[3686,2,3686,6],[3691,2,3691,6],[3696,3,3696,4],[3698,3,3698,6],[3351,10,3352,11],[3386,10,3387,11],[3420,10,3421,11],[3454,10,3455,11],[3486,10,3487,11],[3525,10,3526,11],[3561,10,3562,11],[3598,10,3599,11],[3631,10,3632,11],[3663,10,3664,11],[3632,2,3632,9],[3634,2,3634,6],[3634,7,3634,9],[3634,10,3634,11],[3635,2,3635,6],[3635,8,3635,9],[3637,2,3637,6],[3643,2,3643,6],[3648,2,3648,6],[3653,2,3653,6],[3658,3,3658,4],[3660,3,3660,6],[3664,2,3664,9],[3666,2,3666,6],[3666,7,3666,9],[3666,10,3666,11],[3583,2,3583,6],[3588,2,3588,6],[3593,3,3593,4],[3595,3,3595,6],[3599,2,3599,9],[3601,2,3601,6],[3601,7,3601,9],[3601,10,3601,11],[3602,2,3602,6],[3602,8,3602,9],[3604,2,3604,6],[3611,2,3611,6],[3616,2,3616,6],[3621,2,3621,6],[3626,3,3626,4],[3628,3,3628,6],[3529,2,3529,6],[3529,8,3529,9],[3531,2,3531,6],[3541,2,3541,6],[3546,2,3546,6],[3551,2,3551,6],[3556,3,3556,4],[3558,3,3558,6],[3562,2,3562,9],[3564,2,3564,6],[3564,7,3564,9],[3564,10,3564,11],[3565,2,3565,6],[3565,8,3565,9],[3567,2,3567,6],[3578,2,3578,6],[3487,2,3487,9],[3489,2,3489,6],[3489,7,3489,9],[3489,10,3489,11],[3490,2,3490,6],[3490,8,3490,9],[3492,2,3492,6],[3505,2,3505,6],[3510,2,3510,6],[3515,2,3515,6],[3520,3,3520,4],[3522,3,3522,6],[3526,2,3526,9],[3528,2,3528,6],[3528,7,3528,9],[3528,10,3528,11],[3444,2,3444,6],[3449,3,3449,4],[3451,3,3451,6],[3455,2,3455,9],[3457,2,3457,6],[3457,7,3457,9],[3457,10,3457,11],[3458,2,3458,6],[3458,8,3458,9],[3460,2,3460,6],[3466,2,3466,6],[3471,2,3471,6],[3476,2,3476,6],[3481,3,3481,4],[3483,3,3483,6],[3390,2,3390,6],[3390,8,3390,9],[3392,2,3392,6],[3400,2,3400,6],[3405,2,3405,6],[3410,2,3410,6],[3415,3,3415,4],[3417,3,3417,6],[3421,2,3421,9],[3423,2,3423,6],[3423,7,3423,9],[3423,10,3423,11],[3424,2,3424,6],[3424,8,3424,9],[3426,2,3426,6],[3434,2,3434,6],[3371,2,3371,6],[3376,2,3376,6],[3381,3,3381,4],[3383,3,3383,6],[3387,2,3387,9],[3389,2,3389,6],[3389,7,3389,9],[3389,10,3389,11],[3324,2,3324,6],[3324,8,3324,9],[3326,2,3326,6],[3331,2,3331,6],[3336,2,3336,6],[3341,2,3341,6],[3346,3,3346,4],[3348,3,3348,6],[3439,2,3439,6],[3221,2,3221,6],[3221,8,3221,9],[3223,2,3223,6],[3230,2,3230,6],[3235,2,3235,6],[3244,2,3244,6],[3251,3,3251,4],[3253,3,3253,6],[3352,2,3352,9],[3354,2,3354,6],[3354,7,3354,9],[3354,10,3354,11],[3355,2,3355,6],[3355,8,3355,9],[3357,2,3357,6],[3366,2,3366,6],[3289,10,3290,11],[3320,10,3321,11],[3290,2,3290,9],[3292,2,3292,6],[3292,7,3292,9],[3292,10,3292,11],[3293,2,3293,6],[3293,8,3293,9],[3295,2,3295,6],[3300,2,3300,6],[3305,2,3305,6],[3310,2,3310,6],[3315,3,3315,4],[3317,3,3317,6],[3321,2,3321,9],[3323,2,3323,6],[3323,7,3323,9],[3323,10,3323,11],[3258,2,3258,9],[3260,2,3260,6],[3260,7,3260,9],[3260,10,3260,11],[3261,2,3261,6],[3261,8,3261,9],[3263,2,3263,6],[3269,2,3269,6],[3274,2,3274,6],[3279,2,3279,6],[3284,3,3284,4],[3286,3,3286,6],[2866,10,2867,11],[2897,10,2898,11],[2928,10,2929,11],[2959,10,2960,11],[2991,10,2992,11],[3024,10,3025,11],[3056,10,3057,11],[3100,10,3101,11],[3142,10,3143,11],[3178,10,3179,11],[3257,10,3258,11],[3214,3,3214,6],[3179,2,3179,9],[3181,2,3181,6],[3181,7,3181,9],[3181,10,3181,11],[3217,10,3218,11],[3218,2,3218,9],[3220,2,3220,6],[3220,7,3220,9],[3143,2,3143,9],[3145,2,3145,6],[3145,7,3145,9],[3145,10,3145,11],[3146,2,3146,6],[3146,8,3146,9],[3148,2,3148,6],[3156,2,3156,6],[3161,2,3161,6],[3166,2,3166,6],[3171,3,3171,4],[3173,3,3173,6],[3182,2,3182,6],[3182,8,3182,9],[3184,2,3184,6],[3212,3,3212,4],[3205,2,3205,6],[3191,2,3191,6],[3196,2,3196,6],[3220,10,3220,11],[3084,2,3084,6],[3089,2,3089,6],[3095,3,3095,4],[3097,3,3097,6],[3101,2,3101,9],[3103,2,3103,6],[3103,7,3103,9],[3103,10,3103,11],[3104,2,3104,6],[3104,8,3104,9],[3106,2,3106,6],[3111,2,3111,6],[3118,2,3118,6],[3130,2,3130,6],[3137,3,3137,4],[3139,3,3139,6],[3028,2,3028,6],[3028,8,3028,9],[3030,2,3030,6],[3036,2,3036,6],[3041,2,3041,6],[3046,2,3046,6],[3051,3,3051,4],[3053,3,3053,6],[3057,2,3057,9],[3059,2,3059,6],[3059,7,3059,9],[3059,10,3059,11],[3060,2,3060,6],[3060,8,3060,9],[3062,2,3062,6],[3075,2,3075,6],[2992,2,2992,9],[2994,2,2994,6],[2994,7,2994,9],[2994,10,2994,11],[2995,2,2995,6],[2995,8,2995,9],[2997,2,2997,6],[3004,2,3004,6],[3009,2,3009,6],[3014,2,3014,6],[3019,3,3019,4],[3021,3,3021,6],[3025,2,3025,9],[3027,2,3027,6],[3027,7,3027,9],[3027,10,3027,11],[2944,2,2944,6],[2949,2,2949,6],[2954,3,2954,4],[2956,3,2956,6],[2960,2,2960,9],[2962,2,2962,6],[2962,7,2962,9],[2962,10,2962,11],[2963,2,2963,6],[2963,8,2963,9],[2965,2,2965,6],[2971,2,2971,6],[2976,2,2976,6],[2981,2,2981,6],[2986,3,2986,4],[2988,3,2988,6],[2901,2,2901,6],[2901,8,2901,9],[2903,2,2903,6],[2908,2,2908,6],[2913,2,2913,6],[2918,2,2918,6],[2923,3,2923,4],[2925,3,2925,6],[2929,2,2929,9],[2931,2,2931,6],[2931,7,2931,9],[2931,10,2931,11],[2932,2,2932,6],[2932,8,2932,9],[2934,2,2934,6],[2939,2,2939,6],[2867,2,2867,9],[2869,2,2869,6],[2869,7,2869,9],[2869,10,2869,11],[2870,2,2870,6],[2870,8,2870,9],[2872,2,2872,6],[2877,2,2877,6],[2882,2,2882,6],[2887,2,2887,6],[2892,3,2892,4],[2894,3,2894,6],[2898,2,2898,9],[2900,2,2900,6],[2900,7,2900,9],[2900,10,2900,11],[2785,2,2785,6],[2790,2,2790,6],[2795,3,2795,4],[2797,3,2797,6],[2800,2,2800,9],[2802,2,2802,6],[2802,7,2802,9],[2802,10,2802,11],[2770,2,2770,9],[2772,2,2772,6],[2772,7,2772,9],[2772,10,2772,11],[2773,2,2773,6],[2773,8,2773,9],[2775,2,2775,6],[2799,10,2800,11],[2834,10,2835,11],[2780,2,2780,6],[2769,10,2770,11],[2856,2,2856,6],[2861,3,2861,4],[2863,3,2863,6],[2835,2,2835,9],[2837,2,2837,6],[2837,7,2837,9],[2837,10,2837,11],[2838,2,2838,6],[2838,8,2838,9],[2840,2,2840,6],[2845,2,2845,6],[2803,2,2803,6],[2803,8,2803,9],[2805,2,2805,6],[2811,2,2811,6],[2815,2,2815,6],[2820,2,2820,6],[2828,3,2828,4],[2830,3,2830,6],[2849,2,2849,6],[2737,2,2737,6],[2737,8,2737,9],[2739,2,2739,6],[2743,2,2743,6],[2753,2,2753,6],[2758,2,2758,6],[2764,3,2764,4],[2766,3,2766,6],[2718,2,2718,6],[2723,2,2723,6],[2728,3,2728,4],[2730,3,2730,6],[2734,2,2734,9],[2736,2,2736,6],[2736,7,2736,9],[2736,10,2736,11],[2733,10,2734,11],[2697,2,2697,9],[2699,2,2699,6],[2699,7,2699,9],[2699,10,2699,11],[2700,2,2700,6],[2700,8,2700,9],[2702,2,2702,6],[2707,2,2707,6],[2669,2,2669,6],[2669,8,2669,9],[2671,2,2671,6],[2676,2,2676,6],[2681,2,2681,6],[2686,2,2686,6],[2691,3,2691,4],[2693,3,2693,6],[2650,2,2650,6],[2655,2,2655,6],[2660,3,2660,4],[2662,3,2662,6],[2666,2,2666,9],[2668,2,2668,6],[2668,7,2668,9],[2668,10,2668,11],[2665,10,2666,11],[2696,10,2697,11],[2635,2,2635,9],[2637,2,2637,6],[2637,7,2637,9],[2637,10,2637,11],[2638,2,2638,6],[2638,8,2638,9],[2640,2,2640,6],[2645,2,2645,6],[2607,2,2607,6],[2607,8,2607,9],[2609,2,2609,6],[2614,2,2614,6],[2619,2,2619,6],[2624,2,2624,6],[2629,3,2629,4],[2631,3,2631,6],[2588,2,2588,6],[2593,2,2593,6],[2598,3,2598,4],[2600,3,2600,6],[2604,2,2604,9],[2606,2,2606,6],[2606,7,2606,9],[2606,10,2606,11],[2603,10,2604,11],[2634,10,2635,11],[2573,2,2573,9],[2575,2,2575,6],[2575,7,2575,9],[2575,10,2575,11],[2576,2,2576,6],[2576,8,2576,9],[2578,2,2578,6],[2583,2,2583,6],[2546,2,2546,6],[2546,8,2546,9],[2548,2,2548,6],[2552,2,2552,6],[2557,2,2557,6],[2562,2,2562,6],[2567,3,2567,4],[2569,3,2569,6],[2527,2,2527,6],[2532,2,2532,6],[2537,3,2537,4],[2539,3,2539,6],[2543,2,2543,9],[2545,2,2545,6],[2545,7,2545,9],[2545,10,2545,11],[2542,10,2543,11],[2572,10,2573,11],[2513,2,2513,9],[2515,2,2515,6],[2515,7,2515,9],[2515,10,2515,11],[2516,2,2516,6],[2516,8,2516,9],[2518,2,2518,6],[2522,2,2522,6],[2483,2,2483,6],[2483,8,2483,9],[2485,2,2485,6],[2490,2,2490,6],[2495,2,2495,6],[2501,2,2501,6],[2507,3,2507,4],[2509,3,2509,6],[2469,2,2469,6],[2474,3,2474,4],[2476,3,2476,6],[2480,2,2480,9],[2482,2,2482,6],[2482,7,2482,9],[2482,10,2482,11],[2479,10,2480,11],[2512,10,2513,11],[2452,2,2452,6],[2452,7,2452,9],[2452,10,2452,11],[2453,2,2453,6],[2453,8,2453,9],[2455,2,2455,6],[2459,2,2459,6],[2464,2,2464,6],[2421,2,2421,6],[2421,8,2421,9],[2423,2,2423,6],[2428,2,2428,6],[2433,2,2433,6],[2438,2,2438,6],[2444,3,2444,4],[2446,3,2446,6],[2450,2,2450,9],[2449,10,2450,11],[2390,2,2390,6],[2395,2,2395,6],[2400,2,2400,6],[2406,2,2406,6],[2412,3,2412,4],[2414,3,2414,6],[2418,2,2418,9],[2420,2,2420,6],[2420,7,2420,9],[2420,10,2420,11],[2373,2,2373,6],[2379,3,2379,4],[2381,3,2381,6],[2385,2,2385,9],[2387,2,2387,6],[2387,7,2387,9],[2387,10,2387,11],[2388,2,2388,6],[2388,8,2388,9],[2384,10,2385,11],[2417,10,2418,11],[2354,2,2354,6],[2354,7,2354,9],[2354,10,2354,11],[2355,2,2355,6],[2355,8,2355,9],[2357,2,2357,6],[2362,2,2362,6],[2367,2,2367,6],[2322,2,2322,6],[2322,8,2322,9],[2324,2,2324,6],[2329,2,2329,6],[2334,2,2334,6],[2340,2,2340,6],[2346,3,2346,4],[2348,3,2348,6],[2352,2,2352,9],[2351,10,2352,11],[2293,2,2293,6],[2298,2,2298,6],[2303,2,2303,6],[2308,2,2308,6],[2313,3,2313,4],[2315,3,2315,6],[2319,2,2319,9],[2321,2,2321,6],[2321,7,2321,9],[2321,10,2321,11],[2277,2,2277,6],[2282,3,2282,4],[2284,3,2284,6],[2288,2,2288,9],[2290,2,2290,6],[2290,7,2290,9],[2290,10,2290,11],[2291,2,2291,6],[2291,8,2291,9],[2287,10,2288,11],[2318,10,2319,11],[2259,2,2259,6],[2259,7,2259,9],[2259,10,2259,11],[2260,2,2260,6],[2260,8,2260,9],[2262,2,2262,6],[2267,2,2267,6],[2272,2,2272,6],[2229,2,2229,6],[2229,8,2229,9],[2231,2,2231,6],[2236,2,2236,6],[2241,2,2241,6],[2246,2,2246,6],[2251,3,2251,4],[2253,3,2253,6],[2257,2,2257,9],[2256,10,2257,11],[2200,2,2200,6],[2205,2,2205,6],[2210,2,2210,6],[2215,2,2215,6],[2220,3,2220,4],[2222,3,2222,6],[2226,2,2226,9],[2228,2,2228,6],[2228,7,2228,9],[2228,10,2228,11],[2184,2,2184,6],[2189,3,2189,4],[2191,3,2191,6],[2195,2,2195,9],[2197,2,2197,6],[2197,7,2197,9],[2197,10,2197,11],[2198,2,2198,6],[2198,8,2198,9],[2194,10,2195,11],[2225,10,2226,11],[2166,2,2166,6],[2166,7,2166,9],[2166,10,2166,11],[2167,2,2167,6],[2167,8,2167,9],[2169,2,2169,6],[2174,2,2174,6],[2179,2,2179,6],[2136,2,2136,6],[2136,8,2136,9],[2138,2,2138,6],[2143,2,2143,6],[2148,2,2148,6],[2153,2,2153,6],[2158,3,2158,4],[2160,3,2160,6],[2164,2,2164,9],[2163,10,2164,11],[2107,2,2107,6],[2112,2,2112,6],[2117,2,2117,6],[2122,2,2122,6],[2127,3,2127,4],[2129,3,2129,6],[2133,2,2133,9],[2135,2,2135,6],[2135,7,2135,9],[2135,10,2135,11],[2091,2,2091,6],[2096,3,2096,4],[2098,3,2098,6],[2102,2,2102,9],[2104,2,2104,6],[2104,7,2104,9],[2104,10,2104,11],[2105,2,2105,6],[2105,8,2105,9],[2101,10,2102,11],[2132,10,2133,11],[2073,2,2073,6],[2073,7,2073,9],[2073,10,2073,11],[2074,2,2074,6],[2074,8,2074,9],[2076,2,2076,6],[2081,2,2081,6],[2086,2,2086,6],[2042,2,2042,6],[2042,8,2042,9],[2044,2,2044,6],[2050,2,2050,6],[2055,2,2055,6],[2060,2,2060,6],[2065,3,2065,4],[2067,3,2067,6],[2071,2,2071,9],[2070,10,2071,11],[2012,2,2012,6],[2018,2,2018,6],[2023,2,2023,6],[2028,2,2028,6],[2033,3,2033,4],[2035,3,2035,6],[2039,2,2039,9],[2041,2,2041,6],[2041,7,2041,9],[2041,10,2041,11],[1996,2,1996,6],[2001,3,2001,4],[2003,3,2003,6],[2007,2,2007,9],[2009,2,2009,6],[2009,7,2009,9],[2009,10,2009,11],[2010,2,2010,6],[2010,8,2010,9],[2006,10,2007,11],[2038,10,2039,11],[1977,2,1977,6],[1977,7,1977,9],[1977,10,1977,11],[1978,2,1978,6],[1978,8,1978,9],[1980,2,1980,6],[1986,2,1986,6],[1991,2,1991,6],[1947,2,1947,6],[1947,8,1947,9],[1949,2,1949,6],[1954,2,1954,6],[1959,2,1959,6],[1964,2,1964,6],[1969,3,1969,4],[1971,3,1971,6],[1975,2,1975,9],[1974,10,1975,11],[1917,2,1917,6],[1923,2,1923,6],[1928,2,1928,6],[1933,2,1933,6],[1938,3,1938,4],[1940,3,1940,6],[1944,2,1944,9],[1946,2,1946,6],[1946,7,1946,9],[1946,10,1946,11],[1901,2,1901,6],[1906,3,1906,4],[1908,3,1908,6],[1912,2,1912,9],[1914,2,1914,6],[1914,7,1914,9],[1914,10,1914,11],[1915,2,1915,6],[1915,8,1915,9],[1911,10,1912,11],[1943,10,1944,11],[1883,2,1883,6],[1883,7,1883,9],[1883,10,1883,11],[1884,2,1884,6],[1884,8,1884,9],[1886,2,1886,6],[1891,2,1891,6],[1896,2,1896,6],[1853,2,1853,6],[1853,8,1853,9],[1855,2,1855,6],[1860,2,1860,6],[1865,2,1865,6],[1870,2,1870,6],[1875,3,1875,4],[1877,3,1877,6],[1881,2,1881,9],[1880,10,1881,11],[1824,2,1824,6],[1829,2,1829,6],[1834,2,1834,6],[1839,2,1839,6],[1844,3,1844,4],[1846,3,1846,6],[1850,2,1850,9],[1852,2,1852,6],[1852,7,1852,9],[1852,10,1852,11],[1808,2,1808,6],[1813,3,1813,4],[1815,3,1815,6],[1819,2,1819,9],[1821,2,1821,6],[1821,7,1821,9],[1821,10,1821,11],[1822,2,1822,6],[1822,8,1822,9],[1818,10,1819,11],[1849,10,1850,11],[1790,2,1790,6],[1790,7,1790,9],[1790,10,1790,11],[1791,2,1791,6],[1791,8,1791,9],[1793,2,1793,6],[1798,2,1798,6],[1803,2,1803,6],[1760,2,1760,6],[1760,8,1760,9],[1762,2,1762,6],[1767,2,1767,6],[1772,2,1772,6],[1777,2,1777,6],[1782,3,1782,4],[1784,3,1784,6],[1788,2,1788,9],[1787,10,1788,11],[1731,2,1731,6],[1736,2,1736,6],[1741,2,1741,6],[1746,2,1746,6],[1751,3,1751,4],[1753,3,1753,6],[1757,2,1757,9],[1759,2,1759,6],[1759,7,1759,9],[1759,10,1759,11],[1715,2,1715,6],[1720,3,1720,4],[1722,3,1722,6],[1726,2,1726,9],[1728,2,1728,6],[1728,7,1728,9],[1728,10,1728,11],[1729,2,1729,6],[1729,8,1729,9],[1725,10,1726,11],[1756,10,1757,11],[1697,2,1697,6],[1697,7,1697,9],[1697,10,1697,11],[1698,2,1698,6],[1698,8,1698,9],[1700,2,1700,6],[1705,2,1705,6],[1710,2,1710,6],[1667,2,1667,6],[1667,8,1667,9],[1669,2,1669,6],[1674,2,1674,6],[1679,2,1679,6],[1684,2,1684,6],[1689,3,1689,4],[1691,3,1691,6],[1695,2,1695,9],[1694,10,1695,11],[1643,2,1643,6],[1648,2,1648,6],[1653,2,1653,6],[1658,3,1658,4],[1660,3,1660,6],[1664,2,1664,9],[1666,2,1666,6],[1666,7,1666,9],[1666,10,1666,11],[1619,2,1619,6]],"merged_total":1677,"flags":["merged_cut"]}
[null,null,"DADOS E INFORMAÇÕES COMUM A TODAS AS COMPOSIÇÕES ANALÍTICAS:"]
[]
[null,null,{"$f":"'ORÇ. GERAL'!B4","v":"EXECUÇÃO DE OBRAS E SERVIÇOS DE RECUPERAÇÃO PARCIAL DO DIQUE DE PROTEÇÃO E RECUPERAÇÃO DOS CANAIS DE IRRIGAÇÃO DO PERÍMETRO IRRIGADO DO ITIÚBA (canal adutor leste, P12, S1P12 e S2P12) E DOS CANAIS DE IRRIGAÇÃO (CLI e CLII) DO PERÍMETRO IRRIGADO DO BOACICA."},null,null,null,"BDI SERVIÇOS (%) = ",null,{"$f":"'BDI SERVIÇOS'!E32","v":0.2101044698987744}]
[null,null,"CODEVASF",null,null,null,"BDI FORNEC. (%)=",null,{"$f":"'BDI FORNECIMENTO'!E27","v":0.13267606746237659}]
[null,null,"SINAPI:Abril/2020 (Alagoas/AL) - NÃO DESONERADO"]
[null,null,"DATA: ANO 2020"]
[null,null,"DISCRIMINAÇÃO","SINAPI/ORSE\n/DNIT/COTAÇÃO","UNID",null,"R$ / UNID \n  ( S/ BDI)","PROD",null,"R$ / UNID \n ( C/ BDI)"]
[]
[null,null,{"$f":"C13","v":"SERVIÇO: LIMPEZA MANUAL DE VEGETAÇÃO EM TERRENO COM ENXADA."},{"$f":"I13","v":"CAC-001"},{"$f":"L13","v":"M2"},"C. Unit. =",{"$f":"L35","v":2.2799999999999998},null,"P. Unit.=",{"$f":"L38","v":2.7590381913692053},{"$f":"$C$5","v":"SINAPI:Abril/2020 (Alagoas/AL) - NÃO DESONERADO"}]
[null,null," COMPOSIÇÃO ANALÍTICA DE CUSTO"]
[]
[null,null,{"$f":"$C$3","v":"EXECUÇÃO DE OBRAS E SERVIÇOS DE RECUPERAÇÃO PARCIAL DO DIQUE DE PROTEÇÃO E RECUPERAÇÃO DOS CANAIS DE IRRIGAÇÃO DO PERÍMETRO IRRIGADO DO ITIÚBA (canal adutor leste, P12, S1P12 e S2P12) E DOS CANAIS DE IRRIGAÇÃO (CLI e CLII) DO PERÍMETRO IRRIGADO DO BOACICA."},{"$nulls":4},{"$f":"$C$4","v":"CODEVASF"},null,null,{"$f":"$C$6","v":"DATA: ANO 2020"}]
[null,null,"SERVIÇO: LIMPEZA MANUAL DE VEGETAÇÃO EM TERRENO COM ENXADA.",{"$nulls":4},"COD: ","CAC-001",null,"UNIDADE: ","M2"]
[]
[null,null,"SERVIÇOS - COMPOSIÇÕES AUXILIARES ............................................................................................................................................................................",{"$nulls":7},"SUB-TOTAL (1) = ",{"$f":"SUM(L17:L18)","v":2.2799999999999998}]
[null,null,"DISCRIMINAÇÃO","SINAPI","UNID",null,"QTDE","PROD","IMPROD","P.UNIT. PROD","P.UNIT. IMPR","P.TOTAL"]
[null,null,"LIMPEZA MANUAL DE VEGETAÇÃO EM TERRENO COM ENXADA.AF_05/2018",98524,"M2",null,1,null,null,2.2799999999999998,null,{"$f":"G17*J17","v":2.2799999999999998}]
[{"$nulls":11},{"$f":"G18*J18","v":0}]
[]
[null,null,"EQUIPAMENTO .............................................................................................................................................................................................................................",{"$nulls":7},"SUB-TOTAL (2) = ",{"$f":"SUM(L22:L23)","v":0}]
[null,null,"DISCRIMINAÇÃO","SINAPI","UNID",null,"QTDE","PROD","IMPROD","P.UNIT. PROD","P.UNIT. IMPR","P.TOTAL"]
[{"$nulls":11},{"$f":"G22*J22","v":0}]
[{"$nulls":11},{"$f":"G23*J23","v":0}]
[]
[null,null,"MATERIAL ........................................................................................................................................................................................................................................",{"$nulls":7},"SUB-TOTAL (3) = ",{"$f":"SUM(L27:L28)","v":0}]
[null,null,"DISCRIMINAÇÃO","SINAPI","UNID",null,"QTDE","PROD","IMPROD","P.UNIT. PROD","P.UNIT. IMPR","P.TOTAL"]
[{"$nulls":11},{"$f":"G27*J27","v":0}]
[{"$nulls":11},{"$f":"G28*J28","v":0}]
[]
[null,null,"MÃO DE OBRA .................................................................................................................................................................................................................................",{"$nulls":7},"SUB-TOTAL (4) = ",{"$f":"SUM(L32:L33)","v":0}]
[null,null,"DISCRIMINAÇÃO","SINAPI","UNID",null,"QTDE","PROD","IMPROD","P.UNIT. PROD","P.UNIT. IMPR","P.TOTAL"]
[{"$nulls":11},{"$f":"G32*J32","v":0}]
[{"$nulls":11},{"$f":"G33*J33","v":0}]
[]
[null,null,"OBSERVAÇÕES:","PROD DA EQUIPE =",null,null,1,null,null,null,"CUSTO (SUB-TOTAL 1 + 2 + 3 + 4) = ",{"$f":"L30+L25+L15+L20","v":2.2799999999999998}]
[null,null,null,"RESP. TÉCNICO:",{"$nulls":6},"TOTAL - R$ = ",{"$f":"L35/G35","v":2.2799999999999998}]
[{"$nulls":10},"BDI (%) = ",{"$f":"$I$3","v":0.2101044698987744}]
[{"$nulls":10},"TOTAL DO SERVIÇO - R$ = ",{"$f":"L36*L37+L36","v":2.7590381913692053}]
[]
[null,null,{"$f":"C44","v":"SERVIÇO: LOCACAO E NIVELAMENTO DE REDE DE CANAIS COLETORES DE IRRIGAÇÃOCOM AUXILIO DE EQUIPAMENTO TOPOGRAFICO"},{"$f":"I44","v":"CAC-002"},{"$f":"L44","v":"M"},"C. Unit. =",{"$f":"L66","v":2.0052599999999998},null,"P. Unit.=",{"$f":"L68","v":2.426574089309216},{"$f":"$C$5","v":"SINAPI:Abril/2020 (Alagoas/AL) - NÃO DESONERADO"}]
[null,null," COMPOSIÇÃO ANALÍTICA DE CUSTO"]
[]
[null,null,{"$f":"$C$3","v":"EXECUÇÃO DE OBRAS E SERVIÇOS DE RECUPERAÇÃO PARCIAL DO DIQUE DE PROTEÇÃO E RECUPERAÇÃO DOS CANAIS DE IRRIGAÇÃO DO PERÍMETRO IRRIGADO DO ITIÚBA (canal adutor leste, P12, S1P12 e S2P12) E DOS CANAIS DE IRRIGAÇÃO (CLI e CLII) DO PERÍMETRO IRRIGADO DO BOACICA."},{"$nulls":4},{"$f":"$C$4","v":"CODEVASF"},null,null,{"$f":"$C$6","v":"DATA: ANO 2020"}]
[null,null,"SERVIÇO: LOCACAO E NIVELAMENTO DE REDE DE CANAIS COLETORES DE IRRIGAÇÃOCOM AUXILIO DE EQUIPAMENTO TOPOGRAFICO",{"$nulls":4},"COD: ","CAC-002",null,"UNIDADE: ","M"]
[]
[null,null,"SERVIÇOS - COMPOSIÇÕES AUXILIARES ............................................................................................................................................................................",{"$nulls":7},"SUB-TOTAL (1) = ",{"$f":"SUM(L48:L49)","v":0}]
[null,null,"DISCRIMINAÇÃO","SINAPI","UNID",null,"QTDE","PROD","IMPROD","P.UNIT. PROD","P.UNIT. IMPR","P.TOTAL"]
[{"$nulls":11},{"$f":"G48*J48","v":0}]
[{"$nulls":11},{"$f":"G49*J49","v":0}]
[]
[null,null,"EQUIPAMENTO .............................................................................................................................................................................................................................",{"$nulls":7},"SUB-TOTAL (2) = ",{"$f":"SUM(L53:L54)","v":0.27239999999999998}]
[null,null,"DISCRIMINAÇÃO","SINAPI","UNID",null,"QTDE","PROD","IMPROD","P.UNIT. PROD","P.UNIT. IMPR","P.TOTAL"]
[null,null,"LOCACAO DE TEODOLITO ELETRONICO, PRECISAO ANGULAR DE 5 A 7 SEGUNDOS, INCLUINDO TRIPE",7247,"H",null,0.12,null,null,2.27,null,{"$f":"G53*J53","v":0.27239999999999998}]
[{"$nulls":11},{"$f":"G54*J54","v":0}]
[]
[null,null,"MATERIAL ........................................................................................................................................................................................................................................",{"$nulls":7},"SUB-TOTAL (3) = ",{"$f":"SUM(L58:L58)","v":0.68600000000000005}]
[null,null,"DISCRIMINAÇÃO","SINAPI","UNID",null,"QTDE","PROD","IMPROD","P.UNIT. PROD","P.UNIT. IMPR","P.TOTAL"]
[null,null,"SARRAFO DE MADEIRA NAO APARELHADA *2,5 X 7,5* CM (1 X 3 \") PINUS, MISTA OU EQUIVALENTE DA REGIAO",20206,"M",null,0.1,null,null,6.86,null,{"$f":"G58*J58","v":0.68600000000000005}]
[]
[null,null,"MÃO DE OBRA .................................................................................................................................................................................................................................",{"$nulls":7},"SUB-TOTAL (4) = ",{"$f":"SUM(L62:L63)","v":1.0468600000000001}]
[null,null,"DISCRIMINAÇÃO","SINAPI","UNID",null,"QTDE","PROD","IMPROD","P.UNIT. PROD","P.UNIT. IMPR","P.TOTAL"]
[null,null,"AUXILIAR DE TOPÓGRAFO COM ENCARGOS COMPLEMENTARES",88253,"H",null,3.4000000000000002E-2,null,null,14.84,null,{"$f":"G62*J62","v":0.50456000000000001}]
[null,null,"TOPOGRAFO COM ENCARGOS COMPLEMENTARES",90781,"H",null,1.7000000000000001E-2,null,null,31.9,null,{"$f":"G63*J63","v":0.5423}]
[]
[null,null,"OBSERVAÇÕES:","PROD DA EQUIPE =",null,null,1,null,null,null,"CUSTO (SUB-TOTAL 1 + 2 + 3 + 4) = ",{"$f":"L60+L56+L46+L51","v":2.0052599999999998}]
[null,null,null,"RESP. TÉCNICO:",{"$nulls":6},"TOTAL - R$ = ",{"$f":"L65/G65","v":2.0052599999999998}]
[{"$nulls":10},"BDI (%) = ",{"$f":"$I$3","v":0.2101044698987744}]
[{"$nulls":10},"TOTAL DO SERVIÇO - R$ = ",{"$f":"L66*L67+L66","v":2.426574089309216}]
[]
[null,null,{"$f":"C74","v":"SERVIÇO: DEMOLIÇÃO DE PLACAS DE CONCRETO (MECANICAMENTE)"},{"$f":"I74","v":"CAC-003"},{"$f":"L74","v":"M3"},"C. Unit. =",{"$f":"L97","v":42.268500000000003},null,"P. Unit.=",{"$f":"L99","v":51.149300785916353},{"$f":"$C$5","v":"SINAPI:Abril/2020 (Alagoas/AL) - NÃO DESONERADO"}]
[null,null," COMPOSIÇÃO ANALÍTICA DE CUSTO"]
[]
[null,null,{"$f":"$C$3","v":"EXECUÇÃO DE OBRAS E SERVIÇOS DE RECUPERAÇÃO PARCIAL DO DIQUE DE PROTEÇÃO E RECUPERAÇÃO DOS CANAIS DE IRRIGAÇÃO DO PERÍMETRO IRRIGADO DO ITIÚBA (canal adutor leste, P12, S1P12 e S2P12) E DOS CANAIS DE IRRIGAÇÃO (CLI e CLII) DO PERÍMETRO IRRIGADO DO BOACICA."},{"$nulls":4},{"$f":"$C$4","v":"CODEVASF"},null,null,{"$f":"$C$6","v":"DATA: ANO 2020"}]
[null,null,"SERVIÇO: DEMOLIÇÃO DE PLACAS DE CONCRETO (MECANICAMENTE)",{"$nulls":4},"COD: ","CAC-003",null,"UNIDADE: ","M3"]
[]
[null,null,"SERVIÇOS - COMPOSIÇÕES AUXILIARES ............................................................................................................................................................................",{"$nulls":7},"SUB-TOTAL (1) = ",{"$f":"SUM(L78:L79)","v":0}]
[null,null,"DISCRIMINAÇÃO","ORSE","UNID",null,"QTDE","PROD","IMPROD","P.UNIT. PROD","P.UNIT. IMPR","P.TOTAL"]
[]
[{"$nulls":11},{"$f":"G79*J79","v":0}]
[]
[null,null,"EQUIPAMENTO .............................................................................................................................................................................................................................",{"$nulls":7},"SUB-TOTAL (2) = ",{"$f":"SUM(L83:L84)","v":42.268500000000003}]
[null,null,"DISCRIMINAÇÃO","SINAPI","UNID",null,"QTDE","PROD","IMPROD","P.UNIT. PROD","P.UNIT. IMPR","P.TOTAL"]
[null,null,"RETROESCAVADEIRA SOBRE RODAS COM CARREGADEIRA, TRAÇÃO 4X2, POTÊNCIA LÍQ. 79 HP, CAÇAMBA CARREG. CAP. MÍN. 1 M3, CAÇAMBA RETRO CAP. 0,20 M3,PESO OPERACIONAL MÍN. 6.570 KG, PROFUNDIDADE ESCAVAÇÃO MÁX. 4,37 M - CHP DIURNO. AF_06/2014",5680,"CHP",null,0.45,null,null,77.34,null,{"$f":"G83*J83","v":34.803000000000004}]
[null,null,"RETROESCAVADEIRA SOBRE RODAS COM CARREGADEIRA, TRAÇÃO 4X2, POTÊNCIA LÍQ. 79 HP, CAÇAMBA CARREG. CAP. MÍN. 1 M3, CAÇAMBA RETRO CAP. 0,20 M3,PESO OPERACIONAL MÍN. 6.570 KG, PROFUNDIDADE ESCAVAÇÃO MÁX. 4,37 M - CHP DIURNO. AF_06/2014",5681,"CHI",null,0.22500000000000001,null,null,null,33.18,{"$f":"G84*K84","v":7.4655000000000005}]
[]
[null,null,"MATERIAL ........................................................................................................................................................................................................................................",{"$nulls":7},"SUB-TOTAL (3) = ",{"$f":"SUM(L88:L89)","v":0}]
[null,null,"DISCRIMINAÇÃO","SINAPI","UNID",null,"QTDE","PROD","IMPROD","P.UNIT. PROD","P.UNIT. IMPR","P.TOTAL"]
[{"$nulls":11},{"$f":"G88*J88","v":0}]
[{"$nulls":11},{"$f":"G89*J89","v":0}]
[]
[null,null,"MÃO DE OBRA .................................................................................................................................................................................................................................",{"$nulls":7},"SUB-TOTAL (4) = ",{"$f":"SUM(L93:L94)","v":0}]
[null,null,"DISCRIMINAÇÃO","SINAPI","UNID",null,"QTDE","PROD","IMPROD","P.UNIT. PROD","P.UNIT. IMPR","P.TOTAL"]
[]
[{"$nulls":11},{"$f":"G94*J94","v":0}]
[]
[null,null,"OBSERVAÇÕES:","PROD DA EQUIPE =",null,null,1,null,null,null,"CUSTO (SUB-TOTAL 1 + 2 + 3 + 4) = ",{"$f":"L91+L86+L76+L81","v":42.268500000000003}]
[null,null,null,"RESP. TÉCNICO:",{"$nulls":6},"TOTAL - R$ = ",{"$f":"L96/G96","v":42.268500000000003}]
[{"$nulls":10},"BDI (%) = ",{"$f":"$I$3","v":0.2101044698987744}]
[{"$nulls":10},"TOTAL DO SERVIÇO - R$ = ",{"$f":"L97*L98+L97","v":51.149300785916353}]
[]
[null,null,{"$f":"C105","v":"SERVIÇO: CARGA, TRANSPORTE ATÉ 1 KM E DESCARGA DE ENTULHO DE CONCRETO ARMADO"},{"$f":"I105","v":"CAC-004"},{"$f":"L105","v":"M3"},null,null,null,"P. Unit.=",{"$f":"L129","v":0},{"$f":"$C$5","v":"SINAPI:Abril/2020 (Alagoas/AL) - NÃO DESONERADO"}]
[null,null," COMPOSIÇÃO ANALÍTICA DE CUSTO"]
[]
[null,null,{"$f":"$C$3","v":"EXECUÇÃO DE OBRAS E SERVIÇOS DE RECUPERAÇÃO PARCIAL DO DIQUE DE PROTEÇÃO E RECUPERAÇÃO DOS CANAIS DE IRRIGAÇÃO DO PERÍMETRO IRRIGADO DO ITIÚBA (canal adutor leste, P12, S1P12 e S2P12) E DOS CANAIS DE IRRIGAÇÃO (CLI e CLII) DO PERÍMETRO IRRIGADO DO BOACICA."},{"$nulls":4},{"$f":"$C$4","v":"CODEVASF"},null,null,{"$f":"$C$6","v":"DATA: ANO 2020"}]
[null,null,"SERVIÇO: CARGA, TRANSPORTE ATÉ 1 KM E DESCARGA DE ENTULHO DE CONCRETO ARMADO",{"$nulls":4},"COD: ","CAC-004",null,"UNIDADE: ","M3"]
[]
[null,null,"SERVIÇOS - COMPOSIÇÕES AUXILIARES ............................................................................................................................................................................",{"$nulls":7},"SUB-TOTAL (1) = ",{"$f":"SUM(L109:L111)","v":0}]
[null,null,"DISCRIMINAÇÃO","SINAPI","UNID",null,"QTDE","PROD","IMPROD","P.UNIT. PROD","P.UNIT. IMPR","P.TOTAL"]
[null,null,"CARGA, MANOBRAS E DESCARGA DE MATERIAIS DIVERSOS, COM CAMINHAO BASCULANTE 6M3 (CARGA E DESCARGA MANUAIS)",72895,"M3",null,0.8,null,null,{"$f":"IFERROR(VLOOKUP(D109,$D$7:$J$8,6,0),0)","v":0},null,{"$f":"G109*J109","v":0}]
[null,null,"CARGA MANUAL DE ENTULHO EM CAMINHAO BASCULANTE 6 M3",72897,"M3",null,0.2,null,null,{"$f":"IFERROR(VLOOKUP(D110,$D$7:$J$8,6,0),0)","v":0},null,{"$f":"G110*J110","v":0}]
[{"$nulls":11},{"$f":"G111*J111","v":0}]
[]
[null,null,"EQUIPAMENTO .............................................................................................................................................................................................................................",{"$nulls":7},"SUB-TOTAL (2) = ",{"$f":"SUM(L115:L116)","v":0}]
[null,null,"DISCRIMINAÇÃO","SINAPI","UNID",null,"QTDE","PROD","IMPROD","P.UNIT. PROD","P.UNIT. IMPR","P.TOTAL"]
[{"$nulls":11},{"$f":"G115*J115","v":0}]
[{"$nulls":11},{"$f":"G116*J116","v":0}]
[]
[null,null,"MATERIAL ........................................................................................................................................................................................................................................",{"$nulls":7},"SUB-TOTAL (3) = ",{"$f":"SUM(L120:L121)","v":0}]
[null,null,"DISCRIMINAÇÃO","SINAPI","UNID",null,"QTDE","PROD","IMPROD","P.UNIT. PROD","P.UNIT. IMPR","P.TOTAL"]
[{"$nulls":11},{"$f":"G120*J120","v":0}]
[{"$nulls":11},{"$f":"G121*J121","v":0}]
[]
[null,null,"MÃO DE OBRA .................................................................................................................................................................................................................................",{"$nulls":7},"SUB-TOTAL (4) = ",{"$f":"SUM(L125:L126)","v":0}]
[null,null,"DISCRIMINAÇÃO","SINAPI","UNID",null,"QTDE","PROD","IMPROD","P.UNIT. PROD","P.UNIT. IMPR","P.TOTAL"]
[{"$nulls":11},{"$f":"G125*J125","v":0}]
[{"$nulls":11},{"$f":"G126*J126","v":0}]
[]
[null,null,"OBSERVAÇÕES:","PROD DA EQUIPE =",null,null,1,null,null,null,"CUSTO (SUB-TOTAL 1 + 2 + 3 + 4) = ",{"$f":"L123+L118+L107+L113","v":0}]
[null,null,null,"RESP. TÉCNICO:",{"$nulls":6},"TOTAL - R$ = ",{"$f":"L128/G128","v":0}]
[{"$nulls":10},"BDI (%) = ",{"$f":"$I$3","v":0.2101044698987744}]
[{"$nulls":10},"TOTAL DO SERVIÇO - R$ = ",{"$f":"L129*L130+L129","v":0}]
[]
[null,null,{"$f":"C137","v":"SERVIÇO: CARGA E DESCARGA MECANIZADAS DE ENTULHO EM CAMINHAO BASCULANTE 6 M3 (C/ RETROESCAVADEIRA)"},{"$f":"I137","v":"CAC-005"},{"$f":"L137","v":"M3"},"C. Unit. =",{"$f":"L160","v":3.0724999999999998},null,"P. Unit.=",{"$f":"L162","v":3.7180459837639841},{"$f":"$C$5","v":"SINAPI:Abril/2020 (Alagoas/AL) - NÃO DESONERADO"}]
[null,null," COMPOSIÇÃO ANALÍTICA DE CUSTO"]
[]
[null,null,{"$f":"$C$3","v":"EXECUÇÃO DE OBRAS E SERVIÇOS DE RECUPERAÇÃO PARCIAL DO DIQUE DE PROTEÇÃO E RECUPERAÇÃO DOS CANAIS DE IRRIGAÇÃO DO PERÍMETRO IRRIGADO DO ITIÚBA (canal adutor leste, P12, S1P12 e S2P12) E DOS CANAIS DE IRRIGAÇÃO (CLI e CLII) DO PERÍMETRO IRRIGADO DO BOACICA."},{"$nulls":4},{"$f":"$C$4","v":"CODEVASF"},null,null,{"$f":"$C$6","v":"DATA: ANO 2020"}]
[null,null,"SERVIÇO: CARGA E DESCARGA MECANIZADAS DE ENTULHO EM CAMINHAO BASCULANTE 6 M3 (C/ RETROESCAVADEIRA)",{"$nulls":4},"COD: ","CAC-005",null,"UNIDADE: ","M3",null,null,"simlar a carga e descarga de entulho COEFICIENTE FDIFERENTES"]
[]
[null,null,"SERVIÇOS - COMPOSIÇÕES AUXILIARES ............................................................................................................................................................................",{"$nulls":7},"SUB-TOTAL (1) = ",{"$f":"SUM(L141:L142)","v":0}]
[null,null,"DISCRIMINAÇÃO","SINAPI","UNID",null,"QTDE","PROD","IMPROD","P.UNIT. PROD","P.UNIT. IMPR","P.TOTAL"]
[{"$nulls":11},{"$f":"G141*J141","v":0}]
[{"$nulls":11},{"$f":"G142*J142","v":0}]
[]
[null,null,"EQUIPAMENTO .............................................................................................................................................................................................................................",{"$nulls":7},"SUB-TOTAL (2) = ",{"$f":"SUM(L146:L147)","v":2.7578999999999998}]
[null,null,"DISCRIMINAÇÃO","SINAPI","UNID",null,"QTDE","PROD","IMPROD","P.UNIT. PROD","P.UNIT. IMPR","P.TOTAL"]
[null,null,"RETROESCAVADEIRA SOBRE RODAS COM CARREGADEIRA, TRAÇÃO 4X2, POTÊNCIA LÍQ. 79 HP, CAÇAMBA CARREG. CAP. MÍN. 1 M3, CAÇAMBA RETRO CAP. 0,20 M3,PESO OPERACIONAL MÍN. 6.570 KG, PROFUNDIDADE ESCAVAÇÃO MÁX. 4,37 M - CHP DIURNO. AF_06/2014",5680,"CHP",null,2.1999999999999999E-2,null,null,77.34,null,{"$f":"G146*J146","v":1.7014799999999999}]
[null,null,"CAMINHÃO BASCULANTE 6 M3, PESO BRUTO TOTAL 16.000 KG, CARGA ÚTIL MÁXIMA 13.071 KG, DISTÂNCIA ENTRE EIXOS 4,80 M, POTÊNCIA 230 CV INCLUSIVE CAÇAMBA METÁLICA - CHP DIURNO. AF_06/2014",5811,"CHP",null,8.9999999999999993E-3,null,null,117.38,null,{"$f":"G147*J147","v":1.0564199999999999}]
[]
[null,null,"MATERIAL ........................................................................................................................................................................................................................................",{"$nulls":7},"SUB-TOTAL (3) = ",{"$f":"SUM(L151:L152)","v":0}]
[null,null,"DISCRIMINAÇÃO","SINAPI","UNID",null,"QTDE","PROD","IMPROD","P.UNIT. PROD","P.UNIT. IMPR","P.TOTAL"]
[{"$nulls":11},{"$f":"G151*J151","v":0}]
[{"$nulls":11},{"$f":"G152*J152","v":0}]
[]
[null,null,"MÃO DE OBRA .................................................................................................................................................................................................................................",{"$nulls":7},"SUB-TOTAL (4) = ",{"$f":"SUM(L156:L157)","v":0.31459999999999999}]
[null,null,"DISCRIMINAÇÃO","SINAPI","UNID",null,"QTDE","PROD","IMPROD","P.UNIT. PROD","P.UNIT. IMPR","P.TOTAL"]
[null,null,"SERVENTE COM ENCARGOS COMPLEMENTARES",88316,null,null,2.1999999999999999E-2,null,null,14.3,null,{"$f":"G156*J156","v":0.31459999999999999}]
[]
[]
[null,null,"OBSERVAÇÕES:","PROD DA EQUIPE =",null,null,1,null,null,null,"CUSTO (SUB-TOTAL 1 + 2 + 3 + 4) = ",{"$f":"L154+L149+L139+L144","v":3.0724999999999998}]
[null,null,null,"RESP. TÉCNICO:",{"$nulls":6},"TOTAL - R$ = ",{"$f":"L159/G159","v":3.0724999999999998}]
[{"$nulls":10},"BDI (%) = ",{"$f":"$I$3","v":0.2101044698987744}]
[{"$nulls":10},"TOTAL DO SERVIÇO - R$ = ",{"$f":"L160*L161+L160","v":3.7180459837639841}]
[]
[null,null,{"$f":"C168","v":"SERVIÇO: CARGA, TRANSPORTE ATÉ 1 KM E DESCARGA DE ENTULHO DE CONCRETO SIMPLES"},{"$f":"I168","v":"CAC-006"},{"$f":"L168","v":"M3"},null,null,null,"P. Unit.=",{"$f":"L192","v":0},{"$f":"$C$5","v":"SINAPI:Abril/2020 (Alagoas/AL) - NÃO DESONERADO"}]
[null,null," COMPOSIÇÃO ANALÍTICA DE CUSTO"]
[]
[null,null,{"$f":"$C$3","v":"EXECUÇÃO DE OBRAS E SERVIÇOS DE RECUPERAÇÃO PARCIAL DO DIQUE DE PROTEÇÃO E RECUPERAÇÃO DOS CANAIS DE IRRIGAÇÃO DO PERÍMETRO IRRIGADO DO ITIÚBA (canal adutor leste, P12, S1P12 e S2P12) E DOS CANAIS DE IRRIGAÇÃO (CLI e CLII) DO PERÍMETRO IRRIGADO DO BOACICA."},{"$nulls":4},{"$f":"$C$4","v":"CODEVASF"},null,null,{"$f":"$C$6","v":"DATA: ANO 2020"}]
[null,null,"SERVIÇO: CARGA, TRANSPORTE ATÉ 1 KM E DESCARGA DE ENTULHO DE CONCRETO SIMPLES",{"$nulls":4},"COD: ","CAC-006",null,"UNIDADE: ","M3"]
[]
[null,null,"SERVIÇOS - COMPOSIÇÕES AUXILIARES ............................................................................................................................................................................",{"$nulls":7},"SUB-TOTAL (1) = ",{"$f":"SUM(L172:L174)","v":0}]
[null,null,"DISCRIMINAÇÃO","SINAPI","UNID",null,"QTDE","PROD","IMPROD","P.UNIT. PROD","P.UNIT. IMPR","P.TOTAL"]
[null,null,"CARGA, MANOBRAS E DESCARGA DE MATERIAIS DIVERSOS, COM CAMINHAO BASCULANTE 6M3 (CARGA E DESCARGA MANUAIS)",72895,"M3",null,0.8,null,null,{"$f":"IFERROR(VLOOKUP(D172,$D$7:$J$8,6,0),0)","v":0},null,{"$f":"G172*J172","v":0}]
[null,null,"CARGA MANUAL DE ENTULHO EM CAMINHAO BASCULANTE 6 M3",72897,"M3",null,0.2,null,null,{"$f":"IFERROR(VLOOKUP(D173,$D$7:$J$8,6,0),0)","v":0},null,{"$f":"G173*J173","v":0}]
[{"$nulls":11},{"$f":"G174*J174","v":0}]
[]
[null,null,"EQUIPAMENTO .............................................................................................................................................................................................................................",{"$nulls":7},"SUB-TOTAL (2) = ",{"$f":"SUM(L178:L179)","v":0}]
[null,null,"DISCRIMINAÇÃO","SINAPI","UNID",null,"QTDE","PROD","IMPROD","P.UNIT. PROD","P.UNIT. IMPR","P.TOTAL"]
[{"$nulls":11},{"$f":"G178*J178","v":0}]
[{"$nulls":11},{"$f":"G179*J179","v":0}]
[]
[null,null,"MATERIAL ........................................................................................................................................................................................................................................",{"$nulls":7},"SUB-TOTAL (3) = ",{"$f":"SUM(L183:L184)","v":0}]
[null,null,"DISCRIMINAÇÃO","SINAPI","UNID",null,"QTDE","PROD","IMPROD","P.UNIT. PROD","P.UNIT. IMPR","P.TOTAL"]
[{"$nulls":11},{"$f":"G183*J183","v":0}]
[{"$nulls":11},{"$f":"G184*J184","v":0}]
[]
[null,null,"MÃO DE OBRA .................................................................................................................................................................................................................................",{"$nulls":7},"SUB-TOTAL (4) = ",{"$f":"SUM(L188:L189)","v":0}]
[null,null,"DISCRIMINAÇÃO","SINAPI","UNID",null,"QTDE","PROD","IMPROD","P.UNIT. PROD","P.UNIT. IMPR","P.TOTAL"]
[{"$nulls":11},{"$f":"G188*J188","v":0}]
[{"$nulls":11},{"$f":"G189*J189","v":0}]
[]
[null,null,"OBSERVAÇÕES:","PROD DA EQUIPE =",null,null,1,null,null,null,"CUSTO (SUB-TOTAL 1 + 2 + 3 + 4) = ",{"$f":"L186+L181+L170+L176","v":0}]
[null,null,null,"RESP. TÉCNICO:",{"$nulls":6},"TOTAL - R$ = ",{"$f":"L191/G191","v":0}]
[{"$nulls":10},"BDI (%) = ",{"$f":"$I$3","v":0.2101044698987744}]
[{"$nulls":10},"TOTAL DO SERVIÇO - R$ = ",{"$f":"L192*L193+L192","v":0}]
[]
[null,null,{"$f":"C200","v":"SERVIÇO: CARGA E DESCARGA MECANICA DE SOLO UTILIZANDO CAMINHAO BASCULANTE 6,0M3 (C/RETROESCAVADEIRA)"},{"$f":"I200","v":"CAC-006"},{"$f":"L200","v":"M3"},"C. Unit. =",{"$f":"L223","v":1.3389680000000002},null,"P. Unit.=",{"$f":"L225","v":1.6202911618514224},{"$f":"$C$5","v":"SINAPI:Abril/2020 (Alagoas/AL) - NÃO DESONERADO"}]
[null,null," COMPOSIÇÃO ANALÍTICA DE CUSTO"]
[]
[null,null,{"$f":"$C$3","v":"EXECUÇÃO DE OBRAS E SERVIÇOS DE RECUPERAÇÃO PARCIAL DO DIQUE DE PROTEÇÃO E RECUPERAÇÃO DOS CANAIS DE IRRIGAÇÃO DO PERÍMETRO IRRIGADO DO ITIÚBA (canal adutor leste, P12, S1P12 e S2P12) E DOS CANAIS DE IRRIGAÇÃO (CLI e CLII) DO PERÍMETRO IRRIGADO DO BOACICA."},{"$nulls":4},{"$f":"$C$4","v":"CODEVASF"},null,null,{"$f":"$C$6","v":"DATA: ANO 2020"}]
[null,null,"SERVIÇO: CARGA E DESCARGA MECANICA DE SOLO UTILIZANDO CAMINHAO BASCULANTE 6,0M3 (C/RETROESCAVADEIRA)",{"$nulls":4},"COD: ","CAC-006",null,"UNIDADE: ","M3",null,null,"simlar a carga e descarga de entulho + carga e descarga de solo = média dos insumos"]
[]
[null,null,"SERVIÇOS - COMPOSIÇÕES AUXILIARES ............................................................................................................................................................................",{"$nulls":7},"SUB-TOTAL (1) = ",{"$f":"SUM(L204:L205)","v":0}]
[null,null,"DISCRIMINAÇÃO","SINAPI","UNID",null,"QTDE","PROD","IMPROD","P.UNIT. PROD","P.UNIT. IMPR","P.TOTAL"]
[{"$nulls":11},{"$f":"G204*J204","v":0}]
[{"$nulls":11},{"$f":"G205*J205","v":0}]
[]
[null,null,"EQUIPAMENTO .............................................................................................................................................................................................................................",{"$nulls":7},"SUB-TOTAL (2) = ",{"$f":"SUM(L209:L211)","v":1.1959680000000001}]
[null,null,"DISCRIMINAÇÃO","SINAPI","UNID",null,"QTDE","PROD","IMPROD","P.UNIT. PROD","P.UNIT. IMPR","P.TOTAL"]
[null,null,"RETROESCAVADEIRA SOBRE RODAS COM CARREGADEIRA, TRAÇÃO 4X2, POTÊNCIA LÍQ. 79 HP, CAÇAMBA CARREG. CAP. MÍN. 1 M3, CAÇAMBA RETRO CAP. 0,20 M3,PESO OPERACIONAL MÍN. 6.570 KG, PROFUNDIDADE ESCAVAÇÃO MÁX. 4,37 M - CHP DIURNO. AF_06/2014",5680,"CHP",null,0.01,null,null,77.34,null,{"$f":"G209*J209","v":0.77340000000000009}]
[null,null,"CAMINHÃO BASCULANTE 6 M3, PESO BRUTO TOTAL 16.000 KG, CARGA ÚTIL MÁXIMA 13.071 KG, DISTÂNCIA ENTRE EIXOS 4,80 M, POTÊNCIA 230 CV INCLUSIVE CAÇAMBA METÁLICA - CHP DIURNO. AF_06/2014",5811,"CHP",null,3.5999999999999999E-3,null,null,117.38,null,{"$f":"G210*J210","v":0.422568}]
[{"$nulls":11},{"$f":"G211*J211","v":0}]
[]
[null,null,"MATERIAL ........................................................................................................................................................................................................................................",{"$nulls":7},"SUB-TOTAL (3) = ",{"$f":"SUM(L215:L216)","v":0}]
[null,null,"DISCRIMINAÇÃO","SINAPI","UNID",null,"QTDE","PROD","IMPROD","P.UNIT. PROD","P.UNIT. IMPR","P.TOTAL"]
[{"$nulls":11},{"$f":"G215*J215","v":0}]
[{"$nulls":11},{"$f":"G216*J216","v":0}]
[]
[null,null,"MÃO DE OBRA .................................................................................................................................................................................................................................",{"$nulls":7},"SUB-TOTAL (4) = ",{"$f":"SUM(L220:L220)","v":0.14300000000000002}]
[null,null,"DISCRIMINAÇÃO","SINAPI","UNID",null,"QTDE","PROD","IMPROD","P.UNIT. PROD","P.UNIT. IMPR","P.TOTAL"]
[null,null,"SERVENTE COM ENCARGOS COMPLEMENTARES",88316,null,null,0.01,null,null,14.3,null,{"$f":"G220*J220","v":0.14300000000000002}]
[]
[null,null,"OBSERVAÇÕES:","PROD DA EQUIPE =",null,null,1,null,null,null,"CUSTO (SUB-TOTAL 1 + 2 + 3 + 4) = ",{"$f":"L218+L213+L202+L207","v":1.3389680000000002}]
[null,null,null,"RESP. TÉCNICO:",{"$nulls":6},"TOTAL - R$ = ",{"$f":"L222/G222","v":1.3389680000000002}]
[{"$nulls":10},"BDI (%) = ",{"$f":"$I$3","v":0.2101044698987744}]
[{"$nulls":10},"TOTAL DO SERVIÇO - R$ = ",{"$f":"L223*L224+L223","v":1.6202911618514224}]
[null,null,{"$f":"C230","v":"SERVIÇO: TRANSPORTE COM CAMINHÃO BASCULANTE DE 6 M3, EM VIA URBANA EM REVESTIMENTO PRIMÁRIO"},{"$f":"I230","v":"CAC-007"},{"$f":"L230","v":"M3XKM"},"C. Unit. =",{"$f":"L252","v":1.23},null,"P. Unit.=",{"$f":"L254","v":1.4884284979754925},{"$f":"$C$5","v":"SINAPI:Abril/2020 (Alagoas/AL) - NÃO DESONERADO"}]
[null,null," COMPOSIÇÃO ANALÍTICA DE CUSTO"]
[]
[null,null,{"$f":"$C$3","v":"EXECUÇÃO DE OBRAS E SERVIÇOS DE RECUPERAÇÃO PARCIAL DO DIQUE DE PROTEÇÃO E RECUPERAÇÃO DOS CANAIS DE IRRIGAÇÃO DO PERÍMETRO IRRIGADO DO ITIÚBA (canal adutor leste, P12, S1P12 e S2P12) E DOS CANAIS DE IRRIGAÇÃO (CLI e CLII) DO PERÍMETRO IRRIGADO DO BOACICA."},{"$nulls":4},{"$f":"$C$4","v":"CODEVASF"},null,null,{"$f":"$C$6","v":"DATA: ANO 2020"}]
[null,null,"SERVIÇO: TRANSPORTE COM CAMINHÃO BASCULANTE DE 6 M3, EM VIA URBANA EM REVESTIMENTO PRIMÁRIO",{"$nulls":4},"COD: ","CAC-007",null,"UNIDADE: ","M3XKM"]
[]
[null,null,"SERVIÇOS - COMPOSIÇÕES AUXILIARES ............................................................................................................................................................................",{"$nulls":7},"SUB-TOTAL (1) = ",{"$f":"SUM(L234:L235)","v":1.23}]
[null,null,"DISCRIMINAÇÃO","SINAPI","UNID",null,"QTDE","PROD","IMPROD","P.UNIT. PROD","P.UNIT. IMPR","P.TOTAL"]
[null,null,"TRANSPORTE COM CAMINHÃO BASCULANTE DE 6 M3, EM VIA URBANA EM REVESTIMENTO RPIMÁRIO",97912,"M3XKM",null,1,null,null,1.23,null,{"$f":"G234*J234","v":1.23}]
[{"$nulls":11},{"$f":"G235*J235","v":0}]
[]
[null,null,"EQUIPAMENTO .............................................................................................................................................................................................................................",{"$nulls":7},"SUB-TOTAL (2) = ",{"$f":"SUM(L239:L240)","v":0}]
[null,null,"DISCRIMINAÇÃO","SINAPI","UNID",null,"QTDE","PROD","IMPROD","P.UNIT. PROD","P.UNIT. IMPR","P.TOTAL"]
[{"$nulls":11},{"$f":"G239*J239","v":0}]
[{"$nulls":11},{"$f":"G240*J240","v":0}]
[]
[null,null,"MATERIAL ........................................................................................................................................................................................................................................",{"$nulls":7},"SUB-TOTAL (3) = ",{"$f":"SUM(L244:L244)","v":0}]
[null,null,"DISCRIMINAÇÃO","SINAPI","UNID",null,"QTDE","PROD","IMPROD","P.UNIT. PROD","P.UNIT. IMPR","P.TOTAL"]
[{"$nulls":11},{"$f":"G244*J244","v":0}]
[]
[null,null,"MÃO DE OBRA .................................................................................................................................................................................................................................",{"$nulls":7},"SUB-TOTAL (4) = ",{"$f":"SUM(L248:L249)","v":0}]
[null,null,"DISCRIMINAÇÃO","SINAPI","UNID",null,"QTDE","PROD","IMPROD","P.UNIT. PROD","P.UNIT. IMPR","P.TOTAL"]
[{"$nulls":11},{"$f":"G248*J248","v":0}]
[{"$nulls":11},{"$f":"G249*J249","v":0}]
[]
[null,null,"OBSERVAÇÕES:","PROD DA EQUIPE =",null,null,1,null,null,null,"CUSTO (SUB-TOTAL 1 + 2 + 3 + 4) = ",{"$f":"L246+L242+L232+L237","v":1.23}]
[null,null,null,"RESP. TÉCNICO:",{"$nulls":6},"TOTAL - R$ = ",{"$f":"L251/G251","v":1.23}]
[{"$nulls":10},"BDI (%) = ",{"$f":"$I$3","v":0.2101044698987744}]
[{"$nulls":10},"TOTAL DO SERVIÇO - R$ = ",{"$f":"L252*L253+L252","v":1.4884284979754925}]
[]
[null,null,{"$f":"C260","v":"SERVIÇO: ESCAVACAO MECANICA CAMPO ABERTO EM SOLO EXCETO ROCHA ATE 2,00M PROFUNDIDADE"},{"$f":"I260","v":"CAC-008"},{"$f":"L260","v":"M3"},null,null,null,"P. Unit.=",{"$f":"L283","v":0},{"$f":"$C$5","v":"SINAPI:Abril/2020 (Alagoas/AL) - NÃO DESONERADO"}]
[null,null," COMPOSIÇÃO ANALÍTICA DE CUSTO"]
[]
[null,null,{"$f":"$C$3","v":"EXECUÇÃO DE OBRAS E SERVIÇOS DE RECUPERAÇÃO PARCIAL DO DIQUE DE PROTEÇÃO E RECUPERAÇÃO DOS CANAIS DE IRRIGAÇÃO DO PERÍMETRO IRRIGADO DO ITIÚBA (canal adutor leste, P12, S1P12 e S2P12) E DOS CANAIS DE IRRIGAÇÃO (CLI e CLII) DO PERÍMETRO IRRIGADO DO BOACICA."},{"$nulls":4},{"$f":"$C$4","v":"CODEVASF"},null,null,{"$f":"$C$6","v":"DATA: ANO 2020"}]
[null,null,"SERVIÇO: ESCAVACAO MECANICA CAMPO ABERTO EM SOLO EXCETO ROCHA ATE 2,00M PROFUNDIDADE",{"$nulls":4},"COD: ","CAC-008",null,"UNIDADE: ","M3"]
[]
[null,null,"SERVIÇOS - COMPOSIÇÕES AUXILIARES ............................................................................................................................................................................",{"$nulls":7},"SUB-TOTAL (1) = ",{"$f":"SUM(L264:L265)","v":0}]
[null,null,"DISCRIMINAÇÃO","SINAPI","UNID",null,"QTDE","PROD","IMPROD","P.UNIT. PROD","P.UNIT. IMPR","P.TOTAL"]
[null,null,"ESCAVACAO MECANICA CAMPO ABERTO EM SOLO EXCETO ROCHA ATE 2,00M PROFUNDIDADE",79480,"M3",null,1,null,null,{"$f":"IFERROR(VLOOKUP(D264,$D$7:$J$8,6,0),0)","v":0},null,{"$f":"G264*J264","v":0}]
[{"$nulls":11},{"$f":"G265*J265","v":0}]
[]
[null,null,"EQUIPAMENTO .............................................................................................................................................................................................................................",{"$nulls":7},"SUB-TOTAL (2) = ",{"$f":"SUM(L269:L270)","v":0}]
[null,null,"DISCRIMINAÇÃO","SINAPI","UNID",null,"QTDE","PROD","IMPROD","P.UNIT. PROD","P.UNIT. IMPR","P.TOTAL"]
[{"$nulls":11},{"$f":"G269*J269","v":0}]
[{"$nulls":11},{"$f":"G270*J270","v":0}]
[]
[null,null,"MATERIAL ........................................................................................................................................................................................................................................",{"$nulls":7},"SUB-TOTAL (3) = ",{"$f":"SUM(L274:L275)","v":0}]
[null,null,"DISCRIMINAÇÃO","SINAPI","UNID",null,"QTDE","PROD","IMPROD","P.UNIT. PROD","P.UNIT. IMPR","P.TOTAL"]
[{"$nulls":11},{"$f":"G274*J274","v":0}]
[{"$nulls":11},{"$f":"G275*J275","v":0}]
[]
[null,null,"MÃO DE OBRA .................................................................................................................................................................................................................................",{"$nulls":7},"SUB-TOTAL (4) = ",{"$f":"SUM(L279:L280)","v":0}]
[null,null,"DISCRIMINAÇÃO","SINAPI","UNID",null,"QTDE","PROD","IMPROD","P.UNIT. PROD","P.UNIT. IMPR","P.TOTAL"]
[{"$nulls":11},{"$f":"G279*J279","v":0}]
[{"$nulls":11},{"$f":"G280*J280","v":0}]
[]
[null,null,"OBSERVAÇÕES:","PROD DA EQUIPE =",null,null,1,null,null,null,"CUSTO (SUB-TOTAL 1 + 2 + 3 + 4) = ",{"$f":"L277+L272+L262+L267","v":0}]
[null,null,null,"RESP. TÉCNICO:",{"$nulls":6},"TOTAL - R$ = ",{"$f":"L282/G282","v":0}]
[{"$nulls":10},"BDI (%) = ",{"$f":"$I$3","v":0.2101044698987744}]
[{"$nulls":10},"TOTAL DO SERVIÇO - R$ = ",{"$f":"L283*L284+L283","v":0}]
[]
[null,null,{"$f":"C291","v":"SERVIÇO: FORNECIMENTO E REATERRO DE VALA/CAVA COM PÓ-DE-PEDRA"},{"$f":"I291","v":"CAC-009"},{"$f":"L291","v":"M3"},null,null,null,"P. Unit.=",{"$f":"L314","v":0},{"$f":"$C$5","v":"SINAPI:Abril/2020 (Alagoas/AL) - NÃO DESONERADO"}]
[null,null," COMPOSIÇÃO ANALÍTICA DE CUSTO"]
[]
[null,null,{"$f":"$C$3","v":"EXECUÇÃO DE OBRAS E SERVIÇOS DE RECUPERAÇÃO PARCIAL DO DIQUE DE PROTEÇÃO E RECUPERAÇÃO DOS CANAIS DE IRRIGAÇÃO DO PERÍMETRO IRRIGADO DO ITIÚBA (canal adutor leste, P12, S1P12 e S2P12) E DOS CANAIS DE IRRIGAÇÃO (CLI e CLII) DO PERÍMETRO IRRIGADO DO BOACICA."},{"$nulls":4},{"$f":"$C$4","v":"CODEVASF"},null,null,{"$f":"$C$6","v":"DATA: ANO 2020"}]
[null,null,"SERVIÇO: FORNECIMENTO E REATERRO DE VALA/CAVA COM PÓ-DE-PEDRA",{"$nulls":4},"COD: ","CAC-009",null,"UNIDADE: ","M3"]
[]
[null,null,"SERVIÇOS - COMPOSIÇÕES AUXILIARES ............................................................................................................................................................................",{"$nulls":7},"SUB-TOTAL (1) = ",{"$f":"SUM(L295:L297)","v":0}]
[null,null,"DISCRIMINAÇÃO","SINAPI","UNID",null,"QTDE","PROD","IMPROD","P.UNIT. PROD","P.UNIT. IMPR","P.TOTAL"]
[null,null,"EMBASAMENTO DE MATERIAL GRANULAR - PO DE PEDRA","73817/001","M3",null,1,null,null,{"$f":"IFERROR(VLOOKUP(D295,$D$7:$J$8,6,0),0)","v":0},null,{"$f":"G295*J295","v":0}]
[null,null,"UMEDECIMENTO DE MATERIAL PARA FECHAMENTO DE VALAS.",83346,"M3",null,1,null,null,{"$f":"IFERROR(VLOOKUP(D296,$D$7:$J$8,6,0),0)","v":0},null,{"$f":"G296*J296","v":0}]
[{"$nulls":11},{"$f":"G297*J297","v":0}]
[]
[null,null,"EQUIPAMENTO .............................................................................................................................................................................................................................",{"$nulls":7},"SUB-TOTAL (2) = ",{"$f":"SUM(L301:L302)","v":0}]
[null,null,"DISCRIMINAÇÃO","SINAPI","UNID",null,"QTDE","PROD","IMPROD","P.UNIT. PROD","P.UNIT. IMPR","P.TOTAL"]
[{"$nulls":11},{"$f":"G301*J301","v":0}]
[{"$nulls":11},{"$f":"G302*J302","v":0}]
[]
[null,null,"MATERIAL ........................................................................................................................................................................................................................................",{"$nulls":7},"SUB-TOTAL (3) = ",{"$f":"SUM(L306:L306)","v":0}]
[null,null,"DISCRIMINAÇÃO","SINAPI","UNID",null,"QTDE","PROD","IMPROD","P.UNIT. PROD","P.UNIT. IMPR","P.TOTAL"]
[{"$nulls":11},{"$f":"G306*J306","v":0}]
[]
[null,null,"MÃO DE OBRA .................................................................................................................................................................................................................................",{"$nulls":7},"SUB-TOTAL (4) = ",{"$f":"SUM(L310:L311)","v":0}]
[null,null,"DISCRIMINAÇÃO","SINAPI","UNID",null,"QTDE","PROD","IMPROD","P.UNIT. PROD","P.UNIT. IMPR","P.TOTAL"]
[{"$nulls":11},{"$f":"G310*J310","v":0}]
[{"$nulls":11},{"$f":"G311*J311","v":0}]
[]
[null,null,"OBSERVAÇÕES:","PROD DA EQUIPE =",null,null,1,null,null,null,"CUSTO (SUB-TOTAL 1 + 2 + 3 + 4) = ",{"$f":"L308+L304+L293+L299","v":0}]
[null,null,null,"RESP. TÉCNICO:",{"$nulls":6},"TOTAL - R$ = ",{"$f":"L313/G313","v":0}]
[{"$nulls":10},"BDI (%) = ",{"$f":"$I$3","v":0.2101044698987744}]
[{"$nulls":10},"TOTAL DO SERVIÇO - R$ = ",{"$f":"L314*L315+L314","v":0}]
[]
[]
[null,null,{"$f":"C323","v":"SERVIÇO: REATERRO DE VALA COM COMPACTACAO MANUAL"},{"$f":"I323","v":"CAC-011"},{"$f":"L323","v":"M3"},null,null,null,"P. Unit.=",{"$f":"L346","v":0},{"$f":"$C$5","v":"SINAPI:Abril/2020 (Alagoas/AL) - NÃO DESONERADO"}]
[null,null," COMPOSIÇÃO ANALÍTICA DE CUSTO"]
[]
[null,null,{"$f":"$C$3","v":"EXECUÇÃO DE OBRAS E SERVIÇOS DE RECUPERAÇÃO PARCIAL DO DIQUE DE PROTEÇÃO E RECUPERAÇÃO DOS CANAIS DE IRRIGAÇÃO DO PERÍMETRO IRRIGADO DO ITIÚBA (canal adutor leste, P12, S1P12 e S2P12) E DOS CANAIS DE IRRIGAÇÃO (CLI e CLII) DO PERÍMETRO IRRIGADO DO BOACICA."},{"$nulls":4},{"$f":"$C$4","v":"CODEVASF"},null,null,{"$f":"$C$6","v":"DATA: ANO 2020"}]
[null,null,"SERVIÇO: REATERRO DE VALA COM COMPACTACAO MANUAL",{"$nulls":4},"COD: ","CAC-011",null,"UNIDADE: ","M3"]
[]
[null,null,"SERVIÇOS - COMPOSIÇÕES AUXILIARES ............................................................................................................................................................................",{"$nulls":7},"SUB-TOTAL (1) = ",{"$f":"SUM(L327:L329)","v":0}]
[null,null,"DISCRIMINAÇÃO","SINAPI","UNID",null,"QTDE","PROD","IMPROD","P.UNIT. PROD","P.UNIT. IMPR","P.TOTAL"]
[null,null,"REATERRO DE VALA COM COMPACTAÇÃO MANUAL","73964/006","M3",null,1,null,null,{"$f":"IFERROR(VLOOKUP(D327,$D$7:$J$8,6,0),0)","v":0},null,{"$f":"G327*J327","v":0}]
[null,null,"UMEDECIMENTO DE MATERIAL PARA FECHAMENTO DE VALAS.",83346,"M3",null,1,null,null,{"$f":"IFERROR(VLOOKUP(D328,$D$7:$J$8,6,0),0)","v":0},null,{"$f":"G328*J328","v":0}]
[{"$nulls":11},{"$f":"G329*J329","v":0}]
[]
[null,null,"EQUIPAMENTO .............................................................................................................................................................................................................................",{"$nulls":7},"SUB-TOTAL (2) = ",{"$f":"SUM(L333:L334)","v":0}]
[null,null,"DISCRIMINAÇÃO","SINAPI","UNID",null,"QTDE","PROD","IMPROD","P.UNIT. PROD","P.UNIT. IMPR","P.TOTAL"]
[{"$nulls":11},{"$f":"G333*J333","v":0}]
[{"$nulls":11},{"$f":"G334*J334","v":0}]
[]
[null,null,"MATERIAL ........................................................................................................................................................................................................................................",{"$nulls":7},"SUB-TOTAL (3) = ",{"$f":"SUM(L338:L338)","v":0}]
[null,null,"DISCRIMINAÇÃO","SINAPI","UNID",null,"QTDE","PROD","IMPROD","P.UNIT. PROD","P.UNIT. IMPR","P.TOTAL"]
[{"$nulls":9},{"$f":"J30","v":0},null,{"$f":"G338*J338","v":0}]
[]
[null,null,"MÃO DE OBRA .................................................................................................................................................................................................................................",{"$nulls":7},"SUB-TOTAL (4) = ",{"$f":"SUM(L342:L343)","v":0}]
[null,null,"DISCRIMINAÇÃO","SINAPI","UNID",null,"QTDE","PROD","IMPROD","P.UNIT. PROD","P.UNIT. IMPR","P.TOTAL"]
[{"$nulls":9},{"$f":"J34","v":0},null,{"$f":"G342*J342","v":0}]
[{"$nulls":11},{"$f":"G343*J343","v":0}]
[]
[null,null,"OBSERVAÇÕES:","PROD DA EQUIPE =",null,null,1,null,null,null,"CUSTO (SUB-TOTAL 1 + 2 + 3 + 4) = ",{"$f":"L340+L336+L325+L331","v":0}]
[null,null,null,"RESP. TÉCNICO:",{"$nulls":6},"TOTAL - R$ = ",{"$f":"L345/G345","v":0}]
[{"$nulls":10},"BDI (%) = ",{"$f":"$I$3","v":0.2101044698987744}]
[{"$nulls":10},"TOTAL DO SERVIÇO - R$ = ",{"$f":"L346*L347+L346","v":0}]
[]
[null,null,{"$f":"C354","v":"SERVIÇO: REATERRO COM COMPACTACAO MECANIZADA"},{"$f":"I354","v":"CAC-012"},{"$f":"L354","v":"M3"},"C. Unit. =",{"$f":"L377","v":20.442219999999999},null,"P. Unit.=",{"$f":"L379","v":24.737221796654122},{"$f":"$C$5","v":"SINAPI:Abril/2020 (Alagoas/AL) - NÃO DESONERADO"}]
[null,null," COMPOSIÇÃO ANALÍTICA DE CUSTO"]
[]
[null,null,{"$f":"$C$3","v":"EXECUÇÃO DE OBRAS E SERVIÇOS DE RECUPERAÇÃO PARCIAL DO DIQUE DE PROTEÇÃO E RECUPERAÇÃO DOS CANAIS DE IRRIGAÇÃO DO PERÍMETRO IRRIGADO DO ITIÚBA (canal adutor leste, P12, S1P12 e S2P12) E DOS CANAIS DE IRRIGAÇÃO (CLI e CLII) DO PERÍMETRO IRRIGADO DO BOACICA."},{"$nulls":4},{"$f":"$C$4","v":"CODEVASF"},null,null,{"$f":"$C$6","v":"DATA: ANO 2020"}]
[null,null,"SERVIÇO: REATERRO COM COMPACTACAO MECANIZADA",{"$nulls":4},"COD: ","CAC-012",null,"UNIDADE: ","M3"]
[]
[null,null,"SERVIÇOS - COMPOSIÇÕES AUXILIARES ............................................................................................................................................................................",{"$nulls":7},"SUB-TOTAL (1) = ",{"$f":"SUM(L358:L359)","v":0}]
[null,null,"DISCRIMINAÇÃO","SINAPI","UNID",null,"QTDE","PROD","IMPROD","P.UNIT. PROD","P.UNIT. IMPR","P.TOTAL"]
[{"$nulls":11},{"$f":"G358*J358","v":0}]
[{"$nulls":11},{"$f":"G359*J359","v":0}]
[]
[null,null,"EQUIPAMENTO .............................................................................................................................................................................................................................",{"$nulls":7},"SUB-TOTAL (2) = ",{"$f":"SUM(L363:L364)","v":11.147220000000001}]
[null,null,"DISCRIMINAÇÃO","SINAPI","UNID",null,"QTDE","PROD","IMPROD","P.UNIT. PROD","P.UNIT. IMPR","P.TOTAL"]
[null,null,"COMPACTADOR DE SOLOS DE PERCUSSÃO (SOQUETE) COM MOTOR A GASOLINA 4 TEMPOS, POTÊNCIA 4 CV - CHP DIURNO. AF_08/2015",91533,"CHP",null,0.27400000000000002,null,null,23.58,null,{"$f":"G363*J363","v":6.4609199999999998}]
[null,null,"COMPACTADOR DE SOLOS DE PERCUSSÃO (SOQUETE) COM MOTOR A GASOLINA 4 TEMPOS, POTÊNCIA 4 CV - CHI DIURNO. AF_08/2015",91534,"CHI",null,0.254,null,null,null,18.45,{"$f":"G364*K364","v":4.6863000000000001}]
[]
[null,null,"MATERIAL ........................................................................................................................................................................................................................................",{"$nulls":7},"SUB-TOTAL (3) = ",{"$f":"SUM(L368:L369)","v":0}]
[null,null,"DISCRIMINAÇÃO","SINAPI","UNID",null,"QTDE","PROD","IMPROD","P.UNIT. PROD","P.UNIT. IMPR","P.TOTAL"]
[{"$nulls":11},{"$f":"G368*J368","v":0}]
[{"$nulls":11},{"$f":"G369*J369","v":0}]
[]
[null,null,"MÃO DE OBRA .................................................................................................................................................................................................................................",{"$nulls":7},"SUB-TOTAL (4) = ",{"$f":"SUM(L373:L374)","v":9.2949999999999999}]
[null,null,"DISCRIMINAÇÃO","SINAPI","UNID",null,"QTDE","PROD","IMPROD","P.UNIT. PROD","P.UNIT. IMPR","P.TOTAL"]
[null,null,"SERVENTE COM ENCARGOS COMPLEMENTARES",88316,"H",null,0.65,null,null,14.3,null,{"$f":"G373*J373","v":9.2949999999999999}]
[{"$nulls":11},{"$f":"G374*J374","v":0}]
[]
[null,null,"OBSERVAÇÕES:","PROD DA EQUIPE =",null,null,1,null,null,null,"CUSTO (SUB-TOTAL 1 + 2 + 3 + 4) = ",{"$f":"L371+L366+L356+L361","v":20.442219999999999}]
[null,null,null,"RESP. TÉCNICO:",{"$nulls":6},"TOTAL - R$ = ",{"$f":"L376/G376","v":20.442219999999999}]
[{"$nulls":10},"BDI (%) = ",{"$f":"$I$3","v":0.2101044698987744}]
[{"$nulls":10},"TOTAL DO SERVIÇO - R$ = ",{"$f":"L377*L378+L377","v":24.737221796654122}]
[]
[null,null,{"$f":"C385","v":"SERVIÇO: ESCAVACAO MECANICA, A CEU ABERTO, EM MATERIAL DE 1A CATEGORIA, COM ESCAVADEIRA HIDRAULICA, CAPACIDADE DE 0,78 M3"},{"$f":"I385","v":"CAC-013"},{"$f":"L385","v":"M3"},null,null,null,"P. Unit.=",{"$f":"L408","v":0},{"$f":"$C$5","v":"SINAPI:Abril/2020 (Alagoas/AL) - NÃO DESONERADO"}]
[null,null," COMPOSIÇÃO ANALÍTICA DE CUSTO"]
[]
[null,null,{"$f":"$C$3","v":"EXECUÇÃO DE OBRAS E SERVIÇOS DE RECUPERAÇÃO PARCIAL DO DIQUE DE PROTEÇÃO E RECUPERAÇÃO DOS CANAIS DE IRRIGAÇÃO DO PERÍMETRO IRRIGADO DO ITIÚBA (canal adutor leste, P12, S1P12 e S2P12) E DOS CANAIS DE IRRIGAÇÃO (CLI e CLII) DO PERÍMETRO IRRIGADO DO BOACICA."},{"$nulls":4},{"$f":"$C$4","v":"CODEVASF"},null,null,{"$f":"$C$6","v":"DATA: ANO 2020"}]
[null,null,"SERVIÇO: ESCAVACAO MECANICA, A CEU ABERTO, EM MATERIAL DE 1A CATEGORIA, COM ESCAVADEIRA HIDRAULICA, CAPACIDADE DE 0,78 M3",{"$nulls":4},"COD: ","CAC-013",null,"UNIDADE: ","M3"]
[]
[null,null,"SERVIÇOS - COMPOSIÇÕES AUXILIARES ............................................................................................................................................................................",{"$nulls":7},"SUB-TOTAL (1) = ",{"$f":"SUM(L389:L390)","v":0}]
[null,null,"DISCRIMINAÇÃO","SINAPI","UNID",null,"QTDE","PROD","IMPROD","P.UNIT. PROD","P.UNIT. IMPR","P.TOTAL"]
[null,null,"ESCAVACAO MECANICA, A CEU ABERTO, EM MATERIAL DE 1A CATEGORIA, COM ESCAVADEIRA HIDRAULICA, CAPACIDADE DE 0,78 M3",83338,"M3",null,1,null,null,{"$f":"IFERROR(VLOOKUP(D389,$D$7:$J$8,6,0),0)","v":0},null,{"$f":"G389*J389","v":0}]
[{"$nulls":11},{"$f":"G390*J390","v":0}]
[]
[null,null,"EQUIPAMENTO .............................................................................................................................................................................................................................",{"$nulls":7},"SUB-TOTAL (2) = ",{"$f":"SUM(L394:L395)","v":0}]
[null,null,"DISCRIMINAÇÃO","SINAPI","UNID",null,"QTDE","PROD","IMPROD","P.UNIT. PROD","P.UNIT. IMPR","P.TOTAL"]
[{"$nulls":11},{"$f":"G394*J394","v":0}]
[{"$nulls":11},{"$f":"G395*J395","v":0}]
[]
[null,null,"MATERIAL ........................................................................................................................................................................................................................................",{"$nulls":7},"SUB-TOTAL (3) = ",{"$f":"SUM(L399:L400)","v":0}]
[null,null,"DISCRIMINAÇÃO","SINAPI","UNID",null,"QTDE","PROD","IMPROD","P.UNIT. PROD","P.UNIT. IMPR","P.TOTAL"]
[{"$nulls":11},{"$f":"G399*J399","v":0}]
[{"$nulls":11},{"$f":"G400*J400","v":0}]
[]
[null,null,"MÃO DE OBRA .................................................................................................................................................................................................................................",{"$nulls":7},"SUB-TOTAL (4) = ",{"$f":"SUM(L404:L405)","v":0}]
[null,null,"DISCRIMINAÇÃO","SINAPI","UNID",null,"QTDE","PROD","IMPROD","P.UNIT. PROD","P.UNIT. IMPR","P.TOTAL"]
[{"$nulls":11},{"$f":"G404*J404","v":0}]
[{"$nulls":11},{"$f":"G405*J405","v":0}]
[]
[null,null,"OBSERVAÇÕES:","PROD DA EQUIPE =",null,null,1,null,null,null,"CUSTO (SUB-TOTAL 1 + 2 + 3 + 4) = ",{"$f":"L402+L397+L387+L392","v":0}]
[null,null,null,"RESP. TÉCNICO:",{"$nulls":6},"TOTAL - R$ = ",{"$f":"L407/G407","v":0}]
[{"$nulls":10},"BDI (%) = ",{"$f":"$I$3","v":0.2101044698987744}]
[{"$nulls":10},"TOTAL DO SERVIÇO - R$ = ",{"$f":"L408*L409+L408","v":0}]
[]
[null,null,{"$f":"C416","v":"SERVIÇO: ESCAVACAO MECANICA, A CEU ABERTO, EM MATERIAL DE 1A CATEGORIA, COM RETROESCAVADEIRA"},{"$f":"I416","v":"CAC-014"},{"$f":"L416","v":"M3"},"C. Unit. =",{"$f":"L439","v":1.8631480000000002},null,"P. Unit.=",{"$f":"L441","v":2.2546037228829618},{"$f":"$C$5","v":"SINAPI:Abril/2020 (Alagoas/AL) - NÃO DESONERADO"}]
[null,null," COMPOSIÇÃO ANALÍTICA DE CUSTO"]
[]
[null,null,{"$f":"$C$3","v":"EXECUÇÃO DE OBRAS E SERVIÇOS DE RECUPERAÇÃO PARCIAL DO DIQUE DE PROTEÇÃO E RECUPERAÇÃO DOS CANAIS DE IRRIGAÇÃO DO PERÍMETRO IRRIGADO DO ITIÚBA (canal adutor leste, P12, S1P12 e S2P12) E DOS CANAIS DE IRRIGAÇÃO (CLI e CLII) DO PERÍMETRO IRRIGADO DO BOACICA."},{"$nulls":4},{"$f":"$C$4","v":"CODEVASF"},null,null,{"$f":"$C$6","v":"DATA: ANO 2020"}]
[null,null,"SERVIÇO: ESCAVACAO MECANICA, A CEU ABERTO, EM MATERIAL DE 1A CATEGORIA, COM RETROESCAVADEIRA",{"$nulls":4},"COD: ","CAC-014",null,"UNIDADE: ","M3"]
[]
[null,null,"SERVIÇOS - COMPOSIÇÕES AUXILIARES ............................................................................................................................................................................",{"$nulls":7},"SUB-TOTAL (1) = ",{"$f":"SUM(L420:L421)","v":1.2288000000000001}]
[null,null,"DISCRIMINAÇÃO","SINAPI","UNID",null,"QTDE","PROD","IMPROD","P.UNIT. PROD","P.UNIT. IMPR","P.TOTAL"]
[null,null,"RETROESCAVADEIRA SOBRE RODAS COM CARREGADEIRA, TRAÇÃO 4X2, POTÊNCIA LÍQ. 79 HP, CAÇAMBA CARREG. CAP. MÍN. 1 M3, CAÇAMBA RETRO CAP. 0,20 M3,\nPESO OPERACIONAL MÍN. 6.570 KG, PROFUNDIDADE ESCAVAÇÃO MÁX. 4,37 M - C\nHP DIURNO. AF_06/2014",5680,"CHP",null,1.34E-2,null,null,77.34,null,{"$f":"G420*J420","v":1.0363560000000001}]
[null,null,"RETROESCAVADEIRA SOBRE RODAS COM CARREGADEIRA, TRAÇÃO 4X2, POTÊNCIA LÍQ. 79 HP, CAÇAMBA CARREG. CAP. MÍN. 1 M3, CAÇAMBA RETRO CAP. 0,20 M3,\nPESO OPERACIONAL MÍN. 6.570 KG, PROFUNDIDADE ESCAVAÇÃO MÁX. 4,37 M - C\nHP DIURNO. AF_06/2014",5681,"CHI",null,5.7999999999999996E-3,null,null,null,33.18,{"$f":"G421*K421","v":0.19244399999999998}]
[]
[null,null,"EQUIPAMENTO .............................................................................................................................................................................................................................",{"$nulls":7},"SUB-TOTAL (2) = ",{"$f":"SUM(L425:L426)","v":0}]
[null,null,"DISCRIMINAÇÃO","SINAPI","UNID",null,"QTDE","PROD","IMPROD","P.UNIT. PROD","P.UNIT. IMPR","P.TOTAL"]
[{"$nulls":11},{"$f":"G425*J425","v":0}]
[{"$nulls":11},{"$f":"G426*J426","v":0}]
[]
[null,null,"MATERIAL ........................................................................................................................................................................................................................................",{"$nulls":7},"SUB-TOTAL (3) = ",{"$f":"SUM(L430:L431)","v":0}]
[null,null,"DISCRIMINAÇÃO","SINAPI","UNID",null,"QTDE","PROD","IMPROD","P.UNIT. PROD","P.UNIT. IMPR","P.TOTAL"]
[{"$nulls":11},{"$f":"G430*J430","v":0}]
[{"$nulls":11},{"$f":"G431*J431","v":0}]
[]
[null,null,"MÃO DE OBRA .................................................................................................................................................................................................................................",{"$nulls":7},"SUB-TOTAL (4) = ",{"$f":"SUM(L435:L436)","v":0.63434800000000002}]
[null,null,"DISCRIMINAÇÃO","SINAPI","UNID",null,"QTDE","PROD","IMPROD","P.UNIT. PROD","P.UNIT. IMPR","P.TOTAL"]
[null,null,"SERVENTE COM ENCARGOS COMPLEMENTARES",88316,"H",null,4.4359999999999997E-2,null,null,14.3,null,{"$f":"G435*J435","v":0.63434800000000002}]
[{"$nulls":11},{"$f":"G436*J436","v":0}]
[]
[null,null,"OBSERVAÇÕES:","PROD DA EQUIPE =",null,null,1,null,null,null,"CUSTO (SUB-TOTAL 1 + 2 + 3 + 4) = ",{"$f":"L433+L428+L418+L423","v":1.8631480000000002}]
[null,null,null,"RESP. TÉCNICO:",{"$nulls":6},"TOTAL - R$ = ",{"$f":"L438/G438","v":1.8631480000000002}]
[{"$nulls":10},"BDI (%) = ",{"$f":"$I$3","v":0.2101044698987744}]
[{"$nulls":10},"TOTAL DO SERVIÇO - R$ = ",{"$f":"L439*L440+L439","v":2.2546037228829618}]
[]
[null,null,{"$f":"C447","v":"SERVIÇO: ATERRO MANUAL COM MATERIAL DE EMPRÉSTIMO, COMPACTAÇÃO MECANIZADA  E REGULARIZAÇÃO DO TALUDE"},{"$f":"I447","v":"CAC-015"},{"$f":"L447","v":"M2"},"C. Unit. =",{"$f":"L470","v":31.947420000000001},null,"P. Unit.=",{"$f":"L472","v":38.659715743733507},{"$f":"$C$5","v":"SINAPI:Abril/2020 (Alagoas/AL) - NÃO DESONERADO"}]
[null,null," COMPOSIÇÃO ANALÍTICA DE CUSTO"]
[]
[null,null,{"$f":"$C$3","v":"EXECUÇÃO DE OBRAS E SERVIÇOS DE RECUPERAÇÃO PARCIAL DO DIQUE DE PROTEÇÃO E RECUPERAÇÃO DOS CANAIS DE IRRIGAÇÃO DO PERÍMETRO IRRIGADO DO ITIÚBA (canal adutor leste, P12, S1P12 e S2P12) E DOS CANAIS DE IRRIGAÇÃO (CLI e CLII) DO PERÍMETRO IRRIGADO DO BOACICA."},{"$nulls":4},{"$f":"$C$4","v":"CODEVASF"},null,null,{"$f":"$C$6","v":"DATA: ANO 2020"}]
[null,null,"SERVIÇO: ATERRO MANUAL COM MATERIAL DE EMPRÉSTIMO, COMPACTAÇÃO MECANIZADA  E REGULARIZAÇÃO DO TALUDE",{"$nulls":4},"COD: ","CAC-015",null,"UNIDADE: ","M2"]
[]
[null,null,"SERVIÇOS - COMPOSIÇÕES AUXILIARES ............................................................................................................................................................................",{"$nulls":7},"SUB-TOTAL (1) = ",{"$f":"SUM(L451:L452)","v":0}]
[null,null,"DISCRIMINAÇÃO","SINAPI","UNID",null,"QTDE","PROD","IMPROD","P.UNIT. PROD","P.UNIT. IMPR","P.TOTAL"]
[]
[{"$nulls":11},{"$f":"G452*J452","v":0}]
[]
[null,null,"EQUIPAMENTO .............................................................................................................................................................................................................................",{"$nulls":7},"SUB-TOTAL (2) = ",{"$f":"SUM(L456:L457)","v":11.147220000000001}]
[null,null,"DISCRIMINAÇÃO","SINAPI","UNID",null,"QTDE","PROD","IMPROD","P.UNIT. PROD","P.UNIT. IMPR","P.TOTAL"]
[null,null,"COMPACTADOR DE SOLOS DE PERCUSSÃO (SOQUETE) COM MOTOR A GASOLINA 4 TEMPOS, POTÊNCIA 4 CV - CHP DIURNO. AF_08/2015",91533,"CHP",null,0.27400000000000002,null,null,23.58,null,{"$f":"G456*J456","v":6.4609199999999998}]
[null,null,"COMPACTADOR DE SOLOS DE PERCUSSÃO (SOQUETE) COM MOTOR A GASOLINA 4 TEMPOS, POTÊNCIA 4 CV - CHI DIURNO. AF_08/2015",91534,"CHI",null,0.254,null,null,0,18.45,{"$f":"G457*K457","v":4.6863000000000001}]
[]
[null,null,"MATERIAL ........................................................................................................................................................................................................................................",{"$nulls":7},"SUB-TOTAL (3) = ",{"$f":"SUM(L461:L462)","v":11.6625}]
[null,null,"DISCRIMINAÇÃO","SINAPI","UNID",null,"QTDE","PROD","IMPROD","P.UNIT. PROD","P.UNIT. IMPR","P.TOTAL"]
[null,null,"ARGILA, ARGILA VERMELHA OU ARGILA ARENOSA (RETIRADA NA JAZIDA, SEM TRANSPORTE)",6079,"M3",null,1.25,null,null,9.33,null,{"$f":"G461*J461","v":11.6625}]
[{"$nulls":11},{"$f":"G462*J462","v":0}]
[]
[null,null,"MÃO DE OBRA .................................................................................................................................................................................................................................",{"$nulls":7},"SUB-TOTAL (4) = ",{"$f":"SUM(L466:L467)","v":9.1377000000000006}]
[null,null,"DISCRIMINAÇÃO","SINAPI","UNID",null,"QTDE","PROD","IMPROD","P.UNIT. PROD","P.UNIT. IMPR","P.TOTAL"]
[null,null,"SERVENTE COM ENCARGOS COMPLEMENTARES",88316,null,null,0.63900000000000001,null,null,14.3,null,{"$f":"G466*J466","v":9.1377000000000006}]
[{"$nulls":11},{"$f":"G467*J467","v":0}]
[]
[null,null,"OBSERVAÇÕES:","PROD DA EQUIPE =",null,null,1,null,null,null,"CUSTO (SUB-TOTAL 1 + 2 + 3 + 4) = ",{"$f":"L464+L459+L449+L454","v":31.947420000000001}]
[null,null,null,"RESP. TÉCNICO:",{"$nulls":6},"TOTAL - R$ = ",{"$f":"L469/G469","v":31.947420000000001}]
[{"$nulls":10},"BDI (%) = ",{"$f":"$I$3","v":0.2101044698987744}]
[{"$nulls":10},"TOTAL DO SERVIÇO - R$ = ",{"$f":"L470*L471+L470","v":38.659715743733507}]
[]
[null,null,{"$f":"C478","v":"SERVIÇO: FORNECIMENTO E INSTALAÇÃO DE GEOMENBRANA BITEXTURIZADA, PEAD, ESP=2,00MM"},{"$f":"I478","v":"CAC-016"},{"$f":"L478","v":"M2"},null,null,null,"P. Unit.=",{"$f":"L502","v":0},{"$f":"$C$5","v":"SINAPI:Abril/2020 (Alagoas/AL) - NÃO DESONERADO"}]
[null,null," COMPOSIÇÃO ANALÍTICA DE CUSTO"]
[]
[null,null,{"$f":"$C$3","v":"EXECUÇÃO DE OBRAS E SERVIÇOS DE RECUPERAÇÃO PARCIAL DO DIQUE DE PROTEÇÃO E RECUPERAÇÃO DOS CANAIS DE IRRIGAÇÃO DO PERÍMETRO IRRIGADO DO ITIÚBA (canal adutor leste, P12, S1P12 e S2P12) E DOS CANAIS DE IRRIGAÇÃO (CLI e CLII) DO PERÍMETRO IRRIGADO DO BOACICA."},{"$nulls":4},{"$f":"$C$4","v":"CODEVASF"},null,null,{"$f":"$C$6","v":"DATA: ANO 2020"}]
[null,null,"SERVIÇO: FORNECIMENTO E INSTALAÇÃO DE GEOMENBRANA BITEXTURIZADA, PEAD, ESP=2,00MM",{"$nulls":4},"COD: ","CAC-016",null,"UNIDADE: ","M2"]
[]
[null,null,"SERVIÇOS - COMPOSIÇÕES AUXILIARES ............................................................................................................................................................................",{"$nulls":7},"SUB-TOTAL (1) = ",{"$f":"SUM(L482:L483)","v":0}]
[null,null,"DISCRIMINAÇÃO","SINAPI","UNID",null,"QTDE","PROD","IMPROD","P.UNIT. PROD","P.UNIT. IMPR","P.TOTAL"]
[{"$nulls":11},{"$f":"G482*J482","v":0}]
[{"$nulls":11},{"$f":"G483*J483","v":0}]
[]
[null,null,"EQUIPAMENTO .............................................................................................................................................................................................................................",{"$nulls":7},"SUB-TOTAL (2) = ",{"$f":"SUM(L487:L488)","v":0}]
[null,null,"DISCRIMINAÇÃO","SINAPI","UNID",null,"QTDE","PROD","IMPROD","P.UNIT. PROD","P.UNIT. IMPR","P.TOTAL"]
[null,null,"MAQUINA DE SOLDA DE PEAD","NT1","H",null,1.0000000000000001E-5,null,null,{"$f":"IFERROR(VLOOKUP(D487,$D$7:$J$8,6,0),0)","v":0},null,{"$f":"G487*J487","v":0}]
[{"$nulls":11},{"$f":"G488*J488","v":0}]
[]
[null,null,"MATERIAL ........................................................................................................................................................................................................................................",{"$nulls":7},"SUB-TOTAL (3) = ",{"$f":"SUM(L492:L493)","v":0}]
[null,null,"DISCRIMINAÇÃO","SINAPI","UNID",null,"QTDE","PROD","IMPROD","P.UNIT. PROD","P.UNIT. IMPR","P.TOTAL"]
[null,null,"MANTA TERMOPLÁSTICA, PEAD, GEOMEMBRANA TEXTURIZADA EM AMBAS AS FACES, E = 2,00 MM, NBR 15352","74033/001","M2",null,1.05,null,null,{"$f":"IFERROR(VLOOKUP(D492,$D$7:$J$8,6,0),0)","v":0},null,{"$f":"G492*J492","v":0}]
[{"$nulls":11},{"$f":"G493*J493","v":0}]
[]
[null,null,"MÃO DE OBRA .................................................................................................................................................................................................................................",{"$nulls":7},"SUB-TOTAL (4) = ",{"$f":"SUM(L497:L499)","v":0}]
[null,null,"DISCRIMINAÇÃO","SINAPI","UNID",null,"QTDE","PROD","IMPROD","P.UNIT. PROD","P.UNIT. IMPR","P.TOTAL"]
[null,null,"PEDREIRO",4750,"H",null,0.2,null,null,{"$f":"IFERROR(VLOOKUP(D497,$D$7:$J$8,6,0),0)","v":0},null,{"$f":"G497*J497","v":0}]
[null,null,"SERVENTE",6111,"H",null,0.2,null,null,{"$f":"IFERROR(VLOOKUP(D498,$D$7:$J$8,6,0),0)","v":0},null,{"$f":"G498*J498","v":0}]
[{"$nulls":11},{"$f":"G499*J499","v":0}]
[]
[null,null,"OBSERVAÇÕES:","PROD DA EQUIPE =",null,null,1,null,null,null,"CUSTO (SUB-TOTAL 1 + 2 + 3 + 4) = ",{"$f":"L495+L490+L480+L485","v":0}]
[null,null,null,"RESP. TÉCNICO:",{"$nulls":6},"TOTAL - R$ = ",{"$f":"L501/G501","v":0}]
[{"$nulls":10},"BDI (%) = ",{"$f":"$I$3","v":0.2101044698987744}]
[null,null,{"$f":"C508","v":"SERVIÇO: FORNECIMENTO E INSTALAÇÃO DE GEOMENBRANA, PEAD, TEXTURIZADA EM AMBAS AS FACES, ESP=1,00MM"},{"$f":"I508","v":"CAC-017"},{"$f":"L508","v":"M2"},"C. Unit. =",{"$f":"L532","v":22.942463600000004},null,"P. Unit.=",{"$f":"L534","v":27.762777752849932},{"$f":"$C$5","v":"SINAPI:Abril/2020 (Alagoas/AL) - NÃO DESONERADO"}]
[null,null," COMPOSIÇÃO ANALÍTICA DE CUSTO"]
[]
[null,null,{"$f":"$C$3","v":"EXECUÇÃO DE OBRAS E SERVIÇOS DE RECUPERAÇÃO PARCIAL DO DIQUE DE PROTEÇÃO E RECUPERAÇÃO DOS CANAIS DE IRRIGAÇÃO DO PERÍMETRO IRRIGADO DO ITIÚBA (canal adutor leste, P12, S1P12 e S2P12) E DOS CANAIS DE IRRIGAÇÃO (CLI e CLII) DO PERÍMETRO IRRIGADO DO BOACICA."},{"$nulls":4},{"$f":"$C$4","v":"CODEVASF"},null,null,{"$f":"$C$6","v":"DATA: ANO 2020"}]
[null,null,"SERVIÇO: FORNECIMENTO E INSTALAÇÃO DE GEOMENBRANA, PEAD, TEXTURIZADA EM AMBAS AS FACES, ESP=1,00MM",{"$nulls":4},"COD: ","CAC-017",null,"UNIDADE: ","M2"]
[]
[null,null,"SERVIÇOS - COMPOSIÇÕES AUXILIARES ............................................................................................................................................................................",{"$nulls":7},"SUB-TOTAL (1) = ",{"$f":"SUM(L512:L513)","v":0}]
[null,null,"DISCRIMINAÇÃO","SINAPI","UNID",null,"QTDE","PROD","IMPROD","P.UNIT. PROD","P.UNIT. IMPR","P.TOTAL"]
[{"$nulls":11},{"$f":"G512*J512","v":0}]
[{"$nulls":11},{"$f":"G513*J513","v":0}]
[]
[null,null,"EQUIPAMENTO .............................................................................................................................................................................................................................",{"$nulls":7},"SUB-TOTAL (2) = ",{"$f":"SUM(L517:L518)","v":0.46036359999999993}]
[null,null,"DISCRIMINAÇÃO","SINAPI","UNID",null,"QTDE","PROD","IMPROD","P.UNIT. PROD","P.UNIT. IMPR","P.TOTAL"]
[null,null,"MAQUINA DE SOLDA DE PEAD","NT1","H",null,7.9999999999999996E-6,null,null,57545.45,null,{"$f":"G517*J517","v":0.46036359999999993}]
[{"$nulls":11},{"$f":"G518*J518","v":0}]
[]
[null,null,"MATERIAL ........................................................................................................................................................................................................................................",{"$nulls":7},"SUB-TOTAL (3) = ",{"$f":"SUM(L522:L523)","v":15.445600000000001}]
[null,null,"DISCRIMINAÇÃO","COTAÇÃO","UNID",null,"QTDE","PROD","IMPROD","P.UNIT. PROD","P.UNIT. IMPR","P.TOTAL"]
[null,null,"MANTA TERMOPLASTICA, PEAD, GEOMEMBRANA TEXTURIZADA EM AMBAS AS FACES, E = 1MM ( POSTO EM OBRA)  (quantitativo com transpasse)","COTAÇÃO","M2",null,1.08,null,null,12.82,null,{"$f":"G522*J522","v":13.845600000000001}]
[null,null,"FIO PARA SOLDA DE GEOMEMBRANA ","COTAÇÃO","PC",null,1,null,null,1.6,null,{"$f":"G523*J523","v":1.6}]
[]
[null,null,"MÃO DE OBRA .................................................................................................................................................................................................................................",{"$nulls":7},"SUB-TOTAL (4) = ",{"$f":"SUM(L527:L529)","v":7.0365000000000002}]
[null,null,"DISCRIMINAÇÃO","SINAPI","UNID",null,"QTDE","PROD","IMPROD","P.UNIT. PROD","P.UNIT. IMPR","P.TOTAL"]
[null,null,"PEDREIRO COM ENCARGOS",88309,"H",null,0.15,null,null,18.309999999999999,null,{"$f":"G527*J527","v":2.7464999999999997}]
[null,null,"SERVENTE COM ENCARGOS",88316,"H",null,0.3,null,null,14.3,null,{"$f":"G528*J528","v":4.29}]
[{"$nulls":11},{"$f":"G529*J529","v":0}]
[]
[null,null,"OBSERVAÇÕES:","PROD DA EQUIPE =",null,null,1,null,null,null,"CUSTO (SUB-TOTAL 1 + 2 + 3 + 4) = ",{"$f":"L525+L520+L510+L515","v":22.942463600000004}]
[null,null,null,"RESP. TÉCNICO:",{"$nulls":6},"TOTAL - R$ = ",{"$f":"L531/G531","v":22.942463600000004}]
[{"$nulls":10},"BDI (%) = ",{"$f":"$I$3","v":0.2101044698987744}]
[{"$nulls":10},"TOTAL DO SERVIÇO - R$ = ",{"$f":"L532*L533+L532","v":27.762777752849932}]
[null,null,{"$f":"C539","v":"SERVIÇO: PPREPARO E EXECUÇÃO DE SOLO-CIMENTO TRAÇO 1:12 EM VOLUME, (CIMENTO/ARENOSO), COM COMPACTAÇÃO E ESPALHAMENTO, PARA SUPORTE DE FUNDAÇÕES, INCLUSIVE CIMENTO E ARENOSO COMERCIAL "},{"$f":"I539","v":"CAC-018"},{"$f":"L539","v":"M2"},"C. Unit. =",{"$f":"L563","v":251.19119999999998},null,"P. Unit.=",{"$f":"L565","v":303.967593919237},{"$f":"$C$5","v":"SINAPI:Abril/2020 (Alagoas/AL) - NÃO DESONERADO"}]
[null,null," COMPOSIÇÃO ANALÍTICA DE CUSTO"]
[]
[null,null,{"$f":"$C$3","v":"EXECUÇÃO DE OBRAS E SERVIÇOS DE RECUPERAÇÃO PARCIAL DO DIQUE DE PROTEÇÃO E RECUPERAÇÃO DOS CANAIS DE IRRIGAÇÃO DO PERÍMETRO IRRIGADO DO ITIÚBA (canal adutor leste, P12, S1P12 e S2P12) E DOS CANAIS DE IRRIGAÇÃO (CLI e CLII) DO PERÍMETRO IRRIGADO DO BOACICA."},{"$nulls":4},{"$f":"$C$4","v":"CODEVASF"},null,null,{"$f":"$C$6","v":"DATA: ANO 2020"}]
[null,null,"SERVIÇO: PPREPARO E EXECUÇÃO DE SOLO-CIMENTO TRAÇO 1:12 EM VOLUME, (CIMENTO/ARENOSO), COM COMPACTAÇÃO E ESPALHAMENTO, PARA SUPORTE DE FUNDAÇÕES, INCLUSIVE CIMENTO E ARENOSO COMERCIAL ",{"$nulls":4},"COD: ","CAC-018",null,"UNIDADE: ","M2"]
[]
[null,null,"SERVIÇOS - COMPOSIÇÕES AUXILIARES ............................................................................................................................................................................",{"$nulls":7},"SUB-TOTAL (1) = ",{"$f":"SUM(L543:L544)","v":0}]
[null,null,"DISCRIMINAÇÃO","SINAPI","UNID",null,"QTDE","PROD","IMPROD","P.UNIT. PROD","P.UNIT. IMPR","P.TOTAL"]
[{"$nulls":11},{"$f":"G543*J543","v":0}]
[{"$nulls":11},{"$f":"G544*J544","v":0}]
[]
[null,null,"EQUIPAMENTO .............................................................................................................................................................................................................................",{"$nulls":7},"SUB-TOTAL (2) = ",{"$f":"SUM(L548:L549)","v":0}]
[null,null,"DISCRIMINAÇÃO","SINAPI","UNID",null,"QTDE","PROD","IMPROD","P.UNIT. PROD","P.UNIT. IMPR","P.TOTAL"]
[]
[{"$nulls":11},{"$f":"G549*J549","v":0}]
[]
[null,null,"MATERIAL ........................................................................................................................................................................................................................................",{"$nulls":7},"SUB-TOTAL (3) = ",{"$f":"SUM(L553:L555)","v":165.39119999999997}]
[null,null,"DISCRIMINAÇÃO","COTAÇÃO","UNID",null,"QTDE","PROD","IMPROD","P.UNIT. PROD","P.UNIT. IMPR","P.TOTAL"]
[null,null,"CIMENTO PORTLAND COMPOSTO CP II-32","SINAPI","KG",null,107.69,null,null,0.48,null,{"$f":"G553*J553","v":51.691199999999995}]
[null,null,"ARENOSO ADQUIRIDO EM DEPÓSITO , FRETE INCLUSO (ARENOSO COMERCIAL) ","ORSE","M3",null,1.3,null,null,75,null,{"$f":"G554*J554","v":97.5}]
[null,null,"ALUGUEL DE COMPACTADOR PNEUMÁTICO ( DYNAPC - LC 71 GASOLINA 2,5 HP) ","ORSE","H",null,6,null,null,2.7,null,{"$f":"G555*J555","v":16.200000000000003}]
[]
[null,null,"MÃO DE OBRA .................................................................................................................................................................................................................................",{"$nulls":7},"SUB-TOTAL (4) = ",{"$f":"SUM(L559:L560)","v":85.800000000000011}]
[null,null,"DISCRIMINAÇÃO","SINAPI","UNID",null,"QTDE","PROD","IMPROD","P.UNIT. PROD","P.UNIT. IMPR","P.TOTAL"]
[null,null,"SERVENTE COM ENCARGOS COMPLEMENTARES",88316,"H",null,6,null,null,14.3,null,{"$f":"G559*J559","v":85.800000000000011}]
[{"$nulls":11},{"$f":"G560*J560","v":0}]
[]
[null,null,"OBSERVAÇÕES:","PROD DA EQUIPE =",null,null,1,null,null,null,"CUSTO (SUB-TOTAL 1 + 2 + 3 + 4) = ",{"$f":"L557+L551+L541+L546","v":251.19119999999998}]
[null,null,null,"RESP. TÉCNICO:",{"$nulls":6},"TOTAL - R$ = ",{"$f":"L562/G562","v":251.19119999999998}]
[{"$nulls":10},"BDI (%) = ",{"$f":"$I$3","v":0.2101044698987744}]
[{"$nulls":10},"TOTAL DO SERVIÇO - R$ = ",{"$f":"L563*L564+L563","v":303.967593919237}]
[null,null,{"$f":"C570","v":"SERVIÇO: ARMAÇÃO DE AÇO CA-60 DIAM. 3,4 A 6,0 MM - FORNECIMENTO / CORTE (C/ PERDA DE 10%) / DOBRA / COLOCAÇÃO"},{"$f":"I570","v":"CAC-019"},{"$f":"L570","v":"KG"},"C. Unit. =",{"$f":"L593","v":10.747},null,"P. Unit.=",{"$f":"L595","v":13.004992738002128},{"$f":"$C$5","v":"SINAPI:Abril/2020 (Alagoas/AL) - NÃO DESONERADO"}]
[null,null," COMPOSIÇÃO ANALÍTICA DE CUSTO"]
[]
[null,null,{"$f":"$C$3","v":"EXECUÇÃO DE OBRAS E SERVIÇOS DE RECUPERAÇÃO PARCIAL DO DIQUE DE PROTEÇÃO E RECUPERAÇÃO DOS CANAIS DE IRRIGAÇÃO DO PERÍMETRO IRRIGADO DO ITIÚBA (canal adutor leste, P12, S1P12 e S2P12) E DOS CANAIS DE IRRIGAÇÃO (CLI e CLII) DO PERÍMETRO IRRIGADO DO BOACICA."},{"$nulls":4},{"$f":"$C$4","v":"CODEVASF"},null,null,{"$f":"$C$6","v":"DATA: ANO 2020"}]
[null,null,"SERVIÇO: ARMAÇÃO DE AÇO CA-60 DIAM. 3,4 A 6,0 MM - FORNECIMENTO / CORTE (C/ PERDA DE 10%) / DOBRA / COLOCAÇÃO",{"$nulls":4},"COD: ","CAC-019",null,"UNIDADE: ","KG"]
[]
[null,null,"SERVIÇOS - COMPOSIÇÕES AUXILIARES ............................................................................................................................................................................",{"$nulls":7},"SUB-TOTAL (1) = ",{"$f":"SUM(L574:L575)","v":10.747}]
[null,null,"DISCRIMINAÇÃO","SINAPI","UNID",null,"QTDE","PROD","IMPROD","P.UNIT. PROD","P.UNIT. IMPR","P.TOTAL"]
[null,null,"ARMAÇÃO DE LAJE DE UMA ESTRUTURA CONVENCIONAL DE CONCRETO ARMADO EM UM EDIFÍCIO DE MÚLTIPLOS PAVIMENTOS UTILIZANDO AÇO CA-60 DE 5,0 MM - MONTAGEM",92759,"KG",null,1.1000000000000001,null,null,9.77,null,{"$f":"G574*J574","v":10.747}]
[{"$nulls":11},{"$f":"G575*J575","v":0}]
[]
[null,null,"EQUIPAMENTO .............................................................................................................................................................................................................................",{"$nulls":7},"SUB-TOTAL (2) = ",{"$f":"SUM(L579:L580)","v":0}]
[null,null,"DISCRIMINAÇÃO","SINAPI","UNID",null,"QTDE","PROD","IMPROD","P.UNIT. PROD","P.UNIT. IMPR","P.TOTAL"]
[{"$nulls":11},{"$f":"G579*J579","v":0}]
[{"$nulls":11},{"$f":"G580*J580","v":0}]
[]
[null,null,"MATERIAL ........................................................................................................................................................................................................................................",{"$nulls":7},"SUB-TOTAL (3) = ",{"$f":"SUM(L584:L585)","v":0}]
[null,null,"DISCRIMINAÇÃO","SINAPI","UNID",null,"QTDE","PROD","IMPROD","P.UNIT. PROD","P.UNIT. IMPR","P.TOTAL"]
[{"$nulls":11},{"$f":"G584*J584","v":0}]
[{"$nulls":11},{"$f":"G585*J585","v":0}]
[]
[null,null,"MÃO DE OBRA .................................................................................................................................................................................................................................",{"$nulls":7},"SUB-TOTAL (4) = ",{"$f":"SUM(L589:L590)","v":0}]
[null,null,"DISCRIMINAÇÃO","SINAPI","UNID",null,"QTDE","PROD","IMPROD","P.UNIT. PROD","P.UNIT. IMPR","P.TOTAL"]
[{"$nulls":11},{"$f":"G589*J589","v":0}]
[{"$nulls":11},{"$f":"G590*J590","v":0}]
[]
[null,null,"OBSERVAÇÕES:","PROD DA EQUIPE =",null,null,1,null,null,null,"CUSTO (SUB-TOTAL 1 + 2 + 3 + 4) = ",{"$f":"L587+L582+L572+L577","v":10.747}]
[null,null,null,"RESP. TÉCNICO:",{"$nulls":6},"TOTAL - R$ = ",{"$f":"L592/G592","v":10.747}]
[{"$nulls":10},"BDI (%) = ",{"$f":"$I$3","v":0.2101044698987744}]
[{"$nulls":10},"TOTAL DO SERVIÇO - R$ = ",{"$f":"L593*L594+L593","v":13.004992738002128}]
[]
[null,null,{"$f":"C601","v":"SERVIÇO:  EXECUÇÃO DE LASTRO EM CONCRETO MAGRO (1:4,5:4,5), PREPARO MEC., LANÇAMENTO E APLICAÇÃO MANUAL"},{"$f":"I601","v":"CAC-020"},{"$f":"L601","v":"M3"},"C. Unit. =",{"$f":"L623","v":336.57400000000001},null,"P. Unit.=",{"$f":"L625","v":407.28970185171011},{"$f":"$C$5","v":"SINAPI:Abril/2020 (Alagoas/AL) - NÃO DESONERADO"}]
[null,null," COMPOSIÇÃO ANALÍTICA DE CUSTO"]
[]
[null,null,{"$f":"$C$3","v":"EXECUÇÃO DE OBRAS E SERVIÇOS DE RECUPERAÇÃO PARCIAL DO DIQUE DE PROTEÇÃO E RECUPERAÇÃO DOS CANAIS DE IRRIGAÇÃO DO PERÍMETRO IRRIGADO DO ITIÚBA (canal adutor leste, P12, S1P12 e S2P12) E DOS CANAIS DE IRRIGAÇÃO (CLI e CLII) DO PERÍMETRO IRRIGADO DO BOACICA."},{"$nulls":4},{"$f":"$C$4","v":"CODEVASF"},null,null,{"$f":"$C$6","v":"DATA: ANO 2020"}]
[null,null,"SERVIÇO:  EXECUÇÃO DE LASTRO EM CONCRETO MAGRO (1:4,5:4,5), PREPARO MEC., LANÇAMENTO E APLICAÇÃO MANUAL",{"$nulls":4},"COD: ","CAC-020",null,"UNIDADE: ","M3"]
[]
[null,null,"SERVIÇOS - COMPOSIÇÕES AUXILIARES ............................................................................................................................................................................",{"$nulls":7},"SUB-TOTAL (1) = ",{"$f":"SUM(L605:L606)","v":248.02}]
[null,null,"DISCRIMINAÇÃO","SINAPI","UNID",null,"QTDE","PROD","IMPROD","P.UNIT. PROD","P.UNIT. IMPR","P.TOTAL"]
[null,null,"CONCRETO MAGRO PARA LASTRO, TRAÇO 1:4,5:4,5 (CIMENTO/ AREIA MÉDIA/ BRITA 1) - PREPARO MECANICO COM BETONEIRA 600 L. AF_07/2016",94968,"M3",null,1,null,null,248.02,null,{"$f":"G605*J605","v":248.02}]
[]
[]
[null,null,"EQUIPAMENTO .............................................................................................................................................................................................................................",{"$nulls":7},"SUB-TOTAL (2) = ",{"$f":"SUM(L610:L611)","v":0}]
[null,null,"DISCRIMINAÇÃO","SINAPI","UNID",null,"QTDE","PROD","IMPROD","P.UNIT. PROD","P.UNIT. IMPR","P.TOTAL"]
[{"$nulls":11},{"$f":"G610*J610","v":0}]
[{"$nulls":11},{"$f":"G611*J611","v":0}]
[]
[null,null,"MATERIAL ........................................................................................................................................................................................................................................",{"$nulls":7},"SUB-TOTAL (3) = ",{"$f":"SUM(L615:L615)","v":0}]
[null,null,"DISCRIMINAÇÃO","SINAPI","UNID",null,"QTDE","PROD","IMPROD","P.UNIT. PROD","P.UNIT. IMPR","P.TOTAL"]
[{"$nulls":11},{"$f":"G615*J615","v":0}]
[]
[null,null,"MÃO DE OBRA .................................................................................................................................................................................................................................",{"$nulls":7},"SUB-TOTAL (4) = ",{"$f":"SUM(L619:L620)","v":88.554000000000002}]
[null,null,"DISCRIMINAÇÃO","SINAPI","UNID",null,"QTDE","PROD","IMPROD","P.UNIT. PROD","P.UNIT. IMPR","P.TOTAL"]
[null,null,"PEDREIRO COM ENCARGOS COMPLEMENTARES",88309,"H",null,1.4,null,null,18.309999999999999,null,{"$f":"G619*J619","v":25.633999999999997}]
[null,null,"SERVENTE COM ENCARGOS COMPLEMENTARES",88316,"H",null,4.4000000000000004,null,null,14.3,null,{"$f":"G620*J620","v":62.920000000000009}]
[]
[null,null,"OBSERVAÇÕES:","PROD DA EQUIPE =",null,null,1,null,null,null,"CUSTO (SUB-TOTAL 1 + 2 + 3 + 4) = ",{"$f":"L617+L613+L603+L608","v":336.57400000000001}]
[null,null,null,"RESP. TÉCNICO:",{"$nulls":6},"TOTAL - R$ = ",{"$f":"L622/G622","v":336.57400000000001}]
[{"$nulls":10},"BDI (%) = ",{"$f":"$I$3","v":0.2101044698987744}]
[{"$nulls":10},"TOTAL DO SERVIÇO - R$ = ",{"$f":"L623*L624+L623","v":407.28970185171011}]
[null,null,{"$f":"C629","v":"SERVIÇO: FORMA PLANA METALICA PARA MURETA, UTILIZAÇÃO 20X"},{"$f":"I629","v":"CAC-021"},{"$f":"L629","v":"M2"},"C. Unit. =",{"$f":"L655","v":5.6880799999999994},null,"P. Unit.=",{"$f":"L657","v":6.8831710331418199},{"$f":"$C$5","v":"SINAPI:Abril/2020 (Alagoas/AL) - NÃO DESONERADO"}]
[null,null," COMPOSIÇÃO ANALÍTICA DE CUSTO"]
[null,null,{"$f":"$C$3","v":"EXECUÇÃO DE OBRAS E SERVIÇOS DE RECUPERAÇÃO PARCIAL DO DIQUE DE PROTEÇÃO E RECUPERAÇÃO DOS CANAIS DE IRRIGAÇÃO DO PERÍMETRO IRRIGADO DO ITIÚBA (canal adutor leste, P12, S1P12 e S2P12) E DOS CANAIS DE IRRIGAÇÃO (CLI e CLII) DO PERÍMETRO IRRIGADO DO BOACICA."},{"$nulls":4},{"$f":"$C$4","v":"CODEVASF"},null,null,{"$f":"$C$6","v":"DATA: ANO 2020"}]
[null,null,"SERVIÇO: FORMA PLANA METALICA PARA MURETA, UTILIZAÇÃO 20X",{"$nulls":4},"COD: ","CAC-021",null,"UNIDADE: ","M2"]
[]
[null,null,"SERVIÇOS - COMPOSIÇÕES AUXILIARES ............................................................................................................................................................................",{"$nulls":7},"SUB-TOTAL (1) = ",{"$f":"SUM(L633:L634)","v":0}]
[null,null,"DISCRIMINAÇÃO","SINAPI","UNID",null,"QTDE","PROD","IMPROD","P.UNIT. PROD","P.UNIT. IMPR","P.TOTAL"]
[{"$nulls":11},{"$f":"G633*J633","v":0}]
[{"$nulls":11},{"$f":"G634*J634","v":0}]
[]
[null,null,"EQUIPAMENTO .............................................................................................................................................................................................................................",{"$nulls":7},"SUB-TOTAL (2) = ",{"$f":"SUM(L638:L639)","v":0}]
[null,null,"DISCRIMINAÇÃO","SINAPI","UNID",null,"QTDE","PROD","IMPROD","P.UNIT. PROD","P.UNIT. IMPR","P.TOTAL"]
[{"$nulls":11},{"$f":"G638*J638","v":0}]
[{"$nulls":11},{"$f":"G639*J639","v":0}]
[]
[null,null,"MATERIAL ........................................................................................................................................................................................................................................",{"$nulls":7},"SUB-TOTAL (3) = ",{"$f":"SUM(L643:L646)","v":90.409599999999998}]
[null,null,"DISCRIMINAÇÃO","SINAPI","UNID",null,"QTDE","PROD","IMPROD","P.UNIT. PROD","P.UNIT. IMPR","P.TOTAL"]
[null,null,"CHAPA ACO FINA QUENTE PRETA 13MSG E = 2,28MM - 18,31KG/M2",1321,"KG",null,9.0500000000000007,null,null,5.13,null,{"$f":"G643*J643","v":46.426500000000004}]
[null,null,"CANTONEIRA ACO ABAS IGUAIS (QUALQUER BITOLA), ESPESSURA ENTRE 1/8\" E 1/4\"",4777,"KG",null,9.48,null,null,4.57,null,{"$f":"G644*J644","v":43.323600000000006}]
[null,null,"DESMOLDANTE PARA FORMAS METALICAS A BASE DE OLEO VEGETAL",39397,"L",null,0.05,null,null,13.19,null,{"$f":"G645*J645","v":0.65949999999999998}]
[{"$nulls":11},{"$f":"G646*J646","v":0}]
[]
[null,null,"MÃO DE OBRA .................................................................................................................................................................................................................................",{"$nulls":7},"SUB-TOTAL (4) = ",{"$f":"SUM(L650:L652)","v":23.351999999999997}]
[null,null,"DISCRIMINAÇÃO","SINAPI","UNID",null,"QTDE","PROD","IMPROD","P.UNIT. PROD","P.UNIT. IMPR","P.TOTAL"]
[null,null,"CARPINTEIRO COM ENCARGOS COMPLEMENTARES ",88262,"H",null,0.7,null,null,18.18,null,{"$f":"G650*J650","v":12.725999999999999}]
[null,null,"AJUDANTE DE CARPINTEIRO",88239,"H",null,0.7,null,null,15.18,null,{"$f":"G651*J651","v":10.625999999999999}]
[{"$nulls":11},{"$f":"G652*J652","v":0}]
[]
[null,null,"OBSERVAÇÕES:","PROD DA EQUIPE =",null,null,20,null,null,null,"CUSTO (SUB-TOTAL 1 + 2 + 3 + 4) = ",{"$f":"L648+L641+L631+L636","v":113.76159999999999}]
[null,null,null,"RESP. TÉCNICO:",{"$nulls":6},"TOTAL - R$ = ",{"$f":"L654/G654","v":5.6880799999999994}]
[{"$nulls":10},"BDI (%) = ",{"$f":"$I$3","v":0.2101044698987744}]
[{"$nulls":10},"TOTAL DO SERVIÇO - R$ = ",{"$f":"L655*L656+L655","v":6.8831710331418199}]
[null,null,{"$f":"C661","v":"SERVIÇO: ESCAVAÇÃO MANUAL DE VALAS"},{"$f":"I661","v":"CAC-022"},{"$f":"L661","v":"M3"},"C. Unit. =",{"$f":"L684","v":56.57},null,"P. Unit.=",{"$f":"L686","v":68.455609862173674},{"$f":"$C$5","v":"SINAPI:Abril/2020 (Alagoas/AL) - NÃO DESONERADO"}]
[null,null," COMPOSIÇÃO ANALÍTICA DE CUSTO"]
[null,null,{"$f":"$C$3","v":"EXECUÇÃO DE OBRAS E SERVIÇOS DE RECUPERAÇÃO PARCIAL DO DIQUE DE PROTEÇÃO E RECUPERAÇÃO DOS CANAIS DE IRRIGAÇÃO DO PERÍMETRO IRRIGADO DO ITIÚBA (canal adutor leste, P12, S1P12 e S2P12) E DOS CANAIS DE IRRIGAÇÃO (CLI e CLII) DO PERÍMETRO IRRIGADO DO BOACICA."},{"$nulls":4},{"$f":"$C$4","v":"CODEVASF"},null,null,{"$f":"$C$6","v":"DATA: ANO 2020"}]
[null,null,"SERVIÇO: ESCAVAÇÃO MANUAL DE VALAS",{"$nulls":4},"COD: ","CAC-022",null,"UNIDADE: ","M3"]
[]
[null,null,"SERVIÇOS - COMPOSIÇÕES AUXILIARES ............................................................................................................................................................................",{"$nulls":7},"SUB-TOTAL (1) = ",{"$f":"SUM(L665:L666)","v":56.57}]
[null,null,"DISCRIMINAÇÃO","SINAPI","UNID",null,"QTDE","PROD","IMPROD","P.UNIT. PROD","P.UNIT. IMPR","P.TOTAL"]
[null,null,"ESCAVAÇÃO MANUAL DE VALA COM PROFUNDIDADE MENOR OU IGUAL A 1,30 M. AF_",93358,"M3",null,1,null,null,56.57,null,{"$f":"G665*J665","v":56.57}]
[{"$nulls":11},{"$f":"G666*J666","v":0}]
[]
[null,null,"EQUIPAMENTO .............................................................................................................................................................................................................................",{"$nulls":7},"SUB-TOTAL (2) = ",{"$f":"SUM(L670:L671)","v":0}]
[null,null,"DISCRIMINAÇÃO","SINAPI","UNID",null,"QTDE","PROD","IMPROD","P.UNIT. PROD","P.UNIT. IMPR","P.TOTAL"]
[{"$nulls":11},{"$f":"G670*J670","v":0}]
[{"$nulls":11},{"$f":"G671*J671","v":0}]
[]
[null,null,"MATERIAL ........................................................................................................................................................................................................................................",{"$nulls":7},"SUB-TOTAL (3) = ",{"$f":"SUM(L675:L676)","v":0}]
[null,null,"DISCRIMINAÇÃO","SINAPI","UNID",null,"QTDE","PROD","IMPROD","P.UNIT. PROD","P.UNIT. IMPR","P.TOTAL"]
[{"$nulls":11},{"$f":"G675*J675","v":0}]
[{"$nulls":11},{"$f":"G676*J676","v":0}]
[]
[null,null,"MÃO DE OBRA .................................................................................................................................................................................................................................",{"$nulls":7},"SUB-TOTAL (4) = ",{"$f":"SUM(L680:L681)","v":0}]
[null,null,"DISCRIMINAÇÃO","SINAPI","UNID",null,"QTDE","PROD","IMPROD","P.UNIT. PROD","P.UNIT. IMPR","P.TOTAL"]
[{"$nulls":11},{"$f":"G680*J680","v":0}]
[{"$nulls":11},{"$f":"G681*J681","v":0}]
[]
[null,null,"OBSERVAÇÕES:","PROD DA EQUIPE =",null,null,1,null,null,null,"CUSTO (SUB-TOTAL 1 + 2 + 3 + 4) = ",{"$f":"L678+L673+L663+L668","v":56.57}]
[null,null,null,"RESP. TÉCNICO:",{"$nulls":6},"TOTAL - R$ = ",{"$f":"L683/G683","v":56.57}]
[{"$nulls":10},"BDI (%) = ",{"$f":"$I$3","v":0.2101044698987744}]
[{"$nulls":10},"TOTAL DO SERVIÇO - R$ = ",{"$f":"L684*L685+L684","v":68.455609862173674}]
[]
[null,null,{"$f":"C691","v":"SERVIÇO: TRELIÇA DE SUSTENTAÇÃO VERTICAL"},{"$f":"I691","v":"CAC-023"},{"$f":"L691","v":"M"},"C. Unit. =",{"$f":"L713","v":5.8174999999999999},null,"P. Unit.=",{"$f":"L715","v":7.0397827536361195},{"$f":"$C$5","v":"SINAPI:Abril/2020 (Alagoas/AL) - NÃO DESONERADO"}]
[null,null," COMPOSIÇÃO ANALÍTICA DE CUSTO"]
[null,null,{"$f":"$C$3","v":"EXECUÇÃO DE OBRAS E SERVIÇOS DE RECUPERAÇÃO PARCIAL DO DIQUE DE PROTEÇÃO E RECUPERAÇÃO DOS CANAIS DE IRRIGAÇÃO DO PERÍMETRO IRRIGADO DO ITIÚBA (canal adutor leste, P12, S1P12 e S2P12) E DOS CANAIS DE IRRIGAÇÃO (CLI e CLII) DO PERÍMETRO IRRIGADO DO BOACICA."},{"$nulls":4},{"$f":"$C$4","v":"CODEVASF"},null,null,{"$f":"$C$6","v":"DATA: ANO 2020"}]
[null,null,"SERVIÇO: TRELIÇA DE SUSTENTAÇÃO VERTICAL",{"$nulls":4},"COD: ","CAC-023",null,"UNIDADE: ","M"]
[]
[null,null,"SERVIÇOS - COMPOSIÇÕES AUXILIARES ............................................................................................................................................................................",{"$nulls":7},"SUB-TOTAL (1) = ",{"$f":"SUM(L695:L696)","v":0}]
[null,null,"DISCRIMINAÇÃO","SINAPI","UNID",null,"QTDE","PROD","IMPROD","P.UNIT. PROD","P.UNIT. IMPR","P.TOTAL"]
[{"$nulls":11},{"$f":"G695*J695","v":0}]
[{"$nulls":11},{"$f":"G696*J696","v":0}]
[]
[null,null,"EQUIPAMENTO .............................................................................................................................................................................................................................",{"$nulls":7},"SUB-TOTAL (2) = ",{"$f":"SUM(L700:L700)","v":0}]
[null,null,"DISCRIMINAÇÃO","SINAPI","UNID",null,"QTDE","PROD","IMPROD","P.UNIT. PROD","P.UNIT. IMPR","P.TOTAL"]
[{"$nulls":11},{"$f":"G700*J700","v":0}]
[]
[null,null,"MATERIAL ........................................................................................................................................................................................................................................",{"$nulls":7},"SUB-TOTAL (3) = ",{"$f":"SUM(L704:L705)","v":3.1}]
[null,null,"DISCRIMINAÇÃO","SINAPI","UNID",null,"QTDE","PROD","IMPROD","P.UNIT. PROD","P.UNIT. IMPR","P.TOTAL"]
[null,null,"TRELIÇA TR 08634 (0,735 KG/M)","NT2","M",null,1,null,null,3.1,null,{"$f":"G704*J704","v":3.1}]
[{"$nulls":11},{"$f":"G705*J705","v":0}]
[]
[null,null,"MÃO DE OBRA .................................................................................................................................................................................................................................",{"$nulls":7},"SUB-TOTAL (4) = ",{"$f":"SUM(L709:L710)","v":2.7174999999999998}]
[null,null,"DISCRIMINAÇÃO","SINAPI","UNID",null,"QTDE","PROD","IMPROD","P.UNIT. PROD","P.UNIT. IMPR","P.TOTAL"]
[null,null,"PEDREIRO COM ENCARGOS COMPLEMENTARES",88309,"H",null,{"$f":"1/12","v":8.3333333333333329E-2},null,null,18.309999999999999,null,{"$f":"G709*J709","v":1.5258333333333332}]
[null,null,"SERVENTE COM ENCARGOS COMPLEMENTARES",88316,"H",null,{"$f":"1/12","v":8.3333333333333329E-2},null,null,14.3,null,{"$f":"G710*J710","v":1.1916666666666667}]
[]
[null,null,"OBSERVAÇÕES:","PROD DA EQUIPE =",null,null,1,null,null,null,"CUSTO (SUB-TOTAL 1 + 2 + 3 + 4) = ",{"$f":"L707+L702+L693+L698","v":5.8174999999999999}]
[null,null,null,"RESP. TÉCNICO:",{"$nulls":6},"TOTAL - R$ = ",{"$f":"L712/G712","v":5.8174999999999999}]
[{"$nulls":10},"BDI (%) = ",{"$f":"$I$3","v":0.2101044698987744}]
[{"$nulls":10},"TOTAL DO SERVIÇO - R$ = ",{"$f":"L713*L714+L713","v":7.0397827536361195}]
[]
[null,null,{"$f":"C721","v":"SERVIÇO: ESCAVACAO, CARGA E TRANSPORTE DE MATERIAL DE 1A CATEGORIA, CAMINHO DE SERVIÇO LEITO NATURAL, COM ESCAVADEIRA HIDRAULICA E CAMINHAO BASCULANT E 6 M3 DMT 50 ATE 200 M"},{"$f":"I721","v":"CAC-024"},{"$f":"L721","v":"M3"},null,null,null,"P. Unit.=",{"$f":"L744","v":0},{"$f":"$C$5","v":"SINAPI:Abril/2020 (Alagoas/AL) - NÃO DESONERADO"}]
[null,null," COMPOSIÇÃO ANALÍTICA DE CUSTO"]
[]
[null,null,{"$f":"$C$3","v":"EXECUÇÃO DE OBRAS E SERVIÇOS DE RECUPERAÇÃO PARCIAL DO DIQUE DE PROTEÇÃO E RECUPERAÇÃO DOS CANAIS DE IRRIGAÇÃO DO PERÍMETRO IRRIGADO DO ITIÚBA (canal adutor leste, P12, S1P12 e S2P12) E DOS CANAIS DE IRRIGAÇÃO (CLI e CLII) DO PERÍMETRO IRRIGADO DO BOACICA."},{"$nulls":4},{"$f":"$C$4","v":"CODEVASF"},null,null,{"$f":"$C$6","v":"DATA: ANO 2020"}]
[null,null,"SERVIÇO: ESCAVACAO, CARGA E TRANSPORTE DE MATERIAL DE 1A CATEGORIA, CAMINHO DE SERVIÇO LEITO NATURAL, COM ESCAVADEIRA HIDRAULICA E CAMINHAO BASCULANT E 6 M3 DMT 50 ATE 200 M",{"$nulls":4},"COD: ","CAC-024",null,"UNIDADE: ","M3"]
[]
[null,null,"SERVIÇOS - COMPOSIÇÕES AUXILIARES ............................................................................................................................................................................",{"$nulls":7},"SUB-TOTAL (1) = ",{"$f":"SUM(L725:L726)","v":0}]
[null,null,"DISCRIMINAÇÃO","SINAPI","UNID",null,"QTDE","PROD","IMPROD","P.UNIT. PROD","P.UNIT. IMPR","P.TOTAL"]
[null,null,"ESCAVAÇÃO VERTICAL A CÉU ABERTO, INCLUINDO CARGA, DESCARGA E TRANSPORTE, EM SOLO DE 1ª CATEGORIA COM ESCAVADEIRA HIDRAULICA (CAÇAMB: 0,8M³/111HP), FROTA DE 3 CAMINHÕES BASCULANTES DE 14 M³, DMT DE 0,2 KM E VELOCIDADE MEDIA 4 KM/H. AF_12/2013",89885,"M3",null,1,null,null,{"$f":"IFERROR(VLOOKUP(D725,$D$7:$J$8,6,0),0)","v":0},null,{"$f":"G725*J725","v":0}]
[{"$nulls":11},{"$f":"G726*J726","v":0}]
[]
[null,null,"EQUIPAMENTO .............................................................................................................................................................................................................................",{"$nulls":7},"SUB-TOTAL (2) = ",{"$f":"SUM(L730:L731)","v":0}]
[null,null,"DISCRIMINAÇÃO","SINAPI","UNID",null,"QTDE","PROD","IMPROD","P.UNIT. PROD","P.UNIT. IMPR","P.TOTAL"]
[{"$nulls":11},{"$f":"G730*J730","v":0}]
[{"$nulls":11},{"$f":"G731*J731","v":0}]
[]
[null,null,"MATERIAL ........................................................................................................................................................................................................................................",{"$nulls":7},"SUB-TOTAL (3) = ",{"$f":"SUM(L735:L736)","v":0}]
[null,null,"DISCRIMINAÇÃO","SINAPI","UNID",null,"QTDE","PROD","IMPROD","P.UNIT. PROD","P.UNIT. IMPR","P.TOTAL"]
[{"$nulls":11},{"$f":"G735*J735","v":0}]
[{"$nulls":11},{"$f":"G736*J736","v":0}]
[]
[null,null,"MÃO DE OBRA .................................................................................................................................................................................................................................",{"$nulls":7},"SUB-TOTAL (4) = ",{"$f":"SUM(L740:L741)","v":0}]
[null,null,"DISCRIMINAÇÃO","SINAPI","UNID",null,"QTDE","PROD","IMPROD","P.UNIT. PROD","P.UNIT. IMPR","P.TOTAL"]
[{"$nulls":11},{"$f":"G740*J740","v":0}]
[{"$nulls":11},{"$f":"G741*J741","v":0}]
[]
[null,null,"OBSERVAÇÕES:","PROD DA EQUIPE =",null,null,1,null,null,null,"CUSTO (SUB-TOTAL 1 + 2 + 3 + 4) = ",{"$f":"L738+L733+L723+L728","v":0}]
[null,null,null,"RESP. TÉCNICO:",{"$nulls":6},"TOTAL - R$ = ",{"$f":"L743/G743","v":0}]
[{"$nulls":10},"BDI (%) = ",{"$f":"$I$3","v":0.2101044698987744}]
[{"$nulls":10},"TOTAL DO SERVIÇO - R$ = ",{"$f":"L744*L745+L744","v":0}]
[]
[null,null,{"$f":"C752","v":"SERVIÇO: ATERRO COMPACTADO MANUALMENTE COM FORNECIMENTO DE MATERIAL"},{"$f":"I752","v":"CAC-025"},{"$f":"L752","v":"M3"},null,null,null,"P. Unit.=",{"$f":"L775","v":0},{"$f":"$C$5","v":"SINAPI:Abril/2020 (Alagoas/AL) - NÃO DESONERADO"}]
[null,null," COMPOSIÇÃO ANALÍTICA DE CUSTO"]
[]
[null,null,{"$f":"$C$3","v":"EXECUÇÃO DE OBRAS E SERVIÇOS DE RECUPERAÇÃO PARCIAL DO DIQUE DE PROTEÇÃO E RECUPERAÇÃO DOS CANAIS DE IRRIGAÇÃO DO PERÍMETRO IRRIGADO DO ITIÚBA (canal adutor leste, P12, S1P12 e S2P12) E DOS CANAIS DE IRRIGAÇÃO (CLI e CLII) DO PERÍMETRO IRRIGADO DO BOACICA."},{"$nulls":4},{"$f":"$C$4","v":"CODEVASF"},null,null,{"$f":"$C$6","v":"DATA: ANO 2020"}]
[null,null,"SERVIÇO: ATERRO COMPACTADO MANUALMENTE COM FORNECIMENTO DE MATERIAL",{"$nulls":4},"COD: ","CAC-025",null,"UNIDADE: ","M3"]
[]
[null,null,"SERVIÇOS - COMPOSIÇÕES AUXILIARES ............................................................................................................................................................................",{"$nulls":7},"SUB-TOTAL (1) = ",{"$f":"SUM(L756:L757)","v":0}]
[null,null,"DISCRIMINAÇÃO","SINAPI","UNID",null,"QTDE","PROD","IMPROD","P.UNIT. PROD","P.UNIT. IMPR","P.TOTAL"]
[null,null,"MATERIAL DE JAZIDA (AO NATURAL) PARA BASE DE PAVIMENTACAO, SEM TRANSPORTE (PEDREGULHO OU PICARRA)",4746,"M3",null,1,null,null,{"$f":"IFERROR(VLOOKUP(D756,$D$7:$J$8,6,0),0)","v":0},null,{"$f":"G756*J756","v":0}]
[{"$nulls":11},{"$f":"G757*J757","v":0}]
[]
[null,null,"EQUIPAMENTO .............................................................................................................................................................................................................................",{"$nulls":7},"SUB-TOTAL (2) = ",{"$f":"SUM(L761:L762)","v":0}]
[null,null,"DISCRIMINAÇÃO","SINAPI","UNID",null,"QTDE","PROD","IMPROD","P.UNIT. PROD","P.UNIT. IMPR","P.TOTAL"]
[null,null,"COMPACTADOR DE SOLOS DE PERCUSÃO (SOQUETE) COM MOTOR A GASOLINA, POTÊNCIA 3 CV - CHP DIURNO. AF_09/2016",95264,"CHP",null,2,null,null,{"$f":"IFERROR(VLOOKUP(D761,$D$7:$J$8,6,0),0)","v":0},null,{"$f":"G761*J761","v":0}]
[{"$nulls":11},{"$f":"G762*J762","v":0}]
[]
[null,null,"MATERIAL ........................................................................................................................................................................................................................................",{"$nulls":7},"SUB-TOTAL (3) = ",{"$f":"SUM(L766:L767)","v":0}]
[null,null,"DISCRIMINAÇÃO","SINAPI","UNID",null,"QTDE","PROD","IMPROD","P.UNIT. PROD","P.UNIT. IMPR","P.TOTAL"]
[{"$nulls":11},{"$f":"G766*J766","v":0}]
[{"$nulls":11},{"$f":"G767*J767","v":0}]
[]
[null,null,"MÃO DE OBRA .................................................................................................................................................................................................................................",{"$nulls":7},"SUB-TOTAL (4) = ",{"$f":"SUM(L771:L772)","v":0}]
[null,null,"DISCRIMINAÇÃO","SINAPI","UNID",null,"QTDE","PROD","IMPROD","P.UNIT. PROD","P.UNIT. IMPR","P.TOTAL"]
[null,null,"SERVENTE",6111,"H",null,2,null,null,{"$f":"IFERROR(VLOOKUP(D771,$D$7:$J$8,6,0),0)","v":0},null,{"$f":"G771*J771","v":0}]
[{"$nulls":11},{"$f":"G772*J772","v":0}]
[]
[null,null,"OBSERVAÇÕES:","PROD DA EQUIPE =",null,null,1,null,null,null,"CUSTO (SUB-TOTAL 1 + 2 + 3 + 4) = ",{"$f":"L769+L764+L754+L759","v":0}]
[null,null,null,"RESP. TÉCNICO:",{"$nulls":6},"TOTAL - R$ = ",{"$f":"L774/G774","v":0}]
[{"$nulls":10},"BDI (%) = ",{"$f":"$I$3","v":0.2101044698987744}]
[{"$nulls":10},"TOTAL DO SERVIÇO - R$ = ",{"$f":"L775*L776+L775","v":0}]
[]
[null,null,{"$f":"C783","v":"SERVIÇO: JUNTA DE DILATAÇÃO EM MASTIQUE ELÁSTICO"},{"$f":"I783","v":"CAC-026"},{"$f":"L783","v":"M"},"C. Unit. =",{"$f":"L808","v":22.577500000000001},null,"P. Unit.=",{"$f":"L810","v":27.321133669139581},{"$f":"$C$5","v":"SINAPI:Abril/2020 (Alagoas/AL) - NÃO DESONERADO"}]
[null,null," COMPOSIÇÃO ANALÍTICA DE CUSTO"]
[]
[null,null,{"$f":"$C$3","v":"EXECUÇÃO DE OBRAS E SERVIÇOS DE RECUPERAÇÃO PARCIAL DO DIQUE DE PROTEÇÃO E RECUPERAÇÃO DOS CANAIS DE IRRIGAÇÃO DO PERÍMETRO IRRIGADO DO ITIÚBA (canal adutor leste, P12, S1P12 e S2P12) E DOS CANAIS DE IRRIGAÇÃO (CLI e CLII) DO PERÍMETRO IRRIGADO DO BOACICA."},{"$nulls":4},{"$f":"$C$4","v":"CODEVASF"},null,null,{"$f":"$C$6","v":"DATA: ANO 2020"}]
[null,null,"SERVIÇO: JUNTA DE DILATAÇÃO EM MASTIQUE ELÁSTICO",{"$nulls":4},"COD: ","CAC-026",null,"UNIDADE: ","M"]
[]
[null,null,"SERVIÇOS - COMPOSIÇÕES AUXILIARES ............................................................................................................................................................................",{"$nulls":7},"SUB-TOTAL (1) = ",{"$f":"SUM(L787:L788)","v":0}]
[null,null,"DISCRIMINAÇÃO","SINAPI","UNID",null,"QTDE","PROD","IMPROD","P.UNIT. PROD","P.UNIT. IMPR","P.TOTAL"]
[{"$nulls":11},{"$f":"G787*J787","v":0}]
[{"$nulls":11},{"$f":"G788*J788","v":0}]
[]
[null,null,"EQUIPAMENTO .............................................................................................................................................................................................................................",{"$nulls":7},"SUB-TOTAL (2) = ",{"$f":"SUM(L792:L793)","v":0}]
[null,null,"DISCRIMINAÇÃO","SINAPI","UNID",null,"QTDE","PROD","IMPROD","P.UNIT. PROD","P.UNIT. IMPR","P.TOTAL"]
[{"$nulls":11},{"$f":"G792*J792","v":0}]
[{"$nulls":11},{"$f":"G793*J793","v":0}]
[]
[null,null,"MATERIAL ........................................................................................................................................................................................................................................",{"$nulls":7},"SUB-TOTAL (3) = ",{"$f":"SUM(L797:L799)","v":7.2749999999999995}]
[null,null,"DISCRIMINAÇÃO","SINAPI","UNID",null,"QTDE","PROD","IMPROD","P.UNIT. PROD","P.UNIT. IMPR","P.TOTAL"]
[null,null,"PRIMER EPOXI",11149,"ML",null,6.25,null,null,4.8000000000000001E-2,null,{"$f":"G797*J797","v":0.3}]
[null,null,"SELANTE ELÁSTICO MONOCOMPONENTE À BASE DE POLIURETANO PU30 OU EQUIVALENTE",142,"ML",null,77.5,null,null,0.09,null,{"$f":"G798*J798","v":6.9749999999999996}]
[{"$nulls":11},{"$f":"G799*J799","v":0}]
[]
[null,null,"MÃO DE OBRA .................................................................................................................................................................................................................................",{"$nulls":7},"SUB-TOTAL (4) = ",{"$f":"SUM(L803:L805)","v":15.302500000000002}]
[null,null,"DISCRIMINAÇÃO","SINAPI","UNID",null,"QTDE","PROD","IMPROD","P.UNIT. PROD","P.UNIT. IMPR","P.TOTAL"]
[null,null,"SERVENTE COM ENCARGOS COMPLEMENTARES",88316,"H",null,0.75,null,null,14.3,null,{"$f":"G803*J803","v":10.725000000000001}]
[null,null,"PEDREIRO COM ENCARGOS COMPLEMENTARES",88309,"H",null,0.25,null,null,18.309999999999999,null,{"$f":"G804*J804","v":4.5774999999999997}]
[{"$nulls":11},{"$f":"G805*J805","v":0}]
[]
[null,null,"OBSERVAÇÕES:","PROD DA EQUIPE =",null,null,1,null,null,null,"CUSTO (SUB-TOTAL 1 + 2 + 3 + 4) = ",{"$f":"L801+L795+L785+L790","v":22.577500000000001}]
[null,null,null,"RESP. TÉCNICO:",{"$nulls":6},"TOTAL - R$ = ",{"$f":"L807/G807","v":22.577500000000001}]
[{"$nulls":10},"BDI (%) = ",{"$f":"$I$3","v":0.2101044698987744}]
[{"$nulls":10},"TOTAL DO SERVIÇO - R$ = ",{"$f":"L808*L809+L808","v":27.321133669139581}]
[]
[null,null,{"$f":"C816","v":"SERVIÇO: ARMAÇÃO EM TELA DE AÇO SOLDADA NERVURADA CA-60, Q-92, DIÂMETRO FIO 4,2 MM, ESPAÇAMENTO DA MALHA 15 X 15 CM"},{"$f":"I816","v":"CAC-027"},{"$f":"L816","v":"M2"},null,null,null,"P. Unit.=",{"$f":"L839","v":0},{"$f":"$C$5","v":"SINAPI:Abril/2020 (Alagoas/AL) - NÃO DESONERADO"}]
[null,null," COMPOSIÇÃO ANALÍTICA DE CUSTO"]
[]
[null,null,{"$f":"$C$3","v":"EXECUÇÃO DE OBRAS E SERVIÇOS DE RECUPERAÇÃO PARCIAL DO DIQUE DE PROTEÇÃO E RECUPERAÇÃO DOS CANAIS DE IRRIGAÇÃO DO PERÍMETRO IRRIGADO DO ITIÚBA (canal adutor leste, P12, S1P12 e S2P12) E DOS CANAIS DE IRRIGAÇÃO (CLI e CLII) DO PERÍMETRO IRRIGADO DO BOACICA."},{"$nulls":4},{"$f":"$C$4","v":"CODEVASF"},null,null,{"$f":"$C$6","v":"DATA: ANO 2020"}]
[null,null,"SERVIÇO: ARMAÇÃO EM TELA DE AÇO SOLDADA NERVURADA CA-60, Q-92, DIÂMETRO FIO 4,2 MM, ESPAÇAMENTO DA MALHA 15 X 15 CM",{"$nulls":4},"COD: ","CAC-027",null,"UNIDADE: ","M2"]
[]
[null,null,"SERVIÇOS - COMPOSIÇÕES AUXILIARES ............................................................................................................................................................................",{"$nulls":7},"SUB-TOTAL (1) = ",{"$f":"SUM(L820:L821)","v":0}]
[null,null,"DISCRIMINAÇÃO","SINAPI","UNID",null,"QTDE","PROD","IMPROD","P.UNIT. PROD","P.UNIT. IMPR","P.TOTAL"]
[null,null,"ARMACAO EM TELA DE ACO SOLDADA NERVURADA Q-92, ACO CA-60, 4,2MM, MALHA 15 X 15 CM",85662,"M2",null,1,null,null,{"$f":"IFERROR(VLOOKUP(D820,$D$7:$J$8,6,0),0)","v":0},null,{"$f":"G820*J820","v":0}]
[{"$nulls":11},{"$f":"G821*J821","v":0}]
[]
[null,null,"EQUIPAMENTO .............................................................................................................................................................................................................................",{"$nulls":7},"SUB-TOTAL (2) = ",{"$f":"SUM(L825:L826)","v":0}]
[null,null,"DISCRIMINAÇÃO","SINAPI","UNID",null,"QTDE","PROD","IMPROD","P.UNIT. PROD","P.UNIT. IMPR","P.TOTAL"]
[{"$nulls":11},{"$f":"G825*J825","v":0}]
[{"$nulls":11},{"$f":"G826*J826","v":0}]
[]
[null,null,"MATERIAL ........................................................................................................................................................................................................................................",{"$nulls":7},"SUB-TOTAL (3) = ",{"$f":"SUM(L830:L831)","v":0}]
[null,null,"DISCRIMINAÇÃO","SINAPI","UNID",null,"QTDE","PROD","IMPROD","P.UNIT. PROD","P.UNIT. IMPR","P.TOTAL"]
[{"$nulls":11},{"$f":"G830*J830","v":0}]
[{"$nulls":11},{"$f":"G831*J831","v":0}]
[]
[null,null,"MÃO DE OBRA .................................................................................................................................................................................................................................",{"$nulls":7},"SUB-TOTAL (4) = ",{"$f":"SUM(L835:L836)","v":0}]
[null,null,"DISCRIMINAÇÃO","SINAPI","UNID",null,"QTDE","PROD","IMPROD","P.UNIT. PROD","P.UNIT. IMPR","P.TOTAL"]
[{"$nulls":11},{"$f":"G835*J835","v":0}]
[{"$nulls":11},{"$f":"G836*J836","v":0}]
[]
[null,null,"OBSERVAÇÕES:","PROD DA EQUIPE =",null,null,1,null,null,null,"CUSTO (SUB-TOTAL 1 + 2 + 3 + 4) = ",{"$f":"L833+L828+L818+L823","v":0}]
[null,null,null,"RESP. TÉCNICO:",{"$nulls":6},"TOTAL - R$ = ",{"$f":"L838/G838","v":0}]
[{"$nulls":10},"BDI (%) = ",{"$f":"$I$3","v":0.2101044698987744}]
[{"$nulls":10},"TOTAL DO SERVIÇO - R$ = ",{"$f":"L839*L840+L839","v":0}]
[]
[null,null,{"$f":"C847","v":"SERVIÇO: ARMACAO EM TELA DE ACO SOLDADA NERVURADA Q-138, ACO CA-60, 4,2MM, MALHA 15x15 cm"},{"$f":"I847","v":"CAC-028"},{"$f":"L847","v":"M2"},"C. Unit. =",{"$f":"L870","v":9.1443999999999992},null,"P. Unit.=",{"$f":"L872","v":11.065679314542352},{"$f":"$C$5","v":"SINAPI:Abril/2020 (Alagoas/AL) - NÃO DESONERADO"}]
[null,null," COMPOSIÇÃO ANALÍTICA DE CUSTO"]
[]
[null,null,{"$f":"$C$3","v":"EXECUÇÃO DE OBRAS E SERVIÇOS DE RECUPERAÇÃO PARCIAL DO DIQUE DE PROTEÇÃO E RECUPERAÇÃO DOS CANAIS DE IRRIGAÇÃO DO PERÍMETRO IRRIGADO DO ITIÚBA (canal adutor leste, P12, S1P12 e S2P12) E DOS CANAIS DE IRRIGAÇÃO (CLI e CLII) DO PERÍMETRO IRRIGADO DO BOACICA."},{"$nulls":4},{"$f":"$C$4","v":"CODEVASF"},null,null,{"$f":"$C$6","v":"DATA: ANO 2020"}]
[null,null,"SERVIÇO: ARMACAO EM TELA DE ACO SOLDADA NERVURADA Q-138, ACO CA-60, 4,2MM, MALHA 15x15 cm",{"$nulls":4},"COD: ","CAC-028",null,"UNIDADE: ","M2"]
[]
[null,null,"SERVIÇOS - COMPOSIÇÕES AUXILIARES ............................................................................................................................................................................",{"$nulls":7},"SUB-TOTAL (1) = ",{"$f":"SUM(L851:L852)","v":8.7799999999999994}]
[null,null,"DISCRIMINAÇÃO","SINAPI","UNID",null,"QTDE","PROD","IMPROD","P.UNIT. PROD","P.UNIT. IMPR","P.TOTAL"]
[null,null," TELA DE ACO SOLDADA NERVURADA, CA-60, Q-92, (1,48 KG/M2), DIAMETRO DO FIO = 4,2 MM,LARGURA = 2,45 X 60 M DE COMPRIMENTO, ESPACAMENTO DA MALHA = 15 X 15 CM",21141,"M²",null,1,null,null,8.7799999999999994,null,{"$f":"G851*J851","v":8.7799999999999994}]
[{"$nulls":11},{"$f":"G852*J852","v":0}]
[]
[null,null,"EQUIPAMENTO .............................................................................................................................................................................................................................",{"$nulls":7},"SUB-TOTAL (2) = ",{"$f":"SUM(L856:L857)","v":0}]
[null,null,"DISCRIMINAÇÃO","SINAPI","UNID",null,"QTDE","PROD","IMPROD","P.UNIT. PROD","P.UNIT. IMPR","P.TOTAL"]
[{"$nulls":11},{"$f":"G856*J856","v":0}]
[{"$nulls":11},{"$f":"G857*J857","v":0}]
[]
[null,null,"MATERIAL ........................................................................................................................................................................................................................................",{"$nulls":7},"SUB-TOTAL (3) = ",{"$f":"SUM(L861:L862)","v":0}]
[null,null,"DISCRIMINAÇÃO","SINAPI","UNID",null,"QTDE","PROD","IMPROD","P.UNIT. PROD","P.UNIT. IMPR","P.TOTAL"]
[{"$nulls":11},{"$f":"G861*J861","v":0}]
[{"$nulls":11},{"$f":"G862*J862","v":0}]
[]
[null,null,"MÃO DE OBRA .................................................................................................................................................................................................................................",{"$nulls":7},"SUB-TOTAL (4) = ",{"$f":"SUM(L866:L867)","v":0.3644}]
[null,null,"DISCRIMINAÇÃO","SINAPI","UNID",null,"QTDE","PROD","IMPROD","P.UNIT. PROD","P.UNIT. IMPR","P.TOTAL"]
[null,null,"ARMADOR COM ENCARGOS COMPLEMENTARES",88245,"H",null,0.02,null,null,18.22,null,{"$f":"G866*J866","v":0.3644}]
[{"$nulls":11},{"$f":"G867*J867","v":0}]
[]
[null,null,"OBSERVAÇÕES:","PROD DA EQUIPE =",null,null,1,null,null,null,"CUSTO (SUB-TOTAL 1 + 2 + 3 + 4) = ",{"$f":"L864+L859+L849+L854","v":9.1443999999999992}]
[null,null,null,"RESP. TÉCNICO:",{"$nulls":6},"TOTAL - R$ = ",{"$f":"L869/G869","v":9.1443999999999992}]
[{"$nulls":10},"BDI (%) = ",{"$f":"$I$3","v":0.2101044698987744}]
[{"$nulls":10},"TOTAL DO SERVIÇO - R$ = ",{"$f":"L870*L871+L870","v":11.065679314542352}]
[]
[null,null,{"$f":"C878","v":"SERVIÇO: FORNECIMENTO E INSTALAÇÃO DE MANTA BIDIM MODELO RT-10"},{"$f":"I878","v":"CAC-029"},{"$f":"L878","v":"M2"},null,null,null,"P. Unit.=",{"$f":"L901","v":0},{"$f":"$C$5","v":"SINAPI:Abril/2020 (Alagoas/AL) - NÃO DESONERADO"}]
[null,null," COMPOSIÇÃO ANALÍTICA DE CUSTO"]
[]
[null,null,{"$f":"$C$3","v":"EXECUÇÃO DE OBRAS E SERVIÇOS DE RECUPERAÇÃO PARCIAL DO DIQUE DE PROTEÇÃO E RECUPERAÇÃO DOS CANAIS DE IRRIGAÇÃO DO PERÍMETRO IRRIGADO DO ITIÚBA (canal adutor leste, P12, S1P12 e S2P12) E DOS CANAIS DE IRRIGAÇÃO (CLI e CLII) DO PERÍMETRO IRRIGADO DO BOACICA."},{"$nulls":4},{"$f":"$C$4","v":"CODEVASF"},null,null,{"$f":"$C$6","v":"DATA: ANO 2020"}]
[null,null,"SERVIÇO: FORNECIMENTO E INSTALAÇÃO DE MANTA BIDIM MODELO RT-10",{"$nulls":4},"COD: ","CAC-029",null,"UNIDADE: ","M2"]
[]
[null,null,"SERVIÇOS - COMPOSIÇÕES AUXILIARES ............................................................................................................................................................................",{"$nulls":7},"SUB-TOTAL (1) = ",{"$f":"SUM(L882:L883)","v":0}]
[null,null,"DISCRIMINAÇÃO","SINAPI","UNID",null,"QTDE","PROD","IMPROD","P.UNIT. PROD","P.UNIT. IMPR","P.TOTAL"]
[null,null,"FORNECIMENTO/INSTALACAO DE MANTA BIDIM RT-10",85662,"M2",null,1,null,null,{"$f":"IFERROR(VLOOKUP(D882,$D$7:$J$8,6,0),0)","v":0},null,{"$f":"G882*J882","v":0}]
[{"$nulls":11},{"$f":"G883*J883","v":0}]
[]
[null,null,"EQUIPAMENTO .............................................................................................................................................................................................................................",{"$nulls":7},"SUB-TOTAL (2) = ",{"$f":"SUM(L887:L888)","v":0}]
[null,null,"DISCRIMINAÇÃO","SINAPI","UNID",null,"QTDE","PROD","IMPROD","P.UNIT. PROD","P.UNIT. IMPR","P.TOTAL"]
[{"$nulls":11},{"$f":"G887*J887","v":0}]
[{"$nulls":11},{"$f":"G888*J888","v":0}]
[]
[null,null,"MATERIAL ........................................................................................................................................................................................................................................",{"$nulls":7},"SUB-TOTAL (3) = ",{"$f":"SUM(L892:L893)","v":0}]
[null,null,"DISCRIMINAÇÃO","SINAPI","UNID",null,"QTDE","PROD","IMPROD","P.UNIT. PROD","P.UNIT. IMPR","P.TOTAL"]
[{"$nulls":11},{"$f":"G892*J892","v":0}]
[{"$nulls":11},{"$f":"G893*J893","v":0}]
[]
[null,null,"MÃO DE OBRA .................................................................................................................................................................................................................................",{"$nulls":7},"SUB-TOTAL (4) = ",{"$f":"SUM(L897:L898)","v":0}]
[null,null,"DISCRIMINAÇÃO","SINAPI","UNID",null,"QTDE","PROD","IMPROD","P.UNIT. PROD","P.UNIT. IMPR","P.TOTAL"]
[{"$nulls":11},{"$f":"G897*J897","v":0}]
[{"$nulls":11},{"$f":"G898*J898","v":0}]
[]
[null,null,"OBSERVAÇÕES:","PROD DA EQUIPE =",null,null,1,null,null,null,"CUSTO (SUB-TOTAL 1 + 2 + 3 + 4) = ",{"$f":"L895+L890+L880+L885","v":0}]
[null,null,null,"RESP. TÉCNICO:",{"$nulls":6},"TOTAL - R$ = ",{"$f":"L900/G900","v":0}]
[{"$nulls":10},"BDI (%) = ",{"$f":"$I$3","v":0.2101044698987744}]
[{"$nulls":10},"TOTAL DO SERVIÇO - R$ = ",{"$f":"L901*L902+L901","v":0}]
[]
[null,null,{"$f":"C909","v":"SERVIÇO: RETIRADA DAS PLACAS DE CONCRETO SIMPLES DOS CANAIS, INCLUSIVE CARGA TRANSPORTE, DESCARGA E DEMOLIÇÃO"},{"$f":"I909","v":"CAC-030"},{"$f":"L909","v":"HA "},null,null,null,"P. Unit.=",{"$f":"L934","v":0},{"$f":"$C$5","v":"SINAPI:Abril/2020 (Alagoas/AL) - NÃO DESONERADO"}]
[null,null," COMPOSIÇÃO ANALÍTICA DE CUSTO"]
[]
[null,null,{"$f":"$C$3","v":"EXECUÇÃO DE OBRAS E SERVIÇOS DE RECUPERAÇÃO PARCIAL DO DIQUE DE PROTEÇÃO E RECUPERAÇÃO DOS CANAIS DE IRRIGAÇÃO DO PERÍMETRO IRRIGADO DO ITIÚBA (canal adutor leste, P12, S1P12 e S2P12) E DOS CANAIS DE IRRIGAÇÃO (CLI e CLII) DO PERÍMETRO IRRIGADO DO BOACICA."},{"$nulls":4},{"$f":"$C$4","v":"CODEVASF"},null,null,{"$f":"$C$6","v":"DATA: ANO 2020"}]
[null,null,"SERVIÇO: RETIRADA DAS PLACAS DE CONCRETO SIMPLES DOS CANAIS, INCLUSIVE CARGA TRANSPORTE, DESCARGA E DEMOLIÇÃO",{"$nulls":4},"COD: ","CAC-030",null,"UNIDADE: ","HA "]
[]
[null,null,"SERVIÇOS - COMPOSIÇÕES AUXILIARES ............................................................................................................................................................................",{"$nulls":7},"SUB-TOTAL (1) = ",{"$f":"SUM(L913:L916)","v":0}]
[null,null,"DISCRIMINAÇÃO","SINAPI","UNID",null,"QTDE","PROD","IMPROD","P.UNIT. PROD","P.UNIT. IMPR","P.TOTAL"]
[null,null,"DEMOLICAO MANUAL DE ESTRUTURA DE CONCRETO ARMADO",85364,"M3",null,1,null,null,{"$f":"IFERROR(VLOOKUP(D913,$D$7:$J$8,6,0),0)","v":0},null,{"$f":"G913*J913","v":0}]
[null,null,"ESCAVACAO MECANICA CAMPO ABERTO EM SOLO EXCETO ROCHA ATE 2,00M PROFUNDIDADE",79480,"M3",null,1,null,null,{"$f":"IFERROR(VLOOKUP(D914,$D$7:$J$8,6,0),0)","v":0},null,{"$f":"G914*J914","v":0}]
[null,null,"CARGA E DESCARGA MECANICA DE SOLO UTILIZANDO CAMINHAO BASCULANTE 5,0M3/11T E PA CARREGADEIRA SOBRE PNEUS * 105 HP * CAP. 1,72M3","74010/001","M3",null,1,null,null,{"$f":"IFERROR(VLOOKUP(D915,$D$7:$J$8,6,0),0)","v":0},null,{"$f":"G915*J915","v":0}]
[null,null,"TRANSPORTE COMERCIAL COM CAMINHAO BASCULANTE 6 M3, RODOVIA EM LEITO NATURAL",72885,"M3XKM",null,{"$f":"1*10","v":10},null,null,{"$f":"IFERROR(VLOOKUP(D916,$D$7:$J$8,6,0),0)","v":0},null,{"$f":"G916*J916","v":0}]
[]
[null,null,"EQUIPAMENTO .............................................................................................................................................................................................................................",{"$nulls":7},"SUB-TOTAL (2) = ",{"$f":"SUM(L920:L921)","v":0}]
[null,null,"DISCRIMINAÇÃO","SINAPI","UNID",null,"QTDE","PROD","IMPROD","P.UNIT. PROD","P.UNIT. IMPR","P.TOTAL"]
[{"$nulls":11},{"$f":"G920*J920","v":0}]
[{"$nulls":11},{"$f":"G921*J921","v":0}]
[]
[null,null,"MATERIAL ........................................................................................................................................................................................................................................",{"$nulls":7},"SUB-TOTAL (3) = ",{"$f":"SUM(L925:L926)","v":0}]
[null,null,"DISCRIMINAÇÃO","SINAPI","UNID",null,"QTDE","PROD","IMPROD","P.UNIT. PROD","P.UNIT. IMPR","P.TOTAL"]
[{"$nulls":11},{"$f":"G925*J925","v":0}]
[{"$nulls":11},{"$f":"G926*J926","v":0}]
[]
[null,null,"MÃO DE OBRA .................................................................................................................................................................................................................................",{"$nulls":7},"SUB-TOTAL (4) = ",{"$f":"SUM(L930:L931)","v":0}]
[null,null,"DISCRIMINAÇÃO","SINAPI","UNID",null,"QTDE","PROD","IMPROD","P.UNIT. PROD","P.UNIT. IMPR","P.TOTAL"]
[{"$nulls":11},{"$f":"G930*J930","v":0}]
[{"$nulls":11},{"$f":"G931*J931","v":0}]
[]
[null,null,"OBSERVAÇÕES:","PROD DA EQUIPE =",null,null,1,null,null,null,"CUSTO (SUB-TOTAL 1 + 2 + 3 + 4) = ",{"$f":"L928+L923+L911+L918","v":0}]
[null,null,null,"RESP. TÉCNICO:",{"$nulls":6},"TOTAL - R$ = ",{"$f":"L933/G933","v":0}]
[{"$nulls":10},"BDI (%) = ",{"$f":"$I$3","v":0.2101044698987744}]
[{"$nulls":10},"TOTAL DO SERVIÇO - R$ = ",{"$f":"L934*L935+L934","v":0}]
[]
[null,null," COMPOSIÇÃO ANALÍTICA DE CUSTO"]
[]
[null,null,{"$f":"#REF!","v":{"$error":"#REF!"}},{"$nulls":4},"CODEVASF",null,null,"DATA: ANO 2017"]
[null,null,"SERVIÇO: LOCACAO CONVENCIONAL DE OBRA, ATRAVÉS DE GABARITO DE TABUAS CORRIDAS PONTALETADAS, COM REAPROVEITAMENTO DE 10 VEZES.",{"$nulls":4},"COD: ","CAC-031",null,"UNIDADE: ","M2"]
[]
[null,null,"SERVIÇOS - COMPOSIÇÕES AUXILIARES ............................................................................................................................................................................",{"$nulls":7},"SUB-TOTAL (1) = ",{"$f":"SUM(L945:L946)","v":3.46}]
[null,null,"DISCRIMINAÇÃO","SINAPI","UNID",null,"QTDE","PROD","IMPROD","P.UNIT. PROD","P.UNIT. IMPR","P.TOTAL"]
[null,null,"LOCACAO CONVENCIONAL DE OBRA, UTILIZANDO GABARITO DE TÁBUAS CORRIDAS PONTALETADAS A CADA 2,00M - 2 UTILIZAÇÕES",99059,"M2",null,1,null,null,3.46,null,{"$f":"G945*J945","v":3.46}]
[{"$nulls":11},{"$f":"G946*J946","v":0}]
[]
[null,null,"EQUIPAMENTO .............................................................................................................................................................................................................................",{"$nulls":7},"SUB-TOTAL (2) = ",{"$f":"SUM(L950:L951)","v":0}]
[null,null,"DISCRIMINAÇÃO","SINAPI","UNID",null,"QTDE","PROD","IMPROD","P.UNIT. PROD","P.UNIT. IMPR","P.TOTAL"]
[{"$nulls":11},{"$f":"G950*J950","v":0}]
[{"$nulls":11},{"$f":"G951*J951","v":0}]
[]
[null,null,"MATERIAL ........................................................................................................................................................................................................................................",{"$nulls":7},"SUB-TOTAL (3) = ",{"$f":"SUM(L955:L956)","v":0}]
[null,null,"DISCRIMINAÇÃO","SINAPI","UNID",null,"QTDE","PROD","IMPROD","P.UNIT. PROD","P.UNIT. IMPR","P.TOTAL"]
[{"$nulls":11},{"$f":"G955*J955","v":0}]
[{"$nulls":11},{"$f":"G956*J956","v":0}]
[]
[null,null,"MÃO DE OBRA .................................................................................................................................................................................................................................",{"$nulls":7},"SUB-TOTAL (4) = ",{"$f":"SUM(L960:L961)","v":0}]
[null,null,"DISCRIMINAÇÃO","SINAPI","UNID",null,"QTDE","PROD","IMPROD","P.UNIT. PROD","P.UNIT. IMPR","P.TOTAL"]
[{"$nulls":11},{"$f":"G960*J960","v":0}]
[{"$nulls":11},{"$f":"G961*J961","v":0}]
[]
[null,null,"OBSERVAÇÕES:","PROD DA EQUIPE =",null,null,1,null,null,null,"CUSTO (SUB-TOTAL 1 + 2 + 3 + 4) = ",{"$f":"L958+L953+L943+L948","v":3.46}]
[null,null,null,"RESP. TÉCNICO:",{"$nulls":6},"TOTAL - R$ = ",{"$f":"L963/G963","v":3.46}]
[{"$nulls":10},"BDI (%) = ",{"$f":"$I$3","v":0.2101044698987744}]
[{"$nulls":10},"TOTAL DO SERVIÇO - R$ = ",{"$f":"L964*L965+L964","v":4.1869614658497589}]
[]
[null,null," COMPOSIÇÃO ANALÍTICA DE CUSTO"]
[]
[null,null,{"$f":"#REF!","v":{"$error":"#REF!"}},{"$nulls":4},"CODEVASF",null,null,"DATA: ANO 2017"]
[null,null,"SERVIÇO: DEMOLIÇÃO DE ESTRUTURA HIDRÁULICA EXISTENTE",{"$nulls":4},"COD: ","CAC-032",null,"UNIDADE: ","M3"]
[]
[null,null,"SERVIÇOS - COMPOSIÇÕES AUXILIARES ............................................................................................................................................................................",{"$nulls":7},"SUB-TOTAL (1) = ",{"$f":"SUM(L975:L977)","v":178.39}]
[null,null,"DISCRIMINAÇÃO","ORSE","UNID",null,"QTDE","PROD","IMPROD","P.UNIT. PROD","P.UNIT. IMPR","P.TOTAL"]
[null,null,"DEMOLICAO DE CONCRETO SIMPLES",13,"M3",null,1,null,null,178.39,null,{"$f":"G975*J975","v":178.39}]
[]
[{"$nulls":11},{"$f":"G977*J977","v":0}]
[]
[null,null,"EQUIPAMENTO .............................................................................................................................................................................................................................",{"$nulls":7},"SUB-TOTAL (2) = ",{"$f":"SUM(L981:L982)","v":0}]
[null,null,"DISCRIMINAÇÃO","SINAPI","UNID",null,"QTDE","PROD","IMPROD","P.UNIT. PROD","P.UNIT. IMPR","P.TOTAL"]
[{"$nulls":11},{"$f":"G981*J981","v":0}]
[{"$nulls":11},{"$f":"G982*J982","v":0}]
[]
[null,null,"MATERIAL ........................................................................................................................................................................................................................................",{"$nulls":7},"SUB-TOTAL (3) = ",{"$f":"SUM(L986:L987)","v":0}]
[null,null,"DISCRIMINAÇÃO","SINAPI","UNID",null,"QTDE","PROD","IMPROD","P.UNIT. PROD","P.UNIT. IMPR","P.TOTAL"]
[{"$nulls":11},{"$f":"G986*J986","v":0}]
[{"$nulls":11},{"$f":"G987*J987","v":0}]
[]
[null,null,"MÃO DE OBRA .................................................................................................................................................................................................................................",{"$nulls":7},"SUB-TOTAL (4) = ",{"$f":"SUM(L991:L992)","v":0}]
[null,null,"DISCRIMINAÇÃO","SINAPI","UNID",null,"QTDE","PROD","IMPROD","P.UNIT. PROD","P.UNIT. IMPR","P.TOTAL"]
[{"$nulls":11},{"$f":"G991*J991","v":0}]
[{"$nulls":11},{"$f":"G992*J992","v":0}]
[]
[null,null,"OBSERVAÇÕES:","PROD DA EQUIPE =",null,null,1,null,null,null,"CUSTO (SUB-TOTAL 1 + 2 + 3 + 4) = ",{"$f":"L989+L984+L973+L979","v":178.39}]
[null,null,null,"RESP. TÉCNICO:",{"$nulls":6},"TOTAL - R$ = ",{"$f":"L994/G994","v":178.39}]
[{"$nulls":10},"BDI (%) = ",{"$f":"$I$3","v":0.2101044698987744}]
[{"$nulls":10},"TOTAL DO SERVIÇO - R$ = ",{"$f":"L995*L996+L995","v":215.87053638524236}]
[]
[null,null,{"$f":"C1003","v":"SERVIÇO: CONCRETO FCK=20MPA PARA ESTRUTURAS, INCLUINDO PREPARO MECANICO, LANCAMENTO E ADENSAMENTO"},{"$f":"I1003","v":"CAC-033"},{"$f":"L1003","v":"M3"},"C. Unit. =",{"$f":"L1027","v":392.66399999999999},null,"P. Unit.=",{"$f":"L1029","v":475.16446156833234},{"$f":"$C$5","v":"SINAPI:Abril/2020 (Alagoas/AL) - NÃO DESONERADO"}]
[null,null," COMPOSIÇÃO ANALÍTICA DE CUSTO"]
[]
[null,null,{"$f":"$C$3","v":"EXECUÇÃO DE OBRAS E SERVIÇOS DE RECUPERAÇÃO PARCIAL DO DIQUE DE PROTEÇÃO E RECUPERAÇÃO DOS CANAIS DE IRRIGAÇÃO DO PERÍMETRO IRRIGADO DO ITIÚBA (canal adutor leste, P12, S1P12 e S2P12) E DOS CANAIS DE IRRIGAÇÃO (CLI e CLII) DO PERÍMETRO IRRIGADO DO BOACICA."},{"$nulls":4},"CODEVASF",null,null,"DATA: ANO 2017"]
[null,null,"SERVIÇO: CONCRETO FCK=20MPA PARA ESTRUTURAS, INCLUINDO PREPARO MECANICO, LANCAMENTO E ADENSAMENTO",{"$nulls":4},"COD: ","CAC-033",null,"UNIDADE: ","M3"]
[]
[null,null,"SERVIÇOS - COMPOSIÇÕES AUXILIARES ............................................................................................................................................................................",{"$nulls":7},"SUB-TOTAL (1) = ",{"$f":"SUM(L1007:L1009)","v":304.11}]
[null,null,"DISCRIMINAÇÃO","SINAPI","UNID",null,"QTDE","PROD","IMPROD","P.UNIT. PROD","P.UNIT. IMPR","P.TOTAL"]
[null,null,"CONCRETO FCK = 20MPA, TRAÇO 1:2,7:3 (CIMENTO/ AREIA MÉDIA/ BRITA 1)  - PREPARO MECÂNICO COM BETONEIRA 400 L. AF_07/2016",94964,"M3",null,1,null,null,304.11,null,{"$f":"G1007*J1007","v":304.11}]
[]
[{"$nulls":11},{"$f":"G1009*J1009","v":0}]
[]
[null,null,"EQUIPAMENTO .............................................................................................................................................................................................................................",{"$nulls":7},"SUB-TOTAL (2) = ",{"$f":"SUM(L1013:L1014)","v":0}]
[null,null,"DISCRIMINAÇÃO","SINAPI","UNID",null,"QTDE","PROD","IMPROD","P.UNIT. PROD","P.UNIT. IMPR","P.TOTAL"]
[{"$nulls":11},{"$f":"G1013*J1013","v":0}]
[{"$nulls":11},{"$f":"G1014*J1014","v":0}]
[]
[null,null,"MATERIAL ........................................................................................................................................................................................................................................",{"$nulls":7},"SUB-TOTAL (3) = ",{"$f":"SUM(L1018:L1019)","v":0}]
[null,null,"DISCRIMINAÇÃO","SINAPI","UNID",null,"QTDE","PROD","IMPROD","P.UNIT. PROD","P.UNIT. IMPR","P.TOTAL"]
[{"$nulls":11},{"$f":"G1018*J1018","v":0}]
[{"$nulls":11},{"$f":"G1019*J1019","v":0}]
[]
[null,null,"MÃO DE OBRA .................................................................................................................................................................................................................................",{"$nulls":7},"SUB-TOTAL (4) = ",{"$f":"SUM(L1023:L1024)","v":88.554000000000002}]
[null,null,"DISCRIMINAÇÃO","SINAPI","UNID",null,"QTDE","PROD","IMPROD","P.UNIT. PROD","P.UNIT. IMPR","P.TOTAL"]
[null,null,"PEDREIRO COM ENCARGOS COMPLEMENTARES",88309,"H",null,1.4,null,null,18.309999999999999,null,{"$f":"G1023*J1023","v":25.633999999999997}]
[null,null,"SERVENTE COM ENCARGOS COMPLEMENTARES",88316,"H",null,4.4000000000000004,null,null,14.3,null,{"$f":"G1024*J1024","v":62.920000000000009}]
[]
[null,null,"OBSERVAÇÕES:","PROD DA EQUIPE =",null,null,1,null,null,null,"CUSTO (SUB-TOTAL 1 + 2 + 3 + 4) = ",{"$f":"L1021+L1016+L1005+L1011","v":392.66399999999999}]
[null,null,null,"RESP. TÉCNICO:",{"$nulls":6},"TOTAL - R$ = ",{"$f":"L1026/G1026","v":392.66399999999999}]
[{"$nulls":10},"BDI (%) = ",{"$f":"$I$3","v":0.2101044698987744}]
[{"$nulls":10},"TOTAL DO SERVIÇO - R$ = ",{"$f":"L1027*L1028+L1027","v":475.16446156833234}]
[]
[null,null,{"$f":"C1035","v":"SERVIÇO: RETIRADA DE TUBULAÇÃO EXISTENTE EM CONCRETO DN 200 MM"},{"$f":"I1035","v":"CAC-034"},{"$f":"L1035","v":"M"},null,null,null,"P. Unit.=",{"$f":"L1058","v":0},{"$f":"$C$5","v":"SINAPI:Abril/2020 (Alagoas/AL) - NÃO DESONERADO"}]
[null,null," COMPOSIÇÃO ANALÍTICA DE CUSTO"]
[]
[null,null,{"$f":"$C$3","v":"EXECUÇÃO DE OBRAS E SERVIÇOS DE RECUPERAÇÃO PARCIAL DO DIQUE DE PROTEÇÃO E RECUPERAÇÃO DOS CANAIS DE IRRIGAÇÃO DO PERÍMETRO IRRIGADO DO ITIÚBA (canal adutor leste, P12, S1P12 e S2P12) E DOS CANAIS DE IRRIGAÇÃO (CLI e CLII) DO PERÍMETRO IRRIGADO DO BOACICA."},{"$nulls":4},"CODEVASF",null,null,"DATA: ANO 2017"]
[null,null,"SERVIÇO: RETIRADA DE TUBULAÇÃO EXISTENTE EM CONCRETO DN 200 MM",{"$nulls":4},"COD: ","CAC-034",null,"UNIDADE: ","M"]
[]
[null,null,"SERVIÇOS - COMPOSIÇÕES AUXILIARES ............................................................................................................................................................................",{"$nulls":7},"SUB-TOTAL (1) = ",{"$f":"SUM(L1039:L1040)","v":0}]
[null,null,"DISCRIMINAÇÃO","SINAPI","UNID",null,"QTDE","PROD","IMPROD","P.UNIT. PROD","P.UNIT. IMPR","P.TOTAL"]
[{"$nulls":11},{"$f":"G1039*J1039","v":0}]
[{"$nulls":11},{"$f":"G1040*J1040","v":0}]
[]
[null,null,"EQUIPAMENTO .............................................................................................................................................................................................................................",{"$nulls":7},"SUB-TOTAL (2) = ",{"$f":"SUM(L1044:L1045)","v":0}]
[null,null,"DISCRIMINAÇÃO","SINAPI","UNID",null,"QTDE","PROD","IMPROD","P.UNIT. PROD","P.UNIT. IMPR","P.TOTAL"]
[null,null,"RETROESCAVADEIRA SOBRE RODAS COM CARREGADEIRA, TRAÇÃO 4X2, POTÊNCIA LÍQ. 79 HP, CAÇAMBA CARREG. CAP. MÍN. 1 M3, CAÇAMBA RETRO CAP. 0,20 M3, PESO OPERACIONAL MÍN. 6.570 KG, PROFUNDIDADE ESCAVAÇÃO MÁX. 4,37 M – CHP DIURNO. AF_06/2014",5680,"CHP",null,{"$f":"1/6","v":0.16666666666666666},null,null,{"$f":"IFERROR(VLOOKUP(D1044,$D$7:$J$8,6,0),0)","v":0},null,{"$f":"G1044*J1044","v":0}]
[{"$nulls":11},{"$f":"G1045*J1045","v":0}]
[]
[null,null,"MATERIAL ........................................................................................................................................................................................................................................",{"$nulls":7},"SUB-TOTAL (3) = ",{"$f":"SUM(L1049:L1050)","v":0}]
[null,null,"DISCRIMINAÇÃO","SINAPI","UNID",null,"QTDE","PROD","IMPROD","P.UNIT. PROD","P.UNIT. IMPR","P.TOTAL"]
[{"$nulls":11},{"$f":"G1049*J1049","v":0}]
[{"$nulls":11},{"$f":"G1050*J1050","v":0}]
[]
[null,null,"MÃO DE OBRA .................................................................................................................................................................................................................................",{"$nulls":7},"SUB-TOTAL (4) = ",{"$f":"SUM(L1054:L1055)","v":0}]
[null,null,"DISCRIMINAÇÃO","SINAPI","UNID",null,"QTDE","PROD","IMPROD","P.UNIT. PROD","P.UNIT. IMPR","P.TOTAL"]
[null,null,"SERVENTE",6111,"H",null,{"$f":"G1044*2","v":0.33333333333333331},null,null,{"$f":"IFERROR(VLOOKUP(D1054,$D$7:$J$8,6,0),0)","v":0},null,{"$f":"G1054*J1054","v":0}]
[{"$nulls":11},{"$f":"G1055*J1055","v":0}]
[]
[null,null,"OBSERVAÇÕES:","PROD DA EQUIPE =",null,null,1,null,null,null,"CUSTO (SUB-TOTAL 1 + 2 + 3 + 4) = ",{"$f":"L1052+L1047+L1037+L1042","v":0}]
[null,null,null,"RESP. TÉCNICO:",{"$nulls":6},"TOTAL - R$ = ",{"$f":"L1057/G1057","v":0}]
[{"$nulls":10},"BDI (%) = ",{"$f":"$I$3","v":0.2101044698987744}]
[{"$nulls":10},"TOTAL DO SERVIÇO - R$ = ",{"$f":"L1058*L1059+L1058","v":0}]
[]
[null,null,{"$f":"C1066","v":"SERVIÇO: RETIRADA DE TUBULAÇÃO EXISTENTE EM CONCRETO DN 300 MM"},{"$f":"I1066","v":"CAC-035"},{"$f":"L1066","v":"M"},null,null,null,"P. Unit.=",{"$f":"L1089","v":0},{"$f":"$C$5","v":"SINAPI:Abril/2020 (Alagoas/AL) - NÃO DESONERADO"}]
[null,null," COMPOSIÇÃO ANALÍTICA DE CUSTO"]
[]
[null,null,{"$f":"$C$3","v":"EXECUÇÃO DE OBRAS E SERVIÇOS DE RECUPERAÇÃO PARCIAL DO DIQUE DE PROTEÇÃO E RECUPERAÇÃO DOS CANAIS DE IRRIGAÇÃO DO PERÍMETRO IRRIGADO DO ITIÚBA (canal adutor leste, P12, S1P12 e S2P12) E DOS CANAIS DE IRRIGAÇÃO (CLI e CLII) DO PERÍMETRO IRRIGADO DO BOACICA."},{"$nulls":4},"CODEVASF",null,null,"DATA: ANO 2017"]
[null,null,"SERVIÇO: RETIRADA DE TUBULAÇÃO EXISTENTE EM CONCRETO DN 300 MM",{"$nulls":4},"COD: ","CAC-035",null,"UNIDADE: ","M"]
[]
[null,null,"SERVIÇOS - COMPOSIÇÕES AUXILIARES ............................................................................................................................................................................",{"$nulls":7},"SUB-TOTAL (1) = ",{"$f":"SUM(L1070:L1071)","v":0}]
[null,null,"DISCRIMINAÇÃO","SINAPI","UNID",null,"QTDE","PROD","IMPROD","P.UNIT. PROD","P.UNIT. IMPR","P.TOTAL"]
[{"$nulls":11},{"$f":"G1070*J1070","v":0}]
[{"$nulls":11},{"$f":"G1071*J1071","v":0}]
[]
[null,null,"EQUIPAMENTO .............................................................................................................................................................................................................................",{"$nulls":7},"SUB-TOTAL (2) = ",{"$f":"SUM(L1075:L1076)","v":0}]
[null,null,"DISCRIMINAÇÃO","SINAPI","UNID",null,"QTDE","PROD","IMPROD","P.UNIT. PROD","P.UNIT. IMPR","P.TOTAL"]
[null,null,"RETROESCAVADEIRA SOBRE RODAS COM CARREGADEIRA, TRAÇÃO 4X2, POTÊNCIA LÍQ. 79 HP, CAÇAMBA CARREG. CAP. MÍN. 1 M3, CAÇAMBA RETRO CAP. 0,20 M3, PESO OPERACIONAL MÍN. 6.570 KG, PROFUNDIDADE ESCAVAÇÃO MÁX. 4,37 M – CHP DIURNO. AF_06/2014",5680,"CHP",null,{"$f":"1/5","v":0.2},null,null,{"$f":"IFERROR(VLOOKUP(D1075,$D$7:$J$8,6,0),0)","v":0},null,{"$f":"G1075*J1075","v":0}]
[{"$nulls":11},{"$f":"G1076*J1076","v":0}]
[]
[null,null,"MATERIAL ........................................................................................................................................................................................................................................",{"$nulls":7},"SUB-TOTAL (3) = ",{"$f":"SUM(L1080:L1081)","v":0}]
[null,null,"DISCRIMINAÇÃO","SINAPI","UNID",null,"QTDE","PROD","IMPROD","P.UNIT. PROD","P.UNIT. IMPR","P.TOTAL"]
[{"$nulls":11},{"$f":"G1080*J1080","v":0}]
[{"$nulls":11},{"$f":"G1081*J1081","v":0}]
[]
[null,null,"MÃO DE OBRA .................................................................................................................................................................................................................................",{"$nulls":7},"SUB-TOTAL (4) = ",{"$f":"SUM(L1085:L1086)","v":0}]
[null,null,"DISCRIMINAÇÃO","SINAPI","UNID",null,"QTDE","PROD","IMPROD","P.UNIT. PROD","P.UNIT. IMPR","P.TOTAL"]
[null,null,"SERVENTE",6111,"H",null,{"$f":"G1075*2","v":0.4},null,null,{"$f":"IFERROR(VLOOKUP(D1085,$D$7:$J$8,6,0),0)","v":0},null,{"$f":"G1085*J1085","v":0}]
[{"$nulls":11},{"$f":"G1086*J1086","v":0}]
[]
[null,null,"OBSERVAÇÕES:","PROD DA EQUIPE =",null,null,1,null,null,null,"CUSTO (SUB-TOTAL 1 + 2 + 3 + 4) = ",{"$f":"L1083+L1078+L1068+L1073","v":0}]
[null,null,null,"RESP. TÉCNICO:",{"$nulls":6},"TOTAL - R$ = ",{"$f":"L1088/G1088","v":0}]
[{"$nulls":10},"BDI (%) = ",{"$f":"$I$3","v":0.2101044698987744}]
[{"$nulls":10},"TOTAL DO SERVIÇO - R$ = ",{"$f":"L1089*L1090+L1089","v":0}]
[]
[null,null,{"$f":"C1097","v":"SERVIÇO: RETIRADA DE TUBULAÇÃO EXISTENTE EM CONCRETO DN 400 MM"},{"$f":"I1097","v":"CAC-036"},{"$f":"L1097","v":"M"},null,null,null,"P. Unit.=",{"$f":"L1120","v":0},{"$f":"$C$5","v":"SINAPI:Abril/2020 (Alagoas/AL) - NÃO DESONERADO"}]
[null,null," COMPOSIÇÃO ANALÍTICA DE CUSTO"]
[]
[null,null,{"$f":"$C$3","v":"EXECUÇÃO DE OBRAS E SERVIÇOS DE RECUPERAÇÃO PARCIAL DO DIQUE DE PROTEÇÃO E RECUPERAÇÃO DOS CANAIS DE IRRIGAÇÃO DO PERÍMETRO IRRIGADO DO ITIÚBA (canal adutor leste, P12, S1P12 e S2P12) E DOS CANAIS DE IRRIGAÇÃO (CLI e CLII) DO PERÍMETRO IRRIGADO DO BOACICA."},{"$nulls":4},"CODEVASF",null,null,"DATA: ANO 2017"]
[null,null,"SERVIÇO: RETIRADA DE TUBULAÇÃO EXISTENTE EM CONCRETO DN 400 MM",{"$nulls":4},"COD: ","CAC-036",null,"UNIDADE: ","M"]
[]
[null,null,"SERVIÇOS - COMPOSIÇÕES AUXILIARES ............................................................................................................................................................................",{"$nulls":7},"SUB-TOTAL (1) = ",{"$f":"SUM(L1101:L1102)","v":0}]
[null,null,"DISCRIMINAÇÃO","SINAPI","UNID",null,"QTDE","PROD","IMPROD","P.UNIT. PROD","P.UNIT. IMPR","P.TOTAL"]
[{"$nulls":11},{"$f":"G1101*J1101","v":0}]
[{"$nulls":11},{"$f":"G1102*J1102","v":0}]
[]
[null,null,"EQUIPAMENTO .............................................................................................................................................................................................................................",{"$nulls":7},"SUB-TOTAL (2) = ",{"$f":"SUM(L1106:L1107)","v":0}]
[null,null,"DISCRIMINAÇÃO","SINAPI","UNID",null,"QTDE","PROD","IMPROD","P.UNIT. PROD","P.UNIT. IMPR","P.TOTAL"]
[null,null,"RETROESCAVADEIRA SOBRE RODAS COM CARREGADEIRA, TRAÇÃO 4X2, POTÊNCIA LÍQ. 79 HP, CAÇAMBA CARREG. CAP. MÍN. 1 M3, CAÇAMBA RETRO CAP. 0,20 M3, PESO OPERACIONAL MÍN. 6.570 KG, PROFUNDIDADE ESCAVAÇÃO MÁX. 4,37 M – CHP DIURNO. AF_06/2014",5680,"CHP",null,{"$f":"1/4","v":0.25},null,null,{"$f":"IFERROR(VLOOKUP(D1106,$D$7:$J$8,6,0),0)","v":0},null,{"$f":"G1106*J1106","v":0}]
[0,{"$nulls":10},{"$f":"G1107*J1107","v":0}]
[]
[null,null,"MATERIAL ........................................................................................................................................................................................................................................",{"$nulls":7},"SUB-TOTAL (3) = ",{"$f":"SUM(L1111:L1112)","v":0}]
[null,null,"DISCRIMINAÇÃO","SINAPI","UNID",null,"QTDE","PROD","IMPROD","P.UNIT. PROD","P.UNIT. IMPR","P.TOTAL"]
[{"$nulls":11},{"$f":"G1111*J1111","v":0}]
[{"$nulls":11},{"$f":"G1112*J1112","v":0}]
[]
[null,null,"MÃO DE OBRA .................................................................................................................................................................................................................................",{"$nulls":7},"SUB-TOTAL (4) = ",{"$f":"SUM(L1116:L1117)","v":0}]
[null,null,"DISCRIMINAÇÃO","SINAPI","UNID",null,"QTDE","PROD","IMPROD","P.UNIT. PROD","P.UNIT. IMPR","P.TOTAL"]
[null,null,"SERVENTE",6111,"H",null,{"$f":"G1106*2","v":0.5},null,null,{"$f":"IFERROR(VLOOKUP(D1116,$D$7:$J$8,6,0),0)","v":0},null,{"$f":"G1116*J1116","v":0}]
[{"$nulls":11},{"$f":"G1117*J1117","v":0}]
[]
[null,null,"OBSERVAÇÕES:","PROD DA EQUIPE =",null,null,1,null,null,null,"CUSTO (SUB-TOTAL 1 + 2 + 3 + 4) = ",{"$f":"L1114+L1109+L1099+L1104","v":0}]
[null,null,null,"RESP. TÉCNICO:",{"$nulls":6},"TOTAL - R$ = ",{"$f":"L1119/G1119","v":0}]
[{"$nulls":10},"BDI (%) = ",{"$f":"$I$3","v":0.2101044698987744}]
[{"$nulls":10},"TOTAL DO SERVIÇO - R$ = ",{"$f":"L1120*L1121+L1120","v":0}]
[]
[null,null,{"$f":"C1128","v":"SERVIÇO: RETIRADA DE TUBULAÇÃO EXISTENTE EM CONCRETO DN 600 MM"},{"$f":"I1128","v":"CAC-037"},{"$f":"L1128","v":"M"},"C. Unit. =",{"$f":"L1151","v":35.876600000000003},null,"P. Unit.=",{"$f":"L1153","v":43.414434024770372},{"$f":"$C$5","v":"SINAPI:Abril/2020 (Alagoas/AL) - NÃO DESONERADO"}]
[null,null," COMPOSIÇÃO ANALÍTICA DE CUSTO"]
[]
[null,null,{"$f":"$C$3","v":"EXECUÇÃO DE OBRAS E SERVIÇOS DE RECUPERAÇÃO PARCIAL DO DIQUE DE PROTEÇÃO E RECUPERAÇÃO DOS CANAIS DE IRRIGAÇÃO DO PERÍMETRO IRRIGADO DO ITIÚBA (canal adutor leste, P12, S1P12 e S2P12) E DOS CANAIS DE IRRIGAÇÃO (CLI e CLII) DO PERÍMETRO IRRIGADO DO BOACICA."},{"$nulls":4},"CODEVASF",null,null,"DATA: ANO 2017"]
[null,null,"SERVIÇO: RETIRADA DE TUBULAÇÃO EXISTENTE EM CONCRETO DN 600 MM",{"$nulls":4},"COD: ","CAC-037",null,"UNIDADE: ","M"]
[]
[null,null,"SERVIÇOS - COMPOSIÇÕES AUXILIARES ............................................................................................................................................................................",{"$nulls":7},"SUB-TOTAL (1) = ",{"$f":"SUM(L1132:L1133)","v":0}]
[null,null,"DISCRIMINAÇÃO","SINAPI","UNID",null,"QTDE","PROD","IMPROD","P.UNIT. PROD","P.UNIT. IMPR","P.TOTAL"]
[{"$nulls":11},{"$f":"G1132*J1132","v":0}]
[{"$nulls":11},{"$f":"G1133*J1133","v":0}]
[]
[null,null,"EQUIPAMENTO .............................................................................................................................................................................................................................",{"$nulls":7},"SUB-TOTAL (2) = ",{"$f":"SUM(L1137:L1138)","v":26.295600000000004}]
[null,null,"DISCRIMINAÇÃO","SINAPI","UNID",null,"QTDE","PROD","IMPROD","P.UNIT. PROD","P.UNIT. IMPR","P.TOTAL"]
[null,null,"RETROESCAVADEIRA SOBRE RODAS COM CARREGADEIRA, TRAÇÃO 4X2, POTÊNCIA LÍQ. 79 HP, CAÇAMBA CARREG. CAP. MÍN. 1 M3, CAÇAMBA RETRO CAP. 0,20 M3, PESO OPERACIONAL MÍN. 6.570 KG, PROFUNDIDADE ESCAVAÇÃO MÁX. 4,37 M – CHP DIURNO. AF_06/2014",5680,"CHP",null,0.34,null,null,77.34,null,{"$f":"G1137*J1137","v":26.295600000000004}]
[{"$nulls":11},{"$f":"G1138*J1138","v":0}]
[]
[null,null,"MATERIAL ........................................................................................................................................................................................................................................",{"$nulls":7},"SUB-TOTAL (3) = ",{"$f":"SUM(L1142:L1143)","v":0}]
[null,null,"DISCRIMINAÇÃO","SINAPI","UNID",null,"QTDE","PROD","IMPROD","P.UNIT. PROD","P.UNIT. IMPR","P.TOTAL"]
[{"$nulls":11},{"$f":"G1142*J1142","v":0}]
[{"$nulls":11},{"$f":"G1143*J1143","v":0}]
[]
[null,null,"MÃO DE OBRA .................................................................................................................................................................................................................................",{"$nulls":7},"SUB-TOTAL (4) = ",{"$f":"SUM(L1147:L1148)","v":9.5810000000000013}]
[null,null,"DISCRIMINAÇÃO","SINAPI","UNID",null,"QTDE","PROD","IMPROD","P.UNIT. PROD","P.UNIT. IMPR","P.TOTAL"]
[null,null,"SERVENTE COM ENCARGOS COMPLEMENTARES",88316,"H",null,0.67,null,null,14.3,null,{"$f":"G1147*J1147","v":9.5810000000000013}]
[{"$nulls":11},{"$f":"G1148*J1148","v":0}]
[]
[null,null,"OBSERVAÇÕES:","PROD DA EQUIPE =",null,null,1,null,null,null,"CUSTO (SUB-TOTAL 1 + 2 + 3 + 4) = ",{"$f":"L1145+L1140+L1130+L1135","v":35.876600000000003}]
[null,null,null,"RESP. TÉCNICO:",{"$nulls":6},"TOTAL - R$ = ",{"$f":"L1150/G1150","v":35.876600000000003}]
[{"$nulls":10},"BDI (%) = ",{"$f":"$I$3","v":0.2101044698987744}]
[{"$nulls":10},"TOTAL DO SERVIÇO - R$ = ",{"$f":"L1151*L1152+L1151","v":43.414434024770372}]
[]
[null,null,{"$f":"C1159","v":"SERVIÇO: FORNECIMENTO E ASSENTAMENTO DE TUBO CONCRETO DN 200 MM, JUNTA ELASTICA"},{"$f":"I1159","v":"CAC-038"},{"$f":"L1159","v":"M"},null,null,null,"P. Unit.=",{"$f":"L1183","v":0},{"$f":"$C$5","v":"SINAPI:Abril/2020 (Alagoas/AL) - NÃO DESONERADO"}]
[null,null," COMPOSIÇÃO ANALÍTICA DE CUSTO"]
[]
[null,null,{"$f":"$C$3","v":"EXECUÇÃO DE OBRAS E SERVIÇOS DE RECUPERAÇÃO PARCIAL DO DIQUE DE PROTEÇÃO E RECUPERAÇÃO DOS CANAIS DE IRRIGAÇÃO DO PERÍMETRO IRRIGADO DO ITIÚBA (canal adutor leste, P12, S1P12 e S2P12) E DOS CANAIS DE IRRIGAÇÃO (CLI e CLII) DO PERÍMETRO IRRIGADO DO BOACICA."},{"$nulls":4},"CODEVASF",null,null,"DATA: ANO 2017"]
[null,null,"SERVIÇO: FORNECIMENTO E ASSENTAMENTO DE TUBO CONCRETO DN 200 MM, JUNTA ELASTICA",{"$nulls":4},"COD: ","CAC-038",null,"UNIDADE: ","M"]
[]
[null,null,"SERVIÇOS - COMPOSIÇÕES AUXILIARES ............................................................................................................................................................................",{"$nulls":7},"SUB-TOTAL (1) = ",{"$f":"SUM(L1163:L1165)","v":0}]
[null,null,"DISCRIMINAÇÃO","SINAPI","UNID",null,"QTDE","PROD","IMPROD","P.UNIT. PROD","P.UNIT. IMPR","P.TOTAL"]
[null,null,"TUBO DE PVC PARA REDE COLETORA DE ESGOTO DE PAREDE MACIÇA, DN 200 MM, JUNTA ELÁSTICA, INSTALADO EM LOCAL COM NÍVEL BAIXO DE INTERFERÊNCIAS - FORNECIMENTO E ASSENTAMENTO. AF_06/2015",90696,"M",null,1,null,null,{"$f":"IFERROR(VLOOKUP(D1163,$D$7:$J$8,6,0),0)","v":0},null,{"$f":"G1163*J1163","v":0}]
[null,null,"LASTRO DE VALA COM PREPARO DE FUNDO, LARGURA MENOR QUE 1,5 M, COM CAMADA DE AREIA, LANÇAMENTO MECANIZADO, EM LOCAL COM NÍVEL BAIXO DE INTERFERÊNCIA. AF_06/2016",94111,"M3",null,0.21,null,null,{"$f":"IFERROR(VLOOKUP(D1164,$D$7:$J$8,6,0),0)","v":0},null,{"$f":"G1164*J1164","v":0}]
[{"$nulls":11},{"$f":"G1165*J1165","v":0}]
[]
[null,null,"EQUIPAMENTO .............................................................................................................................................................................................................................",{"$nulls":7},"SUB-TOTAL (2) = ",{"$f":"SUM(L1169:L1170)","v":0}]
[null,null,"DISCRIMINAÇÃO","SINAPI","UNID",null,"QTDE","PROD","IMPROD","P.UNIT. PROD","P.UNIT. IMPR","P.TOTAL"]
[{"$nulls":11},{"$f":"G1169*J1169","v":0}]
[{"$nulls":11},{"$f":"G1170*J1170","v":0}]
[]
[null,null,"MATERIAL ........................................................................................................................................................................................................................................",{"$nulls":7},"SUB-TOTAL (3) = ",{"$f":"SUM(L1174:L1175)","v":0}]
[null,null,"DISCRIMINAÇÃO","SINAPI","UNID",null,"QTDE","PROD","IMPROD","P.UNIT. PROD","P.UNIT. IMPR","P.TOTAL"]
[{"$nulls":11},{"$f":"G1174*J1174","v":0}]
[{"$nulls":11},{"$f":"G1175*J1175","v":0}]
[]
[null,null,"MÃO DE OBRA .................................................................................................................................................................................................................................",{"$nulls":7},"SUB-TOTAL (4) = ",{"$f":"SUM(L1179:L1180)","v":0}]
[null,null,"DISCRIMINAÇÃO","SINAPI","UNID",null,"QTDE","PROD","IMPROD","P.UNIT. PROD","P.UNIT. IMPR","P.TOTAL"]
[{"$nulls":11},{"$f":"G1179*J1179","v":0}]
[{"$nulls":11},{"$f":"G1180*J1180","v":0}]
[]
[null,null,"OBSERVAÇÕES:","PROD DA EQUIPE =",null,null,1,null,null,null,"CUSTO (SUB-TOTAL 1 + 2 + 3 + 4) = ",{"$f":"L1177+L1172+L1161+L1167","v":0}]
[null,null,null,"RESP. TÉCNICO:",{"$nulls":6},"TOTAL - R$ = ",{"$f":"L1182/G1182","v":0}]
[{"$nulls":10},"BDI (%) = ",{"$f":"$I$3","v":0.2101044698987744}]
[{"$nulls":10},"TOTAL DO SERVIÇO - R$ = ",{"$f":"L1183*L1184+L1183","v":0}]
[null,null,{"$f":"C1190","v":"SERVIÇO: FORNECIMENTO E ASSENTAMENTO DE TUBO CONCRETO DN 300 MM, JUNTA ELASTICA"},{"$f":"I1190","v":"CAC-039"},{"$f":"L1190","v":"M"},null,null,null,"P. Unit.=",{"$f":"L1214","v":0},{"$f":"$C$5","v":"SINAPI:Abril/2020 (Alagoas/AL) - NÃO DESONERADO"}]
[null,null," COMPOSIÇÃO ANALÍTICA DE CUSTO"]
[]
[null,null,{"$f":"$C$3","v":"EXECUÇÃO DE OBRAS E SERVIÇOS DE RECUPERAÇÃO PARCIAL DO DIQUE DE PROTEÇÃO E RECUPERAÇÃO DOS CANAIS DE IRRIGAÇÃO DO PERÍMETRO IRRIGADO DO ITIÚBA (canal adutor leste, P12, S1P12 e S2P12) E DOS CANAIS DE IRRIGAÇÃO (CLI e CLII) DO PERÍMETRO IRRIGADO DO BOACICA."},{"$nulls":4},"CODEVASF",null,null,"DATA: ANO 2017"]
[null,null,"SERVIÇO: FORNECIMENTO E ASSENTAMENTO DE TUBO CONCRETO DN 300 MM, JUNTA ELASTICA",{"$nulls":4},"COD: ","CAC-039",null,"UNIDADE: ","M"]
[]
[null,null,"SERVIÇOS - COMPOSIÇÕES AUXILIARES ............................................................................................................................................................................",{"$nulls":7},"SUB-TOTAL (1) = ",{"$f":"SUM(L1194:L1196)","v":0}]
[null,null,"DISCRIMINAÇÃO","SINAPI","UNID",null,"QTDE","PROD","IMPROD","P.UNIT. PROD","P.UNIT. IMPR","P.TOTAL"]
[null,null,"ASSENTAMENTO DE TUBO DE CONCRETO PARA REDES COLETORAS DE ESGOTO SANITÁRIO, DIÂMETRO DE 300 MM, JUNTA ELÁSTICA, INSTALADO EM LOCAL COM BAIXO NÍVEL DE INTERFERÊNCIAS (NÃO INCLUI FORNECIMENTO). AF_12/2015",92834,"M",null,1,null,null,{"$f":"IFERROR(VLOOKUP(D1194,$D$7:$J$8,6,0),0)","v":0},null,{"$f":"G1194*J1194","v":0}]
[null,null,"LASTRO DE VALA COM PREPARO DE FUNDO, LARGURA MENOR QUE 1,5 M, COM CAMADA DE AREIA, LANÇAMENTO MECANIZADO, EM LOCAL COM NÍVEL BAIXO DE INTERFERÊNCIA. AF_06/2016",94111,"M3",null,0.22500000000000001,null,null,{"$f":"IFERROR(VLOOKUP(D1195,$D$7:$J$8,6,0),0)","v":0},null,{"$f":"G1195*J1195","v":0}]
[{"$nulls":11},{"$f":"G1196*J1196","v":0}]
[]
[null,null,"EQUIPAMENTO .............................................................................................................................................................................................................................",{"$nulls":7},"SUB-TOTAL (2) = ",{"$f":"SUM(L1200:L1201)","v":0}]
[null,null,"DISCRIMINAÇÃO","SINAPI","UNID",null,"QTDE","PROD","IMPROD","P.UNIT. PROD","P.UNIT. IMPR","P.TOTAL"]
[{"$nulls":11},{"$f":"G1200*J1200","v":0}]
[{"$nulls":11},{"$f":"G1201*J1201","v":0}]
[]
[null,null,"MATERIAL ........................................................................................................................................................................................................................................",{"$nulls":7},"SUB-TOTAL (3) = ",{"$f":"SUM(L1205:L1206)","v":0}]
[null,null,"DISCRIMINAÇÃO","SINAPI","UNID",null,"QTDE","PROD","IMPROD","P.UNIT. PROD","P.UNIT. IMPR","P.TOTAL"]
[null,null,"TUBO DE CONCRETO SIMPLES, CLASSE- PS1, PB, DN 300 MM, PARA AGUAS PLUVIAIS (NBR 8890)",7796,"M",null,1,null,null,{"$f":"IFERROR(VLOOKUP(D1205,$D$7:$J$8,6,0),0)","v":0},null,{"$f":"G1205*J1205","v":0}]
[{"$nulls":11},{"$f":"G1206*J1206","v":0}]
[]
[null,null,"MÃO DE OBRA .................................................................................................................................................................................................................................",{"$nulls":7},"SUB-TOTAL (4) = ",{"$f":"SUM(L1210:L1211)","v":0}]
[null,null,"DISCRIMINAÇÃO","SINAPI","UNID",null,"QTDE","PROD","IMPROD","P.UNIT. PROD","P.UNIT. IMPR","P.TOTAL"]
[{"$nulls":11},{"$f":"G1210*J1210","v":0}]
[{"$nulls":11},{"$f":"G1211*J1211","v":0}]
[]
[null,null,"OBSERVAÇÕES:","PROD DA EQUIPE =",null,null,1,null,null,null,"CUSTO (SUB-TOTAL 1 + 2 + 3 + 4) = ",{"$f":"L1208+L1203+L1192+L1198","v":0}]
[null,null,null,"RESP. TÉCNICO:",{"$nulls":6},"TOTAL - R$ = ",{"$f":"L1213/G1213","v":0}]
[{"$nulls":10},"BDI (%) = ",{"$f":"$I$3","v":0.2101044698987744}]
[{"$nulls":10},"TOTAL DO SERVIÇO - R$ = ",{"$f":"L1214*L1215+L1214","v":0}]
[]
[null,null,{"$f":"C1222","v":"SERVIÇO: FORNECIMENTO E ASSENTAMENTO DE TUBO CONCRETO DN 400 MM, JUNTA ELASTICA"},{"$f":"I1222","v":"CAC-040"},{"$f":"L1222","v":"M"},null,null,null,"P. Unit.=",{"$f":"L1246","v":0},{"$f":"$C$5","v":"SINAPI:Abril/2020 (Alagoas/AL) - NÃO DESONERADO"}]
[null,null," COMPOSIÇÃO ANALÍTICA DE CUSTO"]
[]
[null,null,{"$f":"$C$3","v":"EXECUÇÃO DE OBRAS E SERVIÇOS DE RECUPERAÇÃO PARCIAL DO DIQUE DE PROTEÇÃO E RECUPERAÇÃO DOS CANAIS DE IRRIGAÇÃO DO PERÍMETRO IRRIGADO DO ITIÚBA (canal adutor leste, P12, S1P12 e S2P12) E DOS CANAIS DE IRRIGAÇÃO (CLI e CLII) DO PERÍMETRO IRRIGADO DO BOACICA."},{"$nulls":4},"CODEVASF",null,null,"DATA: ANO 2017"]
[null,null,"SERVIÇO: FORNECIMENTO E ASSENTAMENTO DE TUBO CONCRETO DN 400 MM, JUNTA ELASTICA",{"$nulls":4},"COD: ","CAC-040",null,"UNIDADE: ","M"]
[]
[null,null,"SERVIÇOS - COMPOSIÇÕES AUXILIARES ............................................................................................................................................................................",{"$nulls":7},"SUB-TOTAL (1) = ",{"$f":"SUM(L1226:L1228)","v":0}]
[null,null,"DISCRIMINAÇÃO","SINAPI","UNID",null,"QTDE","PROD","IMPROD","P.UNIT. PROD","P.UNIT. IMPR","P.TOTAL"]
[null,null,"TUBO DE CONCRETO PARA REDES COLETORAS DE ESGOTO SANITÁRIO, DIÂMETRO DE 400 MM, JUNTA ELÁSTICA, INSTALADO EM LOCAL COM BAIXO NÍVEL DE INTERFERÊNCIAS - FORNECIMENTO E ASSENTAMENTO. AF_12/2015",92835,"M",null,1,null,null,{"$f":"IFERROR(VLOOKUP(D1226,$D$7:$J$8,6,0),0)","v":0},null,{"$f":"G1226*J1226","v":0}]
[null,null,"LASTRO DE VALA COM PREPARO DE FUNDO, LARGURA MENOR QUE 1,5 M, COM CAMADA DE AREIA, LANÇAMENTO MECANIZADO, EM LOCAL COM NÍVEL BAIXO DE INTERFERÊNCIA. AF_06/2016",94111,"M3",null,0.24,null,null,{"$f":"IFERROR(VLOOKUP(D1227,$D$7:$J$8,6,0),0)","v":0},null,{"$f":"G1227*J1227","v":0}]
[{"$nulls":11},{"$f":"G1228*J1228","v":0}]
[]
[null,null,"EQUIPAMENTO .............................................................................................................................................................................................................................",{"$nulls":7},"SUB-TOTAL (2) = ",{"$f":"SUM(L1232:L1233)","v":0}]
[null,null,"DISCRIMINAÇÃO","SINAPI","UNID",null,"QTDE","PROD","IMPROD","P.UNIT. PROD","P.UNIT. IMPR","P.TOTAL"]
[{"$nulls":11},{"$f":"G1232*J1232","v":0}]
[{"$nulls":11},{"$f":"G1233*J1233","v":0}]
[]
[null,null,"MATERIAL ........................................................................................................................................................................................................................................",{"$nulls":7},"SUB-TOTAL (3) = ",{"$f":"SUM(L1237:L1238)","v":0}]
[null,null,"DISCRIMINAÇÃO","SINAPI","UNID",null,"QTDE","PROD","IMPROD","P.UNIT. PROD","P.UNIT. IMPR","P.TOTAL"]
[{"$nulls":11},{"$f":"G1237*J1237","v":0}]
[{"$nulls":11},{"$f":"G1238*J1238","v":0}]
[]
[null,null,"MÃO DE OBRA .................................................................................................................................................................................................................................",{"$nulls":7},"SUB-TOTAL (4) = ",{"$f":"SUM(L1242:L1243)","v":0}]
[null,null,"DISCRIMINAÇÃO","SINAPI","UNID",null,"QTDE","PROD","IMPROD","P.UNIT. PROD","P.UNIT. IMPR","P.TOTAL"]
[{"$nulls":11},{"$f":"G1242*J1242","v":0}]
[{"$nulls":11},{"$f":"G1243*J1243","v":0}]
[]
[null,null,"OBSERVAÇÕES:","PROD DA EQUIPE =",null,null,1,null,null,null,"CUSTO (SUB-TOTAL 1 + 2 + 3 + 4) = ",{"$f":"L1240+L1235+L1224+L1230","v":0}]
[null,null,null,"RESP. TÉCNICO:",{"$nulls":6},"TOTAL - R$ = ",{"$f":"L1245/G1245","v":0}]
[{"$nulls":10},"BDI (%) = ",{"$f":"$I$3","v":0.2101044698987744}]
[{"$nulls":10},"TOTAL DO SERVIÇO - R$ = ",{"$f":"L1246*L1247+L1246","v":0}]
[null,null,{"$f":"C1253","v":"SERVIÇO: FORNECIMENTO E ASSENTAMENTO DE TUBO CONCRETO DN 600 MM, JUNTA ELASTICA"},{"$f":"I1253","v":"CAC-041"},{"$f":"L1253","v":"M"},"C. Unit. =",{"$f":"L1277","v":278.66379999999998},null,"P. Unit.=",{"$f":"L1279","v":337.21230997897806},{"$f":"$C$5","v":"SINAPI:Abril/2020 (Alagoas/AL) - NÃO DESONERADO"}]
[null,null," COMPOSIÇÃO ANALÍTICA DE CUSTO"]
[]
[null,null,{"$f":"$C$3","v":"EXECUÇÃO DE OBRAS E SERVIÇOS DE RECUPERAÇÃO PARCIAL DO DIQUE DE PROTEÇÃO E RECUPERAÇÃO DOS CANAIS DE IRRIGAÇÃO DO PERÍMETRO IRRIGADO DO ITIÚBA (canal adutor leste, P12, S1P12 e S2P12) E DOS CANAIS DE IRRIGAÇÃO (CLI e CLII) DO PERÍMETRO IRRIGADO DO BOACICA."},{"$nulls":4},"CODEVASF",null,null,"DATA: ANO 2017"]
[null,null,"SERVIÇO: FORNECIMENTO E ASSENTAMENTO DE TUBO CONCRETO DN 600 MM, JUNTA ELASTICA",{"$nulls":4},"COD: ","CAC-041",null,"UNIDADE: ","M"]
[]
[null,null,"SERVIÇOS - COMPOSIÇÕES AUXILIARES ............................................................................................................................................................................",{"$nulls":7},"SUB-TOTAL (1) = ",{"$f":"SUM(L1257:L1259)","v":278.66379999999998}]
[null,null,"DISCRIMINAÇÃO","SINAPI","UNID",null,"QTDE","PROD","IMPROD","P.UNIT. PROD","P.UNIT. IMPR","P.TOTAL"]
[null,null,"TUBO DE CONCRETO PARA REDES COLETORAS DE ESGOTO SANITÁRIO, DIÂMETRO DE 600 MM, JUNTA ELÁSTICA, INSTALADO EM LOCAL COM BAIXO NÍVEL DE INTERFERÊNCIAS - FORNECIMENTO E ASSENTAMENTO. AF_12/2015",92839,"M",null,1,null,null,243.04,null,{"$f":"G1257*J1257","v":243.04}]
[null,null,"LASTRO DE VALA COM PREPARO DE FUNDO, LARGURA MENOR QUE 1,5 M, COM CAMADA DE AREIA, LANÇAMENTO MECANIZADO, EM LOCAL COM NÍVEL BAIXO DE INTERFERÊNCIA. AF_06/2016",94111,"M3",null,0.27,null,null,131.94,null,{"$f":"G1258*J1258","v":35.623800000000003}]
[{"$nulls":11},{"$f":"G1259*J1259","v":0}]
[]
[null,null,"EQUIPAMENTO .............................................................................................................................................................................................................................",{"$nulls":7},"SUB-TOTAL (2) = ",{"$f":"SUM(L1263:L1264)","v":0}]
[null,null,"DISCRIMINAÇÃO","SINAPI","UNID",null,"QTDE","PROD","IMPROD","P.UNIT. PROD","P.UNIT. IMPR","P.TOTAL"]
[{"$nulls":11},{"$f":"G1263*J1263","v":0}]
[{"$nulls":11},{"$f":"G1264*J1264","v":0}]
[]
[null,null,"MATERIAL ........................................................................................................................................................................................................................................",{"$nulls":7},"SUB-TOTAL (3) = ",{"$f":"SUM(L1268:L1269)","v":0}]
[null,null,"DISCRIMINAÇÃO","SINAPI","UNID",null,"QTDE","PROD","IMPROD","P.UNIT. PROD","P.UNIT. IMPR","P.TOTAL"]
[{"$nulls":11},{"$f":"G1268*J1268","v":0}]
[{"$nulls":11},{"$f":"G1269*J1269","v":0}]
[]
[null,null,"MÃO DE OBRA .................................................................................................................................................................................................................................",{"$nulls":7},"SUB-TOTAL (4) = ",{"$f":"SUM(L1273:L1274)","v":0}]
[null,null,"DISCRIMINAÇÃO","SINAPI","UNID",null,"QTDE","PROD","IMPROD","P.UNIT. PROD","P.UNIT. IMPR","P.TOTAL"]
[{"$nulls":11},{"$f":"G1273*J1273","v":0}]
[{"$nulls":11},{"$f":"G1274*J1274","v":0}]
[]
[null,null,"OBSERVAÇÕES:","PROD DA EQUIPE =",null,null,1,null,null,null,"CUSTO (SUB-TOTAL 1 + 2 + 3 + 4) = ",{"$f":"L1271+L1266+L1255+L1261","v":278.66379999999998}]
[null,null,null,"RESP. TÉCNICO:",{"$nulls":6},"TOTAL - R$ = ",{"$f":"L1276/G1276","v":278.66379999999998}]
[{"$nulls":10},"BDI (%) = ",{"$f":"$I$3","v":0.2101044698987744}]
[{"$nulls":10},"TOTAL DO SERVIÇO - R$ = ",{"$f":"L1277*L1278+L1277","v":337.21230997897806}]
[]
[null,null,{"$f":"C1285","v":"SERVIÇO: CONCRETAGEM DE VIGAS E LAJES, FCK=20 MPA, PARA QUALQUER TIPO DE LAJE COM BALDES EM EDIFICAÇÃO TERREA, COM ÁREA MEDIA DE LAJES MENOR OU IGUAL A 20M² - LANÇAMENTO, ADENSAMENTO E ACABAMENTO. AF_12/2015"},{"$f":"I1285","v":"CAC-042"},{"$f":"L1285","v":"M3"},null,null,null,"P. Unit.=",{"$f":"L1308","v":0},{"$f":"$C$5","v":"SINAPI:Abril/2020 (Alagoas/AL) - NÃO DESONERADO"}]
[null,null," COMPOSIÇÃO ANALÍTICA DE CUSTO"]
[]
[null,null,{"$f":"$C$3","v":"EXECUÇÃO DE OBRAS E SERVIÇOS DE RECUPERAÇÃO PARCIAL DO DIQUE DE PROTEÇÃO E RECUPERAÇÃO DOS CANAIS DE IRRIGAÇÃO DO PERÍMETRO IRRIGADO DO ITIÚBA (canal adutor leste, P12, S1P12 e S2P12) E DOS CANAIS DE IRRIGAÇÃO (CLI e CLII) DO PERÍMETRO IRRIGADO DO BOACICA."},{"$nulls":4},"CODEVASF",null,null,"DATA: ANO 2017"]
[null,null,"SERVIÇO: CONCRETAGEM DE VIGAS E LAJES, FCK=20 MPA, PARA QUALQUER TIPO DE LAJE COM BALDES EM EDIFICAÇÃO TERREA, COM ÁREA MEDIA DE LAJES MENOR OU IGUAL A 20M² - LANÇAMENTO, ADENSAMENTO E ACABAMENTO. AF_12/2015",{"$nulls":4},"COD: ","CAC-042",null,"UNIDADE: ","M3"]
[]
[null,null,"SERVIÇOS - COMPOSIÇÕES AUXILIARES ............................................................................................................................................................................",{"$nulls":7},"SUB-TOTAL (1) = ",{"$f":"SUM(L1289:L1290)","v":0}]
[null,null,"DISCRIMINAÇÃO","SINAPI","UNID",null,"QTDE","PROD","IMPROD","P.UNIT. PROD","P.UNIT. IMPR","P.TOTAL"]
[null,null,"CONCRETAGEM DE VIGAS E LAJES, FCK=20 MPA, PARA QUALQUER TIPO DE LAJE COM BALDES EM EDIFICAÇÃO TERREA, COM ÁREA MEDIA DE LAJES MENOR OU IGUAL A 20M² - LANÇAMENTO, ADENSAMENTO E ACABAMENTO. AF_12/2015",92741,"M3",null,1,null,null,{"$f":"IFERROR(VLOOKUP(D1289,$D$7:$J$8,6,0),0)","v":0},null,{"$f":"G1289*J1289","v":0}]
[{"$nulls":11},{"$f":"G1290*J1290","v":0}]
[]
[null,null,"EQUIPAMENTO .............................................................................................................................................................................................................................",{"$nulls":7},"SUB-TOTAL (2) = ",{"$f":"SUM(L1294:L1295)","v":0}]
[null,null,"DISCRIMINAÇÃO","SINAPI","UNID",null,"QTDE","PROD","IMPROD","P.UNIT. PROD","P.UNIT. IMPR","P.TOTAL"]
[{"$nulls":11},{"$f":"G1294*J1294","v":0}]
[{"$nulls":11},{"$f":"G1295*J1295","v":0}]
[]
[null,null,"MATERIAL ........................................................................................................................................................................................................................................",{"$nulls":7},"SUB-TOTAL (3) = ",{"$f":"SUM(L1299:L1300)","v":0}]
[null,null,"DISCRIMINAÇÃO","SINAPI","UNID",null,"QTDE","PROD","IMPROD","P.UNIT. PROD","P.UNIT. IMPR","P.TOTAL"]
[{"$nulls":11},{"$f":"G1299*J1299","v":0}]
[{"$nulls":11},{"$f":"G1300*J1300","v":0}]
[]
[null,null,"MÃO DE OBRA .................................................................................................................................................................................................................................",{"$nulls":7},"SUB-TOTAL (4) = ",{"$f":"SUM(L1304:L1305)","v":0}]
[null,null,"DISCRIMINAÇÃO","SINAPI","UNID",null,"QTDE","PROD","IMPROD","P.UNIT. PROD","P.UNIT. IMPR","P.TOTAL"]
[{"$nulls":11},{"$f":"G1304*J1304","v":0}]
[{"$nulls":11},{"$f":"G1305*J1305","v":0}]
[]
[null,null,"OBSERVAÇÕES:","PROD DA EQUIPE =",null,null,1,null,null,null,"CUSTO (SUB-TOTAL 1 + 2 + 3 + 4) = ",{"$f":"L1302+L1297+L1287+L1292","v":0}]
[null,null,null,"RESP. TÉCNICO:",{"$nulls":6},"TOTAL - R$ = ",{"$f":"L1307/G1307","v":0}]
[{"$nulls":10},"BDI (%) = ",{"$f":"$I$3","v":0.2101044698987744}]
[{"$nulls":10},"TOTAL DO SERVIÇO - R$ = ",{"$f":"L1308*L1309+L1308","v":0}]
[]
[null,null,{"$f":"C1316","v":"SERVIÇO: LIMPEZA DO TERRENO - ROÇADA"},{"$f":"I1316","v":"CAC-043"},{"$f":"L1316","v":"M2"},null,null,null,"P. Unit.=",{"$f":"L1340","v":0},{"$f":"$C$5","v":"SINAPI:Abril/2020 (Alagoas/AL) - NÃO DESONERADO"}]
[null,null," COMPOSIÇÃO ANALÍTICA DE CUSTO"]
[]
[null,null,{"$f":"$C$3","v":"EXECUÇÃO DE OBRAS E SERVIÇOS DE RECUPERAÇÃO PARCIAL DO DIQUE DE PROTEÇÃO E RECUPERAÇÃO DOS CANAIS DE IRRIGAÇÃO DO PERÍMETRO IRRIGADO DO ITIÚBA (canal adutor leste, P12, S1P12 e S2P12) E DOS CANAIS DE IRRIGAÇÃO (CLI e CLII) DO PERÍMETRO IRRIGADO DO BOACICA."},{"$nulls":4},"CODEVASF",null,null,"DATA: ANO 2017"]
[null,null,"SERVIÇO: LIMPEZA DO TERRENO - ROÇADA",{"$nulls":4},"COD: ","CAC-043",null,"UNIDADE: ","M2"]
[]
[null,null,"SERVIÇOS - COMPOSIÇÕES AUXILIARES ............................................................................................................................................................................",{"$nulls":7},"SUB-TOTAL (1) = ",{"$f":"SUM(L1320:L1322)","v":0}]
[null,null,"DISCRIMINAÇÃO","SINAPI","UNID",null,"QTDE","PROD","IMPROD","P.UNIT. PROD","P.UNIT. IMPR","P.TOTAL"]
[null,null,"LIMPEZA MANUAL DO TERRENO (C/ RASPAGEM SUPERFICIAL)","73948/016","M2",null,0.25,null,null,{"$f":"IFERROR(VLOOKUP(D1320,$D$7:$J$8,6,0),0)","v":0},null,{"$f":"G1320*J1320","v":0}]
[null,null,"TRATOR DE PNEUS COM POTÊNCIA DE 85 CV, TRAÇÃO 4X4, COM GRADE DE DISCOS ACOPLADA - CHP DIURNO. AF_02/2017",96028,"CHP",null,{"$f":"1/500","v":2E-3},null,null,{"$f":"IFERROR(VLOOKUP(D1321,$D$7:$J$8,6,0),0)","v":0},null,{"$f":"G1321*J1321","v":0}]
[{"$nulls":11},{"$f":"G1322*J1322","v":0}]
[]
[null,null,"EQUIPAMENTO .............................................................................................................................................................................................................................",{"$nulls":7},"SUB-TOTAL (2) = ",{"$f":"SUM(L1326:L1327)","v":0}]
[null,null,"DISCRIMINAÇÃO","SINAPI","UNID",null,"QTDE","PROD","IMPROD","P.UNIT. PROD","P.UNIT. IMPR","P.TOTAL"]
[{"$nulls":11},{"$f":"G1326*J1326","v":0}]
[{"$nulls":11},{"$f":"G1327*J1327","v":0}]
[]
[null,null,"MATERIAL ........................................................................................................................................................................................................................................",{"$nulls":7},"SUB-TOTAL (3) = ",{"$f":"SUM(L1331:L1332)","v":0}]
[null,null,"DISCRIMINAÇÃO","SINAPI","UNID",null,"QTDE","PROD","IMPROD","P.UNIT. PROD","P.UNIT. IMPR","P.TOTAL"]
[{"$nulls":11},{"$f":"G1331*J1331","v":0}]
[{"$nulls":11},{"$f":"G1332*J1332","v":0}]
[]
[null,null,"MÃO DE OBRA .................................................................................................................................................................................................................................",{"$nulls":7},"SUB-TOTAL (4) = ",{"$f":"SUM(L1336:L1337)","v":0}]
[null,null,"DISCRIMINAÇÃO","SINAPI","UNID",null,"QTDE","PROD","IMPROD","P.UNIT. PROD","P.UNIT. IMPR","P.TOTAL"]
[{"$nulls":11},{"$f":"G1336*J1336","v":0}]
[{"$nulls":11},{"$f":"G1337*J1337","v":0}]
[]
[null,null,"OBSERVAÇÕES:","PROD DA EQUIPE =",null,null,1,null,null,null,"CUSTO (SUB-TOTAL 1 + 2 + 3 + 4) = ",{"$f":"L1334+L1329+L1318+L1324","v":0}]
[null,null,null,"RESP. TÉCNICO:",{"$nulls":6},"TOTAL - R$ = ",{"$f":"L1339/G1339","v":0}]
[{"$nulls":10},"BDI (%) = ",{"$f":"$I$3","v":0.2101044698987744}]
[{"$nulls":10},"TOTAL DO SERVIÇO - R$ = ",{"$f":"L1340*L1341+L1340","v":0}]
[null,null,{"$f":"C1347","v":"SERVIÇO: FORMA PLANA CHAPA COMPENSADA PLASTIFICADA, ESP=12MM, UTILIZAÇÃO 5X"},{"$f":"I1347","v":"CAC-044"},{"$f":"L1347","v":"M2"},"C. Unit. =",{"$f":"L1375","v":63.418900000000001},null,"P. Unit.=",{"$f":"L1377","v":76.743494366063388},{"$f":"K1312","v":"SINAPI:Abril/2020 (Alagoas/AL) - NÃO DESONERADO"}]
[null,null," COMPOSIÇÃO ANALÍTICA DE CUSTO"]
[]
[null,null,"OBRA: ",{"$nulls":4},"CODEVASF",null,null,"DATA: ANO 2017"]
[null,null,"SERVIÇO: FORMA PLANA CHAPA COMPENSADA PLASTIFICADA, ESP=12MM, UTILIZAÇÃO 5X",{"$nulls":4},"COD: ","CAC-044",null,"UNIDADE: ","M2"]
[]
[null,null,"SERVIÇOS - COMPOSIÇÕES AUXILIARES ............................................................................................................................................................................",{"$nulls":7},"SUB-TOTAL (1) = ",{"$f":"SUM(L1351:L1352)","v":0}]
[null,null,"DISCRIMINAÇÃO","SINAPI","UNID",null,"QTDE","PROD","IMPROD","P.UNIT. PROD","P.UNIT. IMPR","P.TOTAL"]
[{"$nulls":11},{"$f":"G1351*J1351","v":0}]
[{"$nulls":11},{"$f":"G1352*J1352","v":0}]
[]
[null,null,"EQUIPAMENTO .............................................................................................................................................................................................................................",{"$nulls":7},"SUB-TOTAL (2) = ",{"$f":"SUM(L1356:L1357)","v":0}]
[null,null,"DISCRIMINAÇÃO","SINAPI","UNID",null,"QTDE","PROD","IMPROD","P.UNIT. PROD","P.UNIT. IMPR","P.TOTAL"]
[{"$nulls":11},{"$f":"G1356*J1356","v":0}]
[{"$nulls":11},{"$f":"G1357*J1357","v":0}]
[]
[null,null,"MATERIAL ........................................................................................................................................................................................................................................",{"$nulls":7},"SUB-TOTAL (3) = ",{"$f":"SUM(L1361:L1366)","v":42.943899999999999}]
[null,null,"DISCRIMINAÇÃO","SINAPI","UNID",null,"QTDE","PROD","IMPROD","P.UNIT. PROD","P.UNIT. IMPR","P.TOTAL"]
[null,null,"CHAPA DE MADEIRA COMPENSADA RESINADA PARA FORMA DE CONCRETO, DE *2,2 X 1,1* M, E = 12 MM",1357,"M2",null,0.26,null,null,63.57,null,{"$f":"G1361*J1361","v":16.528200000000002}]
[null,null,"DESMOLDANTE PROTETOR PARA FORMAS DE MADEIRA, DE BASE OLEOSA EMULSIONADA EM AGUA",2692,"L",null,0.1,null,null,5.32,null,{"$f":"G1362*J1362","v":0.53200000000000003}]
[null,null,"PECA DE MADEIRA NATIVA / REGIONAL 7,5 X 7,5CM (3X3) NAO APARELHADA (P/FORMA)",4491,"M",null,1.2,null,null,6.68,null,{"$f":"G1363*J1363","v":8.016}]
[null,null,"PREGO DE ACO POLIDO COM CABECA 18 X 27 (2 1/2 X 10)",5061,"KG",null,0.15,null,null,12.18,null,{"$f":"G1364*J1364","v":1.827}]
[null,null,"TABUA DE MADEIRA NAO APARELHADA *2,5 X 30* CM, CEDRINHO OU EQUIVALENTE DA REGIÃO",6189,"M",null,1.17,null,null,13.71,null,{"$f":"G1365*J1365","v":16.040700000000001}]
[]
[]
[null,null,"MÃO DE OBRA .................................................................................................................................................................................................................................",{"$nulls":7},"SUB-TOTAL (4) = ",{"$f":"SUM(L1370:L1372)","v":20.475000000000001}]
[null,null,"DISCRIMINAÇÃO","SINAPI","UNID",null,"QTDE","PROD","IMPROD","P.UNIT. PROD","P.UNIT. IMPR","P.TOTAL"]
[null,null,"CARPINTEIRO DE FORMAS COM ENCARGOS COMPLEMENTARES",88262,"H",null,0.5,null,null,18.18,null,{"$f":"G1370*J1370","v":9.09}]
[null,null,"AJUDANTE DE CARPINTEIRO COM ENCARGOS COMPLEMENTARES",88239,"H",null,0.75,null,null,15.18,null,{"$f":"G1371*J1371","v":11.385}]
[{"$nulls":11},{"$f":"G1372*J1372","v":0}]
[]
[null,null,"OBSERVAÇÕES:","PROD DA EQUIPE =",null,null,1,null,null,null,"CUSTO (SUB-TOTAL 1 + 2 + 3 + 4) = ",{"$f":"L1368+L1359+L1349+L1354","v":63.418900000000001}]
[null,null,null,"RESP. TÉCNICO:",{"$nulls":6},"TOTAL - R$ = ",{"$f":"L1374/G1374","v":63.418900000000001}]
[{"$nulls":10},"BDI (%) = ",{"$f":"$I$3","v":0.2101044698987744}]
[{"$nulls":10},"TOTAL DO SERVIÇO - R$ = ",{"$f":"L1375*L1376+L1375","v":76.743494366063388}]
[]
[null,null,{"$f":"C1383","v":"SERVIÇO: LIMPEZA MECANIZADA DE TERRENO COM REMOCAO DE CAMADA VEGETAL, UTILIZANDO MOTONIVELADORA"},{"$f":"I1383","v":"CAC-045"},{"$f":"L1383","v":"M2"},null,null,null,"P. Unit.=",{"$f":"L1406","v":0},{"$f":"$C$5","v":"SINAPI:Abril/2020 (Alagoas/AL) - NÃO DESONERADO"}]
[null,null," COMPOSIÇÃO ANALÍTICA DE CUSTO"]
[]
[null,null,{"$f":"$C$3","v":"EXECUÇÃO DE OBRAS E SERVIÇOS DE RECUPERAÇÃO PARCIAL DO DIQUE DE PROTEÇÃO E RECUPERAÇÃO DOS CANAIS DE IRRIGAÇÃO DO PERÍMETRO IRRIGADO DO ITIÚBA (canal adutor leste, P12, S1P12 e S2P12) E DOS CANAIS DE IRRIGAÇÃO (CLI e CLII) DO PERÍMETRO IRRIGADO DO BOACICA."},{"$nulls":4},{"$f":"$C$4","v":"CODEVASF"},null,null,{"$f":"$C$6","v":"DATA: ANO 2020"}]
[null,null,"SERVIÇO: LIMPEZA MECANIZADA DE TERRENO COM REMOCAO DE CAMADA VEGETAL, UTILIZANDO MOTONIVELADORA",{"$nulls":4},"COD: ","CAC-045",null,"UNIDADE: ","M2"]
[]
[null,null,"SERVIÇOS - COMPOSIÇÕES AUXILIARES ............................................................................................................................................................................",{"$nulls":7},"SUB-TOTAL (1) = ",{"$f":"SUM(L1387:L1388)","v":0}]
[null,null,"DISCRIMINAÇÃO","SINAPI","UNID",null,"QTDE","PROD","IMPROD","P.UNIT. PROD","P.UNIT. IMPR","P.TOTAL"]
[null,null,"LIMPEZA MECANIZADA DE TERRENO COM REMOCAO DE CAMADA VEGETAL, UTILIZANDO MOTONIVELADORA","73822/002","M2",null,1,null,null,{"$f":"IFERROR(VLOOKUP(D1387,$D$7:$J$8,6,0),0)","v":0},null,{"$f":"G1387*J1387","v":0}]
[{"$nulls":11},{"$f":"G1388*J1388","v":0}]
[]
[null,null,"EQUIPAMENTO .............................................................................................................................................................................................................................",{"$nulls":7},"SUB-TOTAL (2) = ",{"$f":"SUM(L1392:L1393)","v":0}]
[null,null,"DISCRIMINAÇÃO","SINAPI","UNID",null,"QTDE","PROD","IMPROD","P.UNIT. PROD","P.UNIT. IMPR","P.TOTAL"]
[]
[{"$nulls":11},{"$f":"G1393*J1393","v":0}]
[]
[null,null,"MATERIAL ........................................................................................................................................................................................................................................",{"$nulls":7},"SUB-TOTAL (3) = ",{"$f":"SUM(L1397:L1398)","v":0}]
[null,null,"DISCRIMINAÇÃO","SINAPI","UNID",null,"QTDE","PROD","IMPROD","P.UNIT. PROD","P.UNIT. IMPR","P.TOTAL"]
[{"$nulls":11},{"$f":"G1397*J1397","v":0}]
[{"$nulls":11},{"$f":"G1398*J1398","v":0}]
[]
[null,null,"MÃO DE OBRA .................................................................................................................................................................................................................................",{"$nulls":7},"SUB-TOTAL (4) = ",{"$f":"SUM(L1402:L1403)","v":0}]
[null,null,"DISCRIMINAÇÃO","SINAPI","UNID",null,"QTDE","PROD","IMPROD","P.UNIT. PROD","P.UNIT. IMPR","P.TOTAL"]
[{"$nulls":11},{"$f":"G1402*J1402","v":0}]
[{"$nulls":11},{"$f":"G1403*J1403","v":0}]
[]
[null,null,"OBSERVAÇÕES:","PROD DA EQUIPE =",null,null,1,null,null,null,"CUSTO (SUB-TOTAL 1 + 2 + 3 + 4) = ",{"$f":"L1400+L1395+L1385+L1390","v":0}]
[null,null,null,"RESP. TÉCNICO:",{"$nulls":6},"TOTAL - R$ = ",{"$f":"L1405/G1405","v":0}]
[{"$nulls":10},"BDI (%) = ",{"$f":"$I$3","v":0.2101044698987744}]
[{"$nulls":10},"TOTAL DO SERVIÇO - R$ = ",{"$f":"L1406*L1407+L1406","v":0}]
[]
[null,null,{"$f":"C1414","v":"SERVIÇO: CONFORMAÇÃO GEOMÉTRICA DE PLATAFORMA PARA EXECUÇÃO DE REVESTIMENTO PRIMÁRIO"},{"$f":"I1414","v":"CAC-046"},{"$f":"L1414","v":"M2"},null,null,null,"P. Unit.=",{"$f":"L1437","v":0},{"$f":"$C$5","v":"SINAPI:Abril/2020 (Alagoas/AL) - NÃO DESONERADO"}]
[null,null," COMPOSIÇÃO ANALÍTICA DE CUSTO"]
[]
[null,null,{"$f":"$C$3","v":"EXECUÇÃO DE OBRAS E SERVIÇOS DE RECUPERAÇÃO PARCIAL DO DIQUE DE PROTEÇÃO E RECUPERAÇÃO DOS CANAIS DE IRRIGAÇÃO DO PERÍMETRO IRRIGADO DO ITIÚBA (canal adutor leste, P12, S1P12 e S2P12) E DOS CANAIS DE IRRIGAÇÃO (CLI e CLII) DO PERÍMETRO IRRIGADO DO BOACICA."},{"$nulls":4},{"$f":"$C$4","v":"CODEVASF"},null,null,{"$f":"$C$6","v":"DATA: ANO 2020"}]
[null,null,"SERVIÇO: CONFORMAÇÃO GEOMÉTRICA DE PLATAFORMA PARA EXECUÇÃO DE REVESTIMENTO PRIMÁRIO",{"$nulls":4},"COD: ","CAC-046",null,"UNIDADE: ","M2"]
[]
[null,null,"SERVIÇOS - COMPOSIÇÕES AUXILIARES ............................................................................................................................................................................",{"$nulls":7},"SUB-TOTAL (1) = ",{"$f":"SUM(L1418:L1419)","v":0}]
[null,null,"DISCRIMINAÇÃO","SINAPI","UNID",null,"QTDE","PROD","IMPROD","P.UNIT. PROD","P.UNIT. IMPR","P.TOTAL"]
[null,null,"CONFORMACAO GEOMETRICA DE PLATAFORMA PARA EXECUCAO DE REVESTIMENTO PRIMARIO EM RODOVIAS VICINAIS",41879,"M2",null,1,null,null,{"$f":"IFERROR(VLOOKUP(D1418,$D$7:$J$8,6,0),0)","v":0},null,{"$f":"G1418*J1418","v":0}]
[{"$nulls":11},{"$f":"G1419*J1419","v":0}]
[]
[null,null,"EQUIPAMENTO .............................................................................................................................................................................................................................",{"$nulls":7},"SUB-TOTAL (2) = ",{"$f":"SUM(L1423:L1424)","v":0}]
[null,null,"DISCRIMINAÇÃO","SINAPI","UNID",null,"QTDE","PROD","IMPROD","P.UNIT. PROD","P.UNIT. IMPR","P.TOTAL"]
[null,null,"CAMINHÃO PIPA 10.000 L TRUCADO, PESO BRUTO TOTAL 23.000 KG, CARGA ÚTIL MAXIMA 15.935 KG, DISTANCIA ENTRE EIXOS 4,8 M, POTENCIA 230 CV, INCLUSIVE TANQUE DE AÇO PARA TRANSPORTE DE ÁGUA - MATERIAIS NA OPERAÇÃO. AF_06/2014",53831,"HP",null,0.01,null,null,{"$f":"IFERROR(VLOOKUP(D1423,$D$7:$J$8,6,0),0)","v":0},null,{"$f":"G1423*J1423","v":0}]
[{"$nulls":11},{"$f":"G1424*J1424","v":0}]
[]
[null,null,"MATERIAL ........................................................................................................................................................................................................................................",{"$nulls":7},"SUB-TOTAL (3) = ",{"$f":"SUM(L1428:L1429)","v":0}]
[null,null,"DISCRIMINAÇÃO","SINAPI","UNID",null,"QTDE","PROD","IMPROD","P.UNIT. PROD","P.UNIT. IMPR","P.TOTAL"]
[{"$nulls":11},{"$f":"G1428*J1428","v":0}]
[{"$nulls":11},{"$f":"G1429*J1429","v":0}]
[]
[null,null,"MÃO DE OBRA .................................................................................................................................................................................................................................",{"$nulls":7},"SUB-TOTAL (4) = ",{"$f":"SUM(L1433:L1434)","v":0}]
[null,null,"DISCRIMINAÇÃO","SINAPI","UNID",null,"QTDE","PROD","IMPROD","P.UNIT. PROD","P.UNIT. IMPR","P.TOTAL"]
[{"$nulls":11},{"$f":"G1433*J1433","v":0}]
[{"$nulls":11},{"$f":"G1434*J1434","v":0}]
[]
[null,null,"OBSERVAÇÕES:","PROD DA EQUIPE =",null,null,1,null,null,null,"CUSTO (SUB-TOTAL 1 + 2 + 3 + 4) = ",{"$f":"L1431+L1426+L1416+L1421","v":0}]
[null,null,null,"RESP. TÉCNICO:",{"$nulls":6},"TOTAL - R$ = ",{"$f":"L1436/G1436","v":0}]
[{"$nulls":10},"BDI (%) = ",{"$f":"$I$3","v":0.2101044698987744}]
[{"$nulls":10},"TOTAL DO SERVIÇO - R$ = ",{"$f":"L1437*L1438+L1437","v":0}]
[]
[null,null,{"$f":"C1445","v":"SERVIÇO: RECOMPOSIÇÃO DO REVESTIMENTO PRIMARIO (ENCASCALHAMENTO)"},{"$f":"I1445","v":"CAC-047"},{"$f":"L1445","v":"M3"},"C. Unit. =",{"$f":"L1468","v":7.8627000000000002},null,"P. Unit.=",{"$f":"L1470","v":9.5146884154730937},{"$f":"$C$5","v":"SINAPI:Abril/2020 (Alagoas/AL) - NÃO DESONERADO"}]
[null,null," COMPOSIÇÃO ANALÍTICA DE CUSTO"]
[]
[null,null,{"$f":"$C$3","v":"EXECUÇÃO DE OBRAS E SERVIÇOS DE RECUPERAÇÃO PARCIAL DO DIQUE DE PROTEÇÃO E RECUPERAÇÃO DOS CANAIS DE IRRIGAÇÃO DO PERÍMETRO IRRIGADO DO ITIÚBA (canal adutor leste, P12, S1P12 e S2P12) E DOS CANAIS DE IRRIGAÇÃO (CLI e CLII) DO PERÍMETRO IRRIGADO DO BOACICA."},{"$nulls":4},{"$f":"$C$4","v":"CODEVASF"},null,null,{"$f":"$C$6","v":"DATA: ANO 2020"}]
[null,null,"SERVIÇO: RECOMPOSIÇÃO DO REVESTIMENTO PRIMARIO (ENCASCALHAMENTO)",{"$nulls":4},"COD: ","CAC-047",null,"UNIDADE: ","M3"]
[]
[null,null,"SERVIÇOS - COMPOSIÇÕES AUXILIARES ............................................................................................................................................................................",{"$nulls":7},"SUB-TOTAL (1) = ",{"$f":"SUM(L1449:L1450)","v":6.59}]
[null,null,"DISCRIMINAÇÃO","SINAPI","UNID",null,"QTDE","PROD","IMPROD","P.UNIT. PROD","P.UNIT. IMPR","P.TOTAL"]
[null,null,"RECOMPOSICAO DE REVESTIMENTO PRIMARIO MEDIDO P/ VOLUME COMPACTADO",83771,"M3",null,1,null,null,6.59,null,{"$f":"G1449*J1449","v":6.59}]
[{"$nulls":11},{"$f":"G1450*J1450","v":0}]
[]
[null,null,"EQUIPAMENTO .............................................................................................................................................................................................................................",{"$nulls":7},"SUB-TOTAL (2) = ",{"$f":"SUM(L1454:L1455)","v":0}]
[null,null,"DISCRIMINAÇÃO","SINAPI","UNID",null,"QTDE","PROD","IMPROD","P.UNIT. PROD","P.UNIT. IMPR","P.TOTAL"]
[]
[{"$nulls":11},{"$f":"G1455*J1455","v":0}]
[]
[null,null,"MATERIAL ........................................................................................................................................................................................................................................",{"$nulls":7},"SUB-TOTAL (3) = ",{"$f":"SUM(L1459:L1460)","v":0}]
[null,null,"DISCRIMINAÇÃO","SINAPI","UNID",null,"QTDE","PROD","IMPROD","P.UNIT. PROD","P.UNIT. IMPR","P.TOTAL"]
[{"$nulls":11},{"$f":"G1459*J1459","v":0}]
[{"$nulls":11},{"$f":"G1460*J1460","v":0}]
[]
[null,null,"MÃO DE OBRA .................................................................................................................................................................................................................................",{"$nulls":7},"SUB-TOTAL (4) = ",{"$f":"SUM(L1464:L1465)","v":1.2726999999999999}]
[null,null,"DISCRIMINAÇÃO","SINAPI","UNID",null,"QTDE","PROD","IMPROD","P.UNIT. PROD","P.UNIT. IMPR","P.TOTAL"]
[null,null,"SERVENTE COM ENCARGOS COMPLEMENTARES",88316,"H",null,8.8999999999999996E-2,null,null,14.3,null,{"$f":"G1464*J1464","v":1.2726999999999999}]
[{"$nulls":11},{"$f":"G1465*J1465","v":0}]
[]
[null,null,"OBSERVAÇÕES:","PROD DA EQUIPE =",null,null,1,null,null,null,"CUSTO (SUB-TOTAL 1 + 2 + 3 + 4) = ",{"$f":"L1462+L1457+L1447+L1452","v":7.8627000000000002}]
[null,null,null,"RESP. TÉCNICO:",{"$nulls":6},"TOTAL - R$ = ",{"$f":"L1467/G1467","v":7.8627000000000002}]
[{"$nulls":10},"BDI (%) = ",{"$f":"$I$3","v":0.2101044698987744}]
[{"$nulls":10},"TOTAL DO SERVIÇO - R$ = ",{"$f":"L1468*L1469+L1468","v":9.5146884154730937}]
[]
[null,null,{"$f":"C1476","v":"SERVIÇO: TRANSPORTE DE MATERIAL (CASCALHO OU SOLO) DA JAZIDA ATÉ ESTRADA, RODOVIA COM REVESTIMENTO PRIMARIO"},{"$f":"I1476","v":"CAC-048"},{"$f":"L1476","v":"M3XKM"},null,null,null,"P. Unit.=",{"$f":"L1499","v":0},{"$f":"$C$5","v":"SINAPI:Abril/2020 (Alagoas/AL) - NÃO DESONERADO"}]
[null,null," COMPOSIÇÃO ANALÍTICA DE CUSTO"]
[]
[null,null,{"$f":"$C$3","v":"EXECUÇÃO DE OBRAS E SERVIÇOS DE RECUPERAÇÃO PARCIAL DO DIQUE DE PROTEÇÃO E RECUPERAÇÃO DOS CANAIS DE IRRIGAÇÃO DO PERÍMETRO IRRIGADO DO ITIÚBA (canal adutor leste, P12, S1P12 e S2P12) E DOS CANAIS DE IRRIGAÇÃO (CLI e CLII) DO PERÍMETRO IRRIGADO DO BOACICA."},{"$nulls":4},{"$f":"$C$4","v":"CODEVASF"},null,null,{"$f":"$C$6","v":"DATA: ANO 2020"}]
[null,null,"SERVIÇO: TRANSPORTE DE MATERIAL (CASCALHO OU SOLO) DA JAZIDA ATÉ ESTRADA, RODOVIA COM REVESTIMENTO PRIMARIO",{"$nulls":4},"COD: ","CAC-048",null,"UNIDADE: ","M3XKM"]
[]
[null,null,"SERVIÇOS - COMPOSIÇÕES AUXILIARES ............................................................................................................................................................................",{"$nulls":7},"SUB-TOTAL (1) = ",{"$f":"SUM(L1480:L1481)","v":0}]
[null,null,"DISCRIMINAÇÃO","SINAPI","UNID",null,"QTDE","PROD","IMPROD","P.UNIT. PROD","P.UNIT. IMPR","P.TOTAL"]
[null,null,"TRANSPORTE COMERCIAL COM CAMINHAO BASCULANTE 6 M3, RODOVIA COM REVESTIMENTO PRIMARIO",72886,"M3XKM",null,1,null,null,{"$f":"IFERROR(VLOOKUP(D1480,$D$7:$J$8,6,0),0)","v":0},null,{"$f":"G1480*J1480","v":0}]
[{"$nulls":11},{"$f":"G1481*J1481","v":0}]
[]
[null,null,"EQUIPAMENTO .............................................................................................................................................................................................................................",{"$nulls":7},"SUB-TOTAL (2) = ",{"$f":"SUM(L1485:L1486)","v":0}]
[null,null,"DISCRIMINAÇÃO","SINAPI","UNID",null,"QTDE","PROD","IMPROD","P.UNIT. PROD","P.UNIT. IMPR","P.TOTAL"]
[{"$nulls":11},{"$f":"G1485*J1485","v":0}]
[{"$nulls":11},{"$f":"G1486*J1486","v":0}]
[]
[null,null,"MATERIAL ........................................................................................................................................................................................................................................",{"$nulls":7},"SUB-TOTAL (3) = ",{"$f":"SUM(L1490:L1491)","v":0}]
[null,null,"DISCRIMINAÇÃO","SINAPI","UNID",null,"QTDE","PROD","IMPROD","P.UNIT. PROD","P.UNIT. IMPR","P.TOTAL"]
[{"$nulls":11},{"$f":"G1490*J1490","v":0}]
[{"$nulls":11},{"$f":"G1491*J1491","v":0}]
[]
[null,null,"MÃO DE OBRA .................................................................................................................................................................................................................................",{"$nulls":7},"SUB-TOTAL (4) = ",{"$f":"SUM(L1495:L1496)","v":0}]
[null,null,"DISCRIMINAÇÃO","SINAPI","UNID",null,"QTDE","PROD","IMPROD","P.UNIT. PROD","P.UNIT. IMPR","P.TOTAL"]
[{"$nulls":11},{"$f":"G1495*J1495","v":0}]
[{"$nulls":11},{"$f":"G1496*J1496","v":0}]
[]
[null,null,"OBSERVAÇÕES:","PROD DA EQUIPE =",null,null,1,null,null,null,"CUSTO (SUB-TOTAL 1 + 2 + 3 + 4) = ",{"$f":"L1493+L1488+L1478+L1483","v":0}]
[null,null,null,"RESP. TÉCNICO:",{"$nulls":6},"TOTAL - R$ = ",{"$f":"L1498/G1498","v":0}]
[{"$nulls":10},"BDI (%) = ",{"$f":"$I$3","v":0.2101044698987744}]
[{"$nulls":10},"TOTAL DO SERVIÇO - R$ = ",{"$f":"L1499*L1500+L1499","v":0}]
[]
[null,null,{"$f":"C1507","v":"SERVIÇO: EXTRAÇÃO E CARGA DE CASCALHO EM JAZIDA, INCLUSIVE LIMPEZA DA CAMADA VEGETAL E EXPURGO"},{"$f":"I1507","v":"CAC-049"},{"$f":"L1507","v":"M3"},"C. Unit. =",{"$f":"L1531","v":5.1216599999999994},null,"P. Unit.=",{"$f":"L1533","v":6.1977436593017563},{"$f":"$C$5","v":"SINAPI:Abril/2020 (Alagoas/AL) - NÃO DESONERADO"}]
[null,null," COMPOSIÇÃO ANALÍTICA DE CUSTO"]
[]
[null,null,{"$f":"$C$3","v":"EXECUÇÃO DE OBRAS E SERVIÇOS DE RECUPERAÇÃO PARCIAL DO DIQUE DE PROTEÇÃO E RECUPERAÇÃO DOS CANAIS DE IRRIGAÇÃO DO PERÍMETRO IRRIGADO DO ITIÚBA (canal adutor leste, P12, S1P12 e S2P12) E DOS CANAIS DE IRRIGAÇÃO (CLI e CLII) DO PERÍMETRO IRRIGADO DO BOACICA."},{"$nulls":4},{"$f":"$C$4","v":"CODEVASF"},null,null,{"$f":"$C$6","v":"DATA: ANO 2020"}]
[null,null,"SERVIÇO: EXTRAÇÃO E CARGA DE CASCALHO EM JAZIDA, INCLUSIVE LIMPEZA DA CAMADA VEGETAL E EXPURGO",{"$nulls":4},"COD: ","CAC-049",null,"UNIDADE: ","M3"]
[]
[null,null,"SERVIÇOS - COMPOSIÇÕES AUXILIARES ............................................................................................................................................................................",{"$nulls":7},"SUB-TOTAL (1) = ",{"$f":"SUM(L1511:L1513)","v":5.1216599999999994}]
[null,null,"DISCRIMINAÇÃO","SINAPI","UNID",null,"QTDE","PROD","IMPROD","P.UNIT. PROD","P.UNIT. IMPR","P.TOTAL"]
[null,null,"LIMPEZA MANUAL DE VEGETAÇÃO EM TERRENO COM ENXADA.AF_05/2018",98524,"M2",null,1,null,null,2.2799999999999998,null,{"$f":"G1511*J1511","v":2.2799999999999998}]
[null,null,"ESCAVACAO MECANICA, A CEU ABERTO, EM MATERIAL DE 1A CATEGORIA, COM ESCAVADEIRA HIDRAULICA, CAPACIDADE DE 0,78 M3",83338,"M3",null,1,null,null,2.02,null,{"$f":"G1512*J1512","v":2.02}]
[null,null,"CAMINHÃO BASCULANTE 6 M3, PESO BRUTO TOTAL 16.000 KG, CARGA ÚTIL MÁXIMA 13.071 KG, DISTÂNCIA ENTRE EIXOS 4,80 M, POTÊNCIA 230 CV INCLUSIVE CAÇAMBA METÁLICA - MANUTENÇÃO. AF_06/2014",5811,"CHP",null,7.0000000000000001E-3,null,null,117.38,null,{"$f":"G1513*J1513","v":0.82165999999999995}]
[]
[null,null,"EQUIPAMENTO .............................................................................................................................................................................................................................",{"$nulls":7},"SUB-TOTAL (2) = ",{"$f":"SUM(L1517:L1518)","v":0}]
[null,null,"DISCRIMINAÇÃO","SINAPI","UNID",null,"QTDE","PROD","IMPROD","P.UNIT. PROD","P.UNIT. IMPR","P.TOTAL"]
[{"$nulls":11},{"$f":"G1517*J1517","v":0}]
[{"$nulls":11},{"$f":"G1518*J1518","v":0}]
[]
[null,null,"MATERIAL ........................................................................................................................................................................................................................................",{"$nulls":7},"SUB-TOTAL (3) = ",{"$f":"SUM(L1522:L1523)","v":0}]
[null,null,"DISCRIMINAÇÃO","SINAPI","UNID",null,"QTDE","PROD","IMPROD","P.UNIT. PROD","P.UNIT. IMPR","P.TOTAL"]
[{"$nulls":11},{"$f":"G1522*J1522","v":0}]
[{"$nulls":11},{"$f":"G1523*J1523","v":0}]
[]
[null,null,"MÃO DE OBRA .................................................................................................................................................................................................................................",{"$nulls":7},"SUB-TOTAL (4) = ",{"$f":"SUM(L1527:L1528)","v":0}]
[null,null,"DISCRIMINAÇÃO","SINAPI","UNID",null,"QTDE","PROD","IMPROD","P.UNIT. PROD","P.UNIT. IMPR","P.TOTAL"]
[{"$nulls":11},{"$f":"G1527*J1527","v":0}]
[{"$nulls":11},{"$f":"G1528*J1528","v":0}]
[]
[null,null,"OBSERVAÇÕES:","PROD DA EQUIPE =",null,null,1,null,null,null,"CUSTO (SUB-TOTAL 1 + 2 + 3 + 4) = ",{"$f":"L1525+L1520+L1509+L1515","v":5.1216599999999994}]
[null,null,null,"RESP. TÉCNICO:",{"$nulls":6},"TOTAL - R$ = ",{"$f":"L1530/G1530","v":5.1216599999999994}]
[{"$nulls":10},"BDI (%) = ",{"$f":"$I$3","v":0.2101044698987744}]
[{"$nulls":10},"TOTAL DO SERVIÇO - R$ = ",{"$f":"L1531*L1532+L1531","v":6.1977436593017563}]
[]
[null,null,{"$f":"C1539","v":"SERVIÇO: DESASSOREAMENTO DE COLETOR ATRAVÉS DE ESCAVAÇÃO MECÂNICA, COM UTILIZAÇÃO DE ESCAVADEIRA HIDRÁULICA"},{"$f":"I1539","v":"CAC-050"},{"$f":"L1539","v":"M3"},null,null,null,"P. Unit.=",{"$f":"L1562","v":0},{"$f":"$C$5","v":"SINAPI:Abril/2020 (Alagoas/AL) - NÃO DESONERADO"}]
[null,null," COMPOSIÇÃO ANALÍTICA DE CUSTO"]
[]
[null,null,{"$f":"$C$3","v":"EXECUÇÃO DE OBRAS E SERVIÇOS DE RECUPERAÇÃO PARCIAL DO DIQUE DE PROTEÇÃO E RECUPERAÇÃO DOS CANAIS DE IRRIGAÇÃO DO PERÍMETRO IRRIGADO DO ITIÚBA (canal adutor leste, P12, S1P12 e S2P12) E DOS CANAIS DE IRRIGAÇÃO (CLI e CLII) DO PERÍMETRO IRRIGADO DO BOACICA."},{"$nulls":4},{"$f":"$C$4","v":"CODEVASF"},null,null,{"$f":"$C$6","v":"DATA: ANO 2020"}]
[null,null,"SERVIÇO: DESASSOREAMENTO DE COLETOR ATRAVÉS DE ESCAVAÇÃO MECÂNICA, COM UTILIZAÇÃO DE ESCAVADEIRA HIDRÁULICA",{"$nulls":4},"COD: ","CAC-050",null,"UNIDADE: ","M3"]
[]
[null,null,"SERVIÇOS - COMPOSIÇÕES AUXILIARES ............................................................................................................................................................................",{"$nulls":7},"SUB-TOTAL (1) = ",{"$f":"SUM(L1543:L1544)","v":0}]
[null,null,"DISCRIMINAÇÃO","SINAPI","UNID",null,"QTDE","PROD","IMPROD","P.UNIT. PROD","P.UNIT. IMPR","P.TOTAL"]
[null,null,"ESCAVACAO MECANICA PARA ACERTO DE TALUDES, EM MATERIAL DE 1A CATEGORIA, COM ESCAVADEIRA HIDRAULICA",83336,"M3",null,1,null,null,{"$f":"IFERROR(VLOOKUP(D1543,$D$7:$J$8,6,0),0)","v":0},null,{"$f":"G1543*J1543","v":0}]
[{"$nulls":11},{"$f":"G1544*J1544","v":0}]
[]
[null,null,"EQUIPAMENTO .............................................................................................................................................................................................................................",{"$nulls":7},"SUB-TOTAL (2) = ",{"$f":"SUM(L1548:L1549)","v":0}]
[null,null,"DISCRIMINAÇÃO","SINAPI","UNID",null,"QTDE","PROD","IMPROD","P.UNIT. PROD","P.UNIT. IMPR","P.TOTAL"]
[]
[{"$nulls":11},{"$f":"G1549*J1549","v":0}]
[]
[null,null,"MATERIAL ........................................................................................................................................................................................................................................",{"$nulls":7},"SUB-TOTAL (3) = ",{"$f":"SUM(L1553:L1554)","v":0}]
[null,null,"DISCRIMINAÇÃO","SINAPI","UNID",null,"QTDE","PROD","IMPROD","P.UNIT. PROD","P.UNIT. IMPR","P.TOTAL"]
[{"$nulls":11},{"$f":"G1553*J1553","v":0}]
[{"$nulls":11},{"$f":"G1554*J1554","v":0}]
[]
[null,null,"MÃO DE OBRA .................................................................................................................................................................................................................................",{"$nulls":7},"SUB-TOTAL (4) = ",{"$f":"SUM(L1558:L1559)","v":0}]
[null,null,"DISCRIMINAÇÃO","SINAPI","UNID",null,"QTDE","PROD","IMPROD","P.UNIT. PROD","P.UNIT. IMPR","P.TOTAL"]
[{"$nulls":11},{"$f":"G1558*J1558","v":0}]
[{"$nulls":11},{"$f":"G1559*J1559","v":0}]
[]
[null,null,"OBSERVAÇÕES:","PROD DA EQUIPE =",null,null,1,null,null,null,"CUSTO (SUB-TOTAL 1 + 2 + 3 + 4) = ",{"$f":"L1556+L1551+L1541+L1546","v":0}]
[null,null,null,"RESP. TÉCNICO:",{"$nulls":6},"TOTAL - R$ = ",{"$f":"L1561/G1561","v":0}]
[{"$nulls":10},"BDI (%) = ",{"$f":"$I$3","v":0.2101044698987744}]
[{"$nulls":10},"TOTAL DO SERVIÇO - R$ = ",{"$f":"L1562*L1563+L1562","v":0}]
[]
[null,null,{"$f":"C1570","v":"SERVIÇO: CONCRETO FCK=30MPA ESTRUTURAL , INCLUINDO PREPARO MECANICO, LANCAMENTO E ADENSAMENTO"},{"$f":"I1570","v":"CAC-051"},{"$f":"L1570","v":"M3"},null,null,null,"P. Unit.=",{"$f":"L1594","v":0},{"$f":"$C$5","v":"SINAPI:Abril/2020 (Alagoas/AL) - NÃO DESONERADO"}]
[null,null," COMPOSIÇÃO ANALÍTICA DE CUSTO"]
[]
[null,null,{"$f":"$C$3","v":"EXECUÇÃO DE OBRAS E SERVIÇOS DE RECUPERAÇÃO PARCIAL DO DIQUE DE PROTEÇÃO E RECUPERAÇÃO DOS CANAIS DE IRRIGAÇÃO DO PERÍMETRO IRRIGADO DO ITIÚBA (canal adutor leste, P12, S1P12 e S2P12) E DOS CANAIS DE IRRIGAÇÃO (CLI e CLII) DO PERÍMETRO IRRIGADO DO BOACICA."},{"$nulls":4},"CODEVASF",null,null,"DATA: ANO 2017"]
[null,null,"SERVIÇO: CONCRETO FCK=30MPA ESTRUTURAL , INCLUINDO PREPARO MECANICO, LANCAMENTO E ADENSAMENTO",{"$nulls":4},"COD: ","CAC-051",null,"UNIDADE: ","M3"]
[]
[null,null,"SERVIÇOS - COMPOSIÇÕES AUXILIARES ............................................................................................................................................................................",{"$nulls":7},"SUB-TOTAL (1) = ",{"$f":"SUM(L1574:L1576)","v":0}]
[null,null,"DISCRIMINAÇÃO","SINAPI","UNID",null,"QTDE","PROD","IMPROD","P.UNIT. PROD","P.UNIT. IMPR","P.TOTAL"]
[null,null,"CONCRETO FCK = 30MPA, TRAÇO 1:2,1:2,5 (CIMENTO/ AREIA MÉDIA/ BRITA 1)  - PREPARO MECÂNICO COM BETONEIRA 400 L. AF_07/2016",94966,"M3",null,1,null,null,{"$f":"IFERROR(VLOOKUP(D1574,$D$7:$J$7,6,0),0)","v":0},null,{"$f":"G1574*J1574","v":0}]
[null,null,"LANÇAMENTO COM USO DE BALDES, ADENSAMENTO E ACABAMENTO DE CONCRETO EM ESTRUTURAS. AF_12/2015",92873,"M3",null,1,null,null,{"$f":"IFERROR(VLOOKUP(D1575,$D$7:$J$7,6,0),0)","v":0},null,{"$f":"G1575*J1575","v":0}]
[{"$nulls":11},{"$f":"G1576*J1576","v":0}]
[]
[null,null,"EQUIPAMENTO .............................................................................................................................................................................................................................",{"$nulls":7},"SUB-TOTAL (2) = ",{"$f":"SUM(L1580:L1581)","v":0}]
[null,null,"DISCRIMINAÇÃO","SINAPI","UNID",null,"QTDE","PROD","IMPROD","P.UNIT. PROD","P.UNIT. IMPR","P.TOTAL"]
[{"$nulls":11},{"$f":"G1580*J1580","v":0}]
[{"$nulls":11},{"$f":"G1581*J1581","v":0}]
[]
[null,null,"MATERIAL ........................................................................................................................................................................................................................................",{"$nulls":7},"SUB-TOTAL (3) = ",{"$f":"SUM(L1585:L1586)","v":0}]
[null,null,"DISCRIMINAÇÃO","SINAPI","UNID",null,"QTDE","PROD","IMPROD","P.UNIT. PROD","P.UNIT. IMPR","P.TOTAL"]
[{"$nulls":11},{"$f":"G1585*J1585","v":0}]
[{"$nulls":11},{"$f":"G1586*J1586","v":0}]
[]
[null,null,"MÃO DE OBRA .................................................................................................................................................................................................................................",{"$nulls":7},"SUB-TOTAL (4) = ",{"$f":"SUM(L1590:L1591)","v":0}]
[null,null,"DISCRIMINAÇÃO","SINAPI","UNID",null,"QTDE","PROD","IMPROD","P.UNIT. PROD","P.UNIT. IMPR","P.TOTAL"]
[{"$nulls":11},{"$f":"G1590*J1590","v":0}]
[{"$nulls":11},{"$f":"G1591*J1591","v":0}]
[]
[null,null,"OBSERVAÇÕES:","PROD DA EQUIPE =",null,null,1,null,null,null,"CUSTO (SUB-TOTAL 1 + 2 + 3 + 4) = ",{"$f":"L1588+L1583+L1572+L1578","v":0}]
[null,null,null,"RESP. TÉCNICO:",{"$nulls":6},"TOTAL - R$ = ",{"$f":"L1593/G1593","v":0}]
[{"$nulls":10},"BDI (%) = ",{"$f":"$I$3","v":0.2101044698987744}]
[{"$nulls":10},"TOTAL DO SERVIÇO - R$ = ",{"$f":"L1594*L1595+L1594","v":0}]
[]
[null,null,{"$f":"C1602","v":"SERVIÇO: EXECUÇÃO DE LASTRO EM CONCRETO (1:4,5:4,5), PREPARO MANUAL"},{"$f":"I1602","v":"CAC-052"},{"$f":"L1602","v":"M3"},null,null,null,"P. Unit.=",{"$f":"L1626","v":0},{"$f":"$C$5","v":"SINAPI:Abril/2020 (Alagoas/AL) - NÃO DESONERADO"}]
[null,null," COMPOSIÇÃO ANALÍTICA DE CUSTO"]
[]
[null,null,{"$f":"$C$3","v":"EXECUÇÃO DE OBRAS E SERVIÇOS DE RECUPERAÇÃO PARCIAL DO DIQUE DE PROTEÇÃO E RECUPERAÇÃO DOS CANAIS DE IRRIGAÇÃO DO PERÍMETRO IRRIGADO DO ITIÚBA (canal adutor leste, P12, S1P12 e S2P12) E DOS CANAIS DE IRRIGAÇÃO (CLI e CLII) DO PERÍMETRO IRRIGADO DO BOACICA."},{"$nulls":4},{"$f":"$C$4","v":"CODEVASF"},null,null,{"$f":"$C$6","v":"DATA: ANO 2020"}]
[null,null,"SERVIÇO: EXECUÇÃO DE LASTRO EM CONCRETO (1:4,5:4,5), PREPARO MANUAL",{"$nulls":4},"COD: ","CAC-052",null,"UNIDADE: ","M3"]
[]
[null,null,"SERVIÇOS - COMPOSIÇÕES AUXILIARES ............................................................................................................................................................................",{"$nulls":7},"SUB-TOTAL (1) = ",{"$f":"SUM(L1606:L1608)","v":0}]
[null,null,"DISCRIMINAÇÃO","SINAPI","UNID",null,"QTDE","PROD","IMPROD","P.UNIT. PROD","P.UNIT. IMPR","P.TOTAL"]
[null,null,"CONCRETO MAGRO PARA LASTRO, TRAÇO 1:4,5:4,5 (CIMENTO/ AREIA MÉDIA/ BRITA 1)  - PREPARO MECÂNICO COM BETONEIRA 400 L. AF_07/2016",94962,"M3",null,1,null,null,{"$f":"IFERROR(VLOOKUP(D1606,$D$7:$J$7,6,0),0)","v":0},null,{"$f":"G1606*J1606","v":0}]
[null,null,"LANCAMENTO/APLICACAO MANUAL DE CONCRETO EM FUNDACOES","74157/004","M3",null,1,null,null,{"$f":"IFERROR(VLOOKUP(D1607,$D$7:$J$7,6,0),0)","v":0},null,{"$f":"G1607*J1607","v":0}]
[{"$nulls":11},{"$f":"G1608*J1608","v":0}]
[]
[null,null,"EQUIPAMENTO .............................................................................................................................................................................................................................",{"$nulls":7},"SUB-TOTAL (2) = ",{"$f":"SUM(L1612:L1613)","v":0}]
[null,null,"DISCRIMINAÇÃO","SINAPI","UNID",null,"QTDE","PROD","IMPROD","P.UNIT. PROD","P.UNIT. IMPR","P.TOTAL"]
[{"$nulls":11},{"$f":"G1612*J1612","v":0}]
[{"$nulls":11},{"$f":"G1613*J1613","v":0}]
[]
[null,null,"MATERIAL ........................................................................................................................................................................................................................................",{"$nulls":7},"SUB-TOTAL (3) = ",{"$f":"SUM(L1617:L1618)","v":0}]
[null,null,"DISCRIMINAÇÃO","SINAPI","UNID",null,"QTDE","PROD","IMPROD","P.UNIT. PROD","P.UNIT. IMPR","P.TOTAL"]
[{"$nulls":11},{"$f":"G1617*J1617","v":0}]
[{"$nulls":11},{"$f":"G1618*J1618","v":0}]
[]
[null,null,"MÃO DE OBRA .................................................................................................................................................................................................................................",{"$nulls":7},"SUB-TOTAL (4) = ",{"$f":"SUM(L1622:L1623)","v":0}]
[null,null,"DISCRIMINAÇÃO","SINAPI","UNID",null,"QTDE","PROD","IMPROD","P.UNIT. PROD","P.UNIT. IMPR","P.TOTAL"]
[{"$nulls":11},{"$f":"G1622*J1622","v":0}]
[{"$nulls":11},{"$f":"G1623*J1623","v":0}]
[]
[null,null,"OBSERVAÇÕES:","PROD DA EQUIPE =",null,null,1,null,null,null,"CUSTO (SUB-TOTAL 1 + 2 + 3 + 4) = ",{"$f":"L1620+L1615+L1604+L1610","v":0}]
[null,null,null,"RESP. TÉCNICO:",{"$nulls":6},"TOTAL - R$ = ",{"$f":"L1625/G1625","v":0}]
[{"$nulls":10},"BDI (%) = ",{"$f":"$I$3","v":0.2101044698987744}]
[{"$nulls":10},"TOTAL DO SERVIÇO - R$ = ",{"$f":"L1626*L1627+L1626","v":0}]
[]
[null,null,{"$f":"C1634","v":"SERVIÇO: REATERRO MANUAL E CARGA E DESCARGA DE SOLO EM BOTA FORA"},{"$f":"I1634","v":"CAC-053"},{"$f":"L1634","v":"M3"},null,null,null,"P. Unit.=",{"$f":"L1660","v":30.419999999999998},{"$f":"$C$5","v":"SINAPI:Abril/2020 (Alagoas/AL) - NÃO DESONERADO"}]
[null,null," COMPOSIÇÃO ANALÍTICA DE CUSTO"]
[]
[null,null,{"$f":"$C$3","v":"EXECUÇÃO DE OBRAS E SERVIÇOS DE RECUPERAÇÃO PARCIAL DO DIQUE DE PROTEÇÃO E RECUPERAÇÃO DOS CANAIS DE IRRIGAÇÃO DO PERÍMETRO IRRIGADO DO ITIÚBA (canal adutor leste, P12, S1P12 e S2P12) E DOS CANAIS DE IRRIGAÇÃO (CLI e CLII) DO PERÍMETRO IRRIGADO DO BOACICA."},{"$nulls":4},{"$f":"$C$4","v":"CODEVASF"},null,null,{"$f":"$C$6","v":"DATA: ANO 2020"}]
[null,null,"SERVIÇO: REATERRO MANUAL E CARGA E DESCARGA DE SOLO EM BOTA FORA",{"$nulls":4},"COD: ","CAC-053",null,"UNIDADE: ","M3"]
[]
[null,null,"SERVIÇOS - COMPOSIÇÕES AUXILIARES ............................................................................................................................................................................",{"$nulls":7},"SUB-TOTAL (1) = ",{"$f":"SUM(L1638:L1642)","v":30.419999999999998}]
[null,null,"DISCRIMINAÇÃO","SINAPI","UNID",null,"QTDE","PROD","IMPROD","P.UNIT. PROD","P.UNIT. IMPR","P.TOTAL"]
[null,null,"REATERRO MANUAL DE VALAS COM COMPACTAÇÃO MECANIZADA. AF_04/2016",93382,"M3",null,1,null,null,16.91,null,{"$f":"G1638*J1638","v":16.91}]
[null,null,"CARGA E DESCARGA MECANICA DE SOLO UTILIZANDO CAMINHAO BASCULANTE 5,0M3/11T E PA CARREGADEIRA SOBRE PNEUS * 105 HP * CAP. 1,72M3","74010/001","M3",null,1,null,null,1.47,null,{"$f":"G1639*J1639","v":1.47}]
[null,null,"TRANSPORTE LOCAL COM CAMINHAO BASCULANTE 6 M3, RODOVIA EM LEITO NATURAL",72886,"M3XKM",null,{"$f":"1*10","v":10},null,null,1.1299999999999999,null,{"$f":"G1640*J1640","v":11.299999999999999}]
[null,null,"ESPALHAMENTO DE MATERIAL EM BOTA FORA, COM UTILIZACAO DE TRATOR DE ESTEIRAS DE 165 HP",83344,"M3",null,1,null,null,0.74,null,{"$f":"G1641*J1641","v":0.74}]
[{"$nulls":11},{"$f":"G1642*J1642","v":0}]
[]
[null,null,"EQUIPAMENTO .............................................................................................................................................................................................................................",{"$nulls":7},"SUB-TOTAL (2) = ",{"$f":"SUM(L1646:L1647)","v":0}]
[null,null,"DISCRIMINAÇÃO","SINAPI","UNID",null,"QTDE","PROD","IMPROD","P.UNIT. PROD","P.UNIT. IMPR","P.TOTAL"]
[{"$nulls":11},{"$f":"G1646*J1646","v":0}]
[{"$nulls":11},{"$f":"G1647*J1647","v":0}]
[]
[null,null,"MATERIAL ........................................................................................................................................................................................................................................",{"$nulls":7},"SUB-TOTAL (3) = ",{"$f":"SUM(L1651:L1652)","v":0}]
[null,null,"DISCRIMINAÇÃO","SINAPI","UNID",null,"QTDE","PROD","IMPROD","P.UNIT. PROD","P.UNIT. IMPR","P.TOTAL"]
[{"$nulls":11},{"$f":"G1651*J1651","v":0}]
[{"$nulls":11},{"$f":"G1652*J1652","v":0}]
[]
[null,null,"MÃO DE OBRA .................................................................................................................................................................................................................................",{"$nulls":7},"SUB-TOTAL (4) = ",{"$f":"SUM(L1656:L1657)","v":0}]
[null,null,"DISCRIMINAÇÃO","SINAPI","UNID",null,"QTDE","PROD","IMPROD","P.UNIT. PROD","P.UNIT. IMPR","P.TOTAL"]
[{"$nulls":11},{"$f":"G1656*J1656","v":0}]
[{"$nulls":11},{"$f":"G1657*J1657","v":0}]
[]
[null,null,"OBSERVAÇÕES:","PROD DA EQUIPE =",null,null,1,null,null,null,"CUSTO (SUB-TOTAL 1 + 2 + 3 + 4) = ",{"$f":"L1654+L1649+L1636+L1644","v":30.419999999999998}]
[null,null,null,"RESP. TÉCNICO:",{"$nulls":6},"TOTAL - R$ = ",{"$f":"L1659/G1659","v":30.419999999999998}]
[{"$nulls":10},"BDI (%) = ",{"$f":"$I$3","v":0.2101044698987744}]
[{"$nulls":10},"TOTAL DO SERVIÇO - R$ = ",{"$f":"L1660*L1661+L1660","v":36.811377974320713}]
[]
[null,null,{"$f":"C1668","v":"SERVIÇO: FORMA TABUA PARA CONCRETO EM FUNDACAO"},{"$f":"I1668","v":"CAC-054"},{"$f":"L1668","v":"M2"},null,null,null,"P. Unit.=",{"$f":"L1691","v":0},{"$f":"$C$5","v":"SINAPI:Abril/2020 (Alagoas/AL) - NÃO DESONERADO"}]
[null,null," COMPOSIÇÃO ANALÍTICA DE CUSTO"]
[]
[null,null,"OBRA: ",{"$nulls":4},"CODEVASF",null,null,"DATA: ANO 2017"]
[null,null,"SERVIÇO: FORMA TABUA PARA CONCRETO EM FUNDACAO",{"$nulls":4},"COD: ","CAC-054",null,"UNIDADE: ","M2"]
[]
[null,null,"SERVIÇOS - COMPOSIÇÕES AUXILIARES ............................................................................................................................................................................",{"$nulls":7},"SUB-TOTAL (1) = ",{"$f":"SUM(L1672:L1673)","v":0}]
[null,null,"DISCRIMINAÇÃO","SINAPI","UNID",null,"QTDE","PROD","IMPROD","P.UNIT. PROD","P.UNIT. IMPR","P.TOTAL"]
[null,null,"FORMA TABUA PARA CONCRETO EM FUNDACAO C/ REAPROVEITAMENTO 5X",5651,"M2",null,1,null,null,{"$f":"IFERROR(VLOOKUP(D1672,$D$7:$J$7,6,0),0)","v":0},null,{"$f":"G1672*J1672","v":0}]
[{"$nulls":11},{"$f":"G1673*J1673","v":0}]
[]
[null,null,"EQUIPAMENTO .............................................................................................................................................................................................................................",{"$nulls":7},"SUB-TOTAL (2) = ",{"$f":"SUM(L1677:L1678)","v":0}]
[null,null,"DISCRIMINAÇÃO","SINAPI","UNID",null,"QTDE","PROD","IMPROD","P.UNIT. PROD","P.UNIT. IMPR","P.TOTAL"]
[{"$nulls":11},{"$f":"G1677*J1677","v":0}]
[{"$nulls":11},{"$f":"G1678*J1678","v":0}]
[]
[null,null,"MATERIAL ........................................................................................................................................................................................................................................",{"$nulls":7},"SUB-TOTAL (3) = ",{"$f":"SUM(L1682:L1683)","v":0}]
[null,null,"DISCRIMINAÇÃO","SINAPI","UNID",null,"QTDE","PROD","IMPROD","P.UNIT. PROD","P.UNIT. IMPR","P.TOTAL"]
[]
[]
[]
[null,null,"MÃO DE OBRA .................................................................................................................................................................................................................................",{"$nulls":7},"SUB-TOTAL (4) = ",{"$f":"SUM(L1687:L1688)","v":0}]
[null,null,"DISCRIMINAÇÃO","SINAPI","UNID",null,"QTDE","PROD","IMPROD","P.UNIT. PROD","P.UNIT. IMPR","P.TOTAL"]
[]
[]
[]
[null,null,"OBSERVAÇÕES:","PROD DA EQUIPE =",null,null,1,null,null,null,"CUSTO (SUB-TOTAL 1 + 2 + 3 + 4) = ",{"$f":"L1685+L1680+L1670+L1675","v":0}]
[null,null,null,"RESP. TÉCNICO:",{"$nulls":6},"TOTAL - R$ = ",{"$f":"L1690/G1690","v":0}]
[{"$nulls":10},"BDI (%) = ",{"$f":"$I$3","v":0.2101044698987744}]
[{"$nulls":10},"TOTAL DO SERVIÇO - R$ = ",{"$f":"L1691*L1692+L1691","v":0}]
[]
[null,null,{"$f":"C1699","v":"SERVIÇO: EXECUÇÃO DE LASTRO EM BRITA"},{"$f":"I1699","v":"CAC-055"},{"$f":"L1699","v":"M3"},null,null,null,"P. Unit.=",{"$f":"L1722","v":0},{"$f":"$C$5","v":"SINAPI:Abril/2020 (Alagoas/AL) - NÃO DESONERADO"}]
[null,null," COMPOSIÇÃO ANALÍTICA DE CUSTO"]
[]
[null,null,{"$f":"$C$3","v":"EXECUÇÃO DE OBRAS E SERVIÇOS DE RECUPERAÇÃO PARCIAL DO DIQUE DE PROTEÇÃO E RECUPERAÇÃO DOS CANAIS DE IRRIGAÇÃO DO PERÍMETRO IRRIGADO DO ITIÚBA (canal adutor leste, P12, S1P12 e S2P12) E DOS CANAIS DE IRRIGAÇÃO (CLI e CLII) DO PERÍMETRO IRRIGADO DO BOACICA."},{"$nulls":4},{"$f":"$C$4","v":"CODEVASF"},null,null,{"$f":"$C$6","v":"DATA: ANO 2020"}]
[null,null,"SERVIÇO: EXECUÇÃO DE LASTRO EM BRITA",{"$nulls":4},"COD: ","CAC-055",null,"UNIDADE: ","M3"]
[]
[null,null,"SERVIÇOS - COMPOSIÇÕES AUXILIARES ............................................................................................................................................................................",{"$nulls":7},"SUB-TOTAL (1) = ",{"$f":"SUM(L1703:L1704)","v":0}]
[null,null,"DISCRIMINAÇÃO","SINAPI","UNID",null,"QTDE","PROD","IMPROD","P.UNIT. PROD","P.UNIT. IMPR","P.TOTAL"]
[null,null,"FORNECIMENTO E ASSENTAMENTO DE BRITA 2-DRENOS E FILTROS   MM",88549,"M3",null,1,null,null,{"$f":"IFERROR(VLOOKUP(D1703,$D$7:$J$7,6,0),0)","v":0},null,{"$f":"G1703*J1703","v":0}]
[{"$nulls":11},{"$f":"G1704*J1704","v":0}]
[]
[null,null,"EQUIPAMENTO .............................................................................................................................................................................................................................",{"$nulls":7},"SUB-TOTAL (2) = ",{"$f":"SUM(L1708:L1709)","v":0}]
[null,null,"DISCRIMINAÇÃO","SINAPI","UNID",null,"QTDE","PROD","IMPROD","P.UNIT. PROD","P.UNIT. IMPR","P.TOTAL"]
[{"$nulls":11},{"$f":"G1708*J1708","v":0}]
[{"$nulls":11},{"$f":"G1709*J1709","v":0}]
[]
[null,null,"MATERIAL ........................................................................................................................................................................................................................................",{"$nulls":7},"SUB-TOTAL (3) = ",{"$f":"SUM(L1713:L1714)","v":0}]
[null,null,"DISCRIMINAÇÃO","SINAPI","UNID",null,"QTDE","PROD","IMPROD","P.UNIT. PROD","P.UNIT. IMPR","P.TOTAL"]
[{"$nulls":11},{"$f":"G1713*J1713","v":0}]
[{"$nulls":11},{"$f":"G1714*J1714","v":0}]
[]
[null,null,"MÃO DE OBRA .................................................................................................................................................................................................................................",{"$nulls":7},"SUB-TOTAL (4) = ",{"$f":"SUM(L1718:L1719)","v":0}]
[null,null,"DISCRIMINAÇÃO","SINAPI","UNID",null,"QTDE","PROD","IMPROD","P.UNIT. PROD","P.UNIT. IMPR","P.TOTAL"]
[{"$nulls":11},{"$f":"G1718*J1718","v":0}]
[{"$nulls":11},{"$f":"G1719*J1719","v":0}]
[]
[null,null,"OBSERVAÇÕES:","PROD DA EQUIPE =",null,null,1,null,null,null,"CUSTO (SUB-TOTAL 1 + 2 + 3 + 4) = ",{"$f":"L1716+L1711+L1701+L1706","v":0}]
[null,null,null,"RESP. TÉCNICO:",{"$nulls":6},"TOTAL - R$ = ",{"$f":"L1721/G1721","v":0}]
[{"$nulls":10},"BDI (%) = ",{"$f":"$I$3","v":0.2101044698987744}]
[{"$nulls":10},"TOTAL DO SERVIÇO - R$ = ",{"$f":"L1722*L1723+L1722","v":0}]
[]
[null,null,{"$f":"C1730","v":"SERVIÇO: FORMA PARA VIGAS"},{"$f":"I1730","v":"CAC-056"},{"$f":"L1730","v":"M2"},null,null,null,"P. Unit.=",{"$f":"L1753","v":0},{"$f":"$C$5","v":"SINAPI:Abril/2020 (Alagoas/AL) - NÃO DESONERADO"}]
[null,null," COMPOSIÇÃO ANALÍTICA DE CUSTO"]
[]
[null,null,"OBRA: ",{"$nulls":4},"CODEVASF",null,null,"DATA: ANO 2017"]
[null,null,"SERVIÇO: FORMA PARA VIGAS",{"$nulls":4},"COD: ","CAC-056",null,"UNIDADE: ","M2"]
[]
[null,null,"SERVIÇOS - COMPOSIÇÕES AUXILIARES ............................................................................................................................................................................",{"$nulls":7},"SUB-TOTAL (1) = ",{"$f":"SUM(L1734:L1735)","v":0}]
[null,null,"DISCRIMINAÇÃO","SINAPI","UNID",null,"QTDE","PROD","IMPROD","P.UNIT. PROD","P.UNIT. IMPR","P.TOTAL"]
[null,null,"FABRICAÇÃO DE FÔRMA PARA VIGAS, EM CHAPA DE MADEIRA COMPENSADA PLASTIFICADA, E = 18 MM. AF_12/2015",92266,"M2",null,1,null,null,{"$f":"IFERROR(VLOOKUP(D1734,$D$7:$J$7,6,0),0)","v":0},null,{"$f":"G1734*J1734","v":0}]
[null,null,"MONTAGEM E DESMONTAGEM DE FÔRMA DE VIGA, ESCORAMENTO COM PONTALETE DE MADEIRA, PÉ-DIREITO SIMPLES, EM MADEIRA SERRADA, 2 UTILIZAÇÕES. AF_12/2015",92447,"M2",null,1,null,null,{"$f":"IFERROR(VLOOKUP(D1735,$D$7:$J$7,6,0),0)","v":0},null,{"$f":"G1735*J1735","v":0}]
[]
[null,null,"EQUIPAMENTO .............................................................................................................................................................................................................................",{"$nulls":7},"SUB-TOTAL (2) = ",{"$f":"SUM(L1739:L1740)","v":0}]
[null,null,"DISCRIMINAÇÃO","SINAPI","UNID",null,"QTDE","PROD","IMPROD","P.UNIT. PROD","P.UNIT. IMPR","P.TOTAL"]
[{"$nulls":11},{"$f":"G1739*J1739","v":0}]
[{"$nulls":11},{"$f":"G1740*J1740","v":0}]
[]
[null,null,"MATERIAL ........................................................................................................................................................................................................................................",{"$nulls":7},"SUB-TOTAL (3) = ",{"$f":"SUM(L1744:L1745)","v":0}]
[null,null,"DISCRIMINAÇÃO","SINAPI","UNID",null,"QTDE","PROD","IMPROD","P.UNIT. PROD","P.UNIT. IMPR","P.TOTAL"]
[{"$nulls":11},{"$f":"G1744*J1744","v":0}]
[{"$nulls":11},{"$f":"G1745*J1745","v":0}]
[]
[null,null,"MÃO DE OBRA .................................................................................................................................................................................................................................",{"$nulls":7},"SUB-TOTAL (4) = ",{"$f":"SUM(L1749:L1750)","v":0}]
[null,null,"DISCRIMINAÇÃO","SINAPI","UNID",null,"QTDE","PROD","IMPROD","P.UNIT. PROD","P.UNIT. IMPR","P.TOTAL"]
[{"$nulls":11},{"$f":"G1749*J1749","v":0}]
[{"$nulls":11},{"$f":"G1750*J1750","v":0}]
[]
[null,null,"OBSERVAÇÕES:","PROD DA EQUIPE =",null,null,1,null,null,null,"CUSTO (SUB-TOTAL 1 + 2 + 3 + 4) = ",{"$f":"L1747+L1742+L1732+L1737","v":0}]
[null,null,null,"RESP. TÉCNICO:",{"$nulls":6},"TOTAL - R$ = ",{"$f":"L1752/G1752","v":0}]
[{"$nulls":10},"BDI (%) = ",{"$f":"$I$3","v":0.2101044698987744}]
[{"$nulls":10},"TOTAL DO SERVIÇO - R$ = ",{"$f":"L1753*L1754+L1753","v":0}]
[]
[null,null,{"$f":"C1761","v":"SERVIÇO: FORMA PARA LAJES"},{"$f":"I1761","v":"CAC-057"},{"$f":"L1761","v":"M2"},null,null,null,"P. Unit.=",{"$f":"L1784","v":0},{"$f":"$C$5","v":"SINAPI:Abril/2020 (Alagoas/AL) - NÃO DESONERADO"}]
[null,null," COMPOSIÇÃO ANALÍTICA DE CUSTO"]
[]
[null,null,"OBRA: ",{"$nulls":4},"CODEVASF",null,null,"DATA: ANO 2017"]
[null,null,"SERVIÇO: FORMA PARA LAJES",{"$nulls":4},"COD: ","CAC-057",null,"UNIDADE: ","M2"]
[]
[null,null,"SERVIÇOS - COMPOSIÇÕES AUXILIARES ............................................................................................................................................................................",{"$nulls":7},"SUB-TOTAL (1) = ",{"$f":"SUM(L1765:L1766)","v":0}]
[null,null,"DISCRIMINAÇÃO","SINAPI","UNID",null,"QTDE","PROD","IMPROD","P.UNIT. PROD","P.UNIT. IMPR","P.TOTAL"]
[null,null,"FABRICAÇÃO DE FÔRMA PARA LAJES, EM CHAPA DE MADEIRA COMPENSADA PLASTIFICADA, E = 18 MM. AF_12/2015",92268,"M2",null,1,null,null,{"$f":"IFERROR(VLOOKUP(D1765,$D$7:$J$7,6,0),0)","v":0},null,{"$f":"G1765*J1765","v":0}]
[null,null,"MONTAGEM E DESMONTAGEM DE FÔRMA DE LAJE MACIÇA COM ÁREA MÉDIA MAIOR QUE 20 M², PÉ-DIREITO SIMPLES, EM CHAPA DE MADEIRA COMPENSADA RESINADA, 4 UTILIZAÇÕES. AF_12/2015",92514,"M2",null,1,null,null,{"$f":"IFERROR(VLOOKUP(D1766,$D$7:$J$7,6,0),0)","v":0},null,{"$f":"G1766*J1766","v":0}]
[]
[null,null,"EQUIPAMENTO .............................................................................................................................................................................................................................",{"$nulls":7},"SUB-TOTAL (2) = ",{"$f":"SUM(L1770:L1771)","v":0}]
[null,null,"DISCRIMINAÇÃO","SINAPI","UNID",null,"QTDE","PROD","IMPROD","P.UNIT. PROD","P.UNIT. IMPR","P.TOTAL"]
[{"$nulls":11},{"$f":"G1770*J1770","v":0}]
[{"$nulls":11},{"$f":"G1771*J1771","v":0}]
[]
[null,null,"MATERIAL ........................................................................................................................................................................................................................................",{"$nulls":7},"SUB-TOTAL (3) = ",{"$f":"SUM(L1775:L1776)","v":0}]
[null,null,"DISCRIMINAÇÃO","SINAPI","UNID",null,"QTDE","PROD","IMPROD","P.UNIT. PROD","P.UNIT. IMPR","P.TOTAL"]
[{"$nulls":11},{"$f":"G1775*J1775","v":0}]
[{"$nulls":11},{"$f":"G1776*J1776","v":0}]
[]
[null,null,"MÃO DE OBRA .................................................................................................................................................................................................................................",{"$nulls":7},"SUB-TOTAL (4) = ",{"$f":"SUM(L1780:L1781)","v":0}]
[null,null,"DISCRIMINAÇÃO","SINAPI","UNID",null,"QTDE","PROD","IMPROD","P.UNIT. PROD","P.UNIT. IMPR","P.TOTAL"]
[{"$nulls":11},{"$f":"G1780*J1780","v":0}]
[{"$nulls":11},{"$f":"G1781*J1781","v":0}]
[]
[null,null,"OBSERVAÇÕES:","PROD DA EQUIPE =",null,null,1,null,null,null,"CUSTO (SUB-TOTAL 1 + 2 + 3 + 4) = ",{"$f":"L1778+L1773+L1763+L1768","v":0}]
[null,null,null,"RESP. TÉCNICO:",{"$nulls":6},"TOTAL - R$ = ",{"$f":"L1783/G1783","v":0}]
[{"$nulls":10},"BDI (%) = ",{"$f":"$I$3","v":0.2101044698987744}]
[{"$nulls":10},"TOTAL DO SERVIÇO - R$ = ",{"$f":"L1784*L1785+L1784","v":0}]
[]
[null,null,{"$f":"C1792","v":"SERVIÇO: ESCORAMENTO DE FORMAS"},{"$f":"I1792","v":"CAC-058"},{"$f":"L1792","v":"M2"},null,null,null,"P. Unit.=",{"$f":"L1815","v":0},{"$f":"$C$5","v":"SINAPI:Abril/2020 (Alagoas/AL) - NÃO DESONERADO"}]
[null,null," COMPOSIÇÃO ANALÍTICA DE CUSTO"]
[]
[null,null,"OBRA: ",{"$nulls":4},"CODEVASF",null,null,"DATA: ANO 2017"]
[null,null,"SERVIÇO: ESCORAMENTO DE FORMAS",{"$nulls":4},"COD: ","CAC-058",null,"UNIDADE: ","M2"]
[]
[null,null,"SERVIÇOS - COMPOSIÇÕES AUXILIARES ............................................................................................................................................................................",{"$nulls":7},"SUB-TOTAL (1) = ",{"$f":"SUM(L1796:L1797)","v":0}]
[null,null,"DISCRIMINAÇÃO","SINAPI","UNID",null,"QTDE","PROD","IMPROD","P.UNIT. PROD","P.UNIT. IMPR","P.TOTAL"]
[null,null,"ESCORAMENTO FORMAS DE H=3,30 A 3,50 M, COM MADEIRA 3A QUALIDADE, NAO APARELHADA, APROVEITAMENTO TABUAS 3X E PRUMOS 4X",83515,"M2",null,1,null,null,{"$f":"IFERROR(VLOOKUP(D1796,$D$7:$J$7,6,0),0)","v":0},null,{"$f":"G1796*J1796","v":0}]
[{"$nulls":11},{"$f":"G1797*J1797","v":0}]
[]
[null,null,"EQUIPAMENTO .............................................................................................................................................................................................................................",{"$nulls":7},"SUB-TOTAL (2) = ",{"$f":"SUM(L1801:L1802)","v":0}]
[null,null,"DISCRIMINAÇÃO","SINAPI","UNID",null,"QTDE","PROD","IMPROD","P.UNIT. PROD","P.UNIT. IMPR","P.TOTAL"]
[{"$nulls":11},{"$f":"G1801*J1801","v":0}]
[{"$nulls":11},{"$f":"G1802*J1802","v":0}]
[]
[null,null,"MATERIAL ........................................................................................................................................................................................................................................",{"$nulls":7},"SUB-TOTAL (3) = ",{"$f":"SUM(L1806:L1807)","v":0}]
[null,null,"DISCRIMINAÇÃO","SINAPI","UNID",null,"QTDE","PROD","IMPROD","P.UNIT. PROD","P.UNIT. IMPR","P.TOTAL"]
[{"$nulls":11},{"$f":"G1806*J1806","v":0}]
[{"$nulls":11},{"$f":"G1807*J1807","v":0}]
[]
[null,null,"MÃO DE OBRA .................................................................................................................................................................................................................................",{"$nulls":7},"SUB-TOTAL (4) = ",{"$f":"SUM(L1811:L1812)","v":0}]
[null,null,"DISCRIMINAÇÃO","SINAPI","UNID",null,"QTDE","PROD","IMPROD","P.UNIT. PROD","P.UNIT. IMPR","P.TOTAL"]
[{"$nulls":11},{"$f":"G1811*J1811","v":0}]
[{"$nulls":11},{"$f":"G1812*J1812","v":0}]
[]
[null,null,"OBSERVAÇÕES:","PROD DA EQUIPE =",null,null,1,null,null,null,"CUSTO (SUB-TOTAL 1 + 2 + 3 + 4) = ",{"$f":"L1809+L1804+L1794+L1799","v":0}]
[null,null,null,"RESP. TÉCNICO:",{"$nulls":6},"TOTAL - R$ = ",{"$f":"L1814/G1814","v":0}]
[{"$nulls":10},"BDI (%) = ",{"$f":"$I$3","v":0.2101044698987744}]
[{"$nulls":10},"TOTAL DO SERVIÇO - R$ = ",{"$f":"L1815*L1816+L1815","v":0}]
[]
[null,null,{"$f":"C1823","v":"SERVIÇO: INSTALAÇÃO DE PORTA DE FERRO"},{"$f":"I1823","v":"CAC-059"},{"$f":"L1823","v":"M2"},null,null,null,"P. Unit.=",{"$f":"L1846","v":0},{"$f":"$C$5","v":"SINAPI:Abril/2020 (Alagoas/AL) - NÃO DESONERADO"}]
[null,null," COMPOSIÇÃO ANALÍTICA DE CUSTO"]
[]
[null,null,"OBRA: ",{"$nulls":4},"CODEVASF",null,null,"DATA: ANO 2017"]
[null,null,"SERVIÇO: INSTALAÇÃO DE PORTA DE FERRO",{"$nulls":4},"COD: ","CAC-059",null,"UNIDADE: ","M2"]
[]
[null,null,"SERVIÇOS - COMPOSIÇÕES AUXILIARES ............................................................................................................................................................................",{"$nulls":7},"SUB-TOTAL (1) = ",{"$f":"SUM(L1827:L1828)","v":0}]
[null,null,"DISCRIMINAÇÃO","SINAPI","UNID",null,"QTDE","PROD","IMPROD","P.UNIT. PROD","P.UNIT. IMPR","P.TOTAL"]
[null,null,"PORTA DE FERRO DE ABRIR TIPO BARRA CHATA, COM REQUADRO E GUARNICAO COMPLETA","73933/004","M2",null,1,null,null,{"$f":"IFERROR(VLOOKUP(D1827,$D$7:$J$7,6,0),0)","v":0},null,{"$f":"G1827*J1827","v":0}]
[{"$nulls":11},{"$f":"G1828*J1828","v":0}]
[]
[null,null,"EQUIPAMENTO .............................................................................................................................................................................................................................",{"$nulls":7},"SUB-TOTAL (2) = ",{"$f":"SUM(L1832:L1833)","v":0}]
[null,null,"DISCRIMINAÇÃO","SINAPI","UNID",null,"QTDE","PROD","IMPROD","P.UNIT. PROD","P.UNIT. IMPR","P.TOTAL"]
[{"$nulls":11},{"$f":"G1832*J1832","v":0}]
[{"$nulls":11},{"$f":"G1833*J1833","v":0}]
[]
[null,null,"MATERIAL ........................................................................................................................................................................................................................................",{"$nulls":7},"SUB-TOTAL (3) = ",{"$f":"SUM(L1837:L1838)","v":0}]
[null,null,"DISCRIMINAÇÃO","SINAPI","UNID",null,"QTDE","PROD","IMPROD","P.UNIT. PROD","P.UNIT. IMPR","P.TOTAL"]
[{"$nulls":11},{"$f":"G1837*J1837","v":0}]
[{"$nulls":11},{"$f":"G1838*J1838","v":0}]
[]
[null,null,"MÃO DE OBRA .................................................................................................................................................................................................................................",{"$nulls":7},"SUB-TOTAL (4) = ",{"$f":"SUM(L1842:L1843)","v":0}]
[null,null,"DISCRIMINAÇÃO","SINAPI","UNID",null,"QTDE","PROD","IMPROD","P.UNIT. PROD","P.UNIT. IMPR","P.TOTAL"]
[{"$nulls":11},{"$f":"G1842*J1842","v":0}]
[{"$nulls":11},{"$f":"G1843*J1843","v":0}]
[]
[null,null,"OBSERVAÇÕES:","PROD DA EQUIPE =",null,null,1,null,null,null,"CUSTO (SUB-TOTAL 1 + 2 + 3 + 4) = ",{"$f":"L1840+L1835+L1825+L1830","v":0}]
[null,null,null,"RESP. TÉCNICO:",{"$nulls":6},"TOTAL - R$ = ",{"$f":"L1845/G1845","v":0}]
[{"$nulls":10},"BDI (%) = ",{"$f":"$I$3","v":0.2101044698987744}]
[{"$nulls":10},"TOTAL DO SERVIÇO - R$ = ",{"$f":"L1846*L1847+L1846","v":0}]
[]
[null,null,{"$f":"C1854","v":"SERVIÇO: INSTALAÇÃO DE JANELA"},{"$f":"I1854","v":"CAC-060"},{"$f":"L1854","v":"M2"},null,null,null,"P. Unit.=",{"$f":"L1877","v":0},{"$f":"$C$5","v":"SINAPI:Abril/2020 (Alagoas/AL) - NÃO DESONERADO"}]
[null,null," COMPOSIÇÃO ANALÍTICA DE CUSTO"]
[]
[null,null,"OBRA: ",{"$nulls":4},"CODEVASF",null,null,"DATA: ANO 2017"]
[null,null,"SERVIÇO: INSTALAÇÃO DE JANELA",{"$nulls":4},"COD: ","CAC-060",null,"UNIDADE: ","M2"]
[]
[null,null,"SERVIÇOS - COMPOSIÇÕES AUXILIARES ............................................................................................................................................................................",{"$nulls":7},"SUB-TOTAL (1) = ",{"$f":"SUM(L1858:L1859)","v":0}]
[null,null,"DISCRIMINAÇÃO","SINAPI","UNID",null,"QTDE","PROD","IMPROD","P.UNIT. PROD","P.UNIT. IMPR","P.TOTAL"]
[null,null,"JANELA DE AÇO BASCULANTE, FIXAÇÃO COM ARGAMASSA, SEM VIDROS, PADRONIZADA. AF_07/2016",94559,"M2",null,1,null,null,{"$f":"IFERROR(VLOOKUP(D1858,$D$7:$J$7,6,0),0)","v":0},null,{"$f":"G1858*J1858","v":0}]
[{"$nulls":11},{"$f":"G1859*J1859","v":0}]
[]
[null,null,"EQUIPAMENTO .............................................................................................................................................................................................................................",{"$nulls":7},"SUB-TOTAL (2) = ",{"$f":"SUM(L1863:L1864)","v":0}]
[null,null,"DISCRIMINAÇÃO","SINAPI","UNID",null,"QTDE","PROD","IMPROD","P.UNIT. PROD","P.UNIT. IMPR","P.TOTAL"]
[{"$nulls":11},{"$f":"G1863*J1863","v":0}]
[{"$nulls":11},{"$f":"G1864*J1864","v":0}]
[]
[null,null,"MATERIAL ........................................................................................................................................................................................................................................",{"$nulls":7},"SUB-TOTAL (3) = ",{"$f":"SUM(L1868:L1869)","v":0}]
[null,null,"DISCRIMINAÇÃO","SINAPI","UNID",null,"QTDE","PROD","IMPROD","P.UNIT. PROD","P.UNIT. IMPR","P.TOTAL"]
[{"$nulls":11},{"$f":"G1868*J1868","v":0}]
[{"$nulls":11},{"$f":"G1869*J1869","v":0}]
[]
[null,null,"MÃO DE OBRA .................................................................................................................................................................................................................................",{"$nulls":7},"SUB-TOTAL (4) = ",{"$f":"SUM(L1873:L1874)","v":0}]
[null,null,"DISCRIMINAÇÃO","SINAPI","UNID",null,"QTDE","PROD","IMPROD","P.UNIT. PROD","P.UNIT. IMPR","P.TOTAL"]
[{"$nulls":11},{"$f":"G1873*J1873","v":0}]
[{"$nulls":11},{"$f":"G1874*J1874","v":0}]
[]
[null,null,"OBSERVAÇÕES:","PROD DA EQUIPE =",null,null,1,null,null,null,"CUSTO (SUB-TOTAL 1 + 2 + 3 + 4) = ",{"$f":"L1871+L1866+L1856+L1861","v":0}]
[null,null,null,"RESP. TÉCNICO:",{"$nulls":6},"TOTAL - R$ = ",{"$f":"L1876/G1876","v":0}]
[{"$nulls":10},"BDI (%) = ",{"$f":"$I$3","v":0.2101044698987744}]
[{"$nulls":10},"TOTAL DO SERVIÇO - R$ = ",{"$f":"L1877*L1878+L1877","v":0}]
[]
[null,null,{"$f":"C1885","v":"SERVIÇO: INSTALAÇÃO DE VISOR"},{"$f":"I1885","v":"CAC-061"},{"$f":"L1885","v":"M2"},null,null,null,"P. Unit.=",{"$f":"L1908","v":0},{"$f":"$C$5","v":"SINAPI:Abril/2020 (Alagoas/AL) - NÃO DESONERADO"}]
[null,null," COMPOSIÇÃO ANALÍTICA DE CUSTO"]
[]
[null,null,"OBRA: ",{"$nulls":4},"CODEVASF",null,null,"DATA: ANO 2017"]
[null,null,"SERVIÇO: INSTALAÇÃO DE VISOR",{"$nulls":4},"COD: ","CAC-061",null,"UNIDADE: ","M2"]
[]
[null,null,"SERVIÇOS - COMPOSIÇÕES AUXILIARES ............................................................................................................................................................................",{"$nulls":7},"SUB-TOTAL (1) = ",{"$f":"SUM(L1889:L1890)","v":0}]
[null,null,"DISCRIMINAÇÃO","SINAPI","UNID",null,"QTDE","PROD","IMPROD","P.UNIT. PROD","P.UNIT. IMPR","P.TOTAL"]
[null,null,"JANELA DE AÇO DE CORRER, 2 FOLHAS, FIXAÇÃO COM PARAFUSO SOBRE CONTRAMARCO (EXCLUSIVE CONTRAMARCO), COM VIDROS, PADRONIZADA. AF_07/2016",94565,"M2",null,1,null,null,{"$f":"IFERROR(VLOOKUP(D1889,$D$7:$J$7,6,0),0)","v":0},null,{"$f":"G1889*J1889","v":0}]
[{"$nulls":11},{"$f":"G1890*J1890","v":0}]
[]
[null,null,"EQUIPAMENTO .............................................................................................................................................................................................................................",{"$nulls":7},"SUB-TOTAL (2) = ",{"$f":"SUM(L1894:L1895)","v":0}]
[null,null,"DISCRIMINAÇÃO","SINAPI","UNID",null,"QTDE","PROD","IMPROD","P.UNIT. PROD","P.UNIT. IMPR","P.TOTAL"]
[{"$nulls":11},{"$f":"G1894*J1894","v":0}]
[{"$nulls":11},{"$f":"G1895*J1895","v":0}]
[]
[null,null,"MATERIAL ........................................................................................................................................................................................................................................",{"$nulls":7},"SUB-TOTAL (3) = ",{"$f":"SUM(L1899:L1900)","v":0}]
[null,null,"DISCRIMINAÇÃO","SINAPI","UNID",null,"QTDE","PROD","IMPROD","P.UNIT. PROD","P.UNIT. IMPR","P.TOTAL"]
[{"$nulls":11},{"$f":"G1899*J1899","v":0}]
[{"$nulls":11},{"$f":"G1900*J1900","v":0}]
[]
[null,null,"MÃO DE OBRA .................................................................................................................................................................................................................................",{"$nulls":7},"SUB-TOTAL (4) = ",{"$f":"SUM(L1904:L1905)","v":0}]
[null,null,"DISCRIMINAÇÃO","SINAPI","UNID",null,"QTDE","PROD","IMPROD","P.UNIT. PROD","P.UNIT. IMPR","P.TOTAL"]
[{"$nulls":11},{"$f":"G1904*J1904","v":0}]
[{"$nulls":11},{"$f":"G1905*J1905","v":0}]
[]
[null,null,"OBSERVAÇÕES:","PROD DA EQUIPE =",null,null,1,null,null,null,"CUSTO (SUB-TOTAL 1 + 2 + 3 + 4) = ",{"$f":"L1902+L1897+L1887+L1892","v":0}]
[null,null,null,"RESP. TÉCNICO:",{"$nulls":6},"TOTAL - R$ = ",{"$f":"L1907/G1907","v":0}]
[{"$nulls":10},"BDI (%) = ",{"$f":"$I$3","v":0.2101044698987744}]
[{"$nulls":10},"TOTAL DO SERVIÇO - R$ = ",{"$f":"L1908*L1909+L1908","v":0}]
[]
[null,null,{"$f":"C1916","v":"SERVIÇO: CONSTRUÇÃO DAS PAREDES EM ALVENARIA"},{"$f":"I1916","v":"CAC-062"},{"$f":"L1916","v":"M2"},null,null,null,"P. Unit.=",{"$f":"L1940","v":0},{"$f":"$C$5","v":"SINAPI:Abril/2020 (Alagoas/AL) - NÃO DESONERADO"}]
[null,null," COMPOSIÇÃO ANALÍTICA DE CUSTO"]
[]
[null,null,"OBRA: ",{"$nulls":4},"CODEVASF",null,null,"DATA: ANO 2017"]
[null,null,"SERVIÇO: CONSTRUÇÃO DAS PAREDES EM ALVENARIA",{"$nulls":4},"COD: ","CAC-062",null,"UNIDADE: ","M2"]
[]
[null,null,"SERVIÇOS - COMPOSIÇÕES AUXILIARES ............................................................................................................................................................................",{"$nulls":7},"SUB-TOTAL (1) = ",{"$f":"SUM(L1920:L1922)","v":0}]
[null,null,"DISCRIMINAÇÃO","SINAPI","UNID",null,"QTDE","PROD","IMPROD","P.UNIT. PROD","P.UNIT. IMPR","P.TOTAL"]
[null,null,"ALVENARIA DE VEDAÇÃO DE BLOCOS CERÂMICOS FURADOS NA VERTICAL DE 19X19X39CM (ESPESSURA 19CM) DE PAREDES COM ÁREA LÍQUIDA MAIOR OU IGUAL A 6M² SEM VÃOS E ARGAMASSA DE ASSENTAMENTO COM PREPARO EM BETONEIRA. AF_06/2014",87481,"M2",null,1,null,null,{"$f":"IFERROR(VLOOKUP(D1920,$D$7:$J$7,6,0),0)","v":0},null,{"$f":"G1920*J1920","v":0}]
[null,null,"CHAPISCO APLICADO EM ALVENARIAS E ESTRUTURAS DE CONCRETO INTERNAS, COM COLHER DE PEDREIRO.  ARGAMASSA TRAÇO 1:3 COM PREPARO EM BETONEIRA 400L. AF_06/2014",87879,"M2",null,2,null,null,{"$f":"IFERROR(VLOOKUP(D1921,$D$7:$J$7,6,0),0)","v":0},null,{"$f":"G1921*J1921","v":0}]
[null,null,"EMBOÇO OU MASSA ÚNICA EM ARGAMASSA TRAÇO 1:2:8, PREPARO MANUAL, APLICADA MANUALMENTE EM PANOS DE FACHADA COM PRESENÇA DE VÃOS, ESPESSURA DE 25 MM. AF_06/2014",87777,"M2",null,2,null,null,{"$f":"IFERROR(VLOOKUP(D1922,$D$7:$J$7,6,0),0)","v":0},null,{"$f":"G1922*J1922","v":0}]
[]
[null,null,"EQUIPAMENTO .............................................................................................................................................................................................................................",{"$nulls":7},"SUB-TOTAL (2) = ",{"$f":"SUM(L1926:L1927)","v":0}]
[null,null,"DISCRIMINAÇÃO","SINAPI","UNID",null,"QTDE","PROD","IMPROD","P.UNIT. PROD","P.UNIT. IMPR","P.TOTAL"]
[{"$nulls":11},{"$f":"G1926*J1926","v":0}]
[{"$nulls":11},{"$f":"G1927*J1927","v":0}]
[]
[null,null,"MATERIAL ........................................................................................................................................................................................................................................",{"$nulls":7},"SUB-TOTAL (3) = ",{"$f":"SUM(L1931:L1932)","v":0}]
[null,null,"DISCRIMINAÇÃO","SINAPI","UNID",null,"QTDE","PROD","IMPROD","P.UNIT. PROD","P.UNIT. IMPR","P.TOTAL"]
[{"$nulls":11},{"$f":"G1931*J1931","v":0}]
[{"$nulls":11},{"$f":"G1932*J1932","v":0}]
[]
[null,null,"MÃO DE OBRA .................................................................................................................................................................................................................................",{"$nulls":7},"SUB-TOTAL (4) = ",{"$f":"SUM(L1936:L1937)","v":0}]
[null,null,"DISCRIMINAÇÃO","SINAPI","UNID",null,"QTDE","PROD","IMPROD","P.UNIT. PROD","P.UNIT. IMPR","P.TOTAL"]
[{"$nulls":11},{"$f":"G1936*J1936","v":0}]
[{"$nulls":11},{"$f":"G1937*J1937","v":0}]
[]
[null,null,"OBSERVAÇÕES:","PROD DA EQUIPE =",null,null,1,null,null,null,"CUSTO (SUB-TOTAL 1 + 2 + 3 + 4) = ",{"$f":"L1934+L1929+L1918+L1924","v":0}]
[null,null,null,"RESP. TÉCNICO:",{"$nulls":6},"TOTAL - R$ = ",{"$f":"L1939/G1939","v":0}]
[{"$nulls":10},"BDI (%) = ",{"$f":"$I$3","v":0.2101044698987744}]
[{"$nulls":10},"TOTAL DO SERVIÇO - R$ = ",{"$f":"L1940*L1941+L1940","v":0}]
[]
[null,null,{"$f":"C1948","v":"SERVIÇO: GUARDA CORPO EM TUBO DE AÇO GALVANIZADO"},{"$f":"I1948","v":"CAC-063"},{"$f":"L1948","v":"M2"},null,null,null,"P. Unit.=",{"$f":"L1971","v":0},{"$f":"$C$5","v":"SINAPI:Abril/2020 (Alagoas/AL) - NÃO DESONERADO"}]
[null,null," COMPOSIÇÃO ANALÍTICA DE CUSTO"]
[]
[null,null,"OBRA: ",{"$nulls":4},"CODEVASF",null,null,"DATA: ANO 2017"]
[null,null,"SERVIÇO: GUARDA CORPO EM TUBO DE AÇO GALVANIZADO",{"$nulls":4},"COD: ","CAC-063",null,"UNIDADE: ","M2"]
[]
[null,null,"SERVIÇOS - COMPOSIÇÕES AUXILIARES ............................................................................................................................................................................",{"$nulls":7},"SUB-TOTAL (1) = ",{"$f":"SUM(L1952:L1953)","v":0}]
[null,null,"DISCRIMINAÇÃO","SINAPI","UNID",null,"QTDE","PROD","IMPROD","P.UNIT. PROD","P.UNIT. IMPR","P.TOTAL"]
[null,null,"GUARDA-CORPO EM TUBO DE ACO GALVANIZADO 1 1/2\"",73631,"M2",null,1,null,null,{"$f":"IFERROR(VLOOKUP(D1952,$D$7:$J$7,6,0),0)","v":0},null,{"$f":"G1952*J1952","v":0}]
[{"$nulls":9},{"$f":"IFERROR(VLOOKUP(D1953,$D$7:$J$7,6,0),0)","v":0},null,{"$f":"G1953*J1953","v":0}]
[]
[null,null,"EQUIPAMENTO .............................................................................................................................................................................................................................",{"$nulls":7},"SUB-TOTAL (2) = ",{"$f":"SUM(L1957:L1958)","v":0}]
[null,null,"DISCRIMINAÇÃO","SINAPI","UNID",null,"QTDE","PROD","IMPROD","P.UNIT. PROD","P.UNIT. IMPR","P.TOTAL"]
[{"$nulls":11},{"$f":"G1957*J1957","v":0}]
[{"$nulls":11},{"$f":"G1958*J1958","v":0}]
[]
[null,null,"MATERIAL ........................................................................................................................................................................................................................................",{"$nulls":7},"SUB-TOTAL (3) = ",{"$f":"SUM(L1962:L1963)","v":0}]
[null,null,"DISCRIMINAÇÃO","SINAPI","UNID",null,"QTDE","PROD","IMPROD","P.UNIT. PROD","P.UNIT. IMPR","P.TOTAL"]
[{"$nulls":11},{"$f":"G1962*J1962","v":0}]
[{"$nulls":11},{"$f":"G1963*J1963","v":0}]
[]
[null,null,"MÃO DE OBRA .................................................................................................................................................................................................................................",{"$nulls":7},"SUB-TOTAL (4) = ",{"$f":"SUM(L1967:L1968)","v":0}]
[null,null,"DISCRIMINAÇÃO","SINAPI","UNID",null,"QTDE","PROD","IMPROD","P.UNIT. PROD","P.UNIT. IMPR","P.TOTAL"]
[{"$nulls":11},{"$f":"G1967*J1967","v":0}]
[{"$nulls":11},{"$f":"G1968*J1968","v":0}]
[]
[null,null,"OBSERVAÇÕES:","PROD DA EQUIPE =",null,null,1,null,null,null,"CUSTO (SUB-TOTAL 1 + 2 + 3 + 4) = ",{"$f":"L1965+L1960+L1950+L1955","v":0}]
[null,null,null,"RESP. TÉCNICO:",{"$nulls":6},"TOTAL - R$ = ",{"$f":"L1970/G1970","v":0}]
[{"$nulls":10},"BDI (%) = ",{"$f":"$I$3","v":0.2101044698987744}]
[{"$nulls":10},"TOTAL DO SERVIÇO - R$ = ",{"$f":"L1971*L1972+L1971","v":0}]
[]
[null,null,{"$f":"C1979","v":"SERVIÇO: PINTURA EXTERNA CASA ELÉTRICA"},{"$f":"I1979","v":"CAC-064"},{"$f":"L1979","v":"M2"},null,null,null,"P. Unit.=",{"$f":"L2003","v":0},{"$f":"$C$5","v":"SINAPI:Abril/2020 (Alagoas/AL) - NÃO DESONERADO"}]
[null,null," COMPOSIÇÃO ANALÍTICA DE CUSTO"]
[]
[null,null,"OBRA: ",{"$nulls":4},"CODEVASF",null,null,"DATA: ANO 2017"]
[null,null,"SERVIÇO: PINTURA EXTERNA CASA ELÉTRICA",{"$nulls":4},"COD: ","CAC-064",null,"UNIDADE: ","M2"]
[]
[null,null,"SERVIÇOS - COMPOSIÇÕES AUXILIARES ............................................................................................................................................................................",{"$nulls":7},"SUB-TOTAL (1) = ",{"$f":"SUM(L1983:L1985)","v":0}]
[null,null,"DISCRIMINAÇÃO","SINAPI","UNID",null,"QTDE","PROD","IMPROD","P.UNIT. PROD","P.UNIT. IMPR","P.TOTAL"]
[null,null,"APLICAÇÃO MANUAL DE FUNDO SELADOR ACRÍLICO EM PAREDES EXTERNAS DE CASAS. AF_06/2014",88415,"M2",null,1,null,null,{"$f":"IFERROR(VLOOKUP(D1983,$D$7:$J$7,6,0),0)","v":0},null,{"$f":"G1983*J1983","v":0}]
[null,null,"APLICAÇÃO MANUAL DE PINTURA COM TINTA LÁTEX ACRÍLICA EM PAREDES, DUAS DEMÃOS. AF_06/2014",88489,"M2",null,1,null,null,{"$f":"IFERROR(VLOOKUP(D1984,$D$7:$J$7,6,0),0)","v":0},null,{"$f":"G1984*J1984","v":0}]
[{"$nulls":9},{"$f":"IFERROR(VLOOKUP(D1985,$D$7:$J$7,6,0),0)","v":0},null,{"$f":"G1985*J1985","v":0}]
[]
[null,null,"EQUIPAMENTO .............................................................................................................................................................................................................................",{"$nulls":7},"SUB-TOTAL (2) = ",{"$f":"SUM(L1989:L1990)","v":0}]
[null,null,"DISCRIMINAÇÃO","SINAPI","UNID",null,"QTDE","PROD","IMPROD","P.UNIT. PROD","P.UNIT. IMPR","P.TOTAL"]
[{"$nulls":11},{"$f":"G1989*J1989","v":0}]
[{"$nulls":11},{"$f":"G1990*J1990","v":0}]
[]
[null,null,"MATERIAL ........................................................................................................................................................................................................................................",{"$nulls":7},"SUB-TOTAL (3) = ",{"$f":"SUM(L1994:L1995)","v":0}]
[null,null,"DISCRIMINAÇÃO","SINAPI","UNID",null,"QTDE","PROD","IMPROD","P.UNIT. PROD","P.UNIT. IMPR","P.TOTAL"]
[{"$nulls":11},{"$f":"G1994*J1994","v":0}]
[{"$nulls":11},{"$f":"G1995*J1995","v":0}]
[]
[null,null,"MÃO DE OBRA .................................................................................................................................................................................................................................",{"$nulls":7},"SUB-TOTAL (4) = ",{"$f":"SUM(L1999:L2000)","v":0}]
[null,null,"DISCRIMINAÇÃO","SINAPI","UNID",null,"QTDE","PROD","IMPROD","P.UNIT. PROD","P.UNIT. IMPR","P.TOTAL"]
[{"$nulls":11},{"$f":"G1999*J1999","v":0}]
[{"$nulls":11},{"$f":"G2000*J2000","v":0}]
[]
[null,null,"OBSERVAÇÕES:","PROD DA EQUIPE =",null,null,1,null,null,null,"CUSTO (SUB-TOTAL 1 + 2 + 3 + 4) = ",{"$f":"L1997+L1992+L1981+L1987","v":0}]
[null,null,null,"RESP. TÉCNICO:",{"$nulls":6},"TOTAL - R$ = ",{"$f":"L2002/G2002","v":0}]
[{"$nulls":10},"BDI (%) = ",{"$f":"$I$3","v":0.2101044698987744}]
[{"$nulls":10},"TOTAL DO SERVIÇO - R$ = ",{"$f":"L2003*L2004+L2003","v":0}]
[]
[null,null,{"$f":"C2011","v":"SERVIÇO: PINTURA INTERNA CASA ELÉTRICA"},{"$f":"I2011","v":"CAC-065"},{"$f":"L2011","v":"M2"},null,null,null,"P. Unit.=",{"$f":"L2035","v":0},{"$f":"$C$5","v":"SINAPI:Abril/2020 (Alagoas/AL) - NÃO DESONERADO"}]
[null,null," COMPOSIÇÃO ANALÍTICA DE CUSTO"]
[]
[null,null,"OBRA: ",{"$nulls":4},"CODEVASF",null,null,"DATA: ANO 2017"]
[null,null,"SERVIÇO: PINTURA INTERNA CASA ELÉTRICA",{"$nulls":4},"COD: ","CAC-065",null,"UNIDADE: ","M2"]
[]
[null,null,"SERVIÇOS - COMPOSIÇÕES AUXILIARES ............................................................................................................................................................................",{"$nulls":7},"SUB-TOTAL (1) = ",{"$f":"SUM(L2015:L2017)","v":0}]
[null,null,"DISCRIMINAÇÃO","SINAPI","UNID",null,"QTDE","PROD","IMPROD","P.UNIT. PROD","P.UNIT. IMPR","P.TOTAL"]
[null,null,"APLICAÇÃO DE FUNDO SELADOR LÁTEX PVA EM PAREDES, UMA DEMÃO. AF_06/2014",88483,"M2",null,1,null,null,{"$f":"IFERROR(VLOOKUP(D2015,$D$7:$J$7,6,0),0)","v":0},null,{"$f":"G2015*J2015","v":0}]
[null,null,"APLICAÇÃO MANUAL DE PINTURA COM TINTA LÁTEX PVA EM PAREDES, DUAS DEMÃOS. AF_06/2014",88487,"M2",null,1,null,null,{"$f":"IFERROR(VLOOKUP(D2016,$D$7:$J$7,6,0),0)","v":0},null,{"$f":"G2016*J2016","v":0}]
[{"$nulls":9},{"$f":"IFERROR(VLOOKUP(D2017,$D$7:$J$7,6,0),0)","v":0},null,{"$f":"G2017*J2017","v":0}]
[]
[null,null,"EQUIPAMENTO .............................................................................................................................................................................................................................",{"$nulls":7},"SUB-TOTAL (2) = ",{"$f":"SUM(L2021:L2022)","v":0}]
[null,null,"DISCRIMINAÇÃO","SINAPI","UNID",null,"QTDE","PROD","IMPROD","P.UNIT. PROD","P.UNIT. IMPR","P.TOTAL"]
[{"$nulls":11},{"$f":"G2021*J2021","v":0}]
[{"$nulls":11},{"$f":"G2022*J2022","v":0}]
[]
[null,null,"MATERIAL ........................................................................................................................................................................................................................................",{"$nulls":7},"SUB-TOTAL (3) = ",{"$f":"SUM(L2026:L2027)","v":0}]
[null,null,"DISCRIMINAÇÃO","SINAPI","UNID",null,"QTDE","PROD","IMPROD","P.UNIT. PROD","P.UNIT. IMPR","P.TOTAL"]
[{"$nulls":11},{"$f":"G2026*J2026","v":0}]
[{"$nulls":11},{"$f":"G2027*J2027","v":0}]
[]
[null,null,"MÃO DE OBRA .................................................................................................................................................................................................................................",{"$nulls":7},"SUB-TOTAL (4) = ",{"$f":"SUM(L2031:L2032)","v":0}]
[null,null,"DISCRIMINAÇÃO","SINAPI","UNID",null,"QTDE","PROD","IMPROD","P.UNIT. PROD","P.UNIT. IMPR","P.TOTAL"]
[{"$nulls":11},{"$f":"G2031*J2031","v":0}]
[{"$nulls":11},{"$f":"G2032*J2032","v":0}]
[]
[null,null,"OBSERVAÇÕES:","PROD DA EQUIPE =",null,null,1,null,null,null,"CUSTO (SUB-TOTAL 1 + 2 + 3 + 4) = ",{"$f":"L2029+L2024+L2013+L2019","v":0}]
[null,null,null,"RESP. TÉCNICO:",{"$nulls":6},"TOTAL - R$ = ",{"$f":"L2034/G2034","v":0}]
[{"$nulls":10},"BDI (%) = ",{"$f":"$I$3","v":0.2101044698987744}]
[{"$nulls":10},"TOTAL DO SERVIÇO - R$ = ",{"$f":"L2035*L2036+L2035","v":0}]
[]
[null,null,{"$f":"C2043","v":"SERVIÇO: PINTURA SUPERFÍCIES METÁLICAS"},{"$f":"I2043","v":"CAC-066"},{"$f":"L2043","v":"M2"},null,null,null,"P. Unit.=",{"$f":"L2067","v":0},{"$f":"$C$5","v":"SINAPI:Abril/2020 (Alagoas/AL) - NÃO DESONERADO"}]
[null,null," COMPOSIÇÃO ANALÍTICA DE CUSTO"]
[]
[null,null,"OBRA: ",{"$nulls":4},"CODEVASF",null,null,"DATA: ANO 2017"]
[null,null,"SERVIÇO: PINTURA SUPERFÍCIES METÁLICAS",{"$nulls":4},"COD: ","CAC-066",null,"UNIDADE: ","M2"]
[]
[null,null,"SERVIÇOS - COMPOSIÇÕES AUXILIARES ............................................................................................................................................................................",{"$nulls":7},"SUB-TOTAL (1) = ",{"$f":"SUM(L2047:L2049)","v":0}]
[null,null,"DISCRIMINAÇÃO","SINAPI","UNID",null,"QTDE","PROD","IMPROD","P.UNIT. PROD","P.UNIT. IMPR","P.TOTAL"]
[null,null,"FUNDO ANTICORROSIVO A BASE DE OXIDO DE FERRO (ZARCAO), DUAS DEMAOS","74064/001","M2",null,1,null,null,{"$f":"IFERROR(VLOOKUP(D2047,$D$7:$J$7,6,0),0)","v":0},null,{"$f":"G2047*J2047","v":0}]
[null,null,"PINTURA ESMALTE ALTO BRILHO, DUAS DEMAOS, SOBRE SUPERFICIE METALICA","73924/001","M2",null,1,null,null,{"$f":"IFERROR(VLOOKUP(D2048,$D$7:$J$7,6,0),0)","v":0},null,{"$f":"G2048*J2048","v":0}]
[{"$nulls":9},{"$f":"IFERROR(VLOOKUP(D2049,$D$7:$J$7,6,0),0)","v":0},null,{"$f":"G2049*J2049","v":0}]
[]
[null,null,"EQUIPAMENTO .............................................................................................................................................................................................................................",{"$nulls":7},"SUB-TOTAL (2) = ",{"$f":"SUM(L2053:L2054)","v":0}]
[null,null,"DISCRIMINAÇÃO","SINAPI","UNID",null,"QTDE","PROD","IMPROD","P.UNIT. PROD","P.UNIT. IMPR","P.TOTAL"]
[{"$nulls":11},{"$f":"G2053*J2053","v":0}]
[{"$nulls":11},{"$f":"G2054*J2054","v":0}]
[]
[null,null,"MATERIAL ........................................................................................................................................................................................................................................",{"$nulls":7},"SUB-TOTAL (3) = ",{"$f":"SUM(L2058:L2059)","v":0}]
[null,null,"DISCRIMINAÇÃO","SINAPI","UNID",null,"QTDE","PROD","IMPROD","P.UNIT. PROD","P.UNIT. IMPR","P.TOTAL"]
[{"$nulls":11},{"$f":"G2058*J2058","v":0}]
[{"$nulls":11},{"$f":"G2059*J2059","v":0}]
[]
[null,null,"MÃO DE OBRA .................................................................................................................................................................................................................................",{"$nulls":7},"SUB-TOTAL (4) = ",{"$f":"SUM(L2063:L2064)","v":0}]
[null,null,"DISCRIMINAÇÃO","SINAPI","UNID",null,"QTDE","PROD","IMPROD","P.UNIT. PROD","P.UNIT. IMPR","P.TOTAL"]
[{"$nulls":11},{"$f":"G2063*J2063","v":0}]
[{"$nulls":11},{"$f":"G2064*J2064","v":0}]
[]
[null,null,"OBSERVAÇÕES:","PROD DA EQUIPE =",null,null,1,null,null,null,"CUSTO (SUB-TOTAL 1 + 2 + 3 + 4) = ",{"$f":"L2061+L2056+L2045+L2051","v":0}]
[null,null,null,"RESP. TÉCNICO:",{"$nulls":6},"TOTAL - R$ = ",{"$f":"L2066/G2066","v":0}]
[{"$nulls":10},"BDI (%) = ",{"$f":"$I$3","v":0.2101044698987744}]
[{"$nulls":10},"TOTAL DO SERVIÇO - R$ = ",{"$f":"L2067*L2068+L2067","v":0}]
[]
[null,null,{"$f":"C2075","v":"SERVIÇO: EXECUÇÃO DO PASSEIO"},{"$f":"I2075","v":"CAC-067"},{"$f":"L2075","v":"M2"},null,null,null,"P. Unit.=",{"$f":"L2098","v":0},{"$f":"$C$5","v":"SINAPI:Abril/2020 (Alagoas/AL) - NÃO DESONERADO"}]
[null,null," COMPOSIÇÃO ANALÍTICA DE CUSTO"]
[]
[null,null,"OBRA: ",{"$nulls":4},"CODEVASF",null,null,"DATA: ANO 2017"]
[null,null,"SERVIÇO: EXECUÇÃO DO PASSEIO",{"$nulls":4},"COD: ","CAC-067",null,"UNIDADE: ","M2"]
[]
[null,null,"SERVIÇOS - COMPOSIÇÕES AUXILIARES ............................................................................................................................................................................",{"$nulls":7},"SUB-TOTAL (1) = ",{"$f":"SUM(L2079:L2080)","v":0}]
[null,null,"DISCRIMINAÇÃO","SINAPI","UNID",null,"QTDE","PROD","IMPROD","P.UNIT. PROD","P.UNIT. IMPR","P.TOTAL"]
[null,null,"EXECUÇÃO DE PASSEIO (CALÇADA) OU PISO DE CONCRETO COM CONCRETO MOLDADO IN LOCO, USINADO, ACABAMENTO CONVENCIONAL, ESPESSURA 6 CM, ARMADO. AF_07/2016",94993,"M2",null,1,null,null,{"$f":"IFERROR(VLOOKUP(D2079,$D$7:$J$7,6,0),0)","v":0},null,{"$f":"G2079*J2079","v":0}]
[{"$nulls":9},{"$f":"IFERROR(VLOOKUP(D2080,$D$7:$J$7,6,0),0)","v":0},null,{"$f":"G2080*J2080","v":0}]
[]
[null,null,"EQUIPAMENTO .............................................................................................................................................................................................................................",{"$nulls":7},"SUB-TOTAL (2) = ",{"$f":"SUM(L2084:L2085)","v":0}]
[null,null,"DISCRIMINAÇÃO","SINAPI","UNID",null,"QTDE","PROD","IMPROD","P.UNIT. PROD","P.UNIT. IMPR","P.TOTAL"]
[{"$nulls":11},{"$f":"G2084*J2084","v":0}]
[{"$nulls":11},{"$f":"G2085*J2085","v":0}]
[]
[null,null,"MATERIAL ........................................................................................................................................................................................................................................",{"$nulls":7},"SUB-TOTAL (3) = ",{"$f":"SUM(L2089:L2090)","v":0}]
[null,null,"DISCRIMINAÇÃO","SINAPI","UNID",null,"QTDE","PROD","IMPROD","P.UNIT. PROD","P.UNIT. IMPR","P.TOTAL"]
[{"$nulls":11},{"$f":"G2089*J2089","v":0}]
[{"$nulls":11},{"$f":"G2090*J2090","v":0}]
[]
[null,null,"MÃO DE OBRA .................................................................................................................................................................................................................................",{"$nulls":7},"SUB-TOTAL (4) = ",{"$f":"SUM(L2094:L2095)","v":0}]
[null,null,"DISCRIMINAÇÃO","SINAPI","UNID",null,"QTDE","PROD","IMPROD","P.UNIT. PROD","P.UNIT. IMPR","P.TOTAL"]
[{"$nulls":11},{"$f":"G2094*J2094","v":0}]
[{"$nulls":11},{"$f":"G2095*J2095","v":0}]
[]
[null,null,"OBSERVAÇÕES:","PROD DA EQUIPE =",null,null,1,null,null,null,"CUSTO (SUB-TOTAL 1 + 2 + 3 + 4) = ",{"$f":"L2092+L2087+L2077+L2082","v":0}]
[null,null,null,"RESP. TÉCNICO:",{"$nulls":6},"TOTAL - R$ = ",{"$f":"L2097/G2097","v":0}]
[{"$nulls":10},"BDI (%) = ",{"$f":"$I$3","v":0.2101044698987744}]
[{"$nulls":10},"TOTAL DO SERVIÇO - R$ = ",{"$f":"L2098*L2099+L2098","v":0}]
[]
[null,null,{"$f":"C2106","v":"SERVIÇO: EXECUÇÃO DA COBERTURA E TAPAMENTO LATERAL"},{"$f":"I2106","v":"CAC-068"},{"$f":"L2106","v":"M2"},null,null,null,"P. Unit.=",{"$f":"L2129","v":0},{"$f":"$C$5","v":"SINAPI:Abril/2020 (Alagoas/AL) - NÃO DESONERADO"}]
[null,null," COMPOSIÇÃO ANALÍTICA DE CUSTO"]
[]
[null,null,"OBRA: ",{"$nulls":4},"CODEVASF",null,null,"DATA: ANO 2017"]
[null,null,"SERVIÇO: EXECUÇÃO DA COBERTURA E TAPAMENTO LATERAL",{"$nulls":4},"COD: ","CAC-068",null,"UNIDADE: ","M2"]
[]
[null,null,"SERVIÇOS - COMPOSIÇÕES AUXILIARES ............................................................................................................................................................................",{"$nulls":7},"SUB-TOTAL (1) = ",{"$f":"SUM(L2110:L2111)","v":0}]
[null,null,"DISCRIMINAÇÃO","SINAPI","UNID",null,"QTDE","PROD","IMPROD","P.UNIT. PROD","P.UNIT. IMPR","P.TOTAL"]
[null,null,"TELHAMENTO COM TELHA DE AÇO/ALUMÍNIO E = 0,5 MM, COM ATÉ 2 ÁGUAS, INCLUSO IÇAMENTO. AF_06/2016",94213,"M2",null,1,null,null,{"$f":"IFERROR(VLOOKUP(D2110,$D$7:$J$7,6,0),0)","v":0},null,{"$f":"G2110*J2110","v":0}]
[{"$nulls":9},{"$f":"IFERROR(VLOOKUP(D2111,$D$7:$J$7,6,0),0)","v":0},null,{"$f":"G2111*J2111","v":0}]
[]
[null,null,"EQUIPAMENTO .............................................................................................................................................................................................................................",{"$nulls":7},"SUB-TOTAL (2) = ",{"$f":"SUM(L2115:L2116)","v":0}]
[null,null,"DISCRIMINAÇÃO","SINAPI","UNID",null,"QTDE","PROD","IMPROD","P.UNIT. PROD","P.UNIT. IMPR","P.TOTAL"]
[{"$nulls":11},{"$f":"G2115*J2115","v":0}]
[{"$nulls":11},{"$f":"G2116*J2116","v":0}]
[]
[null,null,"MATERIAL ........................................................................................................................................................................................................................................",{"$nulls":7},"SUB-TOTAL (3) = ",{"$f":"SUM(L2120:L2121)","v":0}]
[null,null,"DISCRIMINAÇÃO","SINAPI","UNID",null,"QTDE","PROD","IMPROD","P.UNIT. PROD","P.UNIT. IMPR","P.TOTAL"]
[{"$nulls":11},{"$f":"G2120*J2120","v":0}]
[{"$nulls":11},{"$f":"G2121*J2121","v":0}]
[]
[null,null,"MÃO DE OBRA .................................................................................................................................................................................................................................",{"$nulls":7},"SUB-TOTAL (4) = ",{"$f":"SUM(L2125:L2126)","v":0}]
[null,null,"DISCRIMINAÇÃO","SINAPI","UNID",null,"QTDE","PROD","IMPROD","P.UNIT. PROD","P.UNIT. IMPR","P.TOTAL"]
[{"$nulls":11},{"$f":"G2125*J2125","v":0}]
[{"$nulls":11},{"$f":"G2126*J2126","v":0}]
[]
[null,null,"OBSERVAÇÕES:","PROD DA EQUIPE =",null,null,1,null,null,null,"CUSTO (SUB-TOTAL 1 + 2 + 3 + 4) = ",{"$f":"L2123+L2118+L2108+L2113","v":0}]
[null,null,null,"RESP. TÉCNICO:",{"$nulls":6},"TOTAL - R$ = ",{"$f":"L2128/G2128","v":0}]
[{"$nulls":10},"BDI (%) = ",{"$f":"$I$3","v":0.2101044698987744}]
[{"$nulls":10},"TOTAL DO SERVIÇO - R$ = ",{"$f":"L2129*L2130+L2129","v":0}]
[]
[null,null,{"$f":"C2137","v":"SERVIÇO: EXECUÇÃO DE CALHA DE COBERTURA"},{"$f":"I2137","v":"CAC-069"},{"$f":"L2137","v":"M2"},null,null,null,"P. Unit.=",{"$f":"L2160","v":0},{"$f":"$C$5","v":"SINAPI:Abril/2020 (Alagoas/AL) - NÃO DESONERADO"}]
[null,null," COMPOSIÇÃO ANALÍTICA DE CUSTO"]
[]
[null,null,"OBRA: ",{"$nulls":4},"CODEVASF",null,null,"DATA: ANO 2017"]
[null,null,"SERVIÇO: EXECUÇÃO DE CALHA DE COBERTURA",{"$nulls":4},"COD: ","CAC-069",null,"UNIDADE: ","M2"]
[]
[null,null,"SERVIÇOS - COMPOSIÇÕES AUXILIARES ............................................................................................................................................................................",{"$nulls":7},"SUB-TOTAL (1) = ",{"$f":"SUM(L2141:L2142)","v":0}]
[null,null,"DISCRIMINAÇÃO","SINAPI","UNID",null,"QTDE","PROD","IMPROD","P.UNIT. PROD","P.UNIT. IMPR","P.TOTAL"]
[null,null,"CALHA EM CHAPA DE AÇO GALVANIZADO NÚMERO 24, DESENVOLVIMENTO DE 100 CM, INCLUSO TRANSPORTE VERTICAL. AF_06/2016",94229,"M",null,1,null,null,{"$f":"IFERROR(VLOOKUP(D2141,$D$7:$J$7,6,0),0)","v":0},null,{"$f":"G2141*J2141","v":0}]
[]
[]
[null,null,"EQUIPAMENTO .............................................................................................................................................................................................................................",{"$nulls":7},"SUB-TOTAL (2) = ",{"$f":"SUM(L2146:L2147)","v":0}]
[null,null,"DISCRIMINAÇÃO","SINAPI","UNID",null,"QTDE","PROD","IMPROD","P.UNIT. PROD","P.UNIT. IMPR","P.TOTAL"]
[{"$nulls":11},{"$f":"G2146*J2146","v":0}]
[{"$nulls":11},{"$f":"G2147*J2147","v":0}]
[]
[null,null,"MATERIAL ........................................................................................................................................................................................................................................",{"$nulls":7},"SUB-TOTAL (3) = ",{"$f":"SUM(L2151:L2152)","v":0}]
[null,null,"DISCRIMINAÇÃO","SINAPI","UNID",null,"QTDE","PROD","IMPROD","P.UNIT. PROD","P.UNIT. IMPR","P.TOTAL"]
[{"$nulls":11},{"$f":"G2151*J2151","v":0}]
[{"$nulls":11},{"$f":"G2152*J2152","v":0}]
[]
[null,null,"MÃO DE OBRA .................................................................................................................................................................................................................................",{"$nulls":7},"SUB-TOTAL (4) = ",{"$f":"SUM(L2156:L2157)","v":0}]
[null,null,"DISCRIMINAÇÃO","SINAPI","UNID",null,"QTDE","PROD","IMPROD","P.UNIT. PROD","P.UNIT. IMPR","P.TOTAL"]
[{"$nulls":11},{"$f":"G2156*J2156","v":0}]
[{"$nulls":11},{"$f":"G2157*J2157","v":0}]
[]
[null,null,"OBSERVAÇÕES:","PROD DA EQUIPE =",null,null,1,null,null,null,"CUSTO (SUB-TOTAL 1 + 2 + 3 + 4) = ",{"$f":"L2154+L2149+L2139+L2144","v":0}]
[null,null,null,"RESP. TÉCNICO:",{"$nulls":6},"TOTAL - R$ = ",{"$f":"L2159/G2159","v":0}]
[{"$nulls":10},"BDI (%) = ",{"$f":"$I$3","v":0.2101044698987744}]
[{"$nulls":10},"TOTAL DO SERVIÇO - R$ = ",{"$f":"L2160*L2161+L2160","v":0}]
[]
[null,null,{"$f":"C2168","v":"SERVIÇO: CORTE E DOBRA DE AÇO CA-50"},{"$f":"I2168","v":"CAC-070"},{"$f":"L2168","v":"KG"},null,null,null,"P. Unit.=",{"$f":"L2191","v":0},{"$f":"$C$5","v":"SINAPI:Abril/2020 (Alagoas/AL) - NÃO DESONERADO"}]
[null,null," COMPOSIÇÃO ANALÍTICA DE CUSTO"]
[]
[null,null,"OBRA: ",{"$nulls":4},"CODEVASF",null,null,"DATA: ANO 2017"]
[null,null,"SERVIÇO: CORTE E DOBRA DE AÇO CA-50",{"$nulls":4},"COD: ","CAC-070",null,"UNIDADE: ","KG"]
[]
[null,null,"SERVIÇOS - COMPOSIÇÕES AUXILIARES ............................................................................................................................................................................",{"$nulls":7},"SUB-TOTAL (1) = ",{"$f":"SUM(L2172:L2173)","v":0}]
[null,null,"DISCRIMINAÇÃO","SINAPI","UNID",null,"QTDE","PROD","IMPROD","P.UNIT. PROD","P.UNIT. IMPR","P.TOTAL"]
[null,null,"CORTE E DOBRA DE AÇO CA-50, DIÂMETRO DE 10,0 MM, UTILIZADO EM ESTRUTURAS DIVERSAS, EXCETO LAJES. AF_12/2015",92794,"KG",null,1,null,null,{"$f":"IFERROR(VLOOKUP(D2172,$D$7:$J$7,6,0),0)","v":0},null,{"$f":"G2172*J2172","v":0}]
[{"$nulls":9},{"$f":"IFERROR(VLOOKUP(D2173,$D$7:$J$7,6,0),0)","v":0},null,{"$f":"G2173*J2173","v":0}]
[]
[null,null,"EQUIPAMENTO .............................................................................................................................................................................................................................",{"$nulls":7},"SUB-TOTAL (2) = ",{"$f":"SUM(L2177:L2178)","v":0}]
[null,null,"DISCRIMINAÇÃO","SINAPI","UNID",null,"QTDE","PROD","IMPROD","P.UNIT. PROD","P.UNIT. IMPR","P.TOTAL"]
[{"$nulls":11},{"$f":"G2177*J2177","v":0}]
[{"$nulls":11},{"$f":"G2178*J2178","v":0}]
[]
[null,null,"MATERIAL ........................................................................................................................................................................................................................................",{"$nulls":7},"SUB-TOTAL (3) = ",{"$f":"SUM(L2182:L2183)","v":0}]
[null,null,"DISCRIMINAÇÃO","SINAPI","UNID",null,"QTDE","PROD","IMPROD","P.UNIT. PROD","P.UNIT. IMPR","P.TOTAL"]
[{"$nulls":11},{"$f":"G2182*J2182","v":0}]
[{"$nulls":11},{"$f":"G2183*J2183","v":0}]
[]
[null,null,"MÃO DE OBRA .................................................................................................................................................................................................................................",{"$nulls":7},"SUB-TOTAL (4) = ",{"$f":"SUM(L2187:L2188)","v":0}]
[null,null,"DISCRIMINAÇÃO","SINAPI","UNID",null,"QTDE","PROD","IMPROD","P.UNIT. PROD","P.UNIT. IMPR","P.TOTAL"]
[{"$nulls":11},{"$f":"G2187*J2187","v":0}]
[{"$nulls":11},{"$f":"G2188*J2188","v":0}]
[]
[null,null,"OBSERVAÇÕES:","PROD DA EQUIPE =",null,null,1,null,null,null,"CUSTO (SUB-TOTAL 1 + 2 + 3 + 4) = ",{"$f":"L2185+L2180+L2170+L2175","v":0}]
[null,null,null,"RESP. TÉCNICO:",{"$nulls":6},"TOTAL - R$ = ",{"$f":"L2190/G2190","v":0}]
[{"$nulls":10},"BDI (%) = ",{"$f":"$I$3","v":0.2101044698987744}]
[{"$nulls":10},"TOTAL DO SERVIÇO - R$ = ",{"$f":"L2191*L2192+L2191","v":0}]
[]
[null,null,{"$f":"C2199","v":"SERVIÇO: FORMA PARA PILARES"},{"$f":"I2199","v":"CAC-071"},{"$f":"L2199","v":"M2"},null,null,null,"P. Unit.=",{"$f":"L2222","v":0},{"$f":"$C$5","v":"SINAPI:Abril/2020 (Alagoas/AL) - NÃO DESONERADO"}]
[null,null," COMPOSIÇÃO ANALÍTICA DE CUSTO"]
[]
[null,null,"OBRA: ",{"$nulls":4},"CODEVASF",null,null,"DATA: ANO 2017"]
[null,null,"SERVIÇO: FORMA PARA PILARES",{"$nulls":4},"COD: ","CAC-071",null,"UNIDADE: ","M2"]
[]
[null,null,"SERVIÇOS - COMPOSIÇÕES AUXILIARES ............................................................................................................................................................................",{"$nulls":7},"SUB-TOTAL (1) = ",{"$f":"SUM(L2203:L2204)","v":0}]
[null,null,"DISCRIMINAÇÃO","SINAPI","UNID",null,"QTDE","PROD","IMPROD","P.UNIT. PROD","P.UNIT. IMPR","P.TOTAL"]
[null,null,"FABRICAÇÃO DE FÔRMA PARA PILARES E ESTRUTURAS SIMILARES, EM CHAPA DE MADEIRA COMPENSADA RESINADA, E = 17 MM. AF_12/2015",92263,"M2",null,1,null,null,{"$f":"IFERROR(VLOOKUP(D2203,$D$7:$J$7,6,0),0)","v":0},null,{"$f":"G2203*J2203","v":0}]
[null,null,"MONTAGEM E DESMONTAGEM DE FÔRMA DE PILARES RETANGULARES E ESTRUTURAS SIMILARES COM ÁREA MÉDIA DAS SEÇÕES MAIOR QUE 0,25 M², PÉ-DIREITO SIMPLES, EM CHAPA DE MADEIRA COMPENSADA RESINADA, 2 UTILIZAÇÕES. AF_12/2015",92415,"M2",null,1,null,null,{"$f":"IFERROR(VLOOKUP(D2204,$D$7:$J$7,6,0),0)","v":0},null,{"$f":"G2204*J2204","v":0}]
[]
[null,null,"EQUIPAMENTO .............................................................................................................................................................................................................................",{"$nulls":7},"SUB-TOTAL (2) = ",{"$f":"SUM(L2208:L2209)","v":0}]
[null,null,"DISCRIMINAÇÃO","SINAPI","UNID",null,"QTDE","PROD","IMPROD","P.UNIT. PROD","P.UNIT. IMPR","P.TOTAL"]
[{"$nulls":11},{"$f":"G2208*J2208","v":0}]
[{"$nulls":11},{"$f":"G2209*J2209","v":0}]
[]
[null,null,"MATERIAL ........................................................................................................................................................................................................................................",{"$nulls":7},"SUB-TOTAL (3) = ",{"$f":"SUM(L2213:L2214)","v":0}]
[null,null,"DISCRIMINAÇÃO","SINAPI","UNID",null,"QTDE","PROD","IMPROD","P.UNIT. PROD","P.UNIT. IMPR","P.TOTAL"]
[{"$nulls":11},{"$f":"G2213*J2213","v":0}]
[{"$nulls":11},{"$f":"G2214*J2214","v":0}]
[]
[null,null,"MÃO DE OBRA .................................................................................................................................................................................................................................",{"$nulls":7},"SUB-TOTAL (4) = ",{"$f":"SUM(L2218:L2219)","v":0}]
[null,null,"DISCRIMINAÇÃO","SINAPI","UNID",null,"QTDE","PROD","IMPROD","P.UNIT. PROD","P.UNIT. IMPR","P.TOTAL"]
[{"$nulls":11},{"$f":"G2218*J2218","v":0}]
[{"$nulls":11},{"$f":"G2219*J2219","v":0}]
[]
[null,null,"OBSERVAÇÕES:","PROD DA EQUIPE =",null,null,1,null,null,null,"CUSTO (SUB-TOTAL 1 + 2 + 3 + 4) = ",{"$f":"L2216+L2211+L2201+L2206","v":0}]
[null,null,null,"RESP. TÉCNICO:",{"$nulls":6},"TOTAL - R$ = ",{"$f":"L2221/G2221","v":0}]
[{"$nulls":10},"BDI (%) = ",{"$f":"$I$3","v":0.2101044698987744}]
[{"$nulls":10},"TOTAL DO SERVIÇO - R$ = ",{"$f":"L2222*L2223+L2222","v":0}]
[]
[null,null,{"$f":"C2230","v":"SERVIÇO: ESCAVAÇÃO, CARGA E ESPALHAMENTO DE MATERIAL DE 1A CATEGORIA"},{"$f":"I2230","v":"CAC-072"},{"$f":"L2230","v":"M2"},null,null,null,"P. Unit.=",{"$f":"L2253","v":0},{"$f":"$C$5","v":"SINAPI:Abril/2020 (Alagoas/AL) - NÃO DESONERADO"}]
[null,null," COMPOSIÇÃO ANALÍTICA DE CUSTO"]
[]
[null,null,"OBRA: ",{"$nulls":4},"CODEVASF",null,null,"DATA: ANO 2017"]
[null,null,"SERVIÇO: ESCAVAÇÃO, CARGA E ESPALHAMENTO DE MATERIAL DE 1A CATEGORIA",{"$nulls":4},"COD: ","CAC-072",null,"UNIDADE: ","M2"]
[]
[null,null,"SERVIÇOS - COMPOSIÇÕES AUXILIARES ............................................................................................................................................................................",{"$nulls":7},"SUB-TOTAL (1) = ",{"$f":"SUM(L2234:L2235)","v":0}]
[null,null,"DISCRIMINAÇÃO","SINAPI","UNID",null,"QTDE","PROD","IMPROD","P.UNIT. PROD","P.UNIT. IMPR","P.TOTAL"]
[null,null,"ESCAVACAO E CARGA MATERIAL 1A CATEGORIA, UTILIZANDO TRATOR DE ESTEIRAS DE 110 A 160 HP COM LAMINA, PESO OPERACIONAL 13 T E PA CARREGADEIRA COM 170HP","74151/001","M2",null,1,null,null,{"$f":"IFERROR(VLOOKUP(D2234,$D$7:$J$7,6,0),0)","v":0},null,{"$f":"G2234*J2234","v":0}]
[null,null,"ESPALHAMENTO DE MATERIAL DE 1A CATEGORIA COM TRATOR DE ESTEIRA COM 153 HP","74034/001","M2",null,1,null,null,{"$f":"IFERROR(VLOOKUP(D2235,$D$7:$J$7,6,0),0)","v":0},null,{"$f":"G2235*J2235","v":0}]
[]
[null,null,"EQUIPAMENTO .............................................................................................................................................................................................................................",{"$nulls":7},"SUB-TOTAL (2) = ",{"$f":"SUM(L2239:L2240)","v":0}]
[null,null,"DISCRIMINAÇÃO","SINAPI","UNID",null,"QTDE","PROD","IMPROD","P.UNIT. PROD","P.UNIT. IMPR","P.TOTAL"]
[{"$nulls":11},{"$f":"G2239*J2239","v":0}]
[{"$nulls":11},{"$f":"G2240*J2240","v":0}]
[]
[null,null,"MATERIAL ........................................................................................................................................................................................................................................",{"$nulls":7},"SUB-TOTAL (3) = ",{"$f":"SUM(L2244:L2245)","v":0}]
[null,null,"DISCRIMINAÇÃO","SINAPI","UNID",null,"QTDE","PROD","IMPROD","P.UNIT. PROD","P.UNIT. IMPR","P.TOTAL"]
[{"$nulls":11},{"$f":"G2244*J2244","v":0}]
[{"$nulls":11},{"$f":"G2245*J2245","v":0}]
[]
[null,null,"MÃO DE OBRA .................................................................................................................................................................................................................................",{"$nulls":7},"SUB-TOTAL (4) = ",{"$f":"SUM(L2249:L2250)","v":0}]
[null,null,"DISCRIMINAÇÃO","SINAPI","UNID",null,"QTDE","PROD","IMPROD","P.UNIT. PROD","P.UNIT. IMPR","P.TOTAL"]
[{"$nulls":11},{"$f":"G2249*J2249","v":0}]
[{"$nulls":11},{"$f":"G2250*J2250","v":0}]
[]
[null,null,"OBSERVAÇÕES:","PROD DA EQUIPE =",null,null,1,null,null,null,"CUSTO (SUB-TOTAL 1 + 2 + 3 + 4) = ",{"$f":"L2247+L2242+L2232+L2237","v":0}]
[null,null,null,"RESP. TÉCNICO:",{"$nulls":6},"TOTAL - R$ = ",{"$f":"L2252/G2252","v":0}]
[{"$nulls":10},"BDI (%) = ",{"$f":"$I$3","v":0.2101044698987744}]
[{"$nulls":10},"TOTAL DO SERVIÇO - R$ = ",{"$f":"L2253*L2254+L2253","v":0}]
[]
[null,null,{"$f":"C2261","v":"SERVIÇO: DESASSOREAMENTO DE TUBULAÇÃO CONCRETO DIAMETRO 30 CM"},{"$f":"I2261","v":"CAC-073"},{"$f":"L2261","v":"M2"},null,null,null,"P. Unit.=",{"$f":"L2284","v":0},{"$f":"$C$5","v":"SINAPI:Abril/2020 (Alagoas/AL) - NÃO DESONERADO"}]
[null,null," COMPOSIÇÃO ANALÍTICA DE CUSTO"]
[]
[null,null,"OBRA: ",{"$nulls":4},"CODEVASF",null,null,"DATA: ANO 2017"]
[null,null,"SERVIÇO: DESASSOREAMENTO DE TUBULAÇÃO CONCRETO DIAMETRO 30 CM",{"$nulls":4},"COD: ","CAC-073",null,"UNIDADE: ","M2"]
[]
[null,null,"SERVIÇOS - COMPOSIÇÕES AUXILIARES ............................................................................................................................................................................",{"$nulls":7},"SUB-TOTAL (1) = ",{"$f":"SUM(L2265:L2266)","v":0}]
[null,null,"DISCRIMINAÇÃO","SINAPI","UNID",null,"QTDE","PROD","IMPROD","P.UNIT. PROD","P.UNIT. IMPR","P.TOTAL"]
[{"$nulls":11},{"$f":"G2265*J2265","v":0}]
[{"$nulls":11},{"$f":"G2266*J2266","v":0}]
[]
[null,null,"EQUIPAMENTO .............................................................................................................................................................................................................................",{"$nulls":7},"SUB-TOTAL (2) = ",{"$f":"SUM(L2270:L2271)","v":0}]
[null,null,"DISCRIMINAÇÃO","SINAPI","UNID",null,"QTDE","PROD","IMPROD","P.UNIT. PROD","P.UNIT. IMPR","P.TOTAL"]
[{"$nulls":11},{"$f":"G2270*J2270","v":0}]
[{"$nulls":11},{"$f":"G2271*J2271","v":0}]
[]
[null,null,"MATERIAL ........................................................................................................................................................................................................................................",{"$nulls":7},"SUB-TOTAL (3) = ",{"$f":"SUM(L2275:L2276)","v":0}]
[null,null,"DISCRIMINAÇÃO","SINAPI","UNID",null,"QTDE","PROD","IMPROD","P.UNIT. PROD","P.UNIT. IMPR","P.TOTAL"]
[{"$nulls":11},{"$f":"G2275*J2275","v":0}]
[{"$nulls":11},{"$f":"G2276*J2276","v":0}]
[]
[null,null,"MÃO DE OBRA .................................................................................................................................................................................................................................",{"$nulls":7},"SUB-TOTAL (4) = ",{"$f":"SUM(L2280:L2281)","v":0}]
[null,null,"DISCRIMINAÇÃO","SINAPI","UNID",null,"QTDE","PROD","IMPROD","P.UNIT. PROD","P.UNIT. IMPR","P.TOTAL"]
[null,null,"SERVENTE",6111,"H",null,1,null,null,{"$f":"IFERROR(VLOOKUP(D2280,$D$7:$J$7,6,0),0)","v":0},null,{"$f":"G2280*J2280","v":0}]
[{"$nulls":11},{"$f":"G2281*J2281","v":0}]
[]
[null,null,"OBSERVAÇÕES:","PROD DA EQUIPE =",null,null,1,null,null,null,"CUSTO (SUB-TOTAL 1 + 2 + 3 + 4) = ",{"$f":"L2278+L2273+L2263+L2268","v":0}]
[null,null,null,"RESP. TÉCNICO:",{"$nulls":6},"TOTAL - R$ = ",{"$f":"L2283/G2283","v":0}]
[{"$nulls":10},"BDI (%) = ",{"$f":"$I$3","v":0.2101044698987744}]
[{"$nulls":10},"TOTAL DO SERVIÇO - R$ = ",{"$f":"L2284*L2285+L2284","v":0}]
[]
[null,null,{"$f":"C2292","v":"SERVIÇO: ESGOTAMENTO COM MOTO-BOMBA AUTOESCOVANTE"},{"$f":"I2292","v":"CAC-074"},{"$f":"L2292","v":"H"},null,null,null,"P. Unit.=",{"$f":"L2315","v":0},{"$f":"$C$5","v":"SINAPI:Abril/2020 (Alagoas/AL) - NÃO DESONERADO"}]
[null,null," COMPOSIÇÃO ANALÍTICA DE CUSTO"]
[]
[null,null,"OBRA: ",{"$nulls":4},"CODEVASF",null,null,"DATA: ANO 2017"]
[null,null,"SERVIÇO: ESGOTAMENTO COM MOTO-BOMBA AUTOESCOVANTE",{"$nulls":4},"COD: ","CAC-074",null,"UNIDADE: ","H"]
[]
[null,null,"SERVIÇOS - COMPOSIÇÕES AUXILIARES ............................................................................................................................................................................",{"$nulls":7},"SUB-TOTAL (1) = ",{"$f":"SUM(L2296:L2297)","v":0}]
[null,null,"DISCRIMINAÇÃO","SINAPI","UNID",null,"QTDE","PROD","IMPROD","P.UNIT. PROD","P.UNIT. IMPR","P.TOTAL"]
[null,null,"ESGOTAMENTO COM MOTO-BOMBA AUTOESCOVANTE","73891/001","H",null,1,null,null,{"$f":"IFERROR(VLOOKUP(D2296,$D$7:$J$7,6,0),0)","v":0},null,{"$f":"G2296*J2296","v":0}]
[{"$nulls":11},{"$f":"G2297*J2297","v":0}]
[]
[null,null,"EQUIPAMENTO .............................................................................................................................................................................................................................",{"$nulls":7},"SUB-TOTAL (2) = ",{"$f":"SUM(L2301:L2302)","v":0}]
[null,null,"DISCRIMINAÇÃO","SINAPI","UNID",null,"QTDE","PROD","IMPROD","P.UNIT. PROD","P.UNIT. IMPR","P.TOTAL"]
[{"$nulls":11},{"$f":"G2301*J2301","v":0}]
[{"$nulls":11},{"$f":"G2302*J2302","v":0}]
[]
[null,null,"MATERIAL ........................................................................................................................................................................................................................................",{"$nulls":7},"SUB-TOTAL (3) = ",{"$f":"SUM(L2306:L2307)","v":0}]
[null,null,"DISCRIMINAÇÃO","SINAPI","UNID",null,"QTDE","PROD","IMPROD","P.UNIT. PROD","P.UNIT. IMPR","P.TOTAL"]
[{"$nulls":11},{"$f":"G2306*J2306","v":0}]
[{"$nulls":11},{"$f":"G2307*J2307","v":0}]
[]
[null,null,"MÃO DE OBRA .................................................................................................................................................................................................................................",{"$nulls":7},"SUB-TOTAL (4) = ",{"$f":"SUM(L2311:L2312)","v":0}]
[null,null,"DISCRIMINAÇÃO","SINAPI","UNID",null,"QTDE","PROD","IMPROD","P.UNIT. PROD","P.UNIT. IMPR","P.TOTAL"]
[{"$nulls":11},{"$f":"G2311*J2296","v":0}]
[{"$nulls":11},{"$f":"G2312*J2312","v":0}]
[]
[null,null,"OBSERVAÇÕES:","PROD DA EQUIPE =",null,null,1,null,null,null,"CUSTO (SUB-TOTAL 1 + 2 + 3 + 4) = ",{"$f":"L2309+L2304+L2294+L2299","v":0}]
[null,null,null,"RESP. TÉCNICO:",{"$nulls":6},"TOTAL - R$ = ",{"$f":"L2314/G2314","v":0}]
[{"$nulls":10},"BDI (%) = ",{"$f":"$I$3","v":0.2101044698987744}]
[{"$nulls":10},"TOTAL DO SERVIÇO - R$ = ",{"$f":"L2315*L2316+L2315","v":0}]
[]
[null,null,{"$f":"C2323","v":"SERVIÇO: LIMPEZA DA SUPERFICIE DO CONCRETO E APLICAÇÃO DE ARGAMASSA COLANTE DE PROTEÇÃO PARA CONCRETO"},{"$f":"I2323","v":"CAC-075"},{"$f":"L2323","v":"M2"},null,null,null,"P. Unit.=",{"$f":"L2348","v":0},{"$f":"$C$5","v":"SINAPI:Abril/2020 (Alagoas/AL) - NÃO DESONERADO"}]
[null,null," COMPOSIÇÃO ANALÍTICA DE CUSTO"]
[]
[null,null,"OBRA: ",{"$nulls":4},"CODEVASF",null,null,"DATA: ANO 2017"]
[null,null,"SERVIÇO: LIMPEZA DA SUPERFICIE DO CONCRETO E APLICAÇÃO DE ARGAMASSA COLANTE DE PROTEÇÃO PARA CONCRETO",{"$nulls":4},"COD: ","CAC-075",null,"UNIDADE: ","M2"]
[]
[null,null,"SERVIÇOS - COMPOSIÇÕES AUXILIARES ............................................................................................................................................................................",{"$nulls":7},"SUB-TOTAL (1) = ",{"$f":"SUM(L2327:L2328)","v":0}]
[null,null,"DISCRIMINAÇÃO","SINAPI","UNID",null,"QTDE","PROD","IMPROD","P.UNIT. PROD","P.UNIT. IMPR","P.TOTAL"]
[{"$nulls":11},{"$f":"G2327*J2327","v":0}]
[{"$nulls":11},{"$f":"G2328*J2328","v":0}]
[]
[null,null,"EQUIPAMENTO .............................................................................................................................................................................................................................",{"$nulls":7},"SUB-TOTAL (2) = ",{"$f":"SUM(L2332:L2333)","v":0}]
[null,null,"DISCRIMINAÇÃO","SINAPI","UNID",null,"QTDE","PROD","IMPROD","P.UNIT. PROD","P.UNIT. IMPR","P.TOTAL"]
[{"$nulls":11},{"$f":"G2332*J2332","v":0}]
[{"$nulls":11},{"$f":"G2333*J2333","v":0}]
[]
[null,null,"MATERIAL ........................................................................................................................................................................................................................................",{"$nulls":7},"SUB-TOTAL (3) = ",{"$f":"SUM(L2337:L2339)","v":0}]
[null,null,"DISCRIMINAÇÃO","SINAPI","UNID",null,"QTDE","PROD","IMPROD","P.UNIT. PROD","P.UNIT. IMPR","P.TOTAL"]
[null,null,"ARGAMASSA COLANTE TIPO ACIII",37595,"KG",null,5,null,null,{"$f":"IFERROR(VLOOKUP(D2337,$D$7:$J$7,6,0),0)","v":0},null,{"$f":"G2337*J2337","v":0}]
[null,null,"ACIDO MURIATICO, DILUICAO 10% A 12% PARA USO EM LIMPEZA",3,"L",null,0.5,null,null,{"$f":"IFERROR(VLOOKUP(D2338,$D$7:$J$7,6,0),0)","v":0},null,{"$f":"G2338*J2338","v":0}]
[{"$nulls":11},{"$f":"G2339*J2339","v":0}]
[]
[null,null,"MÃO DE OBRA .................................................................................................................................................................................................................................",{"$nulls":7},"SUB-TOTAL (4) = ",{"$f":"SUM(L2343:L2345)","v":0}]
[null,null,"DISCRIMINAÇÃO","SINAPI","UNID",null,"QTDE","PROD","IMPROD","P.UNIT. PROD","P.UNIT. IMPR","P.TOTAL"]
[null,null,"PEDREIRO COM ENCARGOS COMPLEMENTARES",88309,"H",null,0.35,null,null,{"$f":"IFERROR(VLOOKUP(D2343,$D$7:$J$7,6,0),0)","v":0},null,{"$f":"G2343*J2343","v":0}]
[null,null,"SERVENTE COM ENCARGOS COMPLEMENTARES",88316,"H",null,0.4,null,null,{"$f":"IFERROR(VLOOKUP(D2344,$D$7:$J$7,6,0),0)","v":0},null,{"$f":"G2344*J2344","v":0}]
[{"$nulls":11},{"$f":"G2345*J2345","v":0}]
[]
[null,null,"OBSERVAÇÕES:","PROD DA EQUIPE =",null,null,1,null,null,null,"CUSTO (SUB-TOTAL 1 + 2 + 3 + 4) = ",{"$f":"L2341+L2335+L2325+L2330","v":0}]
[null,null,null,"RESP. TÉCNICO:",{"$nulls":6},"TOTAL - R$ = ",{"$f":"L2347/G2347","v":0}]
[{"$nulls":10},"BDI (%) = ",{"$f":"$I$3","v":0.2101044698987744}]
[{"$nulls":10},"TOTAL DO SERVIÇO - R$ = ",{"$f":"L2348*L2349+L2348","v":0}]
[]
[null,null,{"$f":"C2356","v":"SERVIÇO: FORNECIMENTO E INSTALAÇÃO DE CANTONEIRAS METÁLICAS PARA CANTOS DAS RANHURAS"},{"$f":"I2356","v":"CAC-076"},{"$f":"L2356","v":"M"},null,null,null,"P. Unit.=",{"$f":"L2381","v":0},{"$f":"$C$5","v":"SINAPI:Abril/2020 (Alagoas/AL) - NÃO DESONERADO"}]
[null,null," COMPOSIÇÃO ANALÍTICA DE CUSTO"]
[]
[null,null,"OBRA: ",{"$nulls":4},"CODEVASF",null,null,"DATA: ANO 2017"]
[null,null,"SERVIÇO: FORNECIMENTO E INSTALAÇÃO DE CANTONEIRAS METÁLICAS PARA CANTOS DAS RANHURAS",{"$nulls":4},"COD: ","CAC-076",null,"UNIDADE: ","M"]
[]
[null,null,"SERVIÇOS - COMPOSIÇÕES AUXILIARES ............................................................................................................................................................................",{"$nulls":7},"SUB-TOTAL (1) = ",{"$f":"SUM(L2360:L2361)","v":0}]
[null,null,"DISCRIMINAÇÃO","SINAPI","UNID",null,"QTDE","PROD","IMPROD","P.UNIT. PROD","P.UNIT. IMPR","P.TOTAL"]
[{"$nulls":11},{"$f":"G2360*J2360","v":0}]
[{"$nulls":11},{"$f":"G2361*J2361","v":0}]
[]
[null,null,"EQUIPAMENTO .............................................................................................................................................................................................................................",{"$nulls":7},"SUB-TOTAL (2) = ",{"$f":"SUM(L2365:L2366)","v":0}]
[null,null,"DISCRIMINAÇÃO","SINAPI","UNID",null,"QTDE","PROD","IMPROD","P.UNIT. PROD","P.UNIT. IMPR","P.TOTAL"]
[{"$nulls":11},{"$f":"G2365*J2365","v":0}]
[{"$nulls":11},{"$f":"G2366*J2366","v":0}]
[]
[null,null,"MATERIAL ........................................................................................................................................................................................................................................",{"$nulls":7},"SUB-TOTAL (3) = ",{"$f":"SUM(L2370:L2372)","v":0}]
[null,null,"DISCRIMINAÇÃO","SINAPI","UNID",null,"QTDE","PROD","IMPROD","P.UNIT. PROD","P.UNIT. IMPR","P.TOTAL"]
[null,null,"CANTONEIRA ACO ABAS IGUAIS (QUALQUER BITOLA), ESPESSURA ENTRE 1/8\" E 1/4\"",4777,"KG",null,1.83,null,null,{"$f":"IFERROR(VLOOKUP(D2370,$D$7:$J$7,6,0),0)","v":0},null,{"$f":"G2370*J2370","v":0}]
[null,null,"PARAFUSO DE ACO TIPO CHUMBADOR PARABOLT, DIAMETRO 3/8\", COMPRIMENTO 75 MM",11964,"UNID",null,4,null,null,{"$f":"IFERROR(VLOOKUP(D2371,$D$7:$J$7,6,0),0)","v":0},null,{"$f":"G2371*J2371","v":0}]
[{"$nulls":11},{"$f":"G2372*J2372","v":0}]
[]
[null,null,"MÃO DE OBRA .................................................................................................................................................................................................................................",{"$nulls":7},"SUB-TOTAL (4) = ",{"$f":"SUM(L2376:L2378)","v":0}]
[null,null,"DISCRIMINAÇÃO","SINAPI","UNID",null,"QTDE","PROD","IMPROD","P.UNIT. PROD","P.UNIT. IMPR","P.TOTAL"]
[null,null,"PEDREIRO",4750,"H",null,0.5,null,null,{"$f":"IFERROR(VLOOKUP(D2376,$D$7:$J$7,6,0),0)","v":0},null,{"$f":"G2376*J2376","v":0}]
[null,null,"SERVENTE",6111,"H",null,0.5,null,null,{"$f":"IFERROR(VLOOKUP(D2377,$D$7:$J$7,6,0),0)","v":0},null,{"$f":"G2377*J2377","v":0}]
[{"$nulls":11},{"$f":"G2378*J2378","v":0}]
[]
[null,null,"OBSERVAÇÕES:","PROD DA EQUIPE =",null,null,1,null,null,null,"CUSTO (SUB-TOTAL 1 + 2 + 3 + 4) = ",{"$f":"L2374+L2368+L2358+L2363","v":0}]
[null,null,null,"RESP. TÉCNICO:",{"$nulls":6},"TOTAL - R$ = ",{"$f":"L2380/G2380","v":0}]
[{"$nulls":10},"BDI (%) = ",{"$f":"$I$3","v":0.2101044698987744}]
[{"$nulls":10},"TOTAL DO SERVIÇO - R$ = ",{"$f":"L2381*L2382+L2381","v":0}]
[]
[null,null,{"$f":"C2389","v":"SERVIÇO: TELA DE ACO SOLDADA GALVANIZADA/ZINCADA, FIO 1,24 MM, MALHA 25X25 MM, ESTRUTURADA COM BARRA CHATA DE AÇO"},{"$f":"I2389","v":"CAC-077"},{"$f":"L2389","v":"M2"},null,null,null,"P. Unit.=",{"$f":"L2414","v":0},{"$f":"$C$5","v":"SINAPI:Abril/2020 (Alagoas/AL) - NÃO DESONERADO"}]
[null,null," COMPOSIÇÃO ANALÍTICA DE CUSTO"]
[]
[null,null,"OBRA: ",{"$nulls":4},"CODEVASF",null,null,"DATA: ANO 2017"]
[null,null,"SERVIÇO: TELA DE ACO SOLDADA GALVANIZADA/ZINCADA, FIO 1,24 MM, MALHA 25X25 MM, ESTRUTURADA COM BARRA CHATA DE AÇO",{"$nulls":4},"COD: ","CAC-077",null,"UNIDADE: ","M2"]
[]
[null,null,"SERVIÇOS - COMPOSIÇÕES AUXILIARES ............................................................................................................................................................................",{"$nulls":7},"SUB-TOTAL (1) = ",{"$f":"SUM(L2393:L2394)","v":0}]
[null,null,"DISCRIMINAÇÃO","SINAPI","UNID",null,"QTDE","PROD","IMPROD","P.UNIT. PROD","P.UNIT. IMPR","P.TOTAL"]
[{"$nulls":11},{"$f":"G2393*J2393","v":0}]
[{"$nulls":11},{"$f":"G2394*J2394","v":0}]
[]
[null,null,"EQUIPAMENTO .............................................................................................................................................................................................................................",{"$nulls":7},"SUB-TOTAL (2) = ",{"$f":"SUM(L2398:L2399)","v":0}]
[null,null,"DISCRIMINAÇÃO","SINAPI","UNID",null,"QTDE","PROD","IMPROD","P.UNIT. PROD","P.UNIT. IMPR","P.TOTAL"]
[{"$nulls":11},{"$f":"G2398*J2398","v":0}]
[{"$nulls":11},{"$f":"G2399*J2399","v":0}]
[]
[null,null,"MATERIAL ........................................................................................................................................................................................................................................",{"$nulls":7},"SUB-TOTAL (3) = ",{"$f":"SUM(L2403:L2405)","v":0}]
[null,null,"DISCRIMINAÇÃO","SINAPI","UNID",null,"QTDE","PROD","IMPROD","P.UNIT. PROD","P.UNIT. IMPR","P.TOTAL"]
[null,null,"TELA DE ACO SOLDADA GALVANIZADA/ZINCADA PARA ALVENARIA, FIO D = *1,24 MM, MALHA 25X25 MM",37411,"M2",null,1,null,null,{"$f":"IFERROR(VLOOKUP(D2403,$D$7:$J$7,6,0),0)","v":0},null,{"$f":"G2403*J2403","v":0}]
[null,null,"BARRA DE FERRO RETANGULAR, BARRA CHATA (QUALQUER DIMENSAO)",546,"KG",null,5,null,null,{"$f":"IFERROR(VLOOKUP(D2404,$D$7:$J$7,6,0),0)","v":0},null,{"$f":"G2404*J2404","v":0}]
[{"$nulls":11},{"$f":"G2405*J2405","v":0}]
[]
[null,null,"MÃO DE OBRA .................................................................................................................................................................................................................................",{"$nulls":7},"SUB-TOTAL (4) = ",{"$f":"SUM(L2409:L2411)","v":0}]
[null,null,"DISCRIMINAÇÃO","SINAPI","UNID",null,"QTDE","PROD","IMPROD","P.UNIT. PROD","P.UNIT. IMPR","P.TOTAL"]
[null,null,"SERRALHEIRO COM ENCARGOS COMPLEMENTARES",88315,"H",null,2,null,null,{"$f":"IFERROR(VLOOKUP(D2409,$D$7:$J$7,6,0),0)","v":0},null,{"$f":"G2409*J2409","v":0}]
[null,null,"SERVENTE COM ENCARGOS COMPLEMENTARES",88316,"H",null,2,null,null,{"$f":"IFERROR(VLOOKUP(D2410,$D$7:$J$7,6,0),0)","v":0},null,{"$f":"G2410*J2410","v":0}]
[{"$nulls":11},{"$f":"G2411*J2411","v":0}]
[]
[null,null,"OBSERVAÇÕES:","PROD DA EQUIPE =",null,null,1,null,null,null,"CUSTO (SUB-TOTAL 1 + 2 + 3 + 4) = ",{"$f":"L2407+L2401+L2391+L2396","v":0}]
[null,null,null,"RESP. TÉCNICO:",{"$nulls":6},"TOTAL - R$ = ",{"$f":"L2413/G2413","v":0}]
[{"$nulls":10},"BDI (%) = ",{"$f":"$I$3","v":0.2101044698987744}]
[{"$nulls":10},"TOTAL DO SERVIÇO - R$ = ",{"$f":"L2414*L2415+L2414","v":0}]
[]
[null,null,{"$f":"C2422","v":"SERVIÇO: FORNECIMENTO DE STOP-LOG DE MADEIRA, LARGURA = 1,60 M E ALTURA = 0,20 M E ESPESSURA = 3 CM"},{"$f":"I2422","v":"CAC-078"},{"$f":"L2422","v":"PÇ"},null,null,null,"P. Unit.=",{"$f":"L2446","v":0},{"$f":"$C$5","v":"SINAPI:Abril/2020 (Alagoas/AL) - NÃO DESONERADO"}]
[null,null," COMPOSIÇÃO ANALÍTICA DE CUSTO"]
[]
[null,null,"OBRA: ",{"$nulls":4},"CODEVASF",null,null,"DATA: ANO 2017"]
[null,null,"SERVIÇO: FORNECIMENTO DE STOP-LOG DE MADEIRA, LARGURA = 1,60 M E ALTURA = 0,20 M E ESPESSURA = 3 CM",{"$nulls":4},"COD: ","CAC-078",null,"UNIDADE: ","PÇ"]
[]
[null,null,"SERVIÇOS - COMPOSIÇÕES AUXILIARES ............................................................................................................................................................................",{"$nulls":7},"SUB-TOTAL (1) = ",{"$f":"SUM(L2426:L2427)","v":0}]
[null,null,"DISCRIMINAÇÃO","SINAPI","UNID",null,"QTDE","PROD","IMPROD","P.UNIT. PROD","P.UNIT. IMPR","P.TOTAL"]
[{"$nulls":11},{"$f":"G2426*J2426","v":0}]
[{"$nulls":11},{"$f":"G2427*J2427","v":0}]
[]
[null,null,"EQUIPAMENTO .............................................................................................................................................................................................................................",{"$nulls":7},"SUB-TOTAL (2) = ",{"$f":"SUM(L2431:L2432)","v":0}]
[null,null,"DISCRIMINAÇÃO","SINAPI","UNID",null,"QTDE","PROD","IMPROD","P.UNIT. PROD","P.UNIT. IMPR","P.TOTAL"]
[{"$nulls":11},{"$f":"G2431*J2431","v":0}]
[{"$nulls":11},{"$f":"G2432*J2432","v":0}]
[]
[null,null,"MATERIAL ........................................................................................................................................................................................................................................",{"$nulls":7},"SUB-TOTAL (3) = ",{"$f":"SUM(L2436:L2437)","v":0}]
[null,null,"DISCRIMINAÇÃO","SINAPI","UNID",null,"QTDE","PROD","IMPROD","P.UNIT. PROD","P.UNIT. IMPR","P.TOTAL"]
[null,null,"MADEIRA SERRADA APARELHADA DE MACARANDUBA, ANGELIM OU EQUIVALENTE DA REGIAO",3989,"M3",null,9.6000000000000009E-3,null,null,{"$f":"IFERROR(VLOOKUP(D2436,$D$7:$J$7,6,0),0)","v":0},null,{"$f":"G2436*J2436","v":0}]
[{"$nulls":11},{"$f":"G2437*J2437","v":0}]
[]
[null,null,"MÃO DE OBRA .................................................................................................................................................................................................................................",{"$nulls":7},"SUB-TOTAL (4) = ",{"$f":"SUM(L2441:L2443)","v":0}]
[null,null,"DISCRIMINAÇÃO","SINAPI","UNID",null,"QTDE","PROD","IMPROD","P.UNIT. PROD","P.UNIT. IMPR","P.TOTAL"]
[null,null,"AJUDANTE DE CARPINTEIRO COM ENCARGOS COMPLEMENTARES",88239,"H",null,1,null,null,{"$f":"IFERROR(VLOOKUP(D2441,$D$7:$J$7,6,0),0)","v":0},null,{"$f":"G2441*J2441","v":0}]
[null,null,"CARPINTEIRO DE FORMAS COM ENCARGOS COMPLEMENTARES",88262,"H",null,1,null,null,{"$f":"IFERROR(VLOOKUP(D2442,$D$7:$J$7,6,0),0)","v":0},null,{"$f":"G2442*J2442","v":0}]
[{"$nulls":11},{"$f":"G2443*J2443","v":0}]
[]
[null,null,"OBSERVAÇÕES:","PROD DA EQUIPE =",null,null,1,null,null,null,"CUSTO (SUB-TOTAL 1 + 2 + 3 + 4) = ",{"$f":"L2439+L2434+L2424+L2429","v":0}]
[null,null,null,"RESP. TÉCNICO:",{"$nulls":6},"TOTAL - R$ = ",{"$f":"L2445/G2445","v":0}]
[{"$nulls":10},"BDI (%) = ",{"$f":"$I$3","v":0.2101044698987744}]
[{"$nulls":10},"TOTAL DO SERVIÇO - R$ = ",{"$f":"L2446*L2447+L2446","v":0}]
[]
[null,null,{"$f":"C2454","v":"SERVIÇO: FORNECIMENTO E INSTALAÇÃO DE GRADE METÁLICA, BARRA CHATA 3/16\", ESPAÇAMENTO 20 MM"},{"$f":"I2454","v":"CAC-079"},{"$f":"L2454","v":"M2"},null,null,null,"P. Unit.=",{"$f":"L2476","v":0},{"$f":"$C$5","v":"SINAPI:Abril/2020 (Alagoas/AL) - NÃO DESONERADO"}]
[null,null," COMPOSIÇÃO ANALÍTICA DE CUSTO"]
[]
[null,null,"OBRA: ",{"$nulls":4},"CODEVASF",null,null,"DATA: ANO 2017"]
[null,null,"SERVIÇO: FORNECIMENTO E INSTALAÇÃO DE GRADE METÁLICA, BARRA CHATA 3/16\", ESPAÇAMENTO 20 MM",{"$nulls":4},"COD: ","CAC-079",null,"UNIDADE: ","M2"]
[]
[null,null,"SERVIÇOS - COMPOSIÇÕES AUXILIARES ............................................................................................................................................................................",{"$nulls":7},"SUB-TOTAL (1) = ",{"$f":"SUM(L2458:L2458)","v":0}]
[null,null,"DISCRIMINAÇÃO","SINAPI","UNID",null,"QTDE","PROD","IMPROD","P.UNIT. PROD","P.UNIT. IMPR","P.TOTAL"]
[null,null,"GRADE DE FERRO EM BARRA CHATA 3/16\"","73932/001","M2",null,1,null,null,{"$f":"IFERROR(VLOOKUP(D2458,$D$7:$J$7,6,0),0)","v":0},null,{"$f":"G2458*J2458","v":0}]
[]
[null,null,"EQUIPAMENTO .............................................................................................................................................................................................................................",{"$nulls":7},"SUB-TOTAL (2) = ",{"$f":"SUM(L2462:L2463)","v":0}]
[null,null,"DISCRIMINAÇÃO","SINAPI","UNID",null,"QTDE","PROD","IMPROD","P.UNIT. PROD","P.UNIT. IMPR","P.TOTAL"]
[{"$nulls":11},{"$f":"G2462*J2462","v":0}]
[{"$nulls":11},{"$f":"G2463*J2463","v":0}]
[]
[null,null,"MATERIAL ........................................................................................................................................................................................................................................",{"$nulls":7},"SUB-TOTAL (3) = ",{"$f":"SUM(L2467:L2468)","v":0}]
[null,null,"DISCRIMINAÇÃO","SINAPI","UNID",null,"QTDE","PROD","IMPROD","P.UNIT. PROD","P.UNIT. IMPR","P.TOTAL"]
[{"$nulls":9},{"$f":"IFERROR(VLOOKUP(D2467,$D$7:$J$7,6,0),0)","v":0},null,{"$f":"G2467*J2467","v":0}]
[{"$nulls":9},{"$f":"IFERROR(VLOOKUP(D2468,$D$7:$J$7,6,0),0)","v":0},null,{"$f":"G2468*J2468","v":0}]
[]
[null,null,"MÃO DE OBRA .................................................................................................................................................................................................................................",{"$nulls":7},"SUB-TOTAL (4) = ",{"$f":"SUM(L2472:L2473)","v":0}]
[null,null,"DISCRIMINAÇÃO","SINAPI","UNID",null,"QTDE","PROD","IMPROD","P.UNIT. PROD","P.UNIT. IMPR","P.TOTAL"]
[{"$nulls":9},{"$f":"IFERROR(VLOOKUP(D2472,$D$7:$J$7,6,0),0)","v":0},null,{"$f":"G2472*J2472","v":0}]
[{"$nulls":9},{"$f":"IFERROR(VLOOKUP(D2473,$D$7:$J$7,6,0),0)","v":0},null,{"$f":"G2473*J2473","v":0}]
[]
[null,null,"OBSERVAÇÕES:","PROD DA EQUIPE =",null,null,1,null,null,null,"CUSTO (SUB-TOTAL 1 + 2 + 3 + 4) = ",{"$f":"L2470+L2465+L2456+L2460","v":0}]
[null,null,null,"RESP. TÉCNICO:",{"$nulls":6},"TOTAL - R$ = ",{"$f":"L2475/G2475","v":0}]
[{"$nulls":10},"BDI (%) = ",{"$f":"$I$3","v":0.2101044698987744}]
[{"$nulls":10},"TOTAL DO SERVIÇO - R$ = ",{"$f":"L2476*L2477+L2476","v":0}]
[]
[null,null,{"$f":"C2484","v":"SERVIÇO: FORNECIMENTO E INSTALAÇÃO DE GUIA METÁLICA EM CANTONEIRA PARA ABRIGO DE GRADES"},{"$f":"I2484","v":"CAC-080"},{"$f":"L2484","v":"M"},null,null,null,"P. Unit.=",{"$f":"L2509","v":0},{"$f":"$C$5","v":"SINAPI:Abril/2020 (Alagoas/AL) - NÃO DESONERADO"}]
[null,null," COMPOSIÇÃO ANALÍTICA DE CUSTO"]
[]
[null,null,"OBRA: ",{"$nulls":4},"CODEVASF",null,null,"DATA: ANO 2017"]
[null,null,"SERVIÇO: FORNECIMENTO E INSTALAÇÃO DE GUIA METÁLICA EM CANTONEIRA PARA ABRIGO DE GRADES",{"$nulls":4},"COD: ","CAC-080",null,"UNIDADE: ","M"]
[]
[null,null,"SERVIÇOS - COMPOSIÇÕES AUXILIARES ............................................................................................................................................................................",{"$nulls":7},"SUB-TOTAL (1) = ",{"$f":"SUM(L2488:L2489)","v":0}]
[null,null,"DISCRIMINAÇÃO","SINAPI","UNID",null,"QTDE","PROD","IMPROD","P.UNIT. PROD","P.UNIT. IMPR","P.TOTAL"]
[{"$nulls":11},{"$f":"G2488*J2488","v":0}]
[{"$nulls":11},{"$f":"G2489*J2489","v":0}]
[]
[null,null,"EQUIPAMENTO .............................................................................................................................................................................................................................",{"$nulls":7},"SUB-TOTAL (2) = ",{"$f":"SUM(L2493:L2494)","v":0}]
[null,null,"DISCRIMINAÇÃO","SINAPI","UNID",null,"QTDE","PROD","IMPROD","P.UNIT. PROD","P.UNIT. IMPR","P.TOTAL"]
[{"$nulls":11},{"$f":"G2493*J2493","v":0}]
[{"$nulls":11},{"$f":"G2494*J2494","v":0}]
[]
[null,null,"MATERIAL ........................................................................................................................................................................................................................................",{"$nulls":7},"SUB-TOTAL (3) = ",{"$f":"SUM(L2498:L2500)","v":0}]
[null,null,"DISCRIMINAÇÃO","SINAPI","UNID",null,"QTDE","PROD","IMPROD","P.UNIT. PROD","P.UNIT. IMPR","P.TOTAL"]
[null,null,"CANTONEIRA DE ACO 3 \" X 3 \" X 1/4 \"",4912,"KG",null,{"$f":"7.29*4","v":29.16},null,null,{"$f":"IFERROR(VLOOKUP(D2498,$D$7:$J$7,6,0),0)","v":0},null,{"$f":"G2498*J2498","v":0}]
[null,null,"PARAFUSO DE ACO TIPO CHUMBADOR PARABOLT, DIAMETRO 3/8\", COMPRIMENTO 75 MM",11964,"UNID",null,4,null,null,{"$f":"IFERROR(VLOOKUP(D2499,$D$7:$J$7,6,0),0)","v":0},null,{"$f":"G2499*J2499","v":0}]
[{"$nulls":11},{"$f":"G2500*J2500","v":0}]
[]
[null,null,"MÃO DE OBRA .................................................................................................................................................................................................................................",{"$nulls":7},"SUB-TOTAL (4) = ",{"$f":"SUM(L2504:L2506)","v":0}]
[null,null,"DISCRIMINAÇÃO","SINAPI","UNID",null,"QTDE","PROD","IMPROD","P.UNIT. PROD","P.UNIT. IMPR","P.TOTAL"]
[null,null,"PEDREIRO",4750,"H",null,0.5,null,null,{"$f":"IFERROR(VLOOKUP(D2504,$D$7:$J$7,6,0),0)","v":0},null,{"$f":"G2504*J2504","v":0}]
[null,null,"SERVENTE",6111,"H",null,0.5,null,null,{"$f":"IFERROR(VLOOKUP(D2505,$D$7:$J$7,6,0),0)","v":0},null,{"$f":"G2505*J2505","v":0}]
[{"$nulls":11},{"$f":"G2506*J2506","v":0}]
[]
[null,null,"OBSERVAÇÕES:","PROD DA EQUIPE =",null,null,1,null,null,null,"CUSTO (SUB-TOTAL 1 + 2 + 3 + 4) = ",{"$f":"L2502+L2496+L2486+L2491","v":0}]
[null,null,null,"RESP. TÉCNICO:",{"$nulls":6},"TOTAL - R$ = ",{"$f":"L2508/G2508","v":0}]
[{"$nulls":10},"BDI (%) = ",{"$f":"$I$3","v":0.2101044698987744}]
[{"$nulls":10},"TOTAL DO SERVIÇO - R$ = ",{"$f":"L2509*L2510+L2509","v":0}]
[]
[null,null,{"$f":"C2517","v":"SERVIÇO: FORNECIMENTO E LANÇAMENTO DE PEDRA DE MÃO"},{"$f":"I2517","v":"CAC-081"},{"$f":"L2517","v":"M3"},null,null,null,"P. Unit.=",{"$f":"L2539","v":0},{"$f":"$C$5","v":"SINAPI:Abril/2020 (Alagoas/AL) - NÃO DESONERADO"}]
[null,null," COMPOSIÇÃO ANALÍTICA DE CUSTO"]
[]
[null,null,"OBRA: ",{"$nulls":4},"CODEVASF",null,null,"DATA: ANO 2017"]
[null,null,"SERVIÇO: FORNECIMENTO E LANÇAMENTO DE PEDRA DE MÃO",{"$nulls":4},"COD: ","CAC-081",null,"UNIDADE: ","M3"]
[]
[null,null,"SERVIÇOS - COMPOSIÇÕES AUXILIARES ............................................................................................................................................................................",{"$nulls":7},"SUB-TOTAL (1) = ",{"$f":"SUM(L2521:L2521)","v":0}]
[null,null,"DISCRIMINAÇÃO","SINAPI","UNID",null,"QTDE","PROD","IMPROD","P.UNIT. PROD","P.UNIT. IMPR","P.TOTAL"]
[null,null,"FORNECIMENTO E LANCAMENTO DE PEDRA DE MAO",6454,"M3",null,1,null,null,{"$f":"IFERROR(VLOOKUP(D2521,$D$7:$J$7,6,0),0)","v":0},null,{"$f":"G2521*J2521","v":0}]
[]
[null,null,"EQUIPAMENTO .............................................................................................................................................................................................................................",{"$nulls":7},"SUB-TOTAL (2) = ",{"$f":"SUM(L2525:L2526)","v":0}]
[null,null,"DISCRIMINAÇÃO","SINAPI","UNID",null,"QTDE","PROD","IMPROD","P.UNIT. PROD","P.UNIT. IMPR","P.TOTAL"]
[{"$nulls":11},{"$f":"G2525*J2525","v":0}]
[{"$nulls":11},{"$f":"G2526*J2526","v":0}]
[]
[null,null,"MATERIAL ........................................................................................................................................................................................................................................",{"$nulls":7},"SUB-TOTAL (3) = ",{"$f":"SUM(L2530:L2531)","v":0}]
[null,null,"DISCRIMINAÇÃO","SINAPI","UNID",null,"QTDE","PROD","IMPROD","P.UNIT. PROD","P.UNIT. IMPR","P.TOTAL"]
[{"$nulls":11},{"$f":"G2530*J2530","v":0}]
[{"$nulls":11},{"$f":"G2531*J2531","v":0}]
[]
[null,null,"MÃO DE OBRA .................................................................................................................................................................................................................................",{"$nulls":7},"SUB-TOTAL (4) = ",{"$f":"SUM(L2535:L2536)","v":0}]
[null,null,"DISCRIMINAÇÃO","SINAPI","UNID",null,"QTDE","PROD","IMPROD","P.UNIT. PROD","P.UNIT. IMPR","P.TOTAL"]
[{"$nulls":11},{"$f":"G2535*J2535","v":0}]
[{"$nulls":11},{"$f":"G2536*J2536","v":0}]
[]
[null,null,"OBSERVAÇÕES:","PROD DA EQUIPE =",null,null,1,null,null,null,"CUSTO (SUB-TOTAL 1 + 2 + 3 + 4) = ",{"$f":"L2533+L2528+L2519+L2523","v":0}]
[null,null,null,"RESP. TÉCNICO:",{"$nulls":6},"TOTAL - R$ = ",{"$f":"L2538/G2538","v":0}]
[{"$nulls":10},"BDI (%) = ",{"$f":"$I$3","v":0.2101044698987744}]
[{"$nulls":10},"TOTAL DO SERVIÇO - R$ = ",{"$f":"L2539*L2540+L2539","v":0}]
[]
[null,null,{"$f":"C2547","v":"SERVIÇO: LOCAÇÃO DE OBRA COM GABARITO DE TÁBUAS APROVEITAMENTO 3 VEZES"},{"$f":"I2547","v":"CAC-082"},{"$f":"L2547","v":"M2"},null,null,null,"P. Unit.=",{"$f":"L2569","v":0},{"$f":"$C$5","v":"SINAPI:Abril/2020 (Alagoas/AL) - NÃO DESONERADO"}]
[null,null," COMPOSIÇÃO ANALÍTICA DE CUSTO"]
[]
[null,null,"OBRA: ",{"$nulls":4},"CODEVASF",null,null,"DATA: ANO 2017"]
[null,null,"SERVIÇO: LOCAÇÃO DE OBRA COM GABARITO DE TÁBUAS APROVEITAMENTO 3 VEZES",{"$nulls":4},"COD: ","CAC-082",null,"UNIDADE: ","M2"]
[]
[null,null,"SERVIÇOS - COMPOSIÇÕES AUXILIARES ............................................................................................................................................................................",{"$nulls":7},"SUB-TOTAL (1) = ",{"$f":"SUM(L2551:L2551)","v":0}]
[null,null,"DISCRIMINAÇÃO","SINAPI","UNID",null,"QTDE","PROD","IMPROD","P.UNIT. PROD","P.UNIT. IMPR","P.TOTAL"]
[null,null,"LOCACAO CONVENCIONAL DE OBRA, ATRAVÉS DE GABARITO DE TABUAS CORRIDAS PONTALETADAS, COM REAPROVEITAMENTO DE 3 VEZES","74077/003","M2",null,1,null,null,{"$f":"IFERROR(VLOOKUP(D2551,$D$7:$J$7,6,0),0)","v":0},null,{"$f":"G2551*J2551","v":0}]
[]
[null,null,"EQUIPAMENTO .............................................................................................................................................................................................................................",{"$nulls":7},"SUB-TOTAL (2) = ",{"$f":"SUM(L2555:L2556)","v":0}]
[null,null,"DISCRIMINAÇÃO","SINAPI","UNID",null,"QTDE","PROD","IMPROD","P.UNIT. PROD","P.UNIT. IMPR","P.TOTAL"]
[{"$nulls":11},{"$f":"G2555*J2555","v":0}]
[{"$nulls":11},{"$f":"G2556*J2556","v":0}]
[]
[null,null,"MATERIAL ........................................................................................................................................................................................................................................",{"$nulls":7},"SUB-TOTAL (3) = ",{"$f":"SUM(L2560:L2561)","v":0}]
[null,null,"DISCRIMINAÇÃO","SINAPI","UNID",null,"QTDE","PROD","IMPROD","P.UNIT. PROD","P.UNIT. IMPR","P.TOTAL"]
[{"$nulls":11},{"$f":"G2560*J2560","v":0}]
[{"$nulls":11},{"$f":"G2561*J2561","v":0}]
[]
[null,null,"MÃO DE OBRA .................................................................................................................................................................................................................................",{"$nulls":7},"SUB-TOTAL (4) = ",{"$f":"SUM(L2565:L2566)","v":0}]
[null,null,"DISCRIMINAÇÃO","SINAPI","UNID",null,"QTDE","PROD","IMPROD","P.UNIT. PROD","P.UNIT. IMPR","P.TOTAL"]
[{"$nulls":11},{"$f":"G2565*J2565","v":0}]
[{"$nulls":11},{"$f":"G2566*J2566","v":0}]
[]
[null,null,"OBSERVAÇÕES:","PROD DA EQUIPE =",null,null,1,null,null,null,"CUSTO (SUB-TOTAL 1 + 2 + 3 + 4) = ",{"$f":"L2563+L2558+L2549+L2553","v":0}]
[null,null,null,"RESP. TÉCNICO:",{"$nulls":6},"TOTAL - R$ = ",{"$f":"L2568/G2568","v":0}]
[{"$nulls":10},"BDI (%) = ",{"$f":"$I$3","v":0.2101044698987744}]
[{"$nulls":10},"TOTAL DO SERVIÇO - R$ = ",{"$f":"L2569*L2570+L2569","v":0}]
[]
[null,null,{"$f":"C2577","v":"SERVIÇO: TUBO PVC PARA CALHA"},{"$f":"I2577","v":"CAC-083"},{"$f":"L2577","v":"M"},null,null,null,"P. Unit.=",{"$f":"L2600","v":0},{"$f":"$C$5","v":"SINAPI:Abril/2020 (Alagoas/AL) - NÃO DESONERADO"}]
[null,null," COMPOSIÇÃO ANALÍTICA DE CUSTO"]
[]
[null,null,"OBRA: ",{"$nulls":4},"CODEVASF",null,null,"DATA: ANO 2017"]
[null,null,"SERVIÇO: TUBO PVC PARA CALHA",{"$nulls":4},"COD: ","CAC-083",null,"UNIDADE: ","M"]
[]
[null,null,"SERVIÇOS - COMPOSIÇÕES AUXILIARES ............................................................................................................................................................................",{"$nulls":7},"SUB-TOTAL (1) = ",{"$f":"SUM(L2581:L2582)","v":0}]
[null,null,"DISCRIMINAÇÃO","SINAPI","UNID",null,"QTDE","PROD","IMPROD","P.UNIT. PROD","P.UNIT. IMPR","P.TOTAL"]
[null,null,"TUBO DE PVC PARA REDE COLETORA DE ESGOTO DE PAREDE MACIÇA, DN 200 MM, JUNTA ELÁSTICA, INSTALADO EM LOCAL COM NÍVEL BAIXO DE INTERFERÊNCIAS - FORNECIMENTO E ASSENTAMENTO. AF_06/2015",90696,"M",null,1,null,null,{"$f":"IFERROR(VLOOKUP(D2581,$D$7:$J$7,6,0),0)","v":0},null,{"$f":"G2581*J2581","v":0}]
[]
[]
[null,null,"EQUIPAMENTO .............................................................................................................................................................................................................................",{"$nulls":7},"SUB-TOTAL (2) = ",{"$f":"SUM(L2586:L2587)","v":0}]
[null,null,"DISCRIMINAÇÃO","SINAPI","UNID",null,"QTDE","PROD","IMPROD","P.UNIT. PROD","P.UNIT. IMPR","P.TOTAL"]
[{"$nulls":11},{"$f":"G2586*J2586","v":0}]
[{"$nulls":11},{"$f":"G2587*J2587","v":0}]
[]
[null,null,"MATERIAL ........................................................................................................................................................................................................................................",{"$nulls":7},"SUB-TOTAL (3) = ",{"$f":"SUM(L2591:L2592)","v":0}]
[null,null,"DISCRIMINAÇÃO","SINAPI","UNID",null,"QTDE","PROD","IMPROD","P.UNIT. PROD","P.UNIT. IMPR","P.TOTAL"]
[{"$nulls":11},{"$f":"G2591*J2591","v":0}]
[{"$nulls":11},{"$f":"G2592*J2592","v":0}]
[]
[null,null,"MÃO DE OBRA .................................................................................................................................................................................................................................",{"$nulls":7},"SUB-TOTAL (4) = ",{"$f":"SUM(L2596:L2597)","v":0}]
[null,null,"DISCRIMINAÇÃO","SINAPI","UNID",null,"QTDE","PROD","IMPROD","P.UNIT. PROD","P.UNIT. IMPR","P.TOTAL"]
[{"$nulls":11},{"$f":"G2596*J2596","v":0}]
[{"$nulls":11},{"$f":"G2597*J2597","v":0}]
[]
[null,null,"OBSERVAÇÕES:","PROD DA EQUIPE =",null,null,1,null,null,null,"CUSTO (SUB-TOTAL 1 + 2 + 3 + 4) = ",{"$f":"L2594+L2589+L2579+L2584","v":0}]
[null,null,null,"RESP. TÉCNICO:",{"$nulls":6},"TOTAL - R$ = ",{"$f":"L2599/G2599","v":0}]
[{"$nulls":10},"BDI (%) = ",{"$f":"$I$3","v":0.2101044698987744}]
[{"$nulls":10},"TOTAL DO SERVIÇO - R$ = ",{"$f":"L2600*L2601+L2600","v":0}]
[]
[null,null,{"$f":"C2608","v":"SERVIÇO: CORTE E DOBRA DE AÇO CA-50, DIÂMETRO DE 10,0 MM, UTILIZADO EM LAJE."},{"$f":"I2608","v":"CAC-084"},{"$f":"L2608","v":"KG"},null,null,null,"P. Unit.=",{"$f":"L2631","v":0},{"$f":"$C$5","v":"SINAPI:Abril/2020 (Alagoas/AL) - NÃO DESONERADO"}]
[null,null," COMPOSIÇÃO ANALÍTICA DE CUSTO"]
[]
[null,null,"OBRA: ",{"$nulls":4},"CODEVASF",null,null,"DATA: ANO 2017"]
[null,null,"SERVIÇO: CORTE E DOBRA DE AÇO CA-50, DIÂMETRO DE 10,0 MM, UTILIZADO EM LAJE.",{"$nulls":4},"COD: ","CAC-084",null,"UNIDADE: ","KG"]
[]
[null,null,"SERVIÇOS - COMPOSIÇÕES AUXILIARES ............................................................................................................................................................................",{"$nulls":7},"SUB-TOTAL (1) = ",{"$f":"SUM(L2612:L2613)","v":0}]
[null,null,"DISCRIMINAÇÃO","SINAPI","UNID",null,"QTDE","PROD","IMPROD","P.UNIT. PROD","P.UNIT. IMPR","P.TOTAL"]
[null,null,"CORTE E DOBRA DE AÇO CA-50, DIÂMETRO DE 10,0 MM, UTILIZADO EM LAJE. AF 12/2015",92802,"KG",null,1,null,null,{"$f":"IFERROR(VLOOKUP(D2612,$D$7:$J$7,6,0),0)","v":0},null,{"$f":"G2612*J2612","v":0}]
[]
[]
[null,null,"EQUIPAMENTO .............................................................................................................................................................................................................................",{"$nulls":7},"SUB-TOTAL (2) = ",{"$f":"SUM(L2617:L2618)","v":0}]
[null,null,"DISCRIMINAÇÃO","SINAPI","UNID",null,"QTDE","PROD","IMPROD","P.UNIT. PROD","P.UNIT. IMPR","P.TOTAL"]
[{"$nulls":11},{"$f":"G2617*J2617","v":0}]
[{"$nulls":11},{"$f":"G2618*J2618","v":0}]
[]
[null,null,"MATERIAL ........................................................................................................................................................................................................................................",{"$nulls":7},"SUB-TOTAL (3) = ",{"$f":"SUM(L2622:L2623)","v":0}]
[null,null,"DISCRIMINAÇÃO","SINAPI","UNID",null,"QTDE","PROD","IMPROD","P.UNIT. PROD","P.UNIT. IMPR","P.TOTAL"]
[{"$nulls":11},{"$f":"G2622*J2622","v":0}]
[{"$nulls":11},{"$f":"G2623*J2623","v":0}]
[]
[null,null,"MÃO DE OBRA .................................................................................................................................................................................................................................",{"$nulls":7},"SUB-TOTAL (4) = ",{"$f":"SUM(L2627:L2628)","v":0}]
[null,null,"DISCRIMINAÇÃO","SINAPI","UNID",null,"QTDE","PROD","IMPROD","P.UNIT. PROD","P.UNIT. IMPR","P.TOTAL"]
[{"$nulls":11},{"$f":"G2627*J2627","v":0}]
[{"$nulls":11},{"$f":"G2628*J2628","v":0}]
[]
[null,null,"OBSERVAÇÕES:","PROD DA EQUIPE =",null,null,1,null,null,null,"CUSTO (SUB-TOTAL 1 + 2 + 3 + 4) = ",{"$f":"L2625+L2620+L2610+L2615","v":0}]
[null,null,null,"RESP. TÉCNICO:",{"$nulls":6},"TOTAL - R$ = ",{"$f":"L2630/G2630","v":0}]
[{"$nulls":10},"BDI (%) = ",{"$f":"$I$3","v":0.2101044698987744}]
[{"$nulls":10},"TOTAL DO SERVIÇO - R$ = ",{"$f":"L2631*L2632+L2631","v":0}]
[]
[null,null,{"$f":"C2639","v":"SERVIÇO: ESTRUTURA PARA A COBERTURA"},{"$f":"I2639","v":"CAC-085"},{"$f":"L2639","v":"KG"},null,null,null,"P. Unit.=",{"$f":"L2662","v":0},{"$f":"$C$5","v":"SINAPI:Abril/2020 (Alagoas/AL) - NÃO DESONERADO"}]
[null,null," COMPOSIÇÃO ANALÍTICA DE CUSTO"]
[]
[null,null,"OBRA: ",{"$nulls":4},"CODEVASF",null,null,"DATA: ANO 2017"]
[null,null,"SERVIÇO: ESTRUTURA PARA A COBERTURA",{"$nulls":4},"COD: ","CAC-085",null,"UNIDADE: ","KG"]
[]
[null,null,"SERVIÇOS - COMPOSIÇÕES AUXILIARES ............................................................................................................................................................................",{"$nulls":7},"SUB-TOTAL (1) = ",{"$f":"SUM(L2643:L2644)","v":0}]
[null,null,"DISCRIMINAÇÃO","SINAPI","UNID",null,"QTDE","PROD","IMPROD","P.UNIT. PROD","P.UNIT. IMPR","P.TOTAL"]
[null,null,"ESTRUTURA PARA COBERTURA EM ARCO, EM ALUMINIO ANODIZADO, VAO DE 20M, ESPACAMENTO DE 5M ATE 6,5M","73866/004","M2",null,1,null,null,{"$f":"IFERROR(VLOOKUP(D2643,$D$7:$J$7,6,0),0)","v":0},null,{"$f":"G2643*J2643","v":0}]
[]
[]
[null,null,"EQUIPAMENTO .............................................................................................................................................................................................................................",{"$nulls":7},"SUB-TOTAL (2) = ",{"$f":"SUM(L2648:L2649)","v":0}]
[null,null,"DISCRIMINAÇÃO","SINAPI","UNID",null,"QTDE","PROD","IMPROD","P.UNIT. PROD","P.UNIT. IMPR","P.TOTAL"]
[{"$nulls":11},{"$f":"G2648*J2648","v":0}]
[{"$nulls":11},{"$f":"G2649*J2649","v":0}]
[]
[null,null,"MATERIAL ........................................................................................................................................................................................................................................",{"$nulls":7},"SUB-TOTAL (3) = ",{"$f":"SUM(L2653:L2654)","v":0}]
[null,null,"DISCRIMINAÇÃO","SINAPI","UNID",null,"QTDE","PROD","IMPROD","P.UNIT. PROD","P.UNIT. IMPR","P.TOTAL"]
[{"$nulls":11},{"$f":"G2653*J2653","v":0}]
[{"$nulls":11},{"$f":"G2654*J2654","v":0}]
[]
[null,null,"MÃO DE OBRA .................................................................................................................................................................................................................................",{"$nulls":7},"SUB-TOTAL (4) = ",{"$f":"SUM(L2658:L2659)","v":0}]
[null,null,"DISCRIMINAÇÃO","SINAPI","UNID",null,"QTDE","PROD","IMPROD","P.UNIT. PROD","P.UNIT. IMPR","P.TOTAL"]
[{"$nulls":11},{"$f":"G2658*J2658","v":0}]
[{"$nulls":11},{"$f":"G2659*J2659","v":0}]
[]
[null,null,"OBSERVAÇÕES:","PROD DA EQUIPE =",null,null,1,null,null,null,"CUSTO (SUB-TOTAL 1 + 2 + 3 + 4) = ",{"$f":"L2656+L2651+L2641+L2646","v":0}]
[null,null,null,"RESP. TÉCNICO:",{"$nulls":6},"TOTAL - R$ = ",{"$f":"L2661/G2661","v":0}]
[{"$nulls":10},"BDI (%) = ",{"$f":"$I$3","v":0.2101044698987744}]
[{"$nulls":10},"TOTAL DO SERVIÇO - R$ = ",{"$f":"L2662*L2663+L2662","v":0}]
[]
[null,null,{"$f":"C2670","v":"SERVIÇO: GRAUTEAMENTO DE TUBULAÇÕES"},{"$f":"I2670","v":"CAC-086"},{"$f":"L2670","v":"M3"},null,null,null,"P. Unit.=",{"$f":"L2693","v":0},{"$f":"$C$5","v":"SINAPI:Abril/2020 (Alagoas/AL) - NÃO DESONERADO"}]
[null,null," COMPOSIÇÃO ANALÍTICA DE CUSTO"]
[]
[null,null,"OBRA: ",{"$nulls":4},"CODEVASF",null,null,"DATA: ANO 2017"]
[null,null,"SERVIÇO: GRAUTEAMENTO DE TUBULAÇÕES",{"$nulls":4},"COD: ","CAC-086",null,"UNIDADE: ","M3"]
[]
[null,null,"SERVIÇOS - COMPOSIÇÕES AUXILIARES ............................................................................................................................................................................",{"$nulls":7},"SUB-TOTAL (1) = ",{"$f":"SUM(L2674:L2675)","v":0}]
[null,null,"DISCRIMINAÇÃO","SINAPI","UNID",null,"QTDE","PROD","IMPROD","P.UNIT. PROD","P.UNIT. IMPR","P.TOTAL"]
[null,null,"GRAUTE FGK=30 MPA; TRAÇO 1:0,02:0,8:1,1 (CIMENTO/ CAL/ AREIA GROSSA/ BRITA 0) - PREPARO MECÂNICO COM BETONEIRA 400 L. AF_02/2015","73866/004","M2",null,1,null,null,{"$f":"IFERROR(VLOOKUP(D2674,$D$7:$J$7,6,0),0)","v":0},null,{"$f":"G2674*J2674","v":0}]
[]
[]
[null,null,"EQUIPAMENTO .............................................................................................................................................................................................................................",{"$nulls":7},"SUB-TOTAL (2) = ",{"$f":"SUM(L2679:L2680)","v":0}]
[null,null,"DISCRIMINAÇÃO","SINAPI","UNID",null,"QTDE","PROD","IMPROD","P.UNIT. PROD","P.UNIT. IMPR","P.TOTAL"]
[{"$nulls":11},{"$f":"G2679*J2679","v":0}]
[{"$nulls":11},{"$f":"G2680*J2680","v":0}]
[]
[null,null,"MATERIAL ........................................................................................................................................................................................................................................",{"$nulls":7},"SUB-TOTAL (3) = ",{"$f":"SUM(L2684:L2685)","v":0}]
[null,null,"DISCRIMINAÇÃO","SINAPI","UNID",null,"QTDE","PROD","IMPROD","P.UNIT. PROD","P.UNIT. IMPR","P.TOTAL"]
[{"$nulls":11},{"$f":"G2684*J2684","v":0}]
[{"$nulls":11},{"$f":"G2685*J2685","v":0}]
[]
[null,null,"MÃO DE OBRA .................................................................................................................................................................................................................................",{"$nulls":7},"SUB-TOTAL (4) = ",{"$f":"SUM(L2689:L2690)","v":0}]
[null,null,"DISCRIMINAÇÃO","SINAPI","UNID",null,"QTDE","PROD","IMPROD","P.UNIT. PROD","P.UNIT. IMPR","P.TOTAL"]
[{"$nulls":11},{"$f":"G2689*J2689","v":0}]
[{"$nulls":11},{"$f":"G2690*J2690","v":0}]
[]
[null,null,"OBSERVAÇÕES:","PROD DA EQUIPE =",null,null,1,null,null,null,"CUSTO (SUB-TOTAL 1 + 2 + 3 + 4) = ",{"$f":"L2687+L2682+L2672+L2677","v":0}]
[null,null,null,"RESP. TÉCNICO:",{"$nulls":6},"TOTAL - R$ = ",{"$f":"L2692/G2692","v":0}]
[{"$nulls":10},"BDI (%) = ",{"$f":"$I$3","v":0.2101044698987744}]
[{"$nulls":10},"TOTAL DO SERVIÇO - R$ = ",{"$f":"L2693*L2694+L2693","v":0}]
[]
[null,null,{"$f":"C2701","v":"SERVIÇO: MOBILIZAÇÃO DE OBRA"},{"$f":"I2701","v":"CAC-087"},{"$f":"L2701","v":"UNID"},"C. Unit. =",{"$f":"L2730","v":1773.8457649489021},null,"P. Unit.=",{"$f":"L2732","v":2146.5386890756772},{"$f":"$C$5","v":"SINAPI:Abril/2020 (Alagoas/AL) - NÃO DESONERADO"}]
[null,null," COMPOSIÇÃO ANALÍTICA DE CUSTO"]
[]
[null,null,"OBRA: ",{"$nulls":4},"CODEVASF",null,null,{"$f":"$C$6","v":"DATA: ANO 2020"}]
[null,null,"SERVIÇO: MOBILIZAÇÃO DE OBRA",{"$nulls":4},"COD: ","CAC-087",null,"UNIDADE: ","UNID"]
[]
[null,null,"SERVIÇOS - COMPOSIÇÕES AUXILIARES ............................................................................................................................................................................",{"$nulls":7},"SUB-TOTAL (1) = ",{"$f":"SUM(L2705)","v":0}]
[null,null,"DISCRIMINAÇÃO","SINAPI /SICRO","UNID",null,"QTDE","PROD","IMPROD","P.UNIT. PROD","P.UNIT. IMPR","P.TOTAL"]
[]
[]
[]
[null,null,"EQUIPAMENTO .............................................................................................................................................................................................................................",{"$nulls":7},"SUB-TOTAL (2) = ",{"$f":"SUM(L2710:L2716)","v":1773.8457649489021}]
[null,null,"DISCRIMINAÇÃO","SINAPI","UNID",null,"QTDE","PROD","IMPROD","P.UNIT. PROD","P.UNIT. IMPR","P.TOTAL"]
[null,null,"CAMINHÃO BASCULANTE 6 M3, PESO BRUTO TOTAL 16.000 KG, CARGA ÚTIL MÁXIMA 13.071 KG, DISTÂNCIA ENTRE EIXOS 4,80 M, POTÊNCIA 230 CV INCLUSIVE CAÇAMBA METÁLICA - CHP DIURNO. AF_06/2014 ( 02 UNID)",5695,"H",null,4,null,null,25.21,null,{"$f":"G2710*J2710","v":100.84}]
[null,null,"RETROESCAVADEIRA SOBRE RODAS COM CARREGADEIRA, TRAÇÃO 4X2, POTÊNCIA LÍQ. 79 HP, CAÇAMBA CARREG. CAP. MÍN. 1 M3, CAÇAMBA RETRO CAP. 0,20 M3, PESO OPERACIONAL MÍN. 6.570 KG, PROFUNDIDADE ESCAVAÇÃO MÁX. 4,37 M – CHP DIURNO. AF_06/2014 ( 02 UNID)",5667,"H",null,4,null,null,15.16,null,60.64]
[null,null,"ESCAVADEIRA HIDRÁULICA SOBRE ESTEIRA DE 99HP \nPESO OPERACIONAL DE *16T* DE 0,85 A 1,00 M3 ( 01 UNID)",2719,"H",null,3,null,null,145.15,null,435.45000000000005]
[null,null,"CAMINHÃO PIPA 6.000 L, PESO BRUTO TOTAL 13.000 KG, DISTÂNCIA ENTRE EIXOS 4,80 M, POTÊNCIA 189 CV INCLUSIVE TANQUE DE AÇO PARA TRANSPORTE ÁGUA, CAPACIDADE 6 M3 - CHP DIURNO. AF_06/2014 ( 02 UNID.)",5747,"H",null,3,null,null,93.03,null,279.09000000000003]
[null,null,"TRATOR DE ESTEIRAS, POTÊNCIA 150 HP, PESO OPERACIONAL 16,7 T, COM \nRODA MOTRIZ ELEVADA E LÂMINA 3,18 M3 - MATERIAIS NA OPERAÇÃO. AF_06/2014 ( 01 UNID)",5722,"H",null,4,null,null,127.56,null,510.24]
[null,null,"MOTONIVELADORA POTÊNCIA BÁSICA LÍQUIDA (PRIMEIRA MARCHA) 125 HP, PESO BRUTO 13032 KG, LARGURA DA LÂMINA DE 3,7 M - MANUTENÇÃO. AF_06/2014",5779,"H",null,3,null,null,34.85,null,104.55000000000001]
[null,null,"VEICULO LEVE 1.0 OU SUPERIOR","COMP.","KM",null,200,null,null,{"$f":"'CCU VEÍCULO'!D53","v":1.4151788247445096},null,283.03576494890194]
[{"$nulls":11},0]
[]
[null,null,"MATERIAL ........................................................................................................................................................................................................................................",{"$nulls":7},"SUB-TOTAL (3) = ",{"$f":"SUM(L2721:L2722)","v":0}]
[null,null,"DISCRIMINAÇÃO","SINAPI","UNID",null,"QTDE","PROD","IMPROD","P.UNIT. PROD","P.UNIT. IMPR","P.TOTAL"]
[]
[{"$nulls":11},{"$f":"G2722*J2722","v":0}]
[]
[null,null,"MÃO DE OBRA .................................................................................................................................................................................................................................",{"$nulls":7},"SUB-TOTAL (4) = ",{"$f":"SUM(L2726:L2727)","v":0}]
[null,null,"DISCRIMINAÇÃO","SINAPI","UNID",null,"QTDE","PROD","IMPROD","P.UNIT. PROD","P.UNIT. IMPR","P.TOTAL"]
[]
[{"$nulls":11},{"$f":"G2727*J2727","v":0}]
[]
[null,null,"OBSERVAÇÕES:","PROD DA EQUIPE =",null,null,1,null,null,null,"CUSTO (SUB-TOTAL 1 + 2 + 3 + 4) = ",{"$f":"L2724+L2719+L2703+L2708","v":1773.8457649489021}]
[null,null,null,"RESP. TÉCNICO:",{"$nulls":6},"TOTAL - R$ = ",{"$f":"L2729/G2729","v":1773.8457649489021}]
[{"$nulls":10},"BDI (%) = ",{"$f":"$I$3","v":0.2101044698987744}]
[{"$nulls":10},"TOTAL DO SERVIÇO - R$ = ",{"$f":"L2730*L2731+L2730","v":2146.5386890756772}]
[]
[null,null,{"$f":"C2738","v":"SERVIÇO: DESMOBILIZAÇÃO DE OBRA"},{"$f":"I2738","v":"CAC-088"},{"$f":"L2738","v":"UNID"},"C. Unit. =",{"$f":"L2766","v":1773.8457649489021},null,"P. Unit.=",{"$f":"L2768","v":2146.5386890756772},{"$f":"$C$5","v":"SINAPI:Abril/2020 (Alagoas/AL) - NÃO DESONERADO"}]
[null,null," COMPOSIÇÃO ANALÍTICA DE CUSTO"]
[]
[null,null,"OBRA: ",{"$nulls":4},"CODEVASF",null,null,"DATA: ANO 2018"]
[null,null,"SERVIÇO: DESMOBILIZAÇÃO DE OBRA",{"$nulls":4},"COD: ","CAC-088",null,"UNIDADE: ","UNID"]
[]
[null,null,"SERVIÇOS - COMPOSIÇÕES AUXILIARES ............................................................................................................................................................................",{"$nulls":7},"SUB-TOTAL (1) = ",{"$f":"SUBTOTAL(9,L2742)","v":0}]
[null,null,"DISCRIMINAÇÃO","SINAPI","UNID",null,"QTDE","PROD","IMPROD","P.UNIT. PROD","P.UNIT. IMPR","P.TOTAL"]
[]
[]
[null,null,"EQUIPAMENTO .............................................................................................................................................................................................................................",{"$nulls":7},"SUB-TOTAL (2) = ",{"$f":"SUM(L2746:L2752)","v":1773.8457649489021}]
[null,null,"DISCRIMINAÇÃO","SINAPI","UNID",null,"QTDE","PROD","IMPROD","P.UNIT. PROD","P.UNIT. IMPR","P.TOTAL"]
[null,null,"CAMINHÃO BASCULANTE 6 M3, PESO BRUTO TOTAL 16.000 KG, CARGA ÚTIL MÁXIMA 13.071 KG, DISTÂNCIA ENTRE EIXOS 4,80 M, POTÊNCIA 230 CV INCLUSIVE CAÇAMBA METÁLICA - CHP DIURNO. AF_06/2014 ( 02 UNID)",5695,"H",null,4,null,null,{"$f":"J2710","v":25.21},null,{"$f":"G2746*J2746","v":100.84}]
[null,null,"RETROESCAVADEIRA SOBRE RODAS COM CARREGADEIRA, TRAÇÃO 4X2, POTÊNCIA LÍQ. 79 HP, CAÇAMBA CARREG. CAP. MÍN. 1 M3, CAÇAMBA RETRO CAP. 0,20 M3, PESO OPERACIONAL MÍN. 6.570 KG, PROFUNDIDADE ESCAVAÇÃO MÁX. 4,37 M – CHP DIURNO. AF_06/2014 ( 02 UNID)",5667,"H",null,4,null,null,15.16,null,60.64]
[null,null,"ESCAVADEIRA HIDRÁULICA SOBRE ESTEIRA DE 99HP \nPESO OPERACIONAL DE *16T* DE 0,85 A 1,00 M3 ( 01 UNID)",2719,"H",null,3,null,null,145.15,null,435.45000000000005]
[null,null,"CAMINHÃO PIPA 6.000 L, PESO BRUTO TOTAL 13.000 KG, DISTÂNCIA ENTRE EIXOS 4,80 M, POTÊNCIA 189 CV INCLUSIVE TANQUE DE AÇO PARA TRANSPORTE ÁGUA, CAPACIDADE 6 M3 - CHP DIURNO. AF_06/2014 ( 02 UNID.)",5747,"H",null,3,null,null,93.03,null,279.09000000000003]
[null,null,"TRATOR DE ESTEIRAS, POTÊNCIA 150 HP, PESO OPERACIONAL 16,7 T, COM \nRODA MOTRIZ ELEVADA E LÂMINA 3,18 M3 - MATERIAIS NA OPERAÇÃO. AF_06/2014 ( 01 UNID)",5722,"H",null,4,null,null,127.56,null,510.24]
[null,null,"MOTONIVELADORA POTÊNCIA BÁSICA LÍQUIDA (PRIMEIRA MARCHA) 125 HP, PESO BRUTO 13032 KG, LARGURA DA LÂMINA DE 3,7 M - MANUTENÇÃO. AF_06/2014",5779,"H",null,3,null,null,34.85,null,{"$f":"G2751*J2751","v":104.55000000000001}]
[null,null,"VEICULO LEVE 1.0 OU SUPERIOR","COMP.","KM",null,200,null,null,{"$f":"J2716","v":1.4151788247445096},null,283.03576494890194]
[]
[null,null,"MATERIAL ........................................................................................................................................................................................................................................",{"$nulls":7},"SUB-TOTAL (3) = ",{"$f":"SUM(L2756:L2757)","v":0}]
[null,null,"DISCRIMINAÇÃO","SINAPI","UNID",null,"QTDE","PROD","IMPROD","P.UNIT. PROD","P.UNIT. IMPR","P.TOTAL"]
[]
[{"$nulls":11},{"$f":"G2757*J2757","v":0}]
[]
[null,null,"MÃO DE OBRA .................................................................................................................................................................................................................................",{"$nulls":7},"SUB-TOTAL (4) = ",{"$f":"SUM(L2761:L2763)","v":0}]
[null,null,"DISCRIMINAÇÃO","SINAPI","UNID",null,"QTDE","PROD","IMPROD","P.UNIT. PROD","P.UNIT. IMPR","P.TOTAL"]
[]
[{"$nulls":11},{"$f":"G2762*J2762","v":0}]
[{"$nulls":11},{"$f":"G2763*J2763","v":0}]
[]
[null,null,"OBSERVAÇÕES:","PROD DA EQUIPE =",null,null,1,null,null,null,"CUSTO (SUB-TOTAL 1 + 2 + 3 + 4) = ",{"$f":"L2759+L2754+L2740+L2744","v":1773.8457649489021}]
[null,null,null,"RESP. TÉCNICO:",{"$nulls":6},"TOTAL - R$ = ",{"$f":"L2765/G2765","v":1773.8457649489021}]
[{"$nulls":10},"BDI (%) = ",{"$f":"$I$3","v":0.2101044698987744}]
[{"$nulls":10},"TOTAL DO SERVIÇO - R$ = ",{"$f":"L2766*L2767+L2766","v":2146.5386890756772}]
[]
[null,null,{"$f":"C2774","v":"SERVIÇO: INSTALAÇÃO DE CANTEIRO DE OBRA, PARA ALMOXARIFADO, EM CHAPA DE MADEIRA COMPENSADA"},{"$f":"I2774","v":"CAC-089"},{"$f":"L2774","v":"m²"},"C. Unit. =",{"$f":"L2797","v":587.66999999999996},null,"P. Unit.=",{"$f":"L2799","v":711.14209382541276},{"$f":"$C$5","v":"SINAPI:Abril/2020 (Alagoas/AL) - NÃO DESONERADO"}]
[null,null," COMPOSIÇÃO ANALÍTICA DE CUSTO"]
[]
[null,null,"OBRA: ",{"$nulls":4},"CODEVASF",null,null,{"$f":"$C$6","v":"DATA: ANO 2020"}]
[null,null,"SERVIÇO: INSTALAÇÃO DE CANTEIRO DE OBRA, PARA ALMOXARIFADO, EM CHAPA DE MADEIRA COMPENSADA",{"$nulls":4},"COD: ","CAC-089",null,"UNIDADE: ","m²"]
[]
[null,null,"SERVIÇOS - COMPOSIÇÕES AUXILIARES ............................................................................................................................................................................",{"$nulls":7},"SUB-TOTAL (1) = ",{"$f":"SUM(L2778:L2779)","v":587.66999999999996}]
[null,null,"DISCRIMINAÇÃO","SINAPI","UNID",null,"QTDE","PROD","IMPROD","P.UNIT. PROD","P.UNIT. IMPR","P.TOTAL"]
[null,null,"EXECUÇÃO DE ALMOXARIFADO EM CANTEIRO DE OBRA EM CHAPA DE MADEIRA COMPENSADA, INCLUSO PRATELEIRAS. AF_02/2016",93208,"M2",null,1,null,null,587.66999999999996,null,{"$f":"G2778*J2778","v":587.66999999999996}]
[]
[]
[null,null,"EQUIPAMENTO     ...........................................................................................................................................................................................................................",{"$nulls":7},"SUB-TOTAL (2) = ",{"$f":"SUM(L2783:L2784)","v":0}]
[null,null,"DISCRIMINAÇÃO","SINAPI","UNID",null,"QTDE","PROD","IMPROD","P.UNIT. PROD","P.UNIT. IMPR","P.TOTAL"]
[{"$nulls":11},{"$f":"G2783*J2783","v":0}]
[{"$nulls":11},{"$f":"G2784*J2784","v":0}]
[]
[null,null,"MATERIAL ........................................................................................................................................................................................................................................",{"$nulls":7},"SUB-TOTAL (3) = ",{"$f":"SUM(L2788:L2789)","v":0}]
[null,null,"DISCRIMINAÇÃO","SINAPI","UNID",null,"QTDE","PROD","IMPROD","P.UNIT. PROD","P.UNIT. IMPR","P.TOTAL"]
[{"$nulls":11},{"$f":"G2788*J2788","v":0}]
[{"$nulls":11},{"$f":"G2789*J2789","v":0}]
[]
[null,null,"MÃO DE OBRA .................................................................................................................................................................................................................................",{"$nulls":7},"SUB-TOTAL (4) = ",{"$f":"SUM(L2793:L2794)","v":0}]
[null,null,"DISCRIMINAÇÃO","SINAPI","UNID",null,"QTDE","PROD","IMPROD","P.UNIT. PROD","P.UNIT. IMPR","P.TOTAL"]
[{"$nulls":11},{"$f":"G2793*J2793","v":0}]
[{"$nulls":11},{"$f":"G2794*J2794","v":0}]
[]
[null,null,"OBSERVAÇÕES:","PROD DA EQUIPE =",null,null,1,null,null,null,"CUSTO (SUB-TOTAL 1 + 2 + 3 + 4) = ",{"$f":"L2791+L2786+L2776+L2781","v":587.66999999999996}]
[null,null,null,"RESP. TÉCNICO:",{"$nulls":6},"TOTAL - R$ = ",{"$f":"L2796/G2796","v":587.66999999999996}]
[{"$nulls":10},"BDI (%) = ",{"$f":"$I$3","v":0.2101044698987744}]
[{"$nulls":10},"TOTAL DO SERVIÇO - R$ = ",{"$f":"L2797*L2798+L2797","v":711.14209382541276},null,"AQUI"]
[null,null,{"$f":"C2804","v":"SERVIÇO: ADMINISTRAÇÃO LOCAL / MANUTENÇÃO DE CANTEIRO DE OBRAS"},{"$f":"I2804","v":"CAC-090"},{"$f":"L2804","v":"global"},"C. Unit. =",{"$f":"L2830","v":605323.79866027401},null,"P. Unit.=",{"$f":"L2833","v":732505.03},{"$f":"$C$5","v":"SINAPI:Abril/2020 (Alagoas/AL) - NÃO DESONERADO"}]
[null,null," COMPOSIÇÃO ANALÍTICA DE CUSTO"]
[]
[null,null,"OBRA: ",{"$nulls":4},"CODEVASF",null,null,{"$f":"$C$6","v":"DATA: ANO 2020"}]
[null,null,"SERVIÇO: ADMINISTRAÇÃO LOCAL / MANUTENÇÃO DE CANTEIRO DE OBRAS",{"$nulls":4},"COD: ","CAC-090",null,"UNIDADE: ","global"]
[]
[null,null,"SERVIÇOS - COMPOSIÇÕES AUXILIARES ............................................................................................................................................................................",{"$nulls":7},"SUB-TOTAL (1) = ",{"$f":"SUM(L2808:L2809)","v":278.09999999999997}]
[null,null,"DISCRIMINAÇÃO","SINAPI","UNID",null,"QTDE","PROD","IMPROD","P.UNIT. PROD","P.UNIT. IMPR","P.TOTAL"]
[null,null,"TARIFA \"A\" ENTRE  0 E 20M3 FORNECIMENTO D'AGUA",14583,"M3",null,10,null,null,15.51,null,{"$f":"G2808*J2808","v":155.1}]
[null,null,"ENERGIA ELETRICA COMERCIAL, BAIXA TENSAO, RELATIVA AO CONSUMO DE ATE 100 KWH, INCLUINDO ICMS, PIS/PASEP E COFINS",14250,"KW/H",null,150,null,null,0.82,null,{"$f":"G2809*J2809","v":122.99999999999999}]
[]
[]
[null,null,"EQUIPAMENTO .............................................................................................................................................................................................................................",{"$nulls":7},"SUB-TOTAL (2) = ",{"$f":"SUM(L2814:L2814)","v":2377.5004255707763}]
[null,null,"DISCRIMINAÇÃO","CCU","UNID",null,"QTDE","PROD","IMPROD","P.UNIT. PROD","P.UNIT. IMPR","P.TOTAL"]
[null,null,"LOCAÇÃO DE VEÍCULO, SEM MOTORISTA","CCU VEÍCULO","mês",null,1,null,null,{"$f":"'CCU VEÍCULO'!D49","v":2377.5004255707763},null,{"$f":"G2814*J2814","v":2377.5004255707763}]
[]
[null,null,"MATERIAL ........................................................................................................................................................................................................................................",{"$nulls":7},"SUB-TOTAL (3) = ",{"$f":"SUM(L2818:L2819)","v":313.12950000000006}]
[null,null,"DISCRIMINAÇÃO","CCU","UNID",null,"QTDE","PROD","IMPROD","P.UNIT. PROD","P.UNIT. IMPR","P.TOTAL"]
[null,null,"MATERIAL DE ESCRITÓRIO","CCU","MÊS",null,1,{"$nulls":4},{"$f":"'Aux. Manut Canteiro'!I31","v":304.82950000000005}]
[null,null,"MATERIAL DE LIMPEZA","CCU","MÊS",null,1,{"$nulls":4},{"$f":"'Aux. Manut Canteiro'!I59","v":8.3000000000000007}]
[]
[null,null,"MÃO DE OBRA    .................................................................................................................................................................................................................................",{"$nulls":7},"SUB-TOTAL (4) = ",{"$f":"SUM(L2823:L2827)","v":30660.370000000003}]
[null,null,"DISCRIMINAÇÃO","SINAPI","UNID",null,"QTDE","PROD","IMPROD","P.UNIT. PROD","P.UNIT. IMPR","P.TOTAL"]
[null,null,"ENGENHEIRO CIVIL DE OBRA JUNIOR COM ENCARGOS COMPLEMENTARES",93565,"MÊS",null,1,null,null,15497.03,null,{"$f":"G2823*J2823","v":15497.03}]
[null,null,"MESTRE DE OBRAS COM ENCARGOS COMPLEMENTARES",94295,"MÊS",null,1,null,null,5923.71,null,{"$f":"G2824*J2824","v":5923.71}]
[null,null,"AUXILIAR DE ESCRITORIO COM ENCARGOS COMPLEMENTARES",93566,"MÊS",null,1,null,null,2711.02,null,{"$f":"G2825*J2825","v":2711.02}]
[null,null,"ALMOXARIFE COM ENCARGOS COMPLEMENTARES",93563,"MÊS",null,1,null,null,3255.01,null,{"$f":"G2826*J2826","v":3255.01}]
[null,null,"VIGIA  COM ENCARGOS COMPLEMENTARES",88326,"H",null,176,null,null,18.600000000000001,null,{"$f":"G2827*J2827","v":3273.6000000000004}]
[]
[null,null,"OBSERVAÇÕES:","TEMPO (MÊS)",null,null,18,null,null,null,"CUSTO (SUB-TOTAL 1 + 2 + 3 + 4) = ",{"$f":"L2821+L2816+L2806+L2812","v":33629.099925570779}]
[null,null,null,"RESP. TÉCNICO:",{"$nulls":6},"TOTAL - R$ = ",{"$f":"L2829*G2829","v":605323.79866027401}]
[{"$nulls":10},"BDI (%) = ",{"$f":"$I$3","v":0.2101044698987744}]
[{"$nulls":10},"TOTAL DO SERVIÇO - R$ = ",{"$f":"L2830*L2831+L2830","v":732505.03449490329}]
[{"$nulls":7},"QUANT. (MÊS)",null,1,"TOTAL (C/BDI)",{"$f":"ROUND(L2832*J2833,2)","v":732505.03}]
[]
[null,null,{"$f":"C2839","v":"SERVIÇO: PLACA DE OBRA"},{"$f":"I2839","v":"CAC-091"},{"$f":"L2839","v":"M2"},"C. Unit. =",{"$f":"L2863","v":362.0557},null,"P. Unit.=",{"$f":"L2865","v":438.12522092232973},{"$f":"$C$5","v":"SINAPI:Abril/2020 (Alagoas/AL) - NÃO DESONERADO"}]
[null,null," COMPOSIÇÃO ANALÍTICA DE CUSTO"]
[]
[null,null,"OBRA: ",{"$nulls":4},"CODEVASF",null,null,{"$f":"$C$6","v":"DATA: ANO 2020"}]
[null,null,"SERVIÇO: PLACA DE OBRA",{"$nulls":4},"COD: ","CAC-091",null,"UNIDADE: ","M2"]
[]
[null,null,"SERVIÇOS - COMPOSIÇÕES AUXILIARES ............................................................................................................................................................................",{"$nulls":7},"SUB-TOTAL (1) = ",{"$f":"SUM(L2843:L2844)","v":2.5028000000000001}]
[null,null,"DISCRIMINAÇÃO","SINAPI","UNID",null,"QTDE","PROD","IMPROD","P.UNIT. PROD","P.UNIT. IMPR","P.TOTAL"]
[null,null,"CONCRETO MAGRO PARA LASTRO, TRAÇO 1:4,5:4,5 (CIMENTO/ AREIA MÉDIA/ BRITA 1)  - PREPARO MECÂNICO COM BETONEIRA 400 L. AF_07/2016",94962,"M3",null,0.01,null,null,250.28,null,{"$f":"G2843*J2843","v":2.5028000000000001}]
[]
[]
[null,null,"EQUIPAMENTO .............................................................................................................................................................................................................................",{"$nulls":7},"SUB-TOTAL (2) = ",{"$f":"SUM(L2848:L2848)","v":0}]
[null,null,"DISCRIMINAÇÃO","SINAPI","UNID",null,"QTDE","PROD","IMPROD","P.UNIT. PROD","P.UNIT. IMPR","P.TOTAL"]
[{"$nulls":11},{"$f":"G2848*J2848","v":0}]
[]
[null,null,"MATERIAL ........................................................................................................................................................................................................................................",{"$nulls":7},"SUB-TOTAL (3) = ",{"$f":"SUM(L2852:L2855)","v":312.77290000000005}]
[null,null,"DISCRIMINAÇÃO","SINAPI","UNID",null,"QTDE","PROD","IMPROD","P.UNIT. PROD","P.UNIT. IMPR","P.TOTAL"]
[null,null,"PLACA DE OBRA (PARA CONSTRUCAO CIVIL) EM CHAPA GALVANIZADA *N. 22*, DE *2,0 X 1,125* M",4813,"M2",null,1,null,null,300,null,{"$f":"G2852*J2852","v":300}]
[null,null,"PONTALETE DE MADEIRA NAO APARELHADA *7,5 X 7,5* CM (3 X 3 \") PINUS, MISTA OU EQUIVALENTE DA REGIAO",4491,"M",null,1,null,null,6.68,null,{"$f":"G2853*J2853","v":6.68}]
[null,null,"PREGO DE ACO POLIDO COM CABECA 18 X 30 (2 3/4 X 10)",5075,"KG",null,0.11,null,null,12.39,null,{"$f":"G2854*J2854","v":1.3629}]
[null,null,"SARRAFO DE MADEIRA NAO APARELHADA *2,5 X 7* CM, MACARANDUBA, ANGELIM OU EQUIVALENTE DA REGIAO",4417,"M",null,1,null,null,4.7300000000000004,null,{"$f":"G2855*J2855","v":4.7300000000000004}]
[]
[null,null,"MÃO DE OBRA .................................................................................................................................................................................................................................",{"$nulls":7},"SUB-TOTAL (4) = ",{"$f":"SUM(L2859:L2860)","v":46.78}]
[null,null,"DISCRIMINAÇÃO","SINAPI","UNID",null,"QTDE","PROD","IMPROD","P.UNIT. PROD","P.UNIT. IMPR","P.TOTAL"]
[null,null,"CARPINTEIRO DE FORMAS COM ENCARGOS COMPLEMENTARES"," 88262 ","H",null,1,null,null,18.18,null,{"$f":"G2859*J2859","v":18.18}]
[null,null,"SERVENTE COM ENCARGOS COMPLEMENTARES"," 88316 ","H",null,2,null,null,14.3,null,{"$f":"G2860*J2860","v":28.6}]
[]
[null,null,"OBSERVAÇÕES:","PROD DA EQUIPE =",null,null,1,null,null,null,"CUSTO (SUB-TOTAL 1 + 2 + 3 + 4) = ",{"$f":"L2857+L2850+L2841+L2846","v":362.0557}]
[null,null,null,"RESP. TÉCNICO:",{"$nulls":6},"TOTAL - R$ = ",{"$f":"L2862/G2862","v":362.0557}]
[{"$nulls":10},"BDI (%) = ",{"$f":"$I$3","v":0.2101044698987744}]
[{"$nulls":10},"TOTAL DO SERVIÇO - R$ = ",{"$f":"L2863*L2864+L2863","v":438.12522092232973}]
[]
[null,null,{"$f":"C2871","v":"SERVIÇO: ARMAÇÃO DE ESTRUTURA CONVENCIONAL EM CONCRETO ARMADO DO PONTILHÃO, INCLUSIVE FORNECIMENTO, CORTE, DOBRA E COLOCAÇÃO (REFORÇO ESTRUTURAL DAS VIGAS LONGITUDINAIS)"},{"$f":"I2871","v":"CAC-092"},{"$f":"L2871","v":"KG"},null,null,null,"P. Unit.=",{"$f":"L2894","v":0},{"$f":"$C$5","v":"SINAPI:Abril/2020 (Alagoas/AL) - NÃO DESONERADO"}]
[null,null," COMPOSIÇÃO ANALÍTICA DE CUSTO"]
[]
[null,null,{"$f":"#REF!","v":{"$error":"#REF!"}},{"$nulls":4},"CODEVASF",null,null,"DATA: ANO 2017"]
[null,null,"SERVIÇO: ARMAÇÃO DE ESTRUTURA CONVENCIONAL EM CONCRETO ARMADO DO PONTILHÃO, INCLUSIVE FORNECIMENTO, CORTE, DOBRA E COLOCAÇÃO (REFORÇO ESTRUTURAL DAS VIGAS LONGITUDINAIS)",{"$nulls":4},"COD: ","CAC-092",null,"UNIDADE: ","KG"]
[]
[null,null,"SERVIÇOS - COMPOSIÇÕES AUXILIARES ............................................................................................................................................................................",{"$nulls":7},"SUB-TOTAL (1) = ",{"$f":"SUM(L2875:L2876)","v":0}]
[null,null,"DISCRIMINAÇÃO","SINAPI","UNID",null,"QTDE","PROD","IMPROD","P.UNIT. PROD","P.UNIT. IMPR","P.TOTAL"]
[null,null,"ARMAÇÃO DE LAJE DE UMA ESTRUTURA CONVENCIONAL DE CONCRETO ARMADO EM UM EDIFÍCIO DE MÚLTIPLOS PAVIMENTOS UTILIZANDO AÇO CA-50 DE 16.0 MM - MONTAGEM. AF_12/2015_P",92773,"KG",null,1,null,null,{"$f":"IFERROR(VLOOKUP(D2875,$D$7:$J$7,6,0),0)","v":0},null,{"$f":"G2875*J2875","v":0}]
[]
[]
[null,null,"EQUIPAMENTO .............................................................................................................................................................................................................................",{"$nulls":7},"SUB-TOTAL (2) = ",{"$f":"SUM(L2880:L2881)","v":0}]
[null,null,"DISCRIMINAÇÃO","SINAPI","UNID",null,"QTDE","PROD","IMPROD","P.UNIT. PROD","P.UNIT. IMPR","P.TOTAL"]
[{"$nulls":11},{"$f":"G2880*J2880","v":0}]
[{"$nulls":11},{"$f":"G2881*J2881","v":0}]
[]
[null,null,"MATERIAL ........................................................................................................................................................................................................................................",{"$nulls":7},"SUB-TOTAL (3) = ",{"$f":"SUM(L2885:L2886)","v":0}]
[null,null,"DISCRIMINAÇÃO","SINAPI","UNID",null,"QTDE","PROD","IMPROD","P.UNIT. PROD","P.UNIT. IMPR","P.TOTAL"]
[null,null,"ACO CA-50, 16,0 MM, VERGALHAO",27,"KG",null,1,null,null,{"$f":"IFERROR(VLOOKUP(D2885,$D$7:$J$7,6,0),0)","v":0},null,{"$f":"G2885*J2885","v":0}]
[{"$nulls":11},{"$f":"G2886*J2886","v":0}]
[]
[null,null,"MÃO DE OBRA .................................................................................................................................................................................................................................",{"$nulls":7},"SUB-TOTAL (4) = ",{"$f":"SUM(L2890:L2891)","v":0}]
[null,null,"DISCRIMINAÇÃO","SINAPI","UNID",null,"QTDE","PROD","IMPROD","P.UNIT. PROD","P.UNIT. IMPR","P.TOTAL"]
[{"$nulls":11},{"$f":"G2890*J2890","v":0}]
[{"$nulls":11},{"$f":"G2891*J2891","v":0}]
[]
[null,null,"OBSERVAÇÕES:","PROD DA EQUIPE =",null,null,1,null,null,null,"CUSTO (SUB-TOTAL 1 + 2 + 3 + 4) = ",{"$f":"L2888+L2883+L2873+L2878","v":0}]
[null,null,null,"RESP. TÉCNICO:",{"$nulls":6},"TOTAL - R$ = ",{"$f":"L2893/G2893","v":0}]
[{"$nulls":10},"BDI (%) = ",{"$f":"$I$3","v":0.2101044698987744}]
[{"$nulls":10},"TOTAL DO SERVIÇO - R$ = ",{"$f":"L2894*L2895+L2894","v":0}]
[]
[null,null,{"$f":"C2902","v":"SERVIÇO: DEMOLIÇÃO DE ESTRUTURA DE PONTILHÃO EXISTENTE"},{"$f":"I2902","v":"CAC-093"},{"$f":"L2902","v":"M3"},null,null,null,"P. Unit.=",{"$f":"L2925","v":0},{"$f":"$C$5","v":"SINAPI:Abril/2020 (Alagoas/AL) - NÃO DESONERADO"}]
[null,null," COMPOSIÇÃO ANALÍTICA DE CUSTO"]
[]
[null,null,{"$f":"#REF!","v":{"$error":"#REF!"}},{"$nulls":4},"CODEVASF",null,null,"DATA: ANO 2017"]
[null,null,"SERVIÇO: DEMOLIÇÃO DE ESTRUTURA DE PONTILHÃO EXISTENTE",{"$nulls":4},"COD: ","CAC-093",null,"UNIDADE: ","M3"]
[]
[null,null,"SERVIÇOS - COMPOSIÇÕES AUXILIARES ............................................................................................................................................................................",{"$nulls":7},"SUB-TOTAL (1) = ",{"$f":"SUM(L2906:L2907)","v":0}]
[null,null,"DISCRIMINAÇÃO","SINAPI","UNID",null,"QTDE","PROD","IMPROD","P.UNIT. PROD","P.UNIT. IMPR","P.TOTAL"]
[null,null,"DEMOLICAO DE CONCRETO SIMPLES",73616,"M3",null,0.5,null,null,{"$f":"IFERROR(VLOOKUP(D2906,$D$7:$J$7,6,0),0)","v":0},null,{"$f":"G2906*J2906","v":0}]
[{"$nulls":11},{"$f":"G2907*J2907","v":0}]
[]
[null,null,"EQUIPAMENTO .............................................................................................................................................................................................................................",{"$nulls":7},"SUB-TOTAL (2) = ",{"$f":"SUM(L2911:L2912)","v":0}]
[null,null,"DISCRIMINAÇÃO","SINAPI","UNID",null,"QTDE","PROD","IMPROD","P.UNIT. PROD","P.UNIT. IMPR","P.TOTAL"]
[{"$nulls":11},{"$f":"G2911*J2911","v":0}]
[{"$nulls":11},{"$f":"G2912*J2912","v":0}]
[]
[null,null,"MATERIAL ........................................................................................................................................................................................................................................",{"$nulls":7},"SUB-TOTAL (3) = ",{"$f":"SUM(L2916:L2917)","v":0}]
[null,null,"DISCRIMINAÇÃO","SINAPI","UNID",null,"QTDE","PROD","IMPROD","P.UNIT. PROD","P.UNIT. IMPR","P.TOTAL"]
[{"$nulls":11},{"$f":"G2916*J2916","v":0}]
[{"$nulls":11},{"$f":"G2917*J2917","v":0}]
[]
[null,null,"MÃO DE OBRA .................................................................................................................................................................................................................................",{"$nulls":7},"SUB-TOTAL (4) = ",{"$f":"SUM(L2921:L2922)","v":0}]
[null,null,"DISCRIMINAÇÃO","SINAPI","UNID",null,"QTDE","PROD","IMPROD","P.UNIT. PROD","P.UNIT. IMPR","P.TOTAL"]
[{"$nulls":11},{"$f":"G2921*J2921","v":0}]
[{"$nulls":11},{"$f":"G2922*J2922","v":0}]
[]
[null,null,"OBSERVAÇÕES:","PROD DA EQUIPE =",null,null,1,null,null,null,"CUSTO (SUB-TOTAL 1 + 2 + 3 + 4) = ",{"$f":"L2919+L2914+L2904+L2909","v":0}]
[null,null,null,"RESP. TÉCNICO:",{"$nulls":6},"TOTAL - R$ = ",{"$f":"L2924/G2924","v":0}]
[{"$nulls":10},"BDI (%) = ",{"$f":"$I$3","v":0.2101044698987744}]
[{"$nulls":10},"TOTAL DO SERVIÇO - R$ = ",{"$f":"L2925*L2926+L2925","v":0}]
[]
[null,null,{"$f":"C2933","v":"SERVIÇO: ESCORAMENTO FORMAS ATE H = 3,30M, COM MADEIRA DE 3A QUALIDADE, NAO APARELHADA, APROVEITAMENTO TABUAS 3X E PRUMOS 4X."},{"$f":"I2933","v":"CAC-094"},{"$f":"L2933","v":"M3"},null,null,null,"P. Unit.=",{"$f":"L2956","v":0},{"$f":"$C$5","v":"SINAPI:Abril/2020 (Alagoas/AL) - NÃO DESONERADO"}]
[null,null," COMPOSIÇÃO ANALÍTICA DE CUSTO"]
[]
[null,null,{"$f":"$C$3","v":"EXECUÇÃO DE OBRAS E SERVIÇOS DE RECUPERAÇÃO PARCIAL DO DIQUE DE PROTEÇÃO E RECUPERAÇÃO DOS CANAIS DE IRRIGAÇÃO DO PERÍMETRO IRRIGADO DO ITIÚBA (canal adutor leste, P12, S1P12 e S2P12) E DOS CANAIS DE IRRIGAÇÃO (CLI e CLII) DO PERÍMETRO IRRIGADO DO BOACICA."},{"$nulls":4},"CODEVASF",null,null,"DATA: ANO 2017"]
[null,null,"SERVIÇO: ESCORAMENTO FORMAS ATE H = 3,30M, COM MADEIRA DE 3A QUALIDADE, NAO APARELHADA, APROVEITAMENTO TABUAS 3X E PRUMOS 4X.",{"$nulls":4},"COD: ","CAC-094",null,"UNIDADE: ","M3"]
[]
[null,null,"SERVIÇOS - COMPOSIÇÕES AUXILIARES ............................................................................................................................................................................",{"$nulls":7},"SUB-TOTAL (1) = ",{"$f":"SUM(L2937:L2938)","v":0}]
[null,null,"DISCRIMINAÇÃO","SINAPI","UNID",null,"QTDE","PROD","IMPROD","P.UNIT. PROD","P.UNIT. IMPR","P.TOTAL"]
[null,null,"ESCORAMENTO FORMAS ATE H = 3,30M, COM MADEIRA DE 3A QUALIDADE, NAO APARELHADA, APROVEITAMENTO TABUAS 3X E PRUMOS 4X.",73301,"M3",null,1,null,null,{"$f":"IFERROR(VLOOKUP(D2937,$D$7:$J$7,6,0),0)","v":0},null,{"$f":"G2937*J2937","v":0}]
[{"$nulls":11},{"$f":"G2938*J2938","v":0}]
[]
[null,null,"EQUIPAMENTO .............................................................................................................................................................................................................................",{"$nulls":7},"SUB-TOTAL (2) = ",{"$f":"SUM(L2942:L2943)","v":0}]
[null,null,"DISCRIMINAÇÃO","SINAPI","UNID",null,"QTDE","PROD","IMPROD","P.UNIT. PROD","P.UNIT. IMPR","P.TOTAL"]
[{"$nulls":11},{"$f":"G2942*J2942","v":0}]
[{"$nulls":11},{"$f":"G2943*J2943","v":0}]
[]
[null,null,"MATERIAL ........................................................................................................................................................................................................................................",{"$nulls":7},"SUB-TOTAL (3) = ",{"$f":"SUM(L2947:L2948)","v":0}]
[null,null,"DISCRIMINAÇÃO","SINAPI","UNID",null,"QTDE","PROD","IMPROD","P.UNIT. PROD","P.UNIT. IMPR","P.TOTAL"]
[{"$nulls":11},{"$f":"G2947*J2947","v":0}]
[{"$nulls":11},{"$f":"G2948*J2948","v":0}]
[]
[null,null,"MÃO DE OBRA .................................................................................................................................................................................................................................",{"$nulls":7},"SUB-TOTAL (4) = ",{"$f":"SUM(L2952:L2953)","v":0}]
[null,null,"DISCRIMINAÇÃO","SINAPI","UNID",null,"QTDE","PROD","IMPROD","P.UNIT. PROD","P.UNIT. IMPR","P.TOTAL"]
[{"$nulls":11},{"$f":"G2952*J2952","v":0}]
[{"$nulls":11},{"$f":"G2953*J2953","v":0}]
[]
[null,null,"OBSERVAÇÕES:","PROD DA EQUIPE =",null,null,1,null,null,null,"CUSTO (SUB-TOTAL 1 + 2 + 3 + 4) = ",{"$f":"L2950+L2945+L2935+L2940","v":0}]
[null,null,null,"RESP. TÉCNICO:",{"$nulls":6},"TOTAL - R$ = ",{"$f":"L2955/G2955","v":0}]
[{"$nulls":10},"BDI (%) = ",{"$f":"$I$3","v":0.2101044698987744}]
[{"$nulls":10},"TOTAL DO SERVIÇO - R$ = ",{"$f":"L2956*L2957+L2956","v":0}]
[]
[null,null,{"$f":"C2964","v":"SERVIÇO: CONCRETO FCK = 30MPA, TRAÇO 1:2,1:2,5 (CIMENTO/ AREIA MÉDIA/ BRITA 1)  - PREPARO MECÂNICO COM BETONEIRA 600 L, INCLUSIVE LANÇAMENTO E ADENSAMENTO"},{"$f":"I2964","v":"CAC-095"},{"$f":"L2964","v":"M3"},null,null,null,"P. Unit.=",{"$f":"L2988","v":0},{"$f":"$C$5","v":"SINAPI:Abril/2020 (Alagoas/AL) - NÃO DESONERADO"}]
[null,null," COMPOSIÇÃO ANALÍTICA DE CUSTO"]
[]
[null,null,{"$f":"$C$3","v":"EXECUÇÃO DE OBRAS E SERVIÇOS DE RECUPERAÇÃO PARCIAL DO DIQUE DE PROTEÇÃO E RECUPERAÇÃO DOS CANAIS DE IRRIGAÇÃO DO PERÍMETRO IRRIGADO DO ITIÚBA (canal adutor leste, P12, S1P12 e S2P12) E DOS CANAIS DE IRRIGAÇÃO (CLI e CLII) DO PERÍMETRO IRRIGADO DO BOACICA."},{"$nulls":4},"CODEVASF",null,null,"DATA: ANO 2017"]
[null,null,"SERVIÇO: CONCRETO FCK = 30MPA, TRAÇO 1:2,1:2,5 (CIMENTO/ AREIA MÉDIA/ BRITA 1)  - PREPARO MECÂNICO COM BETONEIRA 600 L, INCLUSIVE LANÇAMENTO E ADENSAMENTO",{"$nulls":4},"COD: ","CAC-095",null,"UNIDADE: ","M3"]
[]
[null,null,"SERVIÇOS - COMPOSIÇÕES AUXILIARES ............................................................................................................................................................................",{"$nulls":7},"SUB-TOTAL (1) = ",{"$f":"SUM(L2968:L2970)","v":0}]
[null,null,"DISCRIMINAÇÃO","SINAPI","UNID",null,"QTDE","PROD","IMPROD","P.UNIT. PROD","P.UNIT. IMPR","P.TOTAL"]
[null,null,"CONCRETO FCK = 30MPA, TRAÇO 1:2,1:2,5 (CIMENTO/ AREIA MÉDIA/ BRITA 1)  - PREPARO MECÂNICO COM BETONEIRA 600 L. AF_07/2016",94972,"M3",null,1,null,null,{"$f":"IFERROR(VLOOKUP(D2968,$D$7:$J$7,6,0),0)","v":0},null,{"$f":"G2968*J2968","v":0}]
[null,null,"LANÇAMENTO COM USO DE BALDES, ADENSAMENTO E ACABAMENTO DE CONCRETO EM ESTRUTURAS. AF_12/2015",92873,"M3",null,1,null,null,{"$f":"IFERROR(VLOOKUP(D2969,$D$7:$J$7,6,0),0)","v":0},null,{"$f":"G2969*J2969","v":0}]
[]
[]
[null,null,"EQUIPAMENTO .............................................................................................................................................................................................................................",{"$nulls":7},"SUB-TOTAL (2) = ",{"$f":"SUM(L2974:L2975)","v":0}]
[null,null,"DISCRIMINAÇÃO","SINAPI","UNID",null,"QTDE","PROD","IMPROD","P.UNIT. PROD","P.UNIT. IMPR","P.TOTAL"]
[{"$nulls":11},{"$f":"G2974*J2974","v":0}]
[{"$nulls":11},{"$f":"G2975*J2975","v":0}]
[]
[null,null,"MATERIAL ........................................................................................................................................................................................................................................",{"$nulls":7},"SUB-TOTAL (3) = ",{"$f":"SUM(L2979:L2980)","v":0}]
[null,null,"DISCRIMINAÇÃO","SINAPI","UNID",null,"QTDE","PROD","IMPROD","P.UNIT. PROD","P.UNIT. IMPR","P.TOTAL"]
[{"$nulls":11},{"$f":"G2979*J2979","v":0}]
[{"$nulls":11},{"$f":"G2980*J2980","v":0}]
[]
[null,null,"MÃO DE OBRA .................................................................................................................................................................................................................................",{"$nulls":7},"SUB-TOTAL (4) = ",{"$f":"SUM(L2984:L2985)","v":0}]
[null,null,"DISCRIMINAÇÃO","SINAPI","UNID",null,"QTDE","PROD","IMPROD","P.UNIT. PROD","P.UNIT. IMPR","P.TOTAL"]
[{"$nulls":11},{"$f":"G2984*J2984","v":0}]
[{"$nulls":11},{"$f":"G2985*J2985","v":0}]
[]
[null,null,"OBSERVAÇÕES:","PROD DA EQUIPE =",null,null,1,null,null,null,"CUSTO (SUB-TOTAL 1 + 2 + 3 + 4) = ",{"$f":"L2982+L2977+L2966+L2972","v":0}]
[null,null,null,"RESP. TÉCNICO:",{"$nulls":6},"TOTAL - R$ = ",{"$f":"L2987/G2987","v":0}]
[{"$nulls":10},"BDI (%) = ",{"$f":"$I$3","v":0.2101044698987744}]
[{"$nulls":10},"TOTAL DO SERVIÇO - R$ = ",{"$f":"L2988*L2989+L2988","v":0}]
[]
[null,null,{"$f":"C2996","v":"SERVIÇO: RECUPERAÇÃO DA SUPERFÍCIE DO CONCRETO, COM CIMENTO ESPECIAL CRISTALIZANTE E ADESIVO LIQUIDO, UMA DEMÃO"},{"$f":"I2996","v":"CAC-096"},{"$f":"L2996","v":"M2"},null,null,null,"P. Unit.=",{"$f":"L3021","v":0},{"$f":"$C$5","v":"SINAPI:Abril/2020 (Alagoas/AL) - NÃO DESONERADO"}]
[null,null," COMPOSIÇÃO ANALÍTICA DE CUSTO"]
[]
[null,null,{"$f":"$C$3","v":"EXECUÇÃO DE OBRAS E SERVIÇOS DE RECUPERAÇÃO PARCIAL DO DIQUE DE PROTEÇÃO E RECUPERAÇÃO DOS CANAIS DE IRRIGAÇÃO DO PERÍMETRO IRRIGADO DO ITIÚBA (canal adutor leste, P12, S1P12 e S2P12) E DOS CANAIS DE IRRIGAÇÃO (CLI e CLII) DO PERÍMETRO IRRIGADO DO BOACICA."},{"$nulls":4},"CODEVASF",null,null,"DATA: ANO 2017"]
[null,null,"SERVIÇO: RECUPERAÇÃO DA SUPERFÍCIE DO CONCRETO, COM CIMENTO ESPECIAL CRISTALIZANTE E ADESIVO LIQUIDO, UMA DEMÃO",{"$nulls":4},"COD: ","CAC-096",null,"UNIDADE: ","M2"]
[]
[null,null,"SERVIÇOS - COMPOSIÇÕES AUXILIARES ............................................................................................................................................................................",{"$nulls":7},"SUB-TOTAL (1) = ",{"$f":"SUM(L3000:L3003)","v":0}]
[null,null,"DISCRIMINAÇÃO","SINAPI","UNID",null,"QTDE","PROD","IMPROD","P.UNIT. PROD","P.UNIT. IMPR","P.TOTAL"]
[null,null,"LIMPEZA DE SUPERFICIES COM JATO DE ALTA PRESSAO DE AR E AGUA","73806/001","M2",null,1,null,null,{"$f":"IFERROR(VLOOKUP(D3000,$D$7:$J$7,6,0),0)","v":0},null,{"$f":"G3000*J3000","v":0}]
[null,null,"LIXAMENTO MAN C/ LIXA CALAFATE DE CONCR APARENTE ANTIGO",84123,"M2",null,1,null,null,{"$f":"IFERROR(VLOOKUP(D3001,$D$7:$J$7,6,0),0)","v":0},null,{"$f":"G3001*J3001","v":0}]
[null,null,"IMPERMEABILIZACAO DE SUPERFICIE COM CIMENTO ESPECIAL CRISTALIZANTE COM ADESIVO LIQUIDO, UMA DEMAO.","73929/001","M2",null,1,null,null,{"$f":"IFERROR(VLOOKUP(D3002,$D$7:$J$7,6,0),0)","v":0},null,{"$f":"G3002*J3002","v":0}]
[]
[]
[null,null,"EQUIPAMENTO .............................................................................................................................................................................................................................",{"$nulls":7},"SUB-TOTAL (2) = ",{"$f":"SUM(L3007:L3008)","v":0}]
[null,null,"DISCRIMINAÇÃO","SINAPI","UNID",null,"QTDE","PROD","IMPROD","P.UNIT. PROD","P.UNIT. IMPR","P.TOTAL"]
[{"$nulls":11},{"$f":"G3007*J3007","v":0}]
[{"$nulls":11},{"$f":"G3008*J3008","v":0}]
[]
[null,null,"MATERIAL ........................................................................................................................................................................................................................................",{"$nulls":7},"SUB-TOTAL (3) = ",{"$f":"SUM(L3012:L3013)","v":0}]
[null,null,"DISCRIMINAÇÃO","SINAPI","UNID",null,"QTDE","PROD","IMPROD","P.UNIT. PROD","P.UNIT. IMPR","P.TOTAL"]
[{"$nulls":11},{"$f":"G3012*J3012","v":0}]
[{"$nulls":11},{"$f":"G3013*J3013","v":0}]
[]
[null,null,"MÃO DE OBRA .................................................................................................................................................................................................................................",{"$nulls":7},"SUB-TOTAL (4) = ",{"$f":"SUM(L3017:L3018)","v":0}]
[null,null,"DISCRIMINAÇÃO","SINAPI","UNID",null,"QTDE","PROD","IMPROD","P.UNIT. PROD","P.UNIT. IMPR","P.TOTAL"]
[{"$nulls":11},{"$f":"G3017*J3017","v":0}]
[{"$nulls":11},{"$f":"G3018*J3018","v":0}]
[]
[null,null,"OBSERVAÇÕES:","PROD DA EQUIPE =",null,null,1,null,null,null,"CUSTO (SUB-TOTAL 1 + 2 + 3 + 4) = ",{"$f":"L3015+L3010+L2998+L3005","v":0}]
[null,null,null,"RESP. TÉCNICO:",{"$nulls":6},"TOTAL - R$ = ",{"$f":"L3020/G3020","v":0}]
[{"$nulls":10},"BDI (%) = ",{"$f":"$I$3","v":0.2101044698987744}]
[{"$nulls":10},"TOTAL DO SERVIÇO - R$ = ",{"$f":"L3021*L3022+L3021","v":0}]
[]
[null,null,{"$f":"C3029","v":"SERVIÇO: REPARO/COLAGEM DE ESTRUTURAS DE CONCRETO COM ADESIVO ESTRUTURAL A BASE DE EPOXI, E=2 MM"},{"$f":"I3029","v":"CAC-097"},{"$f":"L3029","v":"M2"},null,null,null,"P. Unit.=",{"$f":"L3053","v":0},{"$f":"$C$5","v":"SINAPI:Abril/2020 (Alagoas/AL) - NÃO DESONERADO"}]
[null,null," COMPOSIÇÃO ANALÍTICA DE CUSTO"]
[]
[null,null,{"$f":"$C$3","v":"EXECUÇÃO DE OBRAS E SERVIÇOS DE RECUPERAÇÃO PARCIAL DO DIQUE DE PROTEÇÃO E RECUPERAÇÃO DOS CANAIS DE IRRIGAÇÃO DO PERÍMETRO IRRIGADO DO ITIÚBA (canal adutor leste, P12, S1P12 e S2P12) E DOS CANAIS DE IRRIGAÇÃO (CLI e CLII) DO PERÍMETRO IRRIGADO DO BOACICA."},{"$nulls":4},"CODEVASF",null,null,"DATA: ANO 2017"]
[null,null,"SERVIÇO: REPARO/COLAGEM DE ESTRUTURAS DE CONCRETO COM ADESIVO ESTRUTURAL A BASE DE EPOXI, E=2 MM",{"$nulls":4},"COD: ","CAC-097",null,"UNIDADE: ","M2"]
[]
[null,null,"SERVIÇOS - COMPOSIÇÕES AUXILIARES ............................................................................................................................................................................",{"$nulls":7},"SUB-TOTAL (1) = ",{"$f":"SUM(L3033:L3035)","v":0}]
[null,null,"DISCRIMINAÇÃO","SINAPI","UNID",null,"QTDE","PROD","IMPROD","P.UNIT. PROD","P.UNIT. IMPR","P.TOTAL"]
[null,null,"LIMPEZA DE SUPERFICIES COM JATO DE ALTA PRESSAO DE AR E AGUA","73806/001","M2",null,1,null,null,{"$f":"IFERROR(VLOOKUP(D3033,$D$7:$J$7,6,0),0)","v":0},null,{"$f":"G3033*J3033","v":0}]
[null,null,"REPARO/COLAGEM DE ESTRUTURAS DE CONCRETO COM ADESIVO ESTRUTURAL A BASE DE EPOXI, E=2 MM",83736,"M2",null,1,null,null,{"$f":"IFERROR(VLOOKUP(D3034,$D$7:$J$7,6,0),0)","v":0},null,{"$f":"G3034*J3034","v":0}]
[]
[]
[null,null,"EQUIPAMENTO .............................................................................................................................................................................................................................",{"$nulls":7},"SUB-TOTAL (2) = ",{"$f":"SUM(L3039:L3040)","v":0}]
[null,null,"DISCRIMINAÇÃO","SINAPI","UNID",null,"QTDE","PROD","IMPROD","P.UNIT. PROD","P.UNIT. IMPR","P.TOTAL"]
[{"$nulls":11},{"$f":"G3039*J3039","v":0}]
[{"$nulls":11},{"$f":"G3040*J3040","v":0}]
[]
[null,null,"MATERIAL ........................................................................................................................................................................................................................................",{"$nulls":7},"SUB-TOTAL (3) = ",{"$f":"SUM(L3044:L3045)","v":0}]
[null,null,"DISCRIMINAÇÃO","SINAPI","UNID",null,"QTDE","PROD","IMPROD","P.UNIT. PROD","P.UNIT. IMPR","P.TOTAL"]
[{"$nulls":11},{"$f":"G3044*J3044","v":0}]
[{"$nulls":11},{"$f":"G3045*J3045","v":0}]
[]
[null,null,"MÃO DE OBRA .................................................................................................................................................................................................................................",{"$nulls":7},"SUB-TOTAL (4) = ",{"$f":"SUM(L3049:L3050)","v":0}]
[null,null,"DISCRIMINAÇÃO","SINAPI","UNID",null,"QTDE","PROD","IMPROD","P.UNIT. PROD","P.UNIT. IMPR","P.TOTAL"]
[{"$nulls":11},{"$f":"G3049*J3049","v":0}]
[{"$nulls":11},{"$f":"G3050*J3050","v":0}]
[]
[null,null,"OBSERVAÇÕES:","PROD DA EQUIPE =",null,null,1,null,null,null,"CUSTO (SUB-TOTAL 1 + 2 + 3 + 4) = ",{"$f":"L3047+L3042+L3031+L3037","v":0}]
[null,null,null,"RESP. TÉCNICO:",{"$nulls":6},"TOTAL - R$ = ",{"$f":"L3052/G3052","v":0}]
[{"$nulls":10},"BDI (%) = ",{"$f":"$I$3","v":0.2101044698987744}]
[{"$nulls":10},"TOTAL DO SERVIÇO - R$ = ",{"$f":"L3053*L3054+L3053","v":0}]
[]
[null,null,{"$f":"C3061","v":"SERVIÇO: EXECUÇÃO DE VIGAS LATERAIS EM CONCRETO PROTENDIDO PÓS-TENSÃO, INCLUSIVE INSERTS NO CONCRETO DO PONTILHÃO, ARMADURA CONVENCIONAL, CONCRETO 30 MPA, FORMAS, ESCORAMENTO"},{"$f":"I3061","v":"CAC-098"},{"$f":"L3061","v":"M"},null,null,null,"P. Unit.=",{"$f":"L3097","v":0},{"$f":"$C$5","v":"SINAPI:Abril/2020 (Alagoas/AL) - NÃO DESONERADO"}]
[null,null," COMPOSIÇÃO ANALÍTICA DE CUSTO"]
[]
[null,null,{"$f":"$C$3","v":"EXECUÇÃO DE OBRAS E SERVIÇOS DE RECUPERAÇÃO PARCIAL DO DIQUE DE PROTEÇÃO E RECUPERAÇÃO DOS CANAIS DE IRRIGAÇÃO DO PERÍMETRO IRRIGADO DO ITIÚBA (canal adutor leste, P12, S1P12 e S2P12) E DOS CANAIS DE IRRIGAÇÃO (CLI e CLII) DO PERÍMETRO IRRIGADO DO BOACICA."},{"$nulls":4},"CODEVASF",null,null,"DATA: ANO 2017"]
[null,null,"SERVIÇO: EXECUÇÃO DE VIGAS LATERAIS EM CONCRETO PROTENDIDO PÓS-TENSÃO, INCLUSIVE INSERTS NO CONCRETO DO PONTILHÃO, ARMADURA CONVENCIONAL, CONCRETO 30 MPA, FORMAS, ESCORAMENTO",{"$nulls":4},"COD: ","CAC-098",null,"UNIDADE: ","M"]
[]
[null,null,"SERVIÇOS - COMPOSIÇÕES AUXILIARES ............................................................................................................................................................................",{"$nulls":7},"SUB-TOTAL (1) = ",{"$f":"SUM(L3065:L3074)","v":0}]
[null,null,"DISCRIMINAÇÃO","SINAPI","UNID",null,"QTDE","PROD","IMPROD","P.UNIT. PROD","P.UNIT. IMPR","P.TOTAL"]
[null,null,"LIMPEZA DE SUPERFICIES COM JATO DE ALTA PRESSAO DE AR E AGUA","73806/001","M2",null,0.3,null,null,{"$f":"IFERROR(VLOOKUP(D3065,$D$7:$J$7,6,0),0)","v":0},null,{"$f":"G3065*J3065","v":0}]
[null,null,"REPARO/COLAGEM DE ESTRUTURAS DE CONCRETO COM ADESIVO ESTRUTURAL A BASE DE EPOXI, E=2 MM",83736,"M2",null,0.3,null,null,0,null,0]
[null,null,"CONCRETO FCK = 30MPA, TRAÇO 1:2,1:2,5 (CIMENTO/ AREIA MÉDIA/ BRITA 1)  - PREPARO MECÂNICO COM BETONEIRA 600 L. AF_07/2016",94972,"M3",null,0.06,null,null,0,null,0]
[null,null,"LANÇAMENTO COM USO DE BALDES, ADENSAMENTO E ACABAMENTO DE CONCRETO EM ESTRUTURAS. AF_12/2015",92873,"M3",null,0.06,null,null,0,null,0]
[null,null,"ARMAÇÃO DE LAJE DE UMA ESTRUTURA CONVENCIONAL DE CONCRETO ARMADO EM UM EDIFÍCIO DE MÚLTIPLOS PAVIMENTOS UTILIZANDO AÇO CA-50 DE 16.0 MM - MONTAGEM. AF_12/2015_P",92773,"KG",null,6.47,null,null,0,null,0]
[null,null,"ARMAÇÃO DE LAJE DE UMA ESTRUTURA CONVENCIONAL DE CONCRETO ARMADO EM UM EDIFÍCIO DE MÚLTIPLOS PAVIMENTOS UTILIZANDO AÇO CA-50 DE 10.0 MM - MONTAGEM. AF_12/2015_P",92771,"KG",null,3.91,null,null,0,null,0]
[null,null,"ARMAÇÃO DE LAJE DE UMA ESTRUTURA CONVENCIONAL DE CONCRETO ARMADO EM UM EDIFÍCIO DE MÚLTIPLOS PAVIMENTOS UTILIZANDO AÇO CA-50 DE 6.3 MM - MONTAGEM. AF_12/2015_P",92769,"KG",null,0.91,null,null,0,null,0]
[null,null,"PROTENÇÃO PÓS-TENSÃO COM TIRANTE PROTENDIDO P/ CORT. AÇO ST 85/105 D= 32MM, INCLUSIVE ANCORAGEM","CAC-099","M",null,1,null,null,{"$f":"J3101","v":0},null,0]
[]
[]
[]
[null,null,"EQUIPAMENTO .............................................................................................................................................................................................................................",{"$nulls":7},"SUB-TOTAL (2) = ",{"$f":"SUM(L3078:L3083)","v":0}]
[null,null,"DISCRIMINAÇÃO","SINAPI","UNID",null,"QTDE","PROD","IMPROD","P.UNIT. PROD","P.UNIT. IMPR","P.TOTAL"]
[null,null,"MARTELETE OU ROMPEDOR PNEUMÁTICO MANUAL, 28 KG, COM SILENCIADOR - CHP DIURNO. AF_07/2016",5795,"CHP",null,1,null,null,{"$f":"IFERROR(VLOOKUP(D3078,$D$7:$J$7,6,0),0)","v":0},null,{"$f":"G3078*J3078","v":0}]
[null,null,"MARTELETE OU ROMPEDOR PNEUMÁTICO MANUAL, 28 KG, COM SILENCIADOR - CHI DIURNO. AF_07/2016",5952,"CHI",null,{"$f":"G3078","v":1},null,null,{"$f":"IFERROR(VLOOKUP(D3079,$D$7:$J$7,6,0),0)","v":0},null,0]
[null,null,"GRUPO GERADOR REBOCÁVEL, POTÊNCIA 66 KVA, MOTOR A DIESEL - CHP DIURNO. AF_03/2016",93421,"CHP",null,{"$f":"G3078","v":1},null,null,{"$f":"IFERROR(VLOOKUP(D3080,$D$7:$J$7,6,0),0)","v":0},null,0]
[null,null,"GRUPO GERADOR REBOCÁVEL, POTÊNCIA 66 KVA, MOTOR A DIESEL - CHI DIURNO. AF_03/2016",93422,"CHI",null,{"$f":"G3078","v":1},null,null,{"$f":"IFERROR(VLOOKUP(D3081,$D$7:$J$7,6,0),0)","v":0},null,0]
[null,null,"CAMINHÃO TOCO, PBT 16.000 KG, CARGA ÚTIL MÁX. 10.685 KG, DIST. ENTRE EIXOS 4,8 M, POTÊNCIA 189 CV, INCLUSIVE CARROCERIA FIXA ABERTA DE MADEIRA P/ TRANSPORTE GERAL DE CARGA SECA, DIMEN. APROX. 2,5 X 7,00 X 0,50 M - CHP DIURNO. AF_06/2014",5824,"CHP",null,{"$f":"1/6","v":0.16666666666666666},null,null,{"$f":"IFERROR(VLOOKUP(D3082,$D$7:$J$7,6,0),0)","v":0},null,0]
[{"$nulls":11},0]
[]
[null,null,"MATERIAL ........................................................................................................................................................................................................................................",{"$nulls":7},"SUB-TOTAL (3) = ",{"$f":"SUM(L3087:L3088)","v":0}]
[null,null,"DISCRIMINAÇÃO","SINAPI","UNID",null,"QTDE","PROD","IMPROD","P.UNIT. PROD","P.UNIT. IMPR","P.TOTAL"]
[null,null,"ADESIVO ESTRUTURAL A BASE DE RESINA EPOXI, BICOMPONENTE, FLUIDO",156,"KG",null,1,null,null,{"$f":"IFERROR(VLOOKUP(D3087,$D$7:$J$7,6,0),0)","v":0},null,{"$f":"G3087*J3087","v":0}]
[{"$nulls":11},{"$f":"G3088*J3088","v":0}]
[]
[null,null,"MÃO DE OBRA .................................................................................................................................................................................................................................",{"$nulls":7},"SUB-TOTAL (4) = ",{"$f":"SUM(L3092:L3094)","v":0}]
[null,null,"DISCRIMINAÇÃO","SINAPI","UNID",null,"QTDE","PROD","IMPROD","P.UNIT. PROD","P.UNIT. IMPR","P.TOTAL"]
[null,null,"PEDREIRO COM ENCARGOS COMPLEMENTARES",88309,"H",null,{"$f":"G3078","v":1},null,null,{"$f":"IFERROR(VLOOKUP(D3092,$D$7:$J$7,6,0),0)","v":0},null,{"$f":"G3092*J3092","v":0}]
[null,null,"SERVENTE COM ENCARGOS COMPLEMENTARES",88316,"H",null,{"$f":"G3092","v":1},null,null,{"$f":"IFERROR(VLOOKUP(D3093,$D$7:$J$7,6,0),0)","v":0},null,{"$f":"G3093*J3093","v":0}]
[{"$nulls":11},{"$f":"G3094*J3094","v":0}]
[]
[null,null,"OBSERVAÇÕES:","PROD DA EQUIPE =",null,null,1,null,null,null,"CUSTO (SUB-TOTAL 1 + 2 + 3 + 4) = ",{"$f":"L3090+L3085+L3063+L3076","v":0}]
[null,null,null,"RESP. TÉCNICO:",{"$nulls":6},"TOTAL - R$ = ",{"$f":"L3096/G3096","v":0}]
[{"$nulls":10},"BDI (%) = ",{"$f":"$I$3","v":0.2101044698987744}]
[{"$nulls":10},"TOTAL DO SERVIÇO - R$ = ",{"$f":"L3097*L3098+L3097","v":0}]
[]
[null,null,{"$f":"C3105","v":"SERVIÇOS: PROTENÇÃO PÓS-TENSÃO COM TIRANTE PROTENDIDO P/ CORT. AÇO ST 85/105 D= 32MM, INCLUSIVE ANCORAGEM"},{"$f":"I3105","v":"CAC-099"},{"$f":"L3105","v":"M"},null,null,null,"P. Unit.=",{"$f":"L3139","v":0},{"$f":"$C$5","v":"SINAPI:Abril/2020 (Alagoas/AL) - NÃO DESONERADO"}]
[null,null," COMPOSIÇÃO ANALÍTICA DE CUSTO"]
[]
[null,null,{"$f":"$C$3","v":"EXECUÇÃO DE OBRAS E SERVIÇOS DE RECUPERAÇÃO PARCIAL DO DIQUE DE PROTEÇÃO E RECUPERAÇÃO DOS CANAIS DE IRRIGAÇÃO DO PERÍMETRO IRRIGADO DO ITIÚBA (canal adutor leste, P12, S1P12 e S2P12) E DOS CANAIS DE IRRIGAÇÃO (CLI e CLII) DO PERÍMETRO IRRIGADO DO BOACICA."},{"$nulls":4},"CODEVASF",null,null,"DATA: ANO 2017"]
[null,null,"SERVIÇOS: PROTENÇÃO PÓS-TENSÃO COM TIRANTE PROTENDIDO P/ CORT. AÇO ST 85/105 D= 32MM, INCLUSIVE ANCORAGEM",{"$nulls":4},"COD: ","CAC-099",null,"UNIDADE: ","M"]
[]
[null,null,"SERVIÇOS - COMPOSIÇÕES AUXILIARES ............................................................................................................................................................................",{"$nulls":7},"SUB-TOTAL (1) = ",{"$f":"SUM(L3109:L3110)","v":0}]
[null,null,"DISCRIMINAÇÃO","CÓDIGO","UNID",null,"QTDE","PROD","IMPROD","P.UNIT. PROD","P.UNIT. IMPR","P.TOTAL"]
[{"$nulls":11},{"$f":"G3109*J3109","v":0}]
[]
[]
[null,null,"EQUIPAMENTO .............................................................................................................................................................................................................................",{"$nulls":7},"SUB-TOTAL (2) = ",{"$f":"SUM(L3114:L3117)","v":0}]
[null,null,"DISCRIMINAÇÃO","CÓDIGO","UNID",null,"QTDE","PROD","IMPROD","P.UNIT. PROD","P.UNIT. IMPR","P.TOTAL"]
[null,null,"BOMBA DE INJEÇÃO DE ARGAMASSA E NATA COM CAPACIDADE DE 50 L/MIN E MISTURADOR COM TAMBOR DE 150 L - 12,5 KW","SICRO DNIT E9621","H",null,1,1,0,{"$f":"IFERROR(VLOOKUP(D3114,$D$7:$J$7,6,0),0)","v":0},{"$f":"K2850","v":"SUB-TOTAL (3) = "},{"$f":"G3114*J3114","v":0}]
[null,null,"CONJUNTO BOMBA E MACACO HIDRÁULICO PARA PROTENSÃO COM CAPACIDADE DE 1.150 KN","SICRO DNIT E9721","H",null,1,1,0,{"$f":"IFERROR(VLOOKUP(D3115,$D$7:$J$7,6,0),0)","v":0},{"$f":"K2851","v":"P.UNIT. IMPR"},{"$f":"G3115*J3115","v":0}]
[null,null,"GRUPO GERADOR - 13 / 14 KVA","SICRO DNIT E9066","H",null,1,1,0,{"$f":"IFERROR(VLOOKUP(D3116,$D$7:$J$7,6,0),0)","v":0},{"$f":"K2854","v":0},{"$f":"G3116*J3116","v":0}]
[{"$nulls":11},{"$f":"G3117*J3117","v":0}]
[]
[null,null,"MATERIAL ........................................................................................................................................................................................................................................",{"$nulls":7},"SUB-TOTAL (3) = ",{"$f":"SUM(L3121:L3129)","v":0}]
[null,null,"DISCRIMINAÇÃO","CÓDIGO","UNID",null,"QTDE","PROD","IMPROD","P.UNIT. PROD","P.UNIT. IMPR","P.TOTAL"]
[null,null,"BAINHA METÁLICA - D = 40 MM","SICRO DNIT M2465","M",null,8,null,null,{"$f":"IFERROR(VLOOKUP(D3121,$D$7:$J$7,6,0),0)","v":0},null,{"$f":"G3121*J3121","v":0}]
[null,null,"CIMENTO PORTLAND COMPOSTO CP II-32",1379,"KG",null,36.5,null,null,0,null,0]
[null,null,"ESPAÇADOR PARA TIRANTE DE BARRA DE AÇO - D = 32 MM","SICRO DNIT M1935","UNID",null,{"$f":"0.5*8","v":4},null,null,0,null,0]
[null,null,"TIRANTE DE AÇO ST 85/105 DE CAPACIDADE DE 35 T - D = 32 MM","SICRO DNIT M0434","M",null,{"$f":"1.05*8","v":8.4},null,null,0,null,0]
[null,null,"INTERPLAST N","ORSE 08473","KG",null,0.72,null,null,0,null,0]
[null,null,"ADITIVO PLASTIMENT BV-40","ORSE 08472","KG",null,0.31,null,null,0,null,0]
[null,null,"ANCORAGEM P/ CABO 4V D=1/2\" MAC OU SIMILAR","ORSE 08453","UNID",null,1,null,null,0,null,0]
[null,null,"MADEIRA MASSARANDUBA SERRADA PARA ESCORAMENTO (PRANCHÃO) 8X20CM","ORSE 08272","M",null,0.3,null,null,0,null,0]
[{"$nulls":11},{"$f":"G3129*J3129","v":0}]
[]
[null,null,"MÃO DE OBRA .................................................................................................................................................................................................................................",{"$nulls":7},"SUB-TOTAL (4) = ",{"$f":"SUM(L3133:L3136)","v":0}]
[null,null,"DISCRIMINAÇÃO","CÓDIGO","UNID",null,"QTDE","PROD","IMPROD","P.UNIT. PROD","P.UNIT. IMPR","P.TOTAL"]
[null,null,"CARPINTEIRO DE FORMAS (SINAPI)",1213,"H",null,3,null,null,{"$f":"IFERROR(VLOOKUP(D3133,$D$7:$J$7,6,0),0)","v":0},null,{"$f":"G3133*J3133","v":0}]
[null,null,"SERVENTE COM ENCARGOS COMPLEMENTARES (SINAPI)",88316,"H",null,1.85,null,null,{"$f":"IFERROR(VLOOKUP(D3134,$D$7:$J$7,6,0),0)","v":0},null,{"$f":"G3134*J3134","v":0}]
[null,null,"ARMADOR COM ENCARGOS COMPLEMENTARES",88245,"H",null,1.85,null,null,{"$f":"IFERROR(VLOOKUP(D3135,$D$7:$J$7,6,0),0)","v":0},null,{"$f":"G3135*J3135","v":0}]
[{"$nulls":11},{"$f":"G3136*J3136","v":0}]
[]
[null,null,"OBSERVAÇÕES:","PROD DA EQUIPE =",null,null,8,null,null,null,"CUSTO (SUB-TOTAL 1 + 2 + 3 + 4) = ",{"$f":"L3131+L3119+L3107+L3112","v":0}]
[null,null,null,"RESP. TÉCNICO:",{"$nulls":6},"TOTAL - R$ = ",{"$f":"L3138/G3138","v":0}]
[{"$nulls":10},"BDI (%) = ",{"$f":"$I$3","v":0.2101044698987744}]
[{"$nulls":10},"TOTAL DO SERVIÇO - R$ = ",{"$f":"L3139*L3140+L3139","v":0}]
[]
[null,null,{"$f":"C3147","v":"SERVIÇO: LIMPEZA MANUAL COM A RETIRADA DE TERRA SOBRE O TABULEIRO, INCLUSIVE CARGA E DESCARGA MECÂNICA COM CAMINHÃO E RETROESCAVADEIRA E TRANSPORTE ATÉ 1 KM"},{"$f":"I3147","v":"CAC-100"},{"$f":"L3147","v":"M3"},null,null,null,"P. Unit.=",{"$f":"L3173","v":0},{"$f":"$C$5","v":"SINAPI:Abril/2020 (Alagoas/AL) - NÃO DESONERADO"}]
[null,null," COMPOSIÇÃO ANALÍTICA DE CUSTO"]
[]
[null,null,{"$f":"$C$3","v":"EXECUÇÃO DE OBRAS E SERVIÇOS DE RECUPERAÇÃO PARCIAL DO DIQUE DE PROTEÇÃO E RECUPERAÇÃO DOS CANAIS DE IRRIGAÇÃO DO PERÍMETRO IRRIGADO DO ITIÚBA (canal adutor leste, P12, S1P12 e S2P12) E DOS CANAIS DE IRRIGAÇÃO (CLI e CLII) DO PERÍMETRO IRRIGADO DO BOACICA."},{"$nulls":4},"CODEVASF",null,null,"DATA: ANO 2017"]
[null,null,"SERVIÇO: LIMPEZA MANUAL COM A RETIRADA DE TERRA SOBRE O TABULEIRO, INCLUSIVE CARGA E DESCARGA MECÂNICA COM CAMINHÃO E RETROESCAVADEIRA E TRANSPORTE ATÉ 1 KM",{"$nulls":4},"COD: ","CAC-100",null,"UNIDADE: ","M3"]
[]
[null,null,"SERVIÇOS - COMPOSIÇÕES AUXILIARES ............................................................................................................................................................................",{"$nulls":7},"SUB-TOTAL (1) = ",{"$f":"SUM(L3151:L3155)","v":0}]
[null,null,"DISCRIMINAÇÃO","SINAPI","UNID",null,"QTDE","PROD","IMPROD","P.UNIT. PROD","P.UNIT. IMPR","P.TOTAL"]
[null,null,"ESCAVAÇÃO MANUAL DE VALAS. AF_03/2016",93358,"M3",null,1,null,null,{"$f":"IFERROR(VLOOKUP(D3151,$D$7:$J$7,6,0),0)","v":0},null,{"$f":"G3151*J3151","v":0}]
[null,null,"CAMINHÃO BASCULANTE 6 M3, PESO BRUTO TOTAL 16.000 KG, CARGA ÚTIL MÁXIMA 13.071 KG, DISTÂNCIA ENTRE EIXOS 4,80 M, POTÊNCIA 230 CV INCLUSIVE CAÇAMBA METÁLICA - CHP DIURNO. AF_06/2014",5811,"CHP",null,0.05,null,null,{"$f":"IFERROR(VLOOKUP(D3152,$D$7:$J$7,6,0),0)","v":0},null,{"$f":"G3152*J3152","v":0}]
[null,null,"RETROESCAVADEIRA SOBRE RODAS COM CARREGADEIRA, TRAÇÃO 4X2, POTÊNCIA LÍQ. 79 HP, CAÇAMBA CARREG. CAP. MÍN. 1 M3, CAÇAMBA RETRO CAP. 0,20 M3, PESO OPERACIONAL MÍN. 6.570 KG, PROFUNDIDADE ESCAVAÇÃO MÁX. 4,37 M – CHP DIURNO. AF_06/2014",5680,"M3",null,0.05,null,null,{"$f":"IFERROR(VLOOKUP(D3153,$D$7:$J$7,6,0),0)","v":0},null,{"$f":"G3153*J3153","v":0}]
[null,null,"TRANSPORTE COMERCIAL COM CAMINHAO BASCULANTE 6 M3, RODOVIA EM LEITO NATURAL",72885,"M3XKM",null,1,null,null,{"$f":"IFERROR(VLOOKUP(D3154,$D$7:$J$7,6,0),0)","v":0},null,{"$f":"G3154*J3154","v":0}]
[]
[]
[null,null,"EQUIPAMENTO .............................................................................................................................................................................................................................",{"$nulls":7},"SUB-TOTAL (2) = ",{"$f":"SUM(L3159:L3160)","v":0}]
[null,null,"DISCRIMINAÇÃO","SINAPI","UNID",null,"QTDE","PROD","IMPROD","P.UNIT. PROD","P.UNIT. IMPR","P.TOTAL"]
[{"$nulls":11},{"$f":"G3159*J3159","v":0}]
[{"$nulls":11},{"$f":"G3160*J3160","v":0}]
[]
[null,null,"MATERIAL ........................................................................................................................................................................................................................................",{"$nulls":7},"SUB-TOTAL (3) = ",{"$f":"SUM(L3164:L3165)","v":0}]
[null,null,"DISCRIMINAÇÃO","SINAPI","UNID",null,"QTDE","PROD","IMPROD","P.UNIT. PROD","P.UNIT. IMPR","P.TOTAL"]
[{"$nulls":11},{"$f":"G3164*J3164","v":0}]
[{"$nulls":11},{"$f":"G3165*J3165","v":0}]
[]
[null,null,"MÃO DE OBRA .................................................................................................................................................................................................................................",{"$nulls":7},"SUB-TOTAL (4) = ",{"$f":"SUM(L3169:L3170)","v":0}]
[null,null,"DISCRIMINAÇÃO","SINAPI","UNID",null,"QTDE","PROD","IMPROD","P.UNIT. PROD","P.UNIT. IMPR","P.TOTAL"]
[{"$nulls":11},{"$f":"G3169*J3169","v":0}]
[{"$nulls":11},{"$f":"G3170*J3170","v":0}]
[]
[null,null,"OBSERVAÇÕES:","PROD DA EQUIPE =",null,null,1,null,null,null,"CUSTO (SUB-TOTAL 1 + 2 + 3 + 4) = ",{"$f":"L3167+L3162+L3149+L3157","v":0}]
[null,null,null,"RESP. TÉCNICO:",{"$nulls":6},"TOTAL - R$ = ",{"$f":"L3172/G3172","v":0}]
[{"$nulls":10},"BDI (%) = ",{"$f":"$I$3","v":0.2101044698987744}]
[{"$nulls":10},"TOTAL DO SERVIÇO - R$ = ",{"$f":"L3173*L3174+L3173","v":0}]
[]
[]
[]
[null,null,{"$f":"C3183","v":"SERVIÇO: MONTAGEM DE MÓDULOS VAZADORES, INCLUSIVE MÃO DE OBRA, TRANSPORTE E MATERIAIS DE FIXAÇÃO - TIPO XX2"},{"$f":"I3183","v":"CAC-103"},{"$f":"L3183","v":"UNID"},null,null,null,"P. Unit.=",{"$f":"L3214","v":0},{"$f":"$C$5","v":"SINAPI:Abril/2020 (Alagoas/AL) - NÃO DESONERADO"}]
[null,null," COMPOSIÇÃO ANALÍTICA DE CUSTO"]
[]
[null,null," COMPOSIÇÃO ANALÍTICA DE CUSTO",{"$nulls":4},"CODEVASF",null,null,"DATA: ANO 2017"]
[null,null,"SERVIÇO: MONTAGEM DE MÓDULOS VAZADORES, INCLUSIVE MÃO DE OBRA, TRANSPORTE E MATERIAIS DE FIXAÇÃO - TIPO XX2",{"$nulls":4},"COD: ","CAC-103",null,"UNIDADE: ","UNID"]
[]
[null,null,"SERVIÇOS - COMPOSIÇÕES AUXILIARES ............................................................................................................................................................................",{"$nulls":7},"SUB-TOTAL (1) = ",{"$f":"SUM(L3187:L3189)","v":0}]
[null,null,"DISCRIMINAÇÃO","SINAPI","UNID",null,"QTDE","PROD","IMPROD","P.UNIT. PROD","P.UNIT. IMPR","P.TOTAL"]
[null,null,"GRAUTE FGK=20 MPA; TRAÇO 1:0,04:1,6:1,9 (CIMENTO/ CAL/ AREIA GROSSA/ BRITA 0) - PREPARO MECÂNICO COM BETONEIRA 400 L. AF_02/2015",90279,"M3",null,0.48,null,null,{"$f":"IFERROR(VLOOKUP(D3187,$D$7:$J$7,6,0),0)","v":0},null,{"$f":"J3187*G3187","v":0}]
[null,null,"LANÇAMENTO COM USO DE BALDES, ADENSAMENTO E ACABAMENTO DE CONCRETO EM ESTRUTURAS. AF_12/2015",92873,"M3",null,0.48,null,null,{"$f":"IFERROR(VLOOKUP(D3188,$D$7:$J$7,6,0),0)","v":0},null,{"$f":"J3188*G3188","v":0}]
[null,null,"LIMPEZA DE SUPERFICIES COM JATO DE ALTA PRESSAO DE AR E AGUA","73806/001","M2",null,2.9,null,null,{"$f":"IFERROR(VLOOKUP(D3189,$D$7:$J$7,6,0),0)","v":0},null,{"$f":"J3189*G3189","v":0}]
[]
[]
[null,null,"EQUIPAMENTO .............................................................................................................................................................................................................................",{"$nulls":7},"SUB-TOTAL (2) = ",{"$f":"SUM(L3194:L3195)","v":0}]
[null,null,"DISCRIMINAÇÃO","SINAPI","UNID",null,"QTDE","PROD","IMPROD","P.UNIT. PROD","P.UNIT. IMPR","P.TOTAL"]
[null,null,"GUINDAUTO HIDRÁULICO, CAPACIDADE MÁXIMA DE CARGA 6500 KG, MOMENTO MÁXIMO DE CARGA 5,8 TM, ALCANCE MÁXIMO HORIZONTAL 7,60 M, INCLUSIVE CAMINHÃO TOCO PBT 9.700 KG, POTÊNCIA DE 160 CV - CHP DIURNO. AF_08/2015",91634,"CHP",null,1.25,null,null,{"$f":"IFERROR(VLOOKUP(D3194,$D$7:$J$7,6,0),0)","v":0},null,{"$f":"J3194*G3194","v":0}]
[{"$nulls":11},0]
[]
[null,null,"MATERIAL ........................................................................................................................................................................................................................................",{"$nulls":7},"SUB-TOTAL (3) = ",{"$f":"SUM(L3199:L3204)","v":0}]
[null,null,"DISCRIMINAÇÃO","SINAPI","UNID",null,"QTDE","PROD","IMPROD","P.UNIT. PROD","P.UNIT. IMPR","P.TOTAL"]
[null,null,"TABUA MADEIRA 2A QUALIDADE 2,5 X 30,0CM (1 X 12\") NAO APARELHADA",6189,"M",null,4,null,null,{"$f":"IFERROR(VLOOKUP(D3199,$D$7:$J$7,6,0),0)","v":0},null,{"$f":"J3199*G3199","v":0}]
[null,null,"PREGO DE ACO POLIDO COM CABECA 18 X 27 (2 1/2 X 10)",5061,"KG",null,0.25,null,null,{"$f":"IFERROR(VLOOKUP(D3200,$D$7:$J$7,6,0),0)","v":0},null,{"$f":"J3200*G3200","v":0}]
[null,null,"PREGO DE ACO POLIDO COM CABECA 15 X 15 (1 1/4 X 13)",20247,"KG",null,0.25,null,null,{"$f":"IFERROR(VLOOKUP(D3201,$D$7:$J$7,6,0),0)","v":0},null,{"$f":"J3201*G3201","v":0}]
[null,null,"CHAPA DE MADEIRA COMPENSADA RESINADA PARA FORMA DE CONCRETO, DE *2,2 X 1,1* M, E = 12 MM",1357,"M2",null,1,null,null,{"$f":"IFERROR(VLOOKUP(D3202,$D$7:$J$7,6,0),0)","v":0},null,{"$f":"J3202*G3202","v":0}]
[null,null,"DESMOLDANTE PROTETOR PARA FORMAS DE MADEIRA, DE BASE OLEOSA EMULSIONADA EM AGUA",2692,"L",null,0.5,null,null,{"$f":"IFERROR(VLOOKUP(D3203,$D$7:$J$7,6,0),0)","v":0},null,{"$f":"J3203*G3203","v":0}]
[{"$nulls":11},0]
[]
[null,null,"MÃO DE OBRA .................................................................................................................................................................................................................................",{"$nulls":7},"SUB-TOTAL (4) = ",{"$f":"SUM(L3208:L3211)","v":0}]
[null,null,"DISCRIMINAÇÃO","SINAPI","UNID",null,"QTDE","PROD","IMPROD","P.UNIT. PROD","P.UNIT. IMPR","P.TOTAL"]
[null,null,"PEDREIRO COM ENCARGOS COMPLEMENTARES",88309,"H",null,1.25,null,null,{"$f":"IFERROR(VLOOKUP(D3208,$D$7:$J$7,6,0),0)","v":0},null,{"$f":"J3208*G3208","v":0}]
[null,null,"SERVENTE COM ENCARGOS COMPLEMENTARES",88316,"H",null,2.5,null,null,{"$f":"IFERROR(VLOOKUP(D3209,$D$7:$J$7,6,0),0)","v":0},null,{"$f":"J3209*G3209","v":0}]
[null,null,"NIVELADOR COM ENCARGOS COMPLEMENTARES",88288,"H",null,0.3125,null,null,{"$f":"IFERROR(VLOOKUP(D3210,$D$7:$J$7,6,0),0)","v":0},null,{"$f":"J3210*G3210","v":0}]
[{"$nulls":11},0]
[]
[null,null,"OBSERVAÇÕES:","PROD DA EQUIPE =",null,null,1,null,null,null,"CUSTO (SUB-TOTAL 1 + 2 + 3 + 4) = ",{"$f":"L3206+L3197+L3192+L3185","v":0}]
[null,null,null,"RESP. TÉCNICO:",{"$nulls":6},"TOTAL - R$ = ",{"$f":"L3213*G3213","v":0}]
[{"$nulls":10},"BDI (%) = ",{"$f":"I3","v":0.2101044698987744}]
[{"$nulls":10},"TOTAL DO SERVIÇO - R$ = ",{"$f":"(1+L3215)*L3214","v":0}]
[]
[null,null,{"$f":"C3222","v":"SERVIÇO: MONTAGEM DE MÓDULOS VAZADORES, INCLUSIVE MÃO DE OBRA, TRANSPORTE E MATERIAIS DE FIXAÇÃO - TIPO L"},{"$f":"I3222","v":"CAC-104"},{"$f":"L3222","v":"UNID"},null,null,null,"P. Unit.=",{"$f":"L3253","v":0},{"$f":"$C$5","v":"SINAPI:Abril/2020 (Alagoas/AL) - NÃO DESONERADO"}]
[null,null," COMPOSIÇÃO ANALÍTICA DE CUSTO"]
[]
[null,null," COMPOSIÇÃO ANALÍTICA DE CUSTO",{"$nulls":4},"CODEVASF",null,null,"DATA: ANO 2017"]
[null,null,"SERVIÇO: MONTAGEM DE MÓDULOS VAZADORES, INCLUSIVE MÃO DE OBRA, TRANSPORTE E MATERIAIS DE FIXAÇÃO - TIPO L",{"$nulls":4},"COD: ","CAC-104",null,"UNIDADE: ","UNID"]
[]
[null,null,"SERVIÇOS - COMPOSIÇÕES AUXILIARES ............................................................................................................................................................................",{"$nulls":7},"SUB-TOTAL (1) = ",{"$f":"SUM(L3226:L3228)","v":0}]
[null,null,"DISCRIMINAÇÃO","SINAPI","UNID",null,"QTDE","PROD","IMPROD","P.UNIT. PROD","P.UNIT. IMPR","P.TOTAL"]
[null,null,"GRAUTE FGK=20 MPA; TRAÇO 1:0,04:1,6:1,9 (CIMENTO/ CAL/ AREIA GROSSA/ BRITA 0) - PREPARO MECÂNICO COM BETONEIRA 400 L. AF_02/2015",90279,"M3",null,0.48,null,null,{"$f":"IFERROR(VLOOKUP(D3226,$D$7:$J$7,6,0),0)","v":0},null,{"$f":"J3226*G3226","v":0}]
[null,null,"LANÇAMENTO COM USO DE BALDES, ADENSAMENTO E ACABAMENTO DE CONCRETO EM ESTRUTURAS. AF_12/2015",92873,"M3",null,0.48,null,null,{"$f":"IFERROR(VLOOKUP(D3227,$D$7:$J$7,6,0),0)","v":0},null,{"$f":"J3227*G3227","v":0}]
[null,null,"LIMPEZA DE SUPERFICIES COM JATO DE ALTA PRESSAO DE AR E AGUA","73806/001","M2",null,{"$f":"1.15*1.85+2*(1.5*1.15)","v":5.5774999999999997},null,null,{"$f":"IFERROR(VLOOKUP(D3228,$D$7:$J$7,6,0),0)","v":0},null,{"$f":"J3228*G3228","v":0}]
[]
[]
[null,null,"EQUIPAMENTO .............................................................................................................................................................................................................................",{"$nulls":7},"SUB-TOTAL (2) = ",{"$f":"SUM(L3233:L3234)","v":0}]
[null,null,"DISCRIMINAÇÃO","SINAPI","UNID",null,"QTDE","PROD","IMPROD","P.UNIT. PROD","P.UNIT. IMPR","P.TOTAL"]
[null,null,"GUINDAUTO HIDRÁULICO, CAPACIDADE MÁXIMA DE CARGA 6500 KG, MOMENTO MÁXIMO DE CARGA 5,8 TM, ALCANCE MÁXIMO HORIZONTAL 7,60 M, INCLUSIVE CAMINHÃO TOCO PBT 9.700 KG, POTÊNCIA DE 160 CV - CHP DIURNO. AF_08/2015",91634,"CHP",null,4,null,null,{"$f":"IFERROR(VLOOKUP(D3233,$D$7:$J$7,6,0),0)","v":0},null,{"$f":"J3233*G3233","v":0}]
[{"$nulls":11},0]
[]
[null,null,"MATERIAL ........................................................................................................................................................................................................................................",{"$nulls":7},"SUB-TOTAL (3) = ",{"$f":"SUM(L3238:L3243)","v":0}]
[null,null,"DISCRIMINAÇÃO","SINAPI","UNID",null,"QTDE","PROD","IMPROD","P.UNIT. PROD","P.UNIT. IMPR","P.TOTAL"]
[null,null,"TABUA MADEIRA 2A QUALIDADE 2,5 X 30,0CM (1 X 12\") NAO APARELHADA",6189,"M",null,8,null,null,{"$f":"IFERROR(VLOOKUP(D3238,$D$7:$J$7,6,0),0)","v":0},null,{"$f":"J3238*G3238","v":0}]
[null,null,"PREGO DE ACO POLIDO COM CABECA 18 X 27 (2 1/2 X 10)",5061,"KG",null,{"$f":"G3238/16","v":0.5},null,null,{"$f":"IFERROR(VLOOKUP(D3239,$D$7:$J$7,6,0),0)","v":0},null,{"$f":"J3239*G3239","v":0}]
[null,null,"PREGO DE ACO POLIDO COM CABECA 15 X 15 (1 1/4 X 13)",20247,"KG",null,{"$f":"G3238/16","v":0.5},null,null,{"$f":"IFERROR(VLOOKUP(D3240,$D$7:$J$7,6,0),0)","v":0},null,{"$f":"J3240*G3240","v":0}]
[null,null,"CHAPA DE MADEIRA COMPENSADA RESINADA PARA FORMA DE CONCRETO, DE *2,2 X 1,1* M, E = 12 MM",1357,"M2",null,{"$f":"G3238/4","v":2},null,null,{"$f":"IFERROR(VLOOKUP(D3241,$D$7:$J$7,6,0),0)","v":0},null,{"$f":"J3241*G3241","v":0}]
[null,null,"DESMOLDANTE PROTETOR PARA FORMAS DE MADEIRA, DE BASE OLEOSA EMULSIONADA EM AGUA",2692,"L",null,{"$f":"G3238/8","v":1},null,null,{"$f":"IFERROR(VLOOKUP(D3242,$D$7:$J$7,6,0),0)","v":0},null,{"$f":"J3242*G3242","v":0}]
[{"$nulls":11},0]
[]
[null,null,"MÃO DE OBRA .................................................................................................................................................................................................................................",{"$nulls":7},"SUB-TOTAL (4) = ",{"$f":"SUM(L3247:L3250)","v":0}]
[null,null,"DISCRIMINAÇÃO","SINAPI","UNID",null,"QTDE","PROD","IMPROD","P.UNIT. PROD","P.UNIT. IMPR","P.TOTAL"]
[null,null,"PEDREIRO COM ENCARGOS COMPLEMENTARES",88309,"H",null,8,null,null,{"$f":"IFERROR(VLOOKUP(D3247,$D$7:$J$7,6,0),0)","v":0},null,{"$f":"J3247*G3247","v":0}]
[null,null,"SERVENTE COM ENCARGOS COMPLEMENTARES",88316,"H",null,{"$f":"2*G3247","v":16},null,null,{"$f":"IFERROR(VLOOKUP(D3248,$D$7:$J$7,6,0),0)","v":0},null,{"$f":"J3248*G3248","v":0}]
[null,null,"NIVELADOR COM ENCARGOS COMPLEMENTARES",88288,"H",null,{"$f":"G3233","v":4},null,null,{"$f":"IFERROR(VLOOKUP(D3249,$D$7:$J$7,6,0),0)","v":0},null,{"$f":"J3249*G3249","v":0}]
[{"$nulls":11},0]
[]
[null,null,"OBSERVAÇÕES:","PROD DA EQUIPE =",null,null,1,null,null,null,"CUSTO (SUB-TOTAL 1 + 2 + 3 + 4) = ",{"$f":"L3245+L3236+L3231+L3224","v":0}]
[null,null,null,"RESP. TÉCNICO:",{"$nulls":6},"TOTAL - R$ = ",{"$f":"L3252*G3252","v":0}]
[{"$nulls":10},"BDI (%) = ",{"$f":"#REF!","v":{"$error":"#REF!"}}]
[{"$nulls":10},"TOTAL DO SERVIÇO - R$ = ",{"$f":"(1+L3254)*L3253","v":{"$error":"#REF!"}}]
[]
[]
[null,null,{"$f":"C3262","v":"SERVIÇO: DESASSOREAMENTO DO RIO BOACICA ATRAVÉS DE ESCAVADEIRA “DRAG-LINE” E ESCAVADEIRA HIDRÁULICA \"LONG REACH\""},{"$f":"I3262","v":"CAC-106"},{"$f":"L3262","v":"M3"},null,null,null,"P. Unit.=",{"$f":"L3286","v":0},{"$f":"$C$5","v":"SINAPI:Abril/2020 (Alagoas/AL) - NÃO DESONERADO"}]
[null,null," COMPOSIÇÃO ANALÍTICA DE CUSTO"]
[]
[null,null,{"$f":"#REF!","v":{"$error":"#REF!"}},{"$nulls":4},"CODEVASF",null,null,"DATA: ANO 2017"]
[null,null,"SERVIÇO: DESASSOREAMENTO DO RIO BOACICA ATRAVÉS DE ESCAVADEIRA “DRAG-LINE” E ESCAVADEIRA HIDRÁULICA \"LONG REACH\"",{"$nulls":4},"COD: ","CAC-106",null,"UNIDADE: ","M3"]
[]
[null,null,"SERVIÇOS - COMPOSIÇÕES AUXILIARES ............................................................................................................................................................................",{"$nulls":7},"SUB-TOTAL (1) = ",{"$f":"SUM(L3266:L3268)","v":0}]
[null,null,"DISCRIMINAÇÃO","SINAPI","UNID",null,"QTDE","PROD","IMPROD","P.UNIT. PROD","P.UNIT. IMPR","P.TOTAL"]
[null,null,"DRAGAGEM (C/ ESCAVADEIRA DRAG LINE DE ARRASTE 140HP)",88548,"M3",null,1,null,null,{"$f":"IFERROR(VLOOKUP(D3266,$D$7:$J$7,6,0),0)","v":0},null,{"$f":"G3266*J3266","v":0}]
[null,null,"ESCAVACAO MECANICA PARA ACERTO DE TALUDES, EM MATERIAL DE 1A CATEGORIA, COM ESCAVADEIRA HIDRAULICA",83336,"M3",null,1,null,null,{"$f":"IFERROR(VLOOKUP(D3267,$D$7:$J$7,6,0),0)","v":0},null,{"$f":"G3267*J3267","v":0}]
[]
[]
[null,null,"EQUIPAMENTO .............................................................................................................................................................................................................................",{"$nulls":7},"SUB-TOTAL (2) = ",{"$f":"SUM(L3272:L3273)","v":0}]
[null,null,"DISCRIMINAÇÃO","SINAPI","UNID",null,"QTDE","PROD","IMPROD","P.UNIT. PROD","P.UNIT. IMPR","P.TOTAL"]
[{"$nulls":11},{"$f":"G3272*J3272","v":0}]
[{"$nulls":11},{"$f":"G3273*J3273","v":0}]
[]
[null,null,"MATERIAL ........................................................................................................................................................................................................................................",{"$nulls":7},"SUB-TOTAL (3) = ",{"$f":"SUM(L3277:L3278)","v":0}]
[null,null,"DISCRIMINAÇÃO","SINAPI","UNID",null,"QTDE","PROD","IMPROD","P.UNIT. PROD","P.UNIT. IMPR","P.TOTAL"]
[{"$nulls":11},{"$f":"G3277*J3277","v":0}]
[{"$nulls":11},{"$f":"G3278*J3278","v":0}]
[]
[null,null,"MÃO DE OBRA .................................................................................................................................................................................................................................",{"$nulls":7},"SUB-TOTAL (4) = ",{"$f":"SUM(L3282:L3283)","v":0}]
[null,null,"DISCRIMINAÇÃO","SINAPI","UNID",null,"QTDE","PROD","IMPROD","P.UNIT. PROD","P.UNIT. IMPR","P.TOTAL"]
[null,null,"SERVENTE COM ENCARGOS COMPLEMENTARES",88316,"H",null,0.15,null,null,{"$f":"IFERROR(VLOOKUP(D3282,$D$7:$J$7,6,0),0)","v":0},null,{"$f":"G3282*J3282","v":0}]
[{"$nulls":11},{"$f":"G3283*J3283","v":0}]
[]
[null,null,"OBSERVAÇÕES:","PROD DA EQUIPE =",null,null,1,null,null,null,"CUSTO (SUB-TOTAL 1 + 2 + 3 + 4) = ",{"$f":"L3280+L3275+L3264+L3270","v":0}]
[null,null,null,"RESP. TÉCNICO:",{"$nulls":6},"TOTAL - R$ = ",{"$f":"L3285/G3285","v":0}]
[{"$nulls":10},"BDI (%) = ",{"$f":"$I$3","v":0.2101044698987744}]
[{"$nulls":10},"TOTAL DO SERVIÇO - R$ = ",{"$f":"L3286*L3287+L3286","v":0}]
[]
[null,null,{"$f":"C3294","v":"SERVIÇO: COMPACTACAO MECANICA C/ CONTROLE DO GC>=95% DO PN"},{"$f":"I3294","v":"CAC-107"},{"$f":"L3294","v":"M3"},null,null,null,"P. Unit.=",{"$f":"L3317","v":0},{"$f":"$C$5","v":"SINAPI:Abril/2020 (Alagoas/AL) - NÃO DESONERADO"}]
[null,null," COMPOSIÇÃO ANALÍTICA DE CUSTO"]
[]
[null,null," COMPOSIÇÃO ANALÍTICA DE CUSTO",{"$nulls":4},"CODEVASF",null,null,"DATA: ANO 2017"]
[null,null,"SERVIÇO: COMPACTACAO MECANICA C/ CONTROLE DO GC>=95% DO PN",{"$nulls":4},"COD: ","CAC-107",null,"UNIDADE: ","M3"]
[]
[null,null,"SERVIÇOS - COMPOSIÇÕES AUXILIARES ............................................................................................................................................................................",{"$nulls":7},"SUB-TOTAL (1) = ",{"$f":"SUM(L3298:L3299)","v":0}]
[null,null,"DISCRIMINAÇÃO","SINAPI","UNID",null,"QTDE","PROD","IMPROD","P.UNIT. PROD","P.UNIT. IMPR","P.TOTAL"]
[null,null,"COMPACTACAO MECANICA C/ CONTROLE DO GC>=95% DO PN (AREAS) (C/MONIVELADORA 140 HP E ROLO COMPRESSOR VIBRATORIO 80 HP)","74005/002","M3",null,1,null,null,{"$f":"IFERROR(VLOOKUP(D3298,$D$7:$J$7,6,0),0)","v":0},null,{"$f":"G3298*J3298","v":0}]
[{"$nulls":11},{"$f":"G3299*J3299","v":0}]
[]
[null,null,"EQUIPAMENTO .............................................................................................................................................................................................................................",{"$nulls":7},"SUB-TOTAL (2) = ",{"$f":"SUM(L3303:L3304)","v":0}]
[null,null,"DISCRIMINAÇÃO","SINAPI","UNID",null,"QTDE","PROD","IMPROD","P.UNIT. PROD","P.UNIT. IMPR","P.TOTAL"]
[{"$nulls":11},{"$f":"G3303*J3303","v":0}]
[{"$nulls":11},{"$f":"G3304*J3304","v":0}]
[]
[null,null,"MATERIAL ........................................................................................................................................................................................................................................",{"$nulls":7},"SUB-TOTAL (3) = ",{"$f":"SUM(L3308:L3309)","v":0}]
[null,null,"DISCRIMINAÇÃO","SINAPI","UNID",null,"QTDE","PROD","IMPROD","P.UNIT. PROD","P.UNIT. IMPR","P.TOTAL"]
[{"$nulls":11},{"$f":"G3308*J3308","v":0}]
[{"$nulls":11},{"$f":"G3309*J3309","v":0}]
[]
[null,null,"MÃO DE OBRA .................................................................................................................................................................................................................................",{"$nulls":7},"SUB-TOTAL (4) = ",{"$f":"SUM(L3313:L3314)","v":0}]
[null,null,"DISCRIMINAÇÃO","SINAPI","UNID",null,"QTDE","PROD","IMPROD","P.UNIT. PROD","P.UNIT. IMPR","P.TOTAL"]
[{"$nulls":11},{"$f":"G3313*J3313","v":0}]
[{"$nulls":11},{"$f":"G3314*J3314","v":0}]
[]
[null,null,"OBSERVAÇÕES:","PROD DA EQUIPE =",null,null,1,null,null,null,"CUSTO (SUB-TOTAL 1 + 2 + 3 + 4) = ",{"$f":"L3311+L3306+L3296+L3301","v":0}]
[null,null,null,"RESP. TÉCNICO:",{"$nulls":6},"TOTAL - R$ = ",{"$f":"L3316/G3316","v":0}]
[{"$nulls":10},"BDI (%) = ",{"$f":"I3","v":0.2101044698987744}]
[{"$nulls":10},"TOTAL DO SERVIÇO - R$ = ",{"$f":"L3317*L3318+L3317","v":0}]
[]
[null,null,{"$f":"C3325","v":"SERVIÇO: ESCAVAÇÃO MECÂNICA PARA ACERTO DE TALUDES, EM MATERIAL DE 1ª CATEGORIA, COM ESCAVADEIRA HIDRÁULICA"},{"$f":"I3325","v":"CAC-108"},{"$f":"L3325","v":"M3"},null,null,null,"P. Unit.=",{"$f":"L3348","v":0},{"$f":"$C$5","v":"SINAPI:Abril/2020 (Alagoas/AL) - NÃO DESONERADO"}]
[null,null," COMPOSIÇÃO ANALÍTICA DE CUSTO"]
[]
[null,null," COMPOSIÇÃO ANALÍTICA DE CUSTO",{"$nulls":4},"CODEVASF",null,null,"DATA: ANO 2017"]
[null,null,"SERVIÇO: ESCAVAÇÃO MECÂNICA PARA ACERTO DE TALUDES, EM MATERIAL DE 1ª CATEGORIA, COM ESCAVADEIRA HIDRÁULICA",{"$nulls":4},"COD: ","CAC-108",null,"UNIDADE: ","M3"]
[]
[null,null,"SERVIÇOS - COMPOSIÇÕES AUXILIARES ............................................................................................................................................................................",{"$nulls":7},"SUB-TOTAL (1) = ",{"$f":"SUM(L3329:L3330)","v":0}]
[null,null,"DISCRIMINAÇÃO","SINAPI","UNID",null,"QTDE","PROD","IMPROD","P.UNIT. PROD","P.UNIT. IMPR","P.TOTAL"]
[null,null,"ESCAVACAO MECANICA PARA ACERTO DE TALUDES, EM MATERIAL DE 1A CATEGORIA, COM ESCAVADEIRA HIDRAULICA",83336,"M3",null,1,null,null,{"$f":"IFERROR(VLOOKUP(D3329,$D$7:$J$7,6,0),0)","v":0},null,{"$f":"G3329*J3329","v":0}]
[{"$nulls":11},{"$f":"G3330*J3330","v":0}]
[]
[null,null,"EQUIPAMENTO .............................................................................................................................................................................................................................",{"$nulls":7},"SUB-TOTAL (2) = ",{"$f":"SUM(L3334:L3335)","v":0}]
[null,null,"DISCRIMINAÇÃO","SINAPI","UNID",null,"QTDE","PROD","IMPROD","P.UNIT. PROD","P.UNIT. IMPR","P.TOTAL"]
[{"$nulls":11},{"$f":"G3334*J3334","v":0}]
[{"$nulls":11},{"$f":"G3335*J3335","v":0}]
[]
[null,null,"MATERIAL ........................................................................................................................................................................................................................................",{"$nulls":7},"SUB-TOTAL (3) = ",{"$f":"SUM(L3339:L3340)","v":0}]
[null,null,"DISCRIMINAÇÃO","SINAPI","UNID",null,"QTDE","PROD","IMPROD","P.UNIT. PROD","P.UNIT. IMPR","P.TOTAL"]
[{"$nulls":11},{"$f":"G3339*J3339","v":0}]
[{"$nulls":11},{"$f":"G3340*J3340","v":0}]
[]
[null,null,"MÃO DE OBRA .................................................................................................................................................................................................................................",{"$nulls":7},"SUB-TOTAL (4) = ",{"$f":"SUM(L3344:L3345)","v":0}]
[null,null,"DISCRIMINAÇÃO","SINAPI","UNID",null,"QTDE","PROD","IMPROD","P.UNIT. PROD","P.UNIT. IMPR","P.TOTAL"]
[{"$nulls":11},{"$f":"G3344*J3344","v":0}]
[{"$nulls":11},{"$f":"G3345*J3345","v":0}]
[]
[null,null,"OBSERVAÇÕES:","PROD DA EQUIPE =",null,null,1,null,null,null,"CUSTO (SUB-TOTAL 1 + 2 + 3 + 4) = ",{"$f":"L3342+L3337+L3327+L3332","v":0}]
[null,null,null,"RESP. TÉCNICO:",{"$nulls":6},"TOTAL - R$ = ",{"$f":"L3347/G3347","v":0}]
[{"$nulls":10},"BDI (%) = ",{"$f":"I3","v":0.2101044698987744}]
[{"$nulls":10},"TOTAL DO SERVIÇO - R$ = ",{"$f":"L3348*L3349+L3348","v":0}]
[]
[null,null,{"$f":"C3356","v":"SERVIÇO: REMOÇÃO DE SOLO PARA BASE DA BARRAGEM"},{"$f":"I3356","v":"CAC-109"},{"$f":"L3356","v":"M3"},null,null,null,"P. Unit.=",{"$f":"L3383","v":0},{"$f":"$C$5","v":"SINAPI:Abril/2020 (Alagoas/AL) - NÃO DESONERADO"}]
[null,null," COMPOSIÇÃO ANALÍTICA DE CUSTO"]
[]
[null,null," COMPOSIÇÃO ANALÍTICA DE CUSTO",{"$nulls":4},"CODEVASF",null,null,"DATA: ANO 2017"]
[null,null,"SERVIÇO: REMOÇÃO DE SOLO PARA BASE DA BARRAGEM",{"$nulls":4},"COD: ","CAC-109",null,"UNIDADE: ","M3"]
[]
[null,null,"SERVIÇOS - COMPOSIÇÕES AUXILIARES ............................................................................................................................................................................",{"$nulls":7},"SUB-TOTAL (1) = ",{"$f":"SUM(L3360:L3365)","v":0}]
[null,null,"DISCRIMINAÇÃO","SINAPI","UNID",null,"QTDE","PROD","IMPROD","P.UNIT. PROD","P.UNIT. IMPR","P.TOTAL"]
[null,null,"ESCAVACAO E CARGA MATERIAL 1A CATEGORIA, UTILIZANDO TRATOR DE ESTEIRAS DE 110 A 160HP COM LAMINA, PESO OPERACIONAL * 13T  E PA CARREGADEIRA COM 170 HP.","74151/1","M3",null,1,null,null,{"$f":"IFERROR(VLOOKUP(D3360,$D$7:$J$7,6,0),0)","v":0},null,{"$f":"G3360*J3360","v":0}]
[null,null,"TRATOR DE ESTEIRAS, POTÊNCIA 150 HP, PESO OPERACIONAL 16,7 T, COM RODA MOTRIZ ELEVADA E LÂMINA 3,18 M3 - CHP DIURNO. AF_06/2014",5851,"CHP",null,9.3457999999999996E-3]
[null,null,"PÁ CARREGADEIRA SOBRE RODAS, POTÊNCIA 197 HP, CAPACIDADE DA CAÇAMBA 2,5 A 3,5 M3, PESO OPERACIONAL 18338 KG - CHP DIURNO. AF_06/2014",5944,"CHP",null,5.4206000000000002E-3]
[null,null,"PÁ CARREGADEIRA SOBRE RODAS, POTÊNCIA 197 HP, CAPACIDADE DA CAÇAMBA 2,5 A 3,5 M3, PESO OPERACIONAL 18338 KG - CHI DIURNO. AF_06/2014",5946,"CHI",null,3.9252000000000002E-3]
[null,null,"SERVENTE COM ENCARGOS COMPLEMENTARES",88316,"H",null,1.8691599999999999E-2]
[]
[]
[null,null,"EQUIPAMENTO .............................................................................................................................................................................................................................",{"$nulls":7},"SUB-TOTAL (2) = ",{"$f":"SUM(L3369:L3370)","v":0}]
[null,null,"DISCRIMINAÇÃO","SINAPI","UNID",null,"QTDE","PROD","IMPROD","P.UNIT. PROD","P.UNIT. IMPR","P.TOTAL"]
[{"$nulls":11},{"$f":"G3369*J3369","v":0}]
[{"$nulls":11},{"$f":"G3370*J3370","v":0}]
[]
[null,null,"MATERIAL ........................................................................................................................................................................................................................................",{"$nulls":7},"SUB-TOTAL (3) = ",{"$f":"SUM(L3374:L3375)","v":0}]
[null,null,"DISCRIMINAÇÃO","SINAPI","UNID",null,"QTDE","PROD","IMPROD","P.UNIT. PROD","P.UNIT. IMPR","P.TOTAL"]
[{"$nulls":11},{"$f":"G3374*J3374","v":0}]
[{"$nulls":11},{"$f":"G3375*J3375","v":0}]
[]
[null,null,"MÃO DE OBRA .................................................................................................................................................................................................................................",{"$nulls":7},"SUB-TOTAL (4) = ",{"$f":"SUM(L3379:L3380)","v":0}]
[null,null,"DISCRIMINAÇÃO","SINAPI","UNID",null,"QTDE","PROD","IMPROD","P.UNIT. PROD","P.UNIT. IMPR","P.TOTAL"]
[{"$nulls":11},{"$f":"G3379*J3379","v":0}]
[{"$nulls":11},{"$f":"G3380*J3380","v":0}]
[]
[null,null,"OBSERVAÇÕES:","PROD DA EQUIPE =",null,null,1,null,null,null,"CUSTO (SUB-TOTAL 1 + 2 + 3 + 4) = ",{"$f":"L3377+L3372+L3358+L3367","v":0}]
[null,null,null,"RESP. TÉCNICO:",{"$nulls":6},"TOTAL - R$ = ",{"$f":"L3382/G3382","v":0}]
[{"$nulls":10},"BDI (%) = ",{"$f":"$I$3","v":0.2101044698987744}]
[{"$nulls":10},"TOTAL DO SERVIÇO - R$ = ",{"$f":"L3383*L3384+L3383","v":0}]
[]
[null,null,{"$f":"C3391","v":"SERVIÇO: ESCAVAÇÃO DE SOLO PARA FUNDAÇÃO CUT OFF"},{"$f":"I3391","v":"CAC-110"},{"$f":"L3391","v":"M3"},null,null,null,"P. Unit.=",{"$f":"L3417","v":0},{"$f":"$C$5","v":"SINAPI:Abril/2020 (Alagoas/AL) - NÃO DESONERADO"}]
[null,null," COMPOSIÇÃO ANALÍTICA DE CUSTO"]
[]
[null,null," COMPOSIÇÃO ANALÍTICA DE CUSTO",{"$nulls":4},"CODEVASF",null,null,"DATA: ANO 2017"]
[null,null,"SERVIÇO: ESCAVAÇÃO DE SOLO PARA FUNDAÇÃO CUT OFF",{"$nulls":4},"COD: ","CAC-110",null,"UNIDADE: ","M3"]
[]
[null,null,"SERVIÇOS - COMPOSIÇÕES AUXILIARES ............................................................................................................................................................................",{"$nulls":7},"SUB-TOTAL (1) = ",{"$f":"SUM(L3395:L3399)","v":0}]
[null,null,"DISCRIMINAÇÃO","SINAPI","UNID",null,"QTDE","PROD","IMPROD","P.UNIT. PROD","P.UNIT. IMPR","P.TOTAL"]
[null,null,"ESCAVACAO MECANICA, A CEU ABERTO, EM MATERIAL DE 1A CATEGORIA, COM ESCAVADEIRA HIDRAULICA, CAPACIDADE DE 0,78 M3",83338,"M3",null,1,null,null,{"$f":"IFERROR(VLOOKUP(D3395,$D$7:$J$7,6,0),0)","v":0},null,{"$f":"G3395*J3395","v":0}]
[null,null,"ESCAVADEIRA HIDRÁULICA SOBRE ESTEIRAS, CAÇAMBA 0,80 M3, PESO OPERACIONAL 17,8 T, POTÊNCIA LÍQUIDA 110 HP - CHI DIURNO. AF_10/2014",84013,"CHI",null,5.7999999999999996E-3]
[null,null,"SERVENTE COM ENCARGOS COMPLEMENTARES",88316,"H",null,1.9199999999999998E-2]
[null,null,"ESCAVADEIRA HIDRÁULICA SOBRE ESTEIRAS, CAÇAMBA 0,80 M3, PESO OPERACIONAL 17,8 T, POTÊNCIA LÍQUIDA 110 HP - CHP DIURNO. AF_10/2014",90991,"CHP",null,1.34E-2]
[]
[]
[null,null,"EQUIPAMENTO .............................................................................................................................................................................................................................",{"$nulls":7},"SUB-TOTAL (2) = ",{"$f":"SUM(L3403:L3404)","v":0}]
[null,null,"DISCRIMINAÇÃO","SINAPI","UNID",null,"QTDE","PROD","IMPROD","P.UNIT. PROD","P.UNIT. IMPR","P.TOTAL"]
[{"$nulls":11},{"$f":"G3403*J3403","v":0}]
[{"$nulls":11},{"$f":"G3404*J3404","v":0}]
[]
[null,null,"MATERIAL ........................................................................................................................................................................................................................................",{"$nulls":7},"SUB-TOTAL (3) = ",{"$f":"SUM(L3408:L3409)","v":0}]
[null,null,"DISCRIMINAÇÃO","SINAPI","UNID",null,"QTDE","PROD","IMPROD","P.UNIT. PROD","P.UNIT. IMPR","P.TOTAL"]
[{"$nulls":11},{"$f":"G3408*J3408","v":0}]
[{"$nulls":11},{"$f":"G3409*J3409","v":0}]
[]
[null,null,"MÃO DE OBRA .................................................................................................................................................................................................................................",{"$nulls":7},"SUB-TOTAL (4) = ",{"$f":"SUM(L3413:L3414)","v":0}]
[null,null,"DISCRIMINAÇÃO","SINAPI","UNID",null,"QTDE","PROD","IMPROD","P.UNIT. PROD","P.UNIT. IMPR","P.TOTAL"]
[{"$nulls":11},{"$f":"G3413*J3413","v":0}]
[{"$nulls":11},{"$f":"G3414*J3414","v":0}]
[]
[null,null,"OBSERVAÇÕES:","PROD DA EQUIPE =",null,null,1,null,null,null,"CUSTO (SUB-TOTAL 1 + 2 + 3 + 4) = ",{"$f":"L3411+L3406+L3393+L3401","v":0}]
[null,null,null,"RESP. TÉCNICO:",{"$nulls":6},"TOTAL - R$ = ",{"$f":"L3416/G3416","v":0}]
[{"$nulls":10},"BDI (%) = ",{"$f":"$I$3","v":0.2101044698987744}]
[{"$nulls":10},"TOTAL DO SERVIÇO - R$ = ",{"$f":"L3417*L3418+L3417","v":0}]
[]
[null,null,{"$f":"C3425","v":"SERVIÇO: CARGA MECÂNICA DE MATERIAL COM PÁ CARREGADEIRA"},{"$f":"I3425","v":"CAC-111"},{"$f":"L3425","v":"M3"},null,null,null,"P. Unit.=",{"$f":"L3451","v":0},{"$f":"$C$5","v":"SINAPI:Abril/2020 (Alagoas/AL) - NÃO DESONERADO"}]
[null,null," COMPOSIÇÃO ANALÍTICA DE CUSTO"]
[]
[null,null," COMPOSIÇÃO ANALÍTICA DE CUSTO",{"$nulls":4},"CODEVASF",null,null,"DATA: ANO 2017"]
[null,null,"SERVIÇO: CARGA MECÂNICA DE MATERIAL COM PÁ CARREGADEIRA",{"$nulls":4},"COD: ","CAC-111",null,"UNIDADE: ","M3"]
[]
[null,null,"SERVIÇOS - COMPOSIÇÕES AUXILIARES ............................................................................................................................................................................",{"$nulls":7},"SUB-TOTAL (1) = ",{"$f":"SUM(L3429:L3433)","v":0}]
[null,null,"DISCRIMINAÇÃO","SINAPI","UNID",null,"QTDE","PROD","IMPROD","P.UNIT. PROD","P.UNIT. IMPR","P.TOTAL"]
[null,null,"CARGA E DESCARGA MECANICA DE SOLO UTILIZANDO CAMINHAO BASCULANTE 5,0M3/11T E PA CARREGADEIRA SOBRE PNEUS * 105 HP * CAP. 1,72M3","74010/001","M3",null,1,null,null,{"$f":"IFERROR(VLOOKUP(D3429,$D$7:$J$7,6,0),0)","v":0},null,{"$f":"G3429*J3429","v":0}]
[null,null,"CAMINHÃO BASCULANTE 6 M3, PESO BRUTO TOTAL 16.000 KG, CARGA ÚTIL MÁXIMA 13.071 KG, DISTÂNCIA ENTRE EIXOS 4,80 M, POTÊNCIA 230 CV INCLUSIVE CAÇAMBA METÁLICA - CHP DIURNO. AF_06/2014",5811,"CHP",null,3.0000000000000001E-3]
[null,null,"PÁ CARREGADEIRA SOBRE RODAS, POTÊNCIA LÍQUIDA 128 HP, CAPACIDADE DA CAÇAMBA 1,7 A 2,8 M3, PESO OPERACIONAL 11632 KG - CHP DIURNO. AF_06/2014",5940,"CHP",null,8.0000000000000002E-3]
[null,null,"SERVENTE COM ENCARGOS COMPLEMENTARES",88316,"H",null,8.0000000000000002E-3]
[]
[]
[null,null,"EQUIPAMENTO .............................................................................................................................................................................................................................",{"$nulls":7},"SUB-TOTAL (2) = ",{"$f":"SUM(L3437:L3438)","v":0}]
[null,null,"DISCRIMINAÇÃO","SINAPI","UNID",null,"QTDE","PROD","IMPROD","P.UNIT. PROD","P.UNIT. IMPR","P.TOTAL"]
[{"$nulls":11},{"$f":"G3437*J3437","v":0}]
[{"$nulls":11},{"$f":"G3438*J3438","v":0}]
[]
[null,null,"MATERIAL ........................................................................................................................................................................................................................................",{"$nulls":7},"SUB-TOTAL (3) = ",{"$f":"SUM(L3442:L3443)","v":0}]
[null,null,"DISCRIMINAÇÃO","SINAPI","UNID",null,"QTDE","PROD","IMPROD","P.UNIT. PROD","P.UNIT. IMPR","P.TOTAL"]
[{"$nulls":11},{"$f":"G3442*J3442","v":0}]
[{"$nulls":11},{"$f":"G3443*J3443","v":0}]
[]
[null,null,"MÃO DE OBRA .................................................................................................................................................................................................................................",{"$nulls":7},"SUB-TOTAL (4) = ",{"$f":"SUM(L3447:L3448)","v":0}]
[null,null,"DISCRIMINAÇÃO","SINAPI","UNID",null,"QTDE","PROD","IMPROD","P.UNIT. PROD","P.UNIT. IMPR","P.TOTAL"]
[{"$nulls":11},{"$f":"G3447*J3447","v":0}]
[{"$nulls":11},{"$f":"G3448*J3448","v":0}]
[]
[null,null,"OBSERVAÇÕES:","PROD DA EQUIPE =",null,null,1,null,null,null,"CUSTO (SUB-TOTAL 1 + 2 + 3 + 4) = ",{"$f":"L3445+L3440+L3427+L3435","v":0}]
[null,null,null,"RESP. TÉCNICO:",{"$nulls":6},"TOTAL - R$ = ",{"$f":"L3450/G3450","v":0}]
[{"$nulls":10},"BDI (%) = ",{"$f":"$I$3","v":0.2101044698987744}]
[{"$nulls":10},"TOTAL DO SERVIÇO - R$ = ",{"$f":"L3451*L3452+L3451","v":0}]
[]
[null,null,{"$f":"C3459","v":"SERVIÇO: TRANSPORTE DE MATERIAL 1ª CAT"},{"$f":"I3459","v":"CAC-112"},{"$f":"L3459","v":"M3XKM"},null,null,null,"P. Unit.=",{"$f":"L3483","v":0},{"$f":"$C$5","v":"SINAPI:Abril/2020 (Alagoas/AL) - NÃO DESONERADO"}]
[null,null," COMPOSIÇÃO ANALÍTICA DE CUSTO"]
[]
[null,null," COMPOSIÇÃO ANALÍTICA DE CUSTO",{"$nulls":4},"CODEVASF",null,null,"DATA: ANO 2017"]
[null,null,"SERVIÇO: TRANSPORTE DE MATERIAL 1ª CAT",{"$nulls":4},"COD: ","CAC-112",null,"UNIDADE: ","M3XKM"]
[]
[null,null,"SERVIÇOS - COMPOSIÇÕES AUXILIARES ............................................................................................................................................................................",{"$nulls":7},"SUB-TOTAL (1) = ",{"$f":"SUM(L3463:L3465)","v":0}]
[null,null,"DISCRIMINAÇÃO","SINAPI","UNID",null,"QTDE","PROD","IMPROD","P.UNIT. PROD","P.UNIT. IMPR","P.TOTAL"]
[null,null,"TRANSPORTE COMERCIAL COM CAMINHAO BASCULANTE 6 M3, RODOVIA EM LEITO NATURAL",72885,"M3XKM",null,1,null,null,{"$f":"IFERROR(VLOOKUP(D3463,$D$7:$J$7,6,0),0)","v":0},null,{"$f":"G3463*J3463","v":0}]
[null,null,"CAMINHÃO BASCULANTE 6 M3, PESO BRUTO TOTAL 16.000 KG, CARGA ÚTIL MÁXIMA 13.071 KG, DISTÂNCIA ENTRE EIXOS 4,80 M, POTÊNCIA 230 CV INCLUSIVE CAÇAMBA METÁLICA - CHP DIURNO. AF_06/2014",5811,"CHP",null,0.01]
[]
[]
[null,null,"EQUIPAMENTO .............................................................................................................................................................................................................................",{"$nulls":7},"SUB-TOTAL (2) = ",{"$f":"SUM(L3469:L3470)","v":0}]
[null,null,"DISCRIMINAÇÃO","SINAPI","UNID",null,"QTDE","PROD","IMPROD","P.UNIT. PROD","P.UNIT. IMPR","P.TOTAL"]
[{"$nulls":11},{"$f":"G3469*J3469","v":0}]
[{"$nulls":11},{"$f":"G3470*J3470","v":0}]
[]
[null,null,"MATERIAL ........................................................................................................................................................................................................................................",{"$nulls":7},"SUB-TOTAL (3) = ",{"$f":"SUM(L3474:L3475)","v":0}]
[null,null,"DISCRIMINAÇÃO","SINAPI","UNID",null,"QTDE","PROD","IMPROD","P.UNIT. PROD","P.UNIT. IMPR","P.TOTAL"]
[{"$nulls":11},{"$f":"G3474*J3474","v":0}]
[{"$nulls":11},{"$f":"G3475*J3475","v":0}]
[]
[null,null,"MÃO DE OBRA .................................................................................................................................................................................................................................",{"$nulls":7},"SUB-TOTAL (4) = ",{"$f":"SUM(L3479:L3480)","v":0}]
[null,null,"DISCRIMINAÇÃO","SINAPI","UNID",null,"QTDE","PROD","IMPROD","P.UNIT. PROD","P.UNIT. IMPR","P.TOTAL"]
[{"$nulls":11},{"$f":"G3479*J3479","v":0}]
[{"$nulls":11},{"$f":"G3480*J3480","v":0}]
[]
[null,null,"OBSERVAÇÕES:","PROD DA EQUIPE =",null,null,1,null,null,null,"CUSTO (SUB-TOTAL 1 + 2 + 3 + 4) = ",{"$f":"L3477+L3472+L3461+L3467","v":0}]
[null,null,null,"RESP. TÉCNICO:",{"$nulls":6},"TOTAL - R$ = ",{"$f":"L3482/G3482","v":0}]
[{"$nulls":10},"BDI (%) = ",{"$f":"$I$3","v":0.2101044698987744}]
[{"$nulls":10},"TOTAL DO SERVIÇO - R$ = ",{"$f":"L3483*L3484+L3483","v":0}]
[]
[null,null,{"$f":"C3491","v":"SERVIÇO: CAMADA DE AREIA PARA FILTRO"},{"$f":"I3491","v":"CAC-113"},{"$f":"L3491","v":"M3"},null,null,null,"P. Unit.=",{"$f":"L3522","v":0},{"$f":"$C$5","v":"SINAPI:Abril/2020 (Alagoas/AL) - NÃO DESONERADO"}]
[null,null," COMPOSIÇÃO ANALÍTICA DE CUSTO"]
[]
[null,null," COMPOSIÇÃO ANALÍTICA DE CUSTO",{"$nulls":4},"CODEVASF",null,null,"DATA: ANO 2017"]
[null,null,"SERVIÇO: CAMADA DE AREIA PARA FILTRO",{"$nulls":4},"COD: ","CAC-113",null,"UNIDADE: ","M3"]
[]
[null,null,"SERVIÇOS - COMPOSIÇÕES AUXILIARES ............................................................................................................................................................................",{"$nulls":7},"SUB-TOTAL (1) = ",{"$f":"SUM(L3495:L3504)","v":0}]
[null,null,"DISCRIMINAÇÃO","SINAPI","UNID",null,"QTDE","PROD","IMPROD","P.UNIT. PROD","P.UNIT. IMPR","P.TOTAL"]
[null,null,"CAMADA DRENANTE COM AREIA MEDIA",83667,"M3",null,1,null,null,{"$f":"IFERROR(VLOOKUP(D3495,$D$7:$J$7,6,0),0)","v":0},null,{"$f":"G3495*J3495","v":0}]
[null,null,"AREIA MEDIA - POSTO JAZIDA/FORNECEDOR (RETIRADO NA JAZIDA, SEM TRANSPORTE)",370,"M3",null,1.1000000000000001]
[null,null,"SERVENTE COM ENCARGOS COMPLEMENTARES",88316,"H",null,2.4500000000000002]
[null,null,"TRANSPORTE COMERCIAL COM CAMINHAO BASCULANTE 6 M3, RODOVIA EM LEITO NATURAL",72885,"M3XKM",null,10,null,null,{"$f":"IFERROR(VLOOKUP(D3498,$D$7:$J$7,6,0),0)","v":0},null,{"$f":"G3498*J3498","v":0},null,"JAZIDA AREIA DISTANTE 10 KM"]
[null,null,"CAMINHÃO BASCULANTE 6 M3, PESO BRUTO TOTAL 16.000 KG, CARGA ÚTIL MÁXIMA 13.071 KG, DISTÂNCIA ENTRE EIXOS 4,80 M, POTÊNCIA 230 CV INCLUSIVE CAÇAMBA METÁLICA - CHP DIURNO. AF_06/2014",5811,"CHP",null,0.01]
[null,null,"ESPALHAMENTO DE MATERIAL DE 1A CATEGORIA COM TRATOR DE ESTEIRA COM 153HP","74034/1","M3",null,1,null,null,{"$f":"IFERROR(VLOOKUP(D3500,$D$7:$J$7,6,0),0)","v":0},null,{"$f":"G3500*J3500","v":0}]
[null,null,"TRATOR DE ESTEIRAS, POTÊNCIA 150 HP, PESO OPERACIONAL 16,7 T, COM RODA MOTRIZ ELEVADA E LÂMINA 3,18 M3 - CHP DIURNO. AF_06/2014",5851,"CHP",null,7.9000000000000008E-3]
[null,null,"TRATOR DE ESTEIRAS, POTÊNCIA 150 HP, PESO OPERACIONAL 16,7 T, COM RODA MOTRIZ ELEVADA E LÂMINA 3,18 M3 - CHI DIURNO. AF_06/2014",5853,"CHI",null,3.3999999999999998E-3]
[null,null,"SERVENTE COM ENCARGOS COMPLEMENTARES",88316,"H",null,1.1299999999999999E-2]
[]
[]
[null,null,"EQUIPAMENTO .............................................................................................................................................................................................................................",{"$nulls":7},"SUB-TOTAL (2) = ",{"$f":"SUM(L3508:L3509)","v":0}]
[null,null,"DISCRIMINAÇÃO","SINAPI","UNID",null,"QTDE","PROD","IMPROD","P.UNIT. PROD","P.UNIT. IMPR","P.TOTAL"]
[{"$nulls":11},{"$f":"G3508*J3508","v":0}]
[{"$nulls":11},{"$f":"G3509*J3509","v":0}]
[]
[null,null,"MATERIAL ........................................................................................................................................................................................................................................",{"$nulls":7},"SUB-TOTAL (3) = ",{"$f":"SUM(L3513:L3514)","v":0}]
[null,null,"DISCRIMINAÇÃO","SINAPI","UNID",null,"QTDE","PROD","IMPROD","P.UNIT. PROD","P.UNIT. IMPR","P.TOTAL"]
[{"$nulls":11},{"$f":"G3513*J3513","v":0}]
[{"$nulls":11},{"$f":"G3514*J3514","v":0}]
[]
[null,null,"MÃO DE OBRA .................................................................................................................................................................................................................................",{"$nulls":7},"SUB-TOTAL (4) = ",{"$f":"SUM(L3518:L3519)","v":0}]
[null,null,"DISCRIMINAÇÃO","SINAPI","UNID",null,"QTDE","PROD","IMPROD","P.UNIT. PROD","P.UNIT. IMPR","P.TOTAL"]
[{"$nulls":11},{"$f":"G3518*J3518","v":0}]
[{"$nulls":11},{"$f":"G3519*J3519","v":0}]
[]
[null,null,"OBSERVAÇÕES:","PROD DA EQUIPE =",null,null,1,null,null,null,"CUSTO (SUB-TOTAL 1 + 2 + 3 + 4) = ",{"$f":"L3516+L3511+L3493+L3506","v":0}]
[null,null,null,"RESP. TÉCNICO:",{"$nulls":6},"TOTAL - R$ = ",{"$f":"L3521/G3521","v":0}]
[{"$nulls":10},"BDI (%) = ",{"$f":"$I$3","v":0.2101044698987744}]
[{"$nulls":10},"TOTAL DO SERVIÇO - R$ = ",{"$f":"L3522*L3523+L3522","v":0}]
[]
[null,null,{"$f":"C3530","v":"SERVIÇO: ENROCAMENTO DE PEDRA COM ARRUMAÇÃO MANUAL"},{"$f":"I3530","v":"CAC-114"},{"$f":"L3530","v":"M3"},null,null,null,"P. Unit.=",{"$f":"L3558","v":0},{"$f":"$C$5","v":"SINAPI:Abril/2020 (Alagoas/AL) - NÃO DESONERADO"}]
[null,null," COMPOSIÇÃO ANALÍTICA DE CUSTO"]
[]
[null,null," COMPOSIÇÃO ANALÍTICA DE CUSTO",{"$nulls":4},"CODEVASF",null,null,"DATA: ANO 2017"]
[null,null,"SERVIÇO: ENROCAMENTO DE PEDRA COM ARRUMAÇÃO MANUAL",{"$nulls":4},"COD: ","CAC-114",null,"UNIDADE: ","M3"]
[]
[null,null,"SERVIÇOS - COMPOSIÇÕES AUXILIARES ............................................................................................................................................................................",{"$nulls":7},"SUB-TOTAL (1) = ",{"$f":"SUM(L3534:L3540)","v":0}]
[null,null,"DISCRIMINAÇÃO","SINAPI","UNID",null,"QTDE","PROD","IMPROD","P.UNIT. PROD","P.UNIT. IMPR","P.TOTAL"]
[null,null,"ENROCAMENTO MANUAL, COM ARRUMACAO DO MATERIAL",73698,"M3",null,1,null,null,{"$f":"IFERROR(VLOOKUP(D3534,$D$7:$J$7,6,0),0)","v":0},null,{"$f":"G3534*J3534","v":0}]
[null,null,"PEDRA DE MAO OU PEDRA RACHAO PARA ARRIMO/FUNDACAO (POSTO PEDREIRA/FORNECEDOR, SEM FRETE)",4730,"M3",null,1.1000000000000001]
[null,null,"AJUDANTE DE PEDREIRO COM ENCARGOS COMPLEMENTARES",88242,"H",null,5.5]
[null,null,"PEDREIRO COM ENCARGOS COMPLEMENTARES",88309,"H",null,3]
[null,null,"TRANSPORTE COMERCIAL COM CAMINHAO BASCULANTE 6 M3, RODOVIA EM LEITO NATURAL",72885,"M3XKM",null,10,null,null,{"$f":"IFERROR(VLOOKUP(D3538,$D$7:$J$7,6,0),0)","v":0},null,{"$f":"G3538*J3538","v":0},null,"PEDREIRA DISTANTE 10 KM"]
[null,null,"CAMINHÃO BASCULANTE 6 M3, PESO BRUTO TOTAL 16.000 KG, CARGA ÚTIL MÁXIMA 13.071 KG, DISTÂNCIA ENTRE EIXOS 4,80 M, POTÊNCIA 230 CV INCLUSIVE CAÇAMBA METÁLICA - CHP DIURNO. AF_06/2014",5811,"CHP",null,0.01]
[]
[]
[null,null,"EQUIPAMENTO .............................................................................................................................................................................................................................",{"$nulls":7},"SUB-TOTAL (2) = ",{"$f":"SUM(L3544:L3545)","v":0}]
[null,null,"DISCRIMINAÇÃO","SINAPI","UNID",null,"QTDE","PROD","IMPROD","P.UNIT. PROD","P.UNIT. IMPR","P.TOTAL"]
[{"$nulls":11},{"$f":"G3544*J3544","v":0}]
[{"$nulls":11},{"$f":"G3545*J3545","v":0}]
[]
[null,null,"MATERIAL ........................................................................................................................................................................................................................................",{"$nulls":7},"SUB-TOTAL (3) = ",{"$f":"SUM(L3549:L3550)","v":0}]
[null,null,"DISCRIMINAÇÃO","SINAPI","UNID",null,"QTDE","PROD","IMPROD","P.UNIT. PROD","P.UNIT. IMPR","P.TOTAL"]
[{"$nulls":11},{"$f":"G3549*J3549","v":0}]
[{"$nulls":11},{"$f":"G3550*J3550","v":0}]
[]
[null,null,"MÃO DE OBRA .................................................................................................................................................................................................................................",{"$nulls":7},"SUB-TOTAL (4) = ",{"$f":"SUM(L3554:L3555)","v":0}]
[null,null,"DISCRIMINAÇÃO","SINAPI","UNID",null,"QTDE","PROD","IMPROD","P.UNIT. PROD","P.UNIT. IMPR","P.TOTAL"]
[{"$nulls":11},{"$f":"G3554*J3554","v":0}]
[{"$nulls":11},{"$f":"G3555*J3555","v":0}]
[]
[null,null,"OBSERVAÇÕES:","PROD DA EQUIPE =",null,null,1,null,null,null,"CUSTO (SUB-TOTAL 1 + 2 + 3 + 4) = ",{"$f":"L3552+L3547+L3532+L3542","v":0}]
[null,null,null,"RESP. TÉCNICO:",{"$nulls":6},"TOTAL - R$ = ",{"$f":"L3557/G3557","v":0}]
[{"$nulls":10},"BDI (%) = ",{"$f":"$I$3","v":0.2101044698987744}]
[{"$nulls":10},"TOTAL DO SERVIÇO - R$ = ",{"$f":"L3558*L3559+L3558","v":0}]
[]
[null,null,{"$f":"C3566","v":"SERVIÇO: ENROCAMENTO COM PEDRA ARGAMASSADA"},{"$f":"I3566","v":"CAC-115"},{"$f":"L3566","v":"M3"},null,null,null,"P. Unit.=",{"$f":"L3595","v":0},{"$f":"$C$5","v":"SINAPI:Abril/2020 (Alagoas/AL) - NÃO DESONERADO"}]
[null,null," COMPOSIÇÃO ANALÍTICA DE CUSTO"]
[]
[null,null," COMPOSIÇÃO ANALÍTICA DE CUSTO",{"$nulls":4},"CODEVASF",null,null,"DATA: ANO 2017"]
[null,null,"SERVIÇO: ENROCAMENTO COM PEDRA ARGAMASSADA",{"$nulls":4},"COD: ","CAC-115",null,"UNIDADE: ","M3"]
[]
[null,null,"SERVIÇOS - COMPOSIÇÕES AUXILIARES ............................................................................................................................................................................",{"$nulls":7},"SUB-TOTAL (1) = ",{"$f":"SUM(L3570:L3577)","v":0}]
[null,null,"DISCRIMINAÇÃO","SINAPI","UNID",null,"QTDE","PROD","IMPROD","P.UNIT. PROD","P.UNIT. IMPR","P.TOTAL"]
[null,null,"ENROCAMENTO COM PEDRA ARGAMASSADA TRAÇO 1:4 COM PEDRA DE MÃO",73611,"M3",null,1,null,null,{"$f":"IFERROR(VLOOKUP(D3570,$D$7:$J$7,6,0),0)","v":0},null,{"$f":"G3570*J3570","v":0}]
[null,null,"PEDRA DE MAO OU PEDRA RACHAO PARA ARRIMO/FUNDACAO (POSTO PEDREIRA/FORNECEDOR, SEM FRETE)",4730,"M3",null,1.1000000000000001]
[null,null,"AJUDANTE DE PEDREIRO COM ENCARGOS COMPLEMENTARES",88242,"H",null,6.5]
[null,null,"PEDREIRO COM ENCARGOS COMPLEMENTARES",88309,"H",null,4]
[null,null,"ARGAMASSA TRAÇO 1:4 (CIMENTO E AREIA MÉDIA), PREPARO MANUAL. AF_08/2014",88631,"M3",null,0.3]
[null,null,"TRANSPORTE COMERCIAL COM CAMINHAO BASCULANTE 6 M3, RODOVIA EM LEITO NATURAL",72885,"M3XKM",null,10,null,null,{"$f":"IFERROR(VLOOKUP(D3575,$D$7:$J$7,6,0),0)","v":0},null,{"$f":"G3575*J3575","v":0},null,"PEDREIRA DISTANTE 10 KM"]
[null,null,"CAMINHÃO BASCULANTE 6 M3, PESO BRUTO TOTAL 16.000 KG, CARGA ÚTIL MÁXIMA 13.071 KG, DISTÂNCIA ENTRE EIXOS 4,80 M, POTÊNCIA 230 CV INCLUSIVE CAÇAMBA METÁLICA - CHP DIURNO. AF_06/2014",5811,"CHP",null,0.01]
[]
[]
[null,null,"EQUIPAMENTO .............................................................................................................................................................................................................................",{"$nulls":7},"SUB-TOTAL (2) = ",{"$f":"SUM(L3581:L3582)","v":0}]
[null,null,"DISCRIMINAÇÃO","SINAPI","UNID",null,"QTDE","PROD","IMPROD","P.UNIT. PROD","P.UNIT. IMPR","P.TOTAL"]
[{"$nulls":11},{"$f":"G3581*J3581","v":0}]
[{"$nulls":11},{"$f":"G3582*J3582","v":0}]
[]
[null,null,"MATERIAL ........................................................................................................................................................................................................................................",{"$nulls":7},"SUB-TOTAL (3) = ",{"$f":"SUM(L3586:L3587)","v":0}]
[null,null,"DISCRIMINAÇÃO","SINAPI","UNID",null,"QTDE","PROD","IMPROD","P.UNIT. PROD","P.UNIT. IMPR","P.TOTAL"]
[{"$nulls":11},{"$f":"G3586*J3586","v":0}]
[{"$nulls":11},{"$f":"G3587*J3587","v":0}]
[]
[null,null,"MÃO DE OBRA .................................................................................................................................................................................................................................",{"$nulls":7},"SUB-TOTAL (4) = ",{"$f":"SUM(L3591:L3592)","v":0}]
[null,null,"DISCRIMINAÇÃO","SINAPI","UNID",null,"QTDE","PROD","IMPROD","P.UNIT. PROD","P.UNIT. IMPR","P.TOTAL"]
[{"$nulls":11},{"$f":"G3591*J3591","v":0}]
[{"$nulls":11},{"$f":"G3592*J3592","v":0}]
[]
[null,null,"OBSERVAÇÕES:","PROD DA EQUIPE =",null,null,1,null,null,null,"CUSTO (SUB-TOTAL 1 + 2 + 3 + 4) = ",{"$f":"L3589+L3584+L3568+L3579","v":0}]
[null,null,null,"RESP. TÉCNICO:",{"$nulls":6},"TOTAL - R$ = ",{"$f":"L3594/G3594","v":0}]
[{"$nulls":10},"BDI (%) = ",{"$f":"$I$3","v":0.2101044698987744}]
[{"$nulls":10},"TOTAL DO SERVIÇO - R$ = ",{"$f":"L3595*L3596+L3595","v":0}]
[]
[null,null,{"$f":"C3603","v":"SERVIÇO: FORNECIMENTO E INSTALAÇÃO DE MANTA BIDIM RT-14"},{"$f":"I3603","v":"CAC-116"},{"$f":"L3603","v":"M2"},null,null,null,"P. Unit.=",{"$f":"L3628","v":0},{"$f":"$C$5","v":"SINAPI:Abril/2020 (Alagoas/AL) - NÃO DESONERADO"}]
[null,null," COMPOSIÇÃO ANALÍTICA DE CUSTO"]
[]
[null,null," COMPOSIÇÃO ANALÍTICA DE CUSTO",{"$nulls":4},"CODEVASF",null,null,"DATA: ANO 2017"]
[null,null,"SERVIÇO: FORNECIMENTO E INSTALAÇÃO DE MANTA BIDIM RT-14",{"$nulls":4},"COD: ","CAC-116",null,"UNIDADE: ","M2"]
[]
[null,null,"SERVIÇOS - COMPOSIÇÕES AUXILIARES ............................................................................................................................................................................",{"$nulls":7},"SUB-TOTAL (1) = ",{"$f":"SUM(L3607:L3610)","v":0}]
[null,null,"DISCRIMINAÇÃO","SINAPI","UNID",null,"QTDE","PROD","IMPROD","P.UNIT. PROD","P.UNIT. IMPR","P.TOTAL"]
[null,null,"FORNECIMENTO E INSTALACAO DE MANTA BIDIM RT - 14",83665,"M2",null,1,null,null,{"$f":"IFERROR(VLOOKUP(D3607,$D$7:$J$7,6,0),0)","v":0},null,{"$f":"G3607*J3607","v":0}]
[null,null,"GEOTEXTIL NAO TECIDO AGULHADO DE FILAMENTOS CONTINUOS 100% POLIESTER, RESITENCIA A TRACAO = 14 KN/M",4021,"M2",null,1.08]
[null,null,"SERVENTE COM ENCARGOS COMPLEMENTARES",88316,"H",null,0.03]
[]
[]
[null,null,"EQUIPAMENTO .............................................................................................................................................................................................................................",{"$nulls":7},"SUB-TOTAL (2) = ",{"$f":"SUM(L3614:L3615)","v":0}]
[null,null,"DISCRIMINAÇÃO","SINAPI","UNID",null,"QTDE","PROD","IMPROD","P.UNIT. PROD","P.UNIT. IMPR","P.TOTAL"]
[{"$nulls":11},{"$f":"G3614*J3614","v":0}]
[{"$nulls":11},{"$f":"G3615*J3615","v":0}]
[]
[null,null,"MATERIAL ........................................................................................................................................................................................................................................",{"$nulls":7},"SUB-TOTAL (3) = ",{"$f":"SUM(L3619:L3620)","v":0}]
[null,null,"DISCRIMINAÇÃO","SINAPI","UNID",null,"QTDE","PROD","IMPROD","P.UNIT. PROD","P.UNIT. IMPR","P.TOTAL"]
[{"$nulls":11},{"$f":"G3619*J3619","v":0}]
[{"$nulls":11},{"$f":"G3620*J3620","v":0}]
[]
[null,null,"MÃO DE OBRA .................................................................................................................................................................................................................................",{"$nulls":7},"SUB-TOTAL (4) = ",{"$f":"SUM(L3624:L3625)","v":0}]
[null,null,"DISCRIMINAÇÃO","SINAPI","UNID",null,"QTDE","PROD","IMPROD","P.UNIT. PROD","P.UNIT. IMPR","P.TOTAL"]
[{"$nulls":11},{"$f":"G3624*J3624","v":0}]
[{"$nulls":11},{"$f":"G3625*J3625","v":0}]
[]
[null,null,"OBSERVAÇÕES:","PROD DA EQUIPE =",null,null,1,null,null,null,"CUSTO (SUB-TOTAL 1 + 2 + 3 + 4) = ",{"$f":"L3622+L3617+L3605+L3612","v":0}]
[null,null,null,"RESP. TÉCNICO:",{"$nulls":6},"TOTAL - R$ = ",{"$f":"L3627/G3627","v":0}]
[{"$nulls":10},"BDI (%) = ",{"$f":"$I$3","v":0.2101044698987744}]
[{"$nulls":10},"TOTAL DO SERVIÇO - R$ = ",{"$f":"L3628*L3629+L3628","v":0}]
[]
[null,null,{"$f":"C3636","v":"SERVIÇO: REGULARIZAÇÃO DE SUPERFICIE EM TERRA COM MOTONIVELADORA"},{"$f":"I3636","v":"CAC-117"},{"$f":"L3636","v":"M2"},null,null,null,"P. Unit.=",{"$f":"L3660","v":0},{"$f":"$C$5","v":"SINAPI:Abril/2020 (Alagoas/AL) - NÃO DESONERADO"}]
[null,null," COMPOSIÇÃO ANALÍTICA DE CUSTO"]
[]
[null,null," COMPOSIÇÃO ANALÍTICA DE CUSTO",{"$nulls":4},"CODEVASF",null,null,"DATA: ANO 2017"]
[null,null,"SERVIÇO: REGULARIZAÇÃO DE SUPERFICIE EM TERRA COM MOTONIVELADORA",{"$nulls":4},"COD: ","CAC-117",null,"UNIDADE: ","M2"]
[]
[null,null,"SERVIÇOS - COMPOSIÇÕES AUXILIARES ............................................................................................................................................................................",{"$nulls":7},"SUB-TOTAL (1) = ",{"$f":"SUM(L3640:L3642)","v":0}]
[null,null,"DISCRIMINAÇÃO","SINAPI","UNID",null,"QTDE","PROD","IMPROD","P.UNIT. PROD","P.UNIT. IMPR","P.TOTAL"]
[null,null,"REGULARIZACAO DE SUPERFICIES EM TERRA COM MOTONIVELADORA",79472,"M2",null,1,null,null,{"$f":"IFERROR(VLOOKUP(D3640,$D$7:$J$7,6,0),0)","v":0},null,{"$f":"G3640*J3640","v":0}]
[null,null,"MOTONIVELADORA POTÊNCIA BÁSICA LÍQUIDA (PRIMEIRA MARCHA) 125 HP, PESO BRUTO 13032 KG, LARGURA DA LÂMINA DE 3,7 M - CHP DIURNO. AF_06/2014",5932,"CHP",null,3.0000000000000001E-3]
[]
[]
[null,null,"EQUIPAMENTO .............................................................................................................................................................................................................................",{"$nulls":7},"SUB-TOTAL (2) = ",{"$f":"SUM(L3646:L3647)","v":0}]
[null,null,"DISCRIMINAÇÃO","SINAPI","UNID",null,"QTDE","PROD","IMPROD","P.UNIT. PROD","P.UNIT. IMPR","P.TOTAL"]
[{"$nulls":11},{"$f":"G3646*J3646","v":0}]
[{"$nulls":11},{"$f":"G3647*J3647","v":0}]
[]
[null,null,"MATERIAL ........................................................................................................................................................................................................................................",{"$nulls":7},"SUB-TOTAL (3) = ",{"$f":"SUM(L3651:L3652)","v":0}]
[null,null,"DISCRIMINAÇÃO","SINAPI","UNID",null,"QTDE","PROD","IMPROD","P.UNIT. PROD","P.UNIT. IMPR","P.TOTAL"]
[{"$nulls":11},{"$f":"G3651*J3651","v":0}]
[{"$nulls":11},{"$f":"G3652*J3652","v":0}]
[]
[null,null,"MÃO DE OBRA .................................................................................................................................................................................................................................",{"$nulls":7},"SUB-TOTAL (4) = ",{"$f":"SUM(L3656:L3657)","v":0}]
[null,null,"DISCRIMINAÇÃO","SINAPI","UNID",null,"QTDE","PROD","IMPROD","P.UNIT. PROD","P.UNIT. IMPR","P.TOTAL"]
[{"$nulls":11},{"$f":"G3656*J3656","v":0}]
[{"$nulls":11},{"$f":"G3657*J3657","v":0}]
[]
[null,null,"OBSERVAÇÕES:","PROD DA EQUIPE =",null,null,1,null,null,null,"CUSTO (SUB-TOTAL 1 + 2 + 3 + 4) = ",{"$f":"L3654+L3649+L3638+L3644","v":0}]
[null,null,null,"RESP. TÉCNICO:",{"$nulls":6},"TOTAL - R$ = ",{"$f":"L3659/G3659","v":0}]
[{"$nulls":10},"BDI (%) = ",{"$f":"$I$3","v":0.2101044698987744}]
[{"$nulls":10},"TOTAL DO SERVIÇO - R$ = ",{"$f":"L3660*L3661+L3660","v":0}]
[]
[null,null,{"$f":"C3668","v":"SERVIÇO: ATERRO COMPACTADO COM CONTROLE GC>=95% PN"},{"$f":"I3668","v":"CAC-118"},{"$f":"L3668","v":"M3"},null,null,null,"P. Unit.=",{"$f":"L3698","v":0},{"$f":"$C$5","v":"SINAPI:Abril/2020 (Alagoas/AL) - NÃO DESONERADO"}]
[null,null," COMPOSIÇÃO ANALÍTICA DE CUSTO"]
[]
[null,null," COMPOSIÇÃO ANALÍTICA DE CUSTO",{"$nulls":4},"CODEVASF",null,null,"DATA: ANO 2017"]
[null,null,"SERVIÇO: ATERRO COMPACTADO COM CONTROLE GC>=95% PN",{"$nulls":4},"COD: ","CAC-118",null,"UNIDADE: ","M3"]
[]
[null,null,"SERVIÇOS - COMPOSIÇÕES AUXILIARES ............................................................................................................................................................................",{"$nulls":7},"SUB-TOTAL (1) = ",{"$f":"SUM(L3672:L3680)","v":0}]
[null,null,"DISCRIMINAÇÃO","SINAPI","UNID",null,"QTDE","PROD","IMPROD","P.UNIT. PROD","P.UNIT. IMPR","P.TOTAL"]
[null,null,"COMPACTACAO MECANICA C/ CONTROLE DO GC>=95% DO PN (AREAS) (C/MONIVELADORA 140 HP E ROLO COMPRESSOR VIBRATORIO 80 HP)","74005/2","M3",null,1,null,null,{"$f":"IFERROR(VLOOKUP(D3672,$D$7:$J$7,6,0),0)","v":0},null,{"$f":"G3672*J3672","v":0}]
[null,null,"GRADE DE DISCO REBOCÁVEL COM 20 DISCOS 24\" X 6 MM COM PNEUS PARA TRANSPORTE - CHP DIURNO. AF_06/2014",5921,"CHP",null,0.01]
[null,null,"MOTONIVELADORA POTÊNCIA BÁSICA LÍQUIDA (PRIMEIRA MARCHA) 125 HP, PESO BRUTO 13032 KG, LARGURA DA LÂMINA DE 3,7 M - CHP DIURNO. AF_06/2014",5932,"CHP",null,5.0000000000000001E-3]
[null,null,"ROLO COMPACTADOR VIBRATORIO DE UM CILINDRO LISO DE ACO, POTENCIA 80 HP, PESO OPERACIONAL MAXIMO 8,5 T, LARGURA TRABALHO 1,676 M - CHP DIURNO. AF_06/2014",5948,"CHP",null,5.0000000000000001E-3]
[null,null,"CAMINHÃO PIPA 6.000 L, PESO BRUTO TOTAL 13.000 KG, DISTÂNCIA ENTRE EIXOS 4,80 M, POTÊNCIA 189 CV INCLUSIVE TANQUE DE AÇO PARA TRANSPORTE DE ÁGUA, CAPACIDADE 6 M3 - CHP DIURNO. AF_06/2014",6259,"CHP",null,0.01]
[null,null,"ROLO COMPACTADOR PE DE CARNEIRO VIBRATORIO, POTENCIA 125 HP, PESO OPERACIONAL SEM/COM LASTRO 11,95 / 13,30 T, IMPACTO DINAMICO 38,5 / 22,5 T, LARGURA DE TRABALHO 2,15 M - CHP DIURNO. AF_06/2014",7049,"CHP",null,0.01]
[null,null,"SERVENTE COM ENCARGOS COMPLEMENTARES",88316,"H",null,0.03]
[null,null,"TRATOR DE PNEUS, POTÊNCIA 85 CV, TRAÇÃO 4X4, PESO COM LASTRO DE 4.675 KG - CHP DIURNO. AF_06/2014",89035,"CHP",null,0.01]
[]
[]
[null,null,"EQUIPAMENTO .............................................................................................................................................................................................................................",{"$nulls":7},"SUB-TOTAL (2) = ",{"$f":"SUM(L3684:L3685)","v":0}]
[null,null,"DISCRIMINAÇÃO","SINAPI","UNID",null,"QTDE","PROD","IMPROD","P.UNIT. PROD","P.UNIT. IMPR","P.TOTAL"]
[{"$nulls":11},{"$f":"G3684*J3684","v":0}]
[{"$nulls":11},{"$f":"G3685*J3685","v":0}]
[]
[null,null,"MATERIAL ........................................................................................................................................................................................................................................",{"$nulls":7},"SUB-TOTAL (3) = ",{"$f":"SUM(L3689:L3690)","v":0}]
[null,null,"DISCRIMINAÇÃO","SINAPI","UNID",null,"QTDE","PROD","IMPROD","P.UNIT. PROD","P.UNIT. IMPR","P.TOTAL"]
[{"$nulls":11},{"$f":"G3689*J3689","v":0}]
[{"$nulls":11},{"$f":"G3690*J3690","v":0}]
[]
[null,null,"MÃO DE OBRA .................................................................................................................................................................................................................................",{"$nulls":7},"SUB-TOTAL (4) = ",{"$f":"SUM(L3694:L3695)","v":0}]
[null,null,"DISCRIMINAÇÃO","SINAPI","UNID",null,"QTDE","PROD","IMPROD","P.UNIT. PROD","P.UNIT. IMPR","P.TOTAL"]
[{"$nulls":11},{"$f":"G3694*J3694","v":0}]
[{"$nulls":11},{"$f":"G3695*J3695","v":0}]
[]
[null,null,"OBSERVAÇÕES:","PROD DA EQUIPE =",null,null,1,null,null,null,"CUSTO (SUB-TOTAL 1 + 2 + 3 + 4) = ",{"$f":"L3692+L3687+L3670+L3682","v":0}]
[null,null,null,"RESP. TÉCNICO:",{"$nulls":6},"TOTAL - R$ = ",{"$f":"L3697/G3697","v":0}]
[{"$nulls":10},"BDI (%) = ",{"$f":"$I$3","v":0.2101044698987744}]
[{"$nulls":10},"TOTAL DO SERVIÇO - R$ = ",{"$f":"L3698*L3699+L3698","v":0}]
[null,null," COMPOSIÇÃO ANALÍTICA DE CUSTO"]
[]
[null,null,"OBRA: ",{"$nulls":4},"CODEVASF",null,null,{"$f":"$C$6","v":"DATA: ANO 2020"}]
[null,null,"SERVIÇO: EXECUÇÃO DE ESTACAS EM AREIA E BRITA",{"$nulls":4},"COD: ","CAC-109",null,"UNIDADE: ","M2"]
[]
[null,null,"SERVIÇOS - COMPOSIÇÕES AUXILIARES ............................................................................................................................................................................",{"$nulls":7},"SUB-TOTAL (1) = ",{"$f":"SUM(L3708:L3709)","v":23.7}]
[null,null,"DISCRIMINAÇÃO","COTAÇÃO","UNID",null,"QTDE","PROD","IMPROD","P.UNIT. PROD","P.UNIT. IMPR","P.TOTAL"]
[null,null,"EXECUÇÃO DE ESTACA AREIA E BRITA",null,"M",null,1,null,null,23.7,null,{"$f":"G3708*J3708","v":23.7}]
[]
[]
[null,null,"EQUIPAMENTO .............................................................................................................................................................................................................................",{"$nulls":7},"SUB-TOTAL (2) = ",{"$f":"SUM(L3713:L3714)","v":0}]
[null,null,"DISCRIMINAÇÃO","SINAPI","UNID",null,"QTDE","PROD","IMPROD","P.UNIT. PROD","P.UNIT. IMPR","P.TOTAL"]
[{"$nulls":11},{"$f":"G3713*J3713","v":0}]
[{"$nulls":11},{"$f":"G3714*J3714","v":0}]
[]
[null,null,"MATERIAL ........................................................................................................................................................................................................................................",{"$nulls":7},"SUB-TOTAL (3) = ",{"$f":"SUM(L3718:L3719)","v":5.2392000000000003}]
[null,null,"DISCRIMINAÇÃO","SINAPI","UNID",null,"QTDE","PROD","IMPROD","P.UNIT. PROD","P.UNIT. IMPR","P.TOTAL"]
[null,null,"AREIA PARA ATERRO",368,"M3",null,0.05,null,null,45,null,{"$f":"G3718*J3718","v":2.25}]
[null,null,"PEDRA BRITADA GRADUADA",4729,"M3",null,0.04,null,null,74.73,null,{"$f":"G3719*J3719","v":2.9892000000000003}]
[]
[null,null,"MÃO DE OBRA .................................................................................................................................................................................................................................",{"$nulls":7},"SUB-TOTAL (4) = ",{"$f":"SUM(L3723:L3724)","v":0}]
[null,null,"DISCRIMINAÇÃO","SINAPI","UNID",null,"QTDE","PROD","IMPROD","P.UNIT. PROD","P.UNIT. IMPR","P.TOTAL"]
[{"$nulls":11},{"$f":"G3723*J3723","v":0}]
[{"$nulls":11},{"$f":"G3724*J3724","v":0}]
[]
[null,null,"OBSERVAÇÕES:","PROD DA EQUIPE =",null,null,1,null,null,null,"CUSTO (SUB-TOTAL 1 + 2 + 3 + 4) = ",{"$f":"L3721+L3716+L3706+L3711","v":28.9392}]
[null,null,null,"RESP. TÉCNICO:",{"$nulls":6},"TOTAL - R$ = ",{"$f":"L3726/G3726","v":28.9392}]
[{"$nulls":10},"BDI (%) = ",{"$f":"$I$3","v":0.2101044698987744}]
[{"$nulls":10},"TOTAL DO SERVIÇO - R$ = ",{"$f":"L3727*L3728+L3727","v":35.019455275294611}]
[null,null," COMPOSIÇÃO ANALÍTICA DE CUSTO"]
[]
[null,null,"OBRA: ",{"$nulls":4},"CODEVASF",null,null,{"$f":"$C$6","v":"DATA: ANO 2020"}]
[null,null,"SERVIÇO: FORNECIMENTO E INSTALAÇÃO DE GEOGRELHA BI DIMENSIONAL RT > 100 kN/m",{"$nulls":4},"COD: ","CAC-110",null,"UNIDADE: ","M2"]
[]
[null,null,"SERVIÇOS - COMPOSIÇÕES AUXILIARES ............................................................................................................................................................................",{"$nulls":7},"SUB-TOTAL (1) = ",{"$f":"SUM(L3737:L3738)","v":0}]
[null,null,"DISCRIMINAÇÃO","COTAÇÃO","UNID",null,"QTDE","PROD","IMPROD","P.UNIT. PROD","P.UNIT. IMPR","P.TOTAL"]
[]
[]
[]
[null,null,"EQUIPAMENTO .............................................................................................................................................................................................................................",{"$nulls":7},"SUB-TOTAL (2) = ",{"$f":"SUM(L3742:L3743)","v":9.9326999999999988}]
[null,null,"DISCRIMINAÇÃO","SINAPI","UNID",null,"QTDE","PROD","IMPROD","P.UNIT. PROD","P.UNIT. IMPR","P.TOTAL"]
[null,null,"RETROESCAVADEIRA SOBRE RODAS COM CARREGADEIRA, TRAÇÃO 4X2, POTÊNCIA LÍQ. 79 HP, CAÇAMBA CARREG. CAP. MÍN. 1 M3, CAÇAMBA RETRO CAP. 0,20 M3, PESO OPERACIONAL MÍN. 6.570 KG, PROFUNDIDADE ESCAVAÇÃO MÁX. 4,37 M – CHP DIURNO. AF_06/2014",5680,"CHP",null,0.12,null,null,75.05,null,{"$f":"G3742*J3742","v":9.0059999999999985}]
[null,null,"RETROESCAVADEIRA SOBRE RODAS COM CARREGADEIRA, TRAÇÃO 4X2, POTÊNCIA LÍQ. 79 HP, CAÇAMBA CARREG. CAP. MÍN. 1 M3, CAÇAMBA RETRO CAP. 0,20 M3, PESO OPERACIONAL MÍN. 6.570 KG, PROFUNDIDADE ESCAVAÇÃO MÁX. 4,37 M – CHP DIURNO. AF_06/2014",5681,"CHI",null,0.03,null,null,null,30.89,{"$f":"G3743*K3743","v":0.92669999999999997}]
[]
[null,null,"MATERIAL ........................................................................................................................................................................................................................................",{"$nulls":7},"SUB-TOTAL (3) = ",{"$f":"SUM(L3747:L3748)","v":28}]
[null,null,"DISCRIMINAÇÃO","COTAÇÃO","UNID",null,"QTDE","PROD","IMPROD","P.UNIT. PROD","P.UNIT. IMPR","P.TOTAL"]
[null,null," - GEOGRELHA COM RESISTÊNCIA A TRAÇÃO DE 100kN/m",null,"M2",null,1,null,null,28,null,{"$f":"G3747*J3747","v":28}]
[]
[]
[null,null,"MÃO DE OBRA .................................................................................................................................................................................................................................",{"$nulls":7},"SUB-TOTAL (4) = ",{"$f":"SUM(L3752:L3753)","v":3.9161999999999999}]
[null,null,"DISCRIMINAÇÃO","SINAPI","UNID",null,"QTDE","PROD","IMPROD","P.UNIT. PROD","P.UNIT. IMPR","P.TOTAL"]
[]
[null,null,"SERVENTE COM ENCARGOS COMPLEMENTARES",88316,"H",null,0.30499999999999999,null,null,12.84,null,{"$f":"G3753*J3753","v":3.9161999999999999}]
[]
[null,null,"OBSERVAÇÕES:","PROD DA EQUIPE =",null,null,1,null,null,null,"CUSTO (SUB-TOTAL 1 + 2 + 3 + 4) = ",{"$f":"L3750+L3745+L3735+L3740","v":41.8489}]
[null,null,null,"RESP. TÉCNICO:",{"$nulls":6},"TOTAL - R$ = ",{"$f":"L3755/G3755","v":41.8489}]
[{"$nulls":10},"BDI (%) = ",{"$f":"$I$3","v":0.2101044698987744}]
[{"$nulls":10},"TOTAL DO SERVIÇO - R$ = ",{"$f":"L3756*L3757+L3756","v":50.641540950346823}]
[null,null,{"$f":"C3763","v":"SERVIÇO: INSTALACAO E FORNECIMENTO DE TUBO DE PEAD CORRUGADO 100MM    "},{"$f":"I3763","v":"CAC-111"},"M","C. Unit. =",{"$f":"L3786","v":27.350999999999999},null,"P. Unit.=",{"$f":"L3788","v":33.097567356201381},{"$f":"$C$5","v":"SINAPI:Abril/2020 (Alagoas/AL) - NÃO DESONERADO"}]
[null,null," COMPOSIÇÃO ANALÍTICA DE CUSTO"]
[]
[null,null,"OBRA: ",{"$nulls":4},"CODEVASF",null,null,{"$f":"$C$6","v":"DATA: ANO 2020"}]
[null,null,"SERVIÇO: INSTALACAO E FORNECIMENTO DE TUBO DE PEAD CORRUGADO 100MM    ",{"$nulls":4},"COD: ","CAC-111",null,"UNIDADE: ","M2"]
[]
[null,null,"SERVIÇOS - COMPOSIÇÕES AUXILIARES ............................................................................................................................................................................",{"$nulls":7},"SUB-TOTAL (1) = ",{"$f":"SUM(L3767:L3768)","v":0}]
[null,null,"DISCRIMINAÇÃO","COTAÇÃO","UNID",null,"QTDE","PROD","IMPROD","P.UNIT. PROD","P.UNIT. IMPR","P.TOTAL"]
[]
[]
[]
[null,null,"EQUIPAMENTO .............................................................................................................................................................................................................................",{"$nulls":7},"SUB-TOTAL (2) = ",{"$f":"SUM(L3772:L3773)","v":0}]
[null,null,"DISCRIMINAÇÃO","SINAPI","UNID",null,"QTDE","PROD","IMPROD","P.UNIT. PROD","P.UNIT. IMPR","P.TOTAL"]
[]
[{"$nulls":11},{"$f":"G3773*J3773","v":0}]
[]
[null,null,"MATERIAL ........................................................................................................................................................................................................................................",{"$nulls":7},"SUB-TOTAL (3) = ",{"$f":"SUM(L3777:L3778)","v":19.8}]
[null,null,"DISCRIMINAÇÃO","SICRO","UNID",null,"QTDE","PROD","IMPROD","P.UNIT. PROD","P.UNIT. IMPR","P.TOTAL"]
[null,null," - TUBO DE PEAD ESPIRALADO D=100mm","M913","M",null,1,null,null,19.8,null,{"$f":"G3777*J3777","v":19.8}]
[]
[]
[null,null,"MÃO DE OBRA .................................................................................................................................................................................................................................",{"$nulls":7},"SUB-TOTAL (4) = ",{"$f":"SUM(L3782:L3783)","v":7.5510000000000002}]
[null,null,"DISCRIMINAÇÃO","SINAPI","UNID",null,"QTDE","PROD","IMPROD","P.UNIT. PROD","P.UNIT. IMPR","P.TOTAL"]
[null,null,"PEDREIRO COM ENCARGOS COMPLEMENTARES",88309,"H",null,0.1,null,null,18.309999999999999,null,{"$f":"G3782*J3782","v":1.831}]
[null,null,"SERVENTE COM ENCARGOS COMPLEMENTARES",88316,"H",null,0.4,null,null,14.3,null,{"$f":"G3783*J3783","v":5.7200000000000006}]
[]
[null,null,"OBSERVAÇÕES:","PROD DA EQUIPE =",null,null,1,null,null,null,"CUSTO (SUB-TOTAL 1 + 2 + 3 + 4) = ",{"$f":"L3780+L3775+L3765+L3770","v":27.350999999999999}]
[null,null,null,"RESP. TÉCNICO:",{"$nulls":6},"TOTAL - R$ = ",{"$f":"L3785/G3785","v":27.350999999999999}]
[{"$nulls":10},"BDI (%) = ",{"$f":"$I$3","v":0.2101044698987744}]
[{"$nulls":10},"TOTAL DO SERVIÇO - R$ = ",{"$f":"L3786*L3787+L3786","v":33.097567356201381}]
[null,null,{"$f":"C3793","v":"SERVIÇO: INSTALACAO E FORNECIMENTO DE CANALETA DN  300 MM  "},{"$f":"I3793","v":"CAC-112"},"M","C. Unit. =",{"$f":"L3817","v":28.919},null,"P. Unit.=",{"$f":"L3819","v":34.995011165002659},{"$f":"$C$5","v":"SINAPI:Abril/2020 (Alagoas/AL) - NÃO DESONERADO"}]
[null,null," COMPOSIÇÃO ANALÍTICA DE CUSTO"]
[]
[null,null,"OBRA: ",{"$nulls":4},"CODEVASF",null,null,{"$f":"$C$6","v":"DATA: ANO 2020"}]
[null,null,"SERVIÇO: INSTALACAO E FORNECIMENTO DE CANALETA DN  300 MM  ",{"$nulls":4},"COD: ","CAC-112",null,"UNIDADE: ","M2"]
[]
[null,null,"SERVIÇOS - COMPOSIÇÕES AUXILIARES ............................................................................................................................................................................",{"$nulls":7},"SUB-TOTAL (1) = ",{"$f":"SUM(L3797:L3798)","v":0}]
[null,null,"DISCRIMINAÇÃO","COTAÇÃO","UNID",null,"QTDE","PROD","IMPROD","P.UNIT. PROD","P.UNIT. IMPR","P.TOTAL"]
[]
[]
[]
[null,null,"EQUIPAMENTO .............................................................................................................................................................................................................................",{"$nulls":7},"SUB-TOTAL (2) = ",{"$f":"SUM(L3802:L3803)","v":0}]
[null,null,"DISCRIMINAÇÃO","SINAPI","UNID",null,"QTDE","PROD","IMPROD","P.UNIT. PROD","P.UNIT. IMPR","P.TOTAL"]
[]
[{"$nulls":11},{"$f":"G3803*J3803","v":0}]
[]
[null,null,"MATERIAL ........................................................................................................................................................................................................................................",{"$nulls":7},"SUB-TOTAL (3) = ",{"$f":"SUM(L3807:L3809)","v":19.536999999999999}]
[null,null,"DISCRIMINAÇÃO","SINAPI","UNID",null,"QTDE","PROD","IMPROD","P.UNIT. PROD","P.UNIT. IMPR","P.TOTAL"]
[null,null," CALHA/CANALETA DE CONCRETO SIMPLES, TIPO MEIA CANA, D = 30 CM, PARA AGUA PLUVIAL",10541,"M",null,1.05,null,null,18.3,null,{"$f":"G3807*J3807","v":19.215}]
[null,null,"CIMENTO PORTLAND COMPOSTO CP II-32",1379,"KG",null,0.4,null,null,0.48,null,{"$f":"G3808*J3808","v":0.192}]
[null,null,"AREIA MEDIA",370,"M3",null,2E-3,null,null,65,null,{"$f":"G3809*J3809","v":0.13}]
[]
[null,null,"MÃO DE OBRA .................................................................................................................................................................................................................................",{"$nulls":7},"SUB-TOTAL (4) = ",{"$f":"SUM(L3813:L3814)","v":9.3820000000000014}]
[null,null,"DISCRIMINAÇÃO","SINAPI","UNID",null,"QTDE","PROD","IMPROD","P.UNIT. PROD","P.UNIT. IMPR","P.TOTAL"]
[null,null,"PEDREIRO COM ENRAGOS COMPLEMENTARES",88309,"H",null,0.2,null,null,18.309999999999999,null,{"$f":"G3813*J3813","v":3.6619999999999999}]
[null,null,"SERVENTE COM ENCARGOS COMPLEMENTARES",88316,"H",null,0.4,null,null,14.3,null,{"$f":"G3814*J3814","v":5.7200000000000006}]
[]
[null,null,"OBSERVAÇÕES:","PROD DA EQUIPE =",null,null,1,null,null,null,"CUSTO (SUB-TOTAL 1 + 2 + 3 + 4) = ",{"$f":"L3811+L3805+L3795+L3800","v":28.919}]
[null,null,null,"RESP. TÉCNICO:",{"$nulls":6},"TOTAL - R$ = ",{"$f":"L3816/G3816","v":28.919}]
[{"$nulls":10},"BDI (%) = ",{"$f":"$I$3","v":0.2101044698987744}]
[{"$nulls":10},"TOTAL DO SERVIÇO - R$ = ",{"$f":"L3817*L3818+L3817","v":34.995011165002659}]
[null,null,{"$f":"C3824","v":"SERVIÇO:  INSTALACAO E FORNECIMENTO DE TUBO PVC 200 MM  "},{"$f":"I3824","v":"CAC-113"},"M","C. Unit. =",{"$f":"L3846","v":157.87860000000001},null,"P. Unit.=",{"$f":"L3848","v":191.04959956136065},{"$f":"$C$5","v":"SINAPI:Abril/2020 (Alagoas/AL) - NÃO DESONERADO"}]
[null,null," COMPOSIÇÃO ANALÍTICA DE CUSTO"]
[]
[null,null,"OBRA: ",{"$nulls":4},"CODEVASF",null,null,{"$f":"$C$6","v":"DATA: ANO 2020"}]
[null,null,"SERVIÇO:  INSTALACAO E FORNECIMENTO DE TUBO PVC 200 MM  ",{"$nulls":4},"COD: ","CAC-113",null,"UNIDADE: ","M2"]
[]
[null,null,"SERVIÇOS - COMPOSIÇÕES AUXILIARES ............................................................................................................................................................................",{"$nulls":7},"SUB-TOTAL (1) = ",{"$f":"SUM(L3828:L3829)","v":0}]
[null,null,"DISCRIMINAÇÃO","COTAÇÃO","UNID",null,"QTDE","PROD","IMPROD","P.UNIT. PROD","P.UNIT. IMPR","P.TOTAL"]
[]
[]
[]
[null,null,"EQUIPAMENTO .............................................................................................................................................................................................................................",{"$nulls":7},"SUB-TOTAL (2) = ",{"$f":"SUM(L3833:L3834)","v":0}]
[null,null,"DISCRIMINAÇÃO","SINAPI","UNID",null,"QTDE","PROD","IMPROD","P.UNIT. PROD","P.UNIT. IMPR","P.TOTAL"]
[]
[{"$nulls":11},{"$f":"G3834*J3834","v":0}]
[]
[null,null,"MATERIAL ........................................................................................................................................................................................................................................",{"$nulls":7},"SUB-TOTAL (3) = ",{"$f":"SUM(L3838:L3838)","v":151.06}]
[null,null,"DISCRIMINAÇÃO","SINAPI","UNID",null,"QTDE","PROD","IMPROD","P.UNIT. PROD","P.UNIT. IMPR","P.TOTAL"]
[null,null," TUBO PVC DEFOFO, JEI, 1 MPA, DN 200 MM, PARA REDE DE AGUA (NBR 7665)",9829,"M",null,1,null,null,151.06,null,{"$f":"G3838*J3838","v":151.06}]
[]
[null,null,"MÃO DE OBRA .................................................................................................................................................................................................................................",{"$nulls":7},"SUB-TOTAL (4) = ",{"$f":"SUM(L3842:L3843)","v":6.8186}]
[null,null,"DISCRIMINAÇÃO","SINAPI","UNID",null,"QTDE","PROD","IMPROD","P.UNIT. PROD","P.UNIT. IMPR","P.TOTAL"]
[null,null,"PEDREIRO COM ENCARGOS COMPLEMENTARES",88309,"H",null,0.06,null,null,18.309999999999999,null,{"$f":"G3842*J3842","v":1.0985999999999998}]
[null,null,"SERVENTECOM ENCARGOS COMPLEMENTARES",88316,"H",null,0.4,null,null,14.3,null,{"$f":"G3843*J3843","v":5.7200000000000006}]
[]
[null,null,"OBSERVAÇÕES:","PROD DA EQUIPE =",null,null,1,null,null,null,"CUSTO (SUB-TOTAL 1 + 2 + 3 + 4) = ",{"$f":"L3840+L3836+L3826+L3831","v":157.87860000000001}]
[null,null,null,"RESP. TÉCNICO:",{"$nulls":6},"TOTAL - R$ = ",{"$f":"L3845/G3845","v":157.87860000000001}]
[{"$nulls":10},"BDI (%) = ",{"$f":"$I$3","v":0.2101044698987744}]
[{"$nulls":10},"TOTAL DO SERVIÇO - R$ = ",{"$f":"L3846*L3847+L3846","v":191.04959956136065}]
[null,null,{"$f":"C3853","v":" Locacao De Container 2,30 X 6,00 M, Alt. 2,50 M, Com 1 Sanitario, Para Escritorio, Completo, Sem Divisorias Internas"},{"$f":"I3853","v":"CAC-120"},"MÊS","C. Unit. =",{"$f":"L3875","v":522},null,"P. Unit.=",{"$f":"L3877","v":591.25690721536057},{"$f":"$C$5","v":"SINAPI:Abril/2020 (Alagoas/AL) - NÃO DESONERADO"}]
[null,null," COMPOSIÇÃO ANALÍTICA DE CUSTO"]
[]
[null,null,"OBRA: ",{"$nulls":4},"CODEVASF",null,null,{"$f":"$C$6","v":"DATA: ANO 2020"}]
[null,null,{"$f":"PROPER(\" LOCACAO DE CONTAINER 2,30 X 6,00 M, ALT. 2,50 M, COM 1 SANITARIO, PARA ESCRITORIO, COMPLETO, SEM DIVISORIAS INTERNAS\")","v":" Locacao De Container 2,30 X 6,00 M, Alt. 2,50 M, Com 1 Sanitario, Para Escritorio, Completo, Sem Divisorias Internas"},{"$nulls":4},"COD: ","CAC-120",null,"UNIDADE: ","M2"]
[]
[null,null,"SERVIÇOS - COMPOSIÇÕES AUXILIARES ............................................................................................................................................................................",{"$nulls":7},"SUB-TOTAL (1) = ",{"$f":"SUM(L3857:L3858)","v":522}]
[null,null,"DISCRIMINAÇÃO","SINAPI","UNID",null,"QTDE","PROD","IMPROD","P.UNIT. PROD","P.UNIT. IMPR","P.TOTAL"]
[null,null,"LOCACAO DE CONTAINER 2,30 X 6,00 M, ALT. 2,50 M, COM 1 SANITARIO, PARA ESCRITORIO, COMPLETO, SEM DIVISORIAS INTERNAS",10775,"MÊS",null,1,null,null,522,null,{"$f":"G3857*J3857","v":522}]
[]
[]
[null,null,"EQUIPAMENTO .............................................................................................................................................................................................................................",{"$nulls":7},"SUB-TOTAL (2) = ",{"$f":"SUM(L3862:L3863)","v":0}]
[null,null,"DISCRIMINAÇÃO","SINAPI","UNID",null,"QTDE","PROD","IMPROD","P.UNIT. PROD","P.UNIT. IMPR","P.TOTAL"]
[]
[{"$nulls":11},{"$f":"G3863*J3863","v":0}]
[]
[null,null,"MATERIAL ........................................................................................................................................................................................................................................",{"$nulls":7},"SUB-TOTAL (3) = ",{"$f":"SUM(L3867:L3867)","v":0}]
[null,null,"DISCRIMINAÇÃO","SINAPI","UNID",null,"QTDE","PROD","IMPROD","P.UNIT. PROD","P.UNIT. IMPR","P.TOTAL"]
[]
[]
[null,null,"MÃO DE OBRA .................................................................................................................................................................................................................................",{"$nulls":7},"SUB-TOTAL (4) = ",{"$f":"SUM(L3871:L3872)","v":0}]
[null,null,"DISCRIMINAÇÃO","SINAPI","UNID",null,"QTDE","PROD","IMPROD","P.UNIT. PROD","P.UNIT. IMPR","P.TOTAL"]
[]
[]
[]
[null,null,"OBSERVAÇÕES:","PROD DA EQUIPE =",null,null,1,null,null,null,"CUSTO (SUB-TOTAL 1 + 2 + 3 + 4) = ",{"$f":"L3869+L3865+L3855+L3860","v":522}]
[null,null,null,"RESP. TÉCNICO:",{"$nulls":6},"TOTAL - R$ = ",{"$f":"L3874/G3874","v":522}]
[{"$nulls":10},"BDI (%) = ",{"$f":"I4","v":0.13267606746237659}]
[{"$nulls":10},"TOTAL DO SERVIÇO - R$ = ",{"$f":"L3875*L3876+L3875","v":591.25690721536057}]
[null,null,{"$f":"C3882","v":" Cerca Com Mouroes De Madeira Rolica, Espacamento De 2M Altura Livre De 1M, Cravados 0,5M, Com 5 Fios De Arame Farpado Nº 14"},{"$f":"I3882","v":"CAC-121"},"M","C. Unit. =",{"$f":"L3904","v":27.72},null,"P. Unit.=",{"$f":"L3906","v":33.544095905594027},{"$f":"$C$5","v":"SINAPI:Abril/2020 (Alagoas/AL) - NÃO DESONERADO"}]
[null,null," COMPOSIÇÃO ANALÍTICA DE CUSTO"]
[]
[null,null,"OBRA: ",{"$nulls":4},"CODEVASF",null,null,{"$f":"$C$6","v":"DATA: ANO 2020"}]
[null,null,{"$f":"PROPER(\" CERCA COM MOUROES DE MADEIRA ROLICA, ESPACAMENTO DE 2M ALTURA LIVRE DE 1M, CRAVADOS 0,5M, COM 5 FIOS DE ARAME FARPADO Nº 14\")","v":" Cerca Com Mouroes De Madeira Rolica, Espacamento De 2M Altura Livre De 1M, Cravados 0,5M, Com 5 Fios De Arame Farpado Nº 14"},{"$nulls":4},"COD: ","CAC-121",null,"UNIDADE: ","M2"]
[]
[null,null,"SERVIÇOS - COMPOSIÇÕES AUXILIARES ............................................................................................................................................................................",{"$nulls":7},"SUB-TOTAL (1) = ",{"$f":"SUM(L3886:L3887)","v":27.72}]
[null,null,"DISCRIMINAÇÃO","SINAPI","UNID",null,"QTDE","PROD","IMPROD","P.UNIT. PROD","P.UNIT. IMPR","P.TOTAL"]
[null,null,"CERCA COM MOUROES DE MADEIRA ROLICA, DIAMETRO 11CM, ESPACAMENTO DE 2M ALTURA LIVRE DE 1M, CRAVADOS 0,5M, COM 5 FIOS DE ARAME FARPADO Nº 14",74039,"m",null,1,null,null,27.72,null,{"$f":"G3886*J3886","v":27.72}]
[]
[]
[null,null,"EQUIPAMENTO .............................................................................................................................................................................................................................",{"$nulls":7},"SUB-TOTAL (2) = ",{"$f":"SUM(L3891:L3892)","v":0}]
[null,null,"DISCRIMINAÇÃO","SINAPI","UNID",null,"QTDE","PROD","IMPROD","P.UNIT. PROD","P.UNIT. IMPR","P.TOTAL"]
[]
[{"$nulls":11},{"$f":"G3892*J3892","v":0}]
[]
[null,null,"MATERIAL ........................................................................................................................................................................................................................................",{"$nulls":7},"SUB-TOTAL (3) = ",{"$f":"SUM(L3896:L3896)","v":0}]
[null,null,"DISCRIMINAÇÃO","SINAPI","UNID",null,"QTDE","PROD","IMPROD","P.UNIT. PROD","P.UNIT. IMPR","P.TOTAL"]
[]
[]
[null,null,"MÃO DE OBRA .................................................................................................................................................................................................................................",{"$nulls":7},"SUB-TOTAL (4) = ",{"$f":"SUM(L3900:L3901)","v":0}]
[null,null,"DISCRIMINAÇÃO","SINAPI","UNID",null,"QTDE","PROD","IMPROD","P.UNIT. PROD","P.UNIT. IMPR","P.TOTAL"]
[]
[]
[]
[null,null,"OBSERVAÇÕES:","PROD DA EQUIPE =",null,null,1,null,null,null,"CUSTO (SUB-TOTAL 1 + 2 + 3 + 4) = ",{"$f":"L3898+L3894+L3884+L3889","v":27.72}]
[null,null,null,"RESP. TÉCNICO:",{"$nulls":6},"TOTAL - R$ = ",{"$f":"L3903/G3903","v":27.72}]
[{"$nulls":10},"BDI (%) = ",{"$f":"$I$3","v":0.2101044698987744}]
[{"$nulls":10},"TOTAL DO SERVIÇO - R$ = ",{"$f":"L3904*L3905+L3904","v":33.544095905594027}]
[null,null,{"$f":"C3911","v":"SERVIÇO: CAMADA DRENANTE COM BRITA NUM 3"},{"$f":"I3911","v":"CAC-122"},{"$f":"L3911","v":"UNID"},"C. Unit. =",{"$f":"L3934","v":107.7299},null,"P. Unit.=",{"$f":"L3936","v":130.36443353174798},{"$f":"$C$5","v":"SINAPI:Abril/2020 (Alagoas/AL) - NÃO DESONERADO"}]
[null,null," COMPOSIÇÃO ANALÍTICA DE CUSTO"]
[]
[null,null," COMPOSIÇÃO ANALÍTICA DE CUSTO",{"$nulls":4},"CODEVASF",null,null,{"$f":"$C$6","v":"DATA: ANO 2020"}]
[null,null,"SERVIÇO: CAMADA DRENANTE COM BRITA NUM 3",{"$nulls":4},"COD: ","CAC-122",null,"UNIDADE: ","UNID"]
[]
[null,null,"SERVIÇOS - COMPOSIÇÕES AUXILIARES ............................................................................................................................................................................",{"$nulls":7},"SUB-TOTAL (1) = ",{"$f":"SUM(L3915:L3916)","v":0}]
[null,null,"DISCRIMINAÇÃO","SINAPI","UNID",null,"QTDE","PROD","IMPROD","P.UNIT. PROD","P.UNIT. IMPR","P.TOTAL"]
[]
[]
[null,null,"EQUIPAMENTO .............................................................................................................................................................................................................................",{"$nulls":7},"SUB-TOTAL (2) = ",{"$f":"SUM(L3919:L3920)","v":0}]
[null,null,"DISCRIMINAÇÃO","SINAPI","UNID",null,"QTDE","PROD","IMPROD","P.UNIT. PROD","P.UNIT. IMPR","P.TOTAL"]
[]
[{"$nulls":11},0]
[]
[null,null,"MATERIAL ........................................................................................................................................................................................................................................",{"$nulls":7},"SUB-TOTAL (3) = ",{"$f":"SUM(L3924:L3925)","v":74.8399}]
[null,null,"DISCRIMINAÇÃO","SINAPI","UNID",null,"QTDE","PROD","IMPROD","P.UNIT. PROD","P.UNIT. IMPR","P.TOTAL"]
[null,null,"PEDRA BRITADA N. 3 (38 A 50 MM) POSTO PEDREIRA/FORNECEDOR, SEM FRETE",4722,"M³",null,1.1299999999999999,null,null,66.23,null,{"$f":"J3924*G3924","v":74.8399},null,"quantidade igual lastro dcom material granular"]
[{"$nulls":11},0,null,"SINAPI 100322 COMPOSIÇÃO"]
[]
[null,null,"MÃO DE OBRA .................................................................................................................................................................................................................................",{"$nulls":7},"SUB-TOTAL (4) = ",{"$f":"SUM(L3929:L3931)","v":32.89}]
[null,null,"DISCRIMINAÇÃO","SINAPI","UNID",null,"QTDE","PROD","IMPROD","P.UNIT. PROD","P.UNIT. IMPR","P.TOTAL"]
[null,null,"SERVENTE COM ENCARGOS COMPLEMENTARES",88316,"H",null,2.2999999999999998,null,null,14.3,null,{"$f":"J3929*G3929","v":32.89}]
[]
[{"$nulls":11},0]
[]
[null,null,"OBSERVAÇÕES:","PROD DA EQUIPE =",null,null,1,null,null,null,"CUSTO (SUB-TOTAL 1 + 2 + 3 + 4) = ",{"$f":"L3927+L3922+L3917+L3913","v":107.7299}]
[null,null,null,"RESP. TÉCNICO:",{"$nulls":6},"TOTAL - R$ = ",{"$f":"L3933*G3933","v":107.7299}]
[{"$nulls":10},"BDI (%) = ",{"$f":"I3","v":0.2101044698987744}]
[{"$nulls":10},"TOTAL DO SERVIÇO - R$ = ",{"$f":"(1+L3935)*L3934","v":130.36443353174798}]
[null,null,{"$f":"C3941","v":"SERVIÇO: ENROCAMENTO MANUAL, COM ARRUMACAO DO MATERIAL"},{"$f":"I3941","v":"CAC-123"},{"$f":"L3941","v":"UNID"},"C. Unit. =",{"$f":"L3964","v":191.99566666666664},null,"P. Unit.=",{"$f":"L3966","v":232.33481443452843},{"$f":"$C$5","v":"SINAPI:Abril/2020 (Alagoas/AL) - NÃO DESONERADO"}]
[null,null," COMPOSIÇÃO ANALÍTICA DE CUSTO"]
[]
[null,null," COMPOSIÇÃO ANALÍTICA DE CUSTO",{"$nulls":4},"CODEVASF",null,null,{"$f":"$C$6","v":"DATA: ANO 2020"}]
[null,null,"SERVIÇO: ENROCAMENTO MANUAL, COM ARRUMACAO DO MATERIAL",{"$nulls":4},"COD: ","CAC-123",null,"UNIDADE: ","UNID"]
[]
[null,null,"SERVIÇOS - COMPOSIÇÕES AUXILIARES ............................................................................................................................................................................",{"$nulls":7},"SUB-TOTAL (1) = ",{"$f":"SUM(L3945:L3946)","v":0}]
[null,null,"DISCRIMINAÇÃO","SINAPI","UNID",null,"QTDE","PROD","IMPROD","P.UNIT. PROD","P.UNIT. IMPR","P.TOTAL"]
[]
[]
[null,null,"EQUIPAMENTO .............................................................................................................................................................................................................................",{"$nulls":7},"SUB-TOTAL (2) = ",{"$f":"SUM(L3949:L3950)","v":0}]
[null,null,"DISCRIMINAÇÃO","SINAPI","UNID",null,"QTDE","PROD","IMPROD","P.UNIT. PROD","P.UNIT. IMPR","P.TOTAL"]
[]
[{"$nulls":11},0]
[]
[null,null,"MATERIAL ........................................................................................................................................................................................................................................",{"$nulls":7},"SUB-TOTAL (3) = ",{"$f":"SUM(L3954:L3955)","v":64.166666666666671}]
[null,null,"DISCRIMINAÇÃO","SINAPI","UNID",null,"QTDE","PROD","IMPROD","P.UNIT. PROD","P.UNIT. IMPR","P.TOTAL"]
[null,null,"PEDRA DE MAO OU PEDRA RACHAO PARA ARRIMO/FUNDACAO (POSTO PEDREIRA/FORNECEDOR, SEM FRETE)","COTAÇÃO","M³",null,1.1000000000000001,null,null,{"$f":"J4048","v":58.333333333333336},null,{"$f":"J3954*G3954","v":64.166666666666671}]
[{"$nulls":11},0]
[]
[null,null,"MÃO DE OBRA .................................................................................................................................................................................................................................",{"$nulls":7},"SUB-TOTAL (4) = ",{"$f":"SUM(L3959:L3961)","v":127.82899999999998}]
[null,null,"DISCRIMINAÇÃO","SINAPI","UNID",null,"QTDE","PROD","IMPROD","P.UNIT. PROD","P.UNIT. IMPR","P.TOTAL"]
[null,null,"AJUDANTE DE PEDREIRO COM ENCARGOS COMPLEMENTARES",88242,"H",null,5.3,null,null,14.1,null,{"$f":"J3959*G3959","v":74.72999999999999}]
[null,null,"PEDREIRO COM ENCARGOS COMPLEMENTARES",88309,"H",null,2.9,null,null,18.309999999999999,null,{"$f":"J3960*G3960","v":53.098999999999997}]
[{"$nulls":11},0]
[]
[null,null,"OBSERVAÇÕES:","PROD DA EQUIPE =",null,null,1,null,null,null,"CUSTO (SUB-TOTAL 1 + 2 + 3 + 4) = ",{"$f":"L3957+L3952+L3947+L3943","v":191.99566666666664}]
[null,null,null,"RESP. TÉCNICO:",{"$nulls":6},"TOTAL - R$ = ",{"$f":"L3963*G3963","v":191.99566666666664}]
[{"$nulls":10},"BDI (%) = ",{"$f":"$I$3","v":0.2101044698987744}]
[{"$nulls":10},"TOTAL DO SERVIÇO - R$ = ",{"$f":"(1+L3965)*L3964","v":232.33481443452843}]
[null,null,{"$f":"C3971","v":"SERVIÇO: Aluguel de banheiro químico, com 03 limpezas semanais"},{"$f":"I3971","v":"CAC-124"},{"$f":"L3971","v":"UNID"},"C. Unit. =",{"$f":"L3994","v":857.44},null,"P. Unit.=",{"$f":"L3996","v":971.20176728494027},{"$f":"$C$5","v":"SINAPI:Abril/2020 (Alagoas/AL) - NÃO DESONERADO"}]
[null,null," COMPOSIÇÃO ANALÍTICA DE CUSTO"]
[]
[null,null," COMPOSIÇÃO ANALÍTICA DE CUSTO",{"$nulls":4},"CODEVASF",null,null,{"$f":"$C$6","v":"DATA: ANO 2020"}]
[null,null,"SERVIÇO: Aluguel de banheiro químico, com 03 limpezas semanais",{"$nulls":4},"COD: ","CAC-124",null,"UNIDADE: ","UNID"]
[]
[null,null,"SERVIÇOS - COMPOSIÇÕES AUXILIARES ............................................................................................................................................................................",{"$nulls":7},"SUB-TOTAL (1) = ",{"$f":"SUM(L3975:L3976)","v":0}]
[null,null,"DISCRIMINAÇÃO","SINAPI","UNID",null,"QTDE","PROD","IMPROD","P.UNIT. PROD","P.UNIT. IMPR","P.TOTAL"]
[]
[]
[null,null,"EQUIPAMENTO .............................................................................................................................................................................................................................",{"$nulls":7},"SUB-TOTAL (2) = ",{"$f":"SUM(L3979:L3980)","v":857.44}]
[null,null,"DISCRIMINAÇÃO","ORSE","UNID",null,"QTDE","PROD","IMPROD","P.UNIT. PROD","P.UNIT. IMPR","P.TOTAL"]
[null,null,"Aluguel de banheiro químico, com 03 limpezas semanais",10389,"mês",null,2,null,null,428.72,null,{"$f":"J3979*G3979","v":857.44}]
[]
[]
[null,null,"MATERIAL ........................................................................................................................................................................................................................................",{"$nulls":7},"SUB-TOTAL (3) = ",{"$f":"SUM(L3984:L3985)","v":0}]
[null,null,"DISCRIMINAÇÃO","SINAPI","UNID",null,"QTDE","PROD","IMPROD","P.UNIT. PROD","P.UNIT. IMPR","P.TOTAL"]
[]
[{"$nulls":11},0]
[]
[null,null,"MÃO DE OBRA .................................................................................................................................................................................................................................",{"$nulls":7},"SUB-TOTAL (4) = ",{"$f":"SUM(L3989:L3991)","v":0}]
[null,null,"DISCRIMINAÇÃO","SINAPI","UNID",null,"QTDE","PROD","IMPROD","P.UNIT. PROD","P.UNIT. IMPR","P.TOTAL"]
[]
[]
[{"$nulls":11},0]
[]
[null,null,"OBSERVAÇÕES:","PROD DA EQUIPE =",null,null,1,null,null,null,"CUSTO (SUB-TOTAL 1 + 2 + 3 + 4) = ",{"$f":"L3987+L3982+L3977+L3973","v":857.44}]
[null,null,null,"RESP. TÉCNICO:",{"$nulls":6},"TOTAL - R$ = ",{"$f":"L3993*G3993","v":857.44}]
[{"$nulls":10},"BDI (%) = ",{"$f":"I4","v":0.13267606746237659}]
[{"$nulls":10},"TOTAL DO SERVIÇO - R$ = ",{"$f":"(1+L3995)*L3994","v":971.20176728494027}]
[null,null,{"$f":"C4001","v":"SERVIÇO: DESENVOLVIMENTO DE PROJETO BÁSICO E EXECUTIVO/AS BUILT"},{"$f":"I4001","v":"CAC-125"},{"$f":"L4001","v":"UNID"},"C. Unit. =",{"$f":"L4025","v":33253.910000000003},null,"P. Unit.=",{"$f":"L4027","v":40240.705132611554},{"$f":"$C$5","v":"SINAPI:Abril/2020 (Alagoas/AL) - NÃO DESONERADO"}]
[null,null," COMPOSIÇÃO ANALÍTICA DE CUSTO"]
[]
[null,null," COMPOSIÇÃO ANALÍTICA DE CUSTO",{"$nulls":4},"CODEVASF",null,null,{"$f":"$C$6","v":"DATA: ANO 2020"}]
[null,null,"SERVIÇO: DESENVOLVIMENTO DE PROJETO BÁSICO E EXECUTIVO/AS BUILT",{"$nulls":4},"COD: ","CAC-125",null,"UNIDADE: ","UNID"]
[]
[null,null,"SERVIÇOS - COMPOSIÇÕES AUXILIARES ............................................................................................................................................................................",{"$nulls":7},"SUB-TOTAL (1) = ",{"$f":"SUM(L4005:L4006)","v":0}]
[null,null,"DISCRIMINAÇÃO","SINAPI","UNID",null,"QTDE","PROD","IMPROD","P.UNIT. PROD","P.UNIT. IMPR","P.TOTAL"]
[]
[]
[null,null,"EQUIPAMENTO .............................................................................................................................................................................................................................",{"$nulls":7},"SUB-TOTAL (2) = ",{"$f":"SUM(L4009:L4010)","v":0}]
[null,null,"DISCRIMINAÇÃO","ORSE","UNID",null,"QTDE","PROD","IMPROD","P.UNIT. PROD","P.UNIT. IMPR","P.TOTAL"]
[]
[]
[]
[null,null,"MATERIAL ........................................................................................................................................................................................................................................",{"$nulls":7},"SUB-TOTAL (3) = ",{"$f":"SUM(L4014:L4015)","v":0}]
[null,null,"DISCRIMINAÇÃO","SINAPI","UNID",null,"QTDE","PROD","IMPROD","P.UNIT. PROD","P.UNIT. IMPR","P.TOTAL"]
[]
[{"$nulls":11},0]
[]
[null,null,"MÃO DE OBRA .................................................................................................................................................................................................................................",{"$nulls":7},"SUB-TOTAL (4) = ",{"$f":"SUM(L4019:L4022)","v":33253.910000000003}]
[null,null,"DISCRIMINAÇÃO","SINAPI","UNID",null,"QTDE","PROD","IMPROD","P.UNIT. PROD","P.UNIT. IMPR","P.TOTAL"]
[null,null,"ENGENHEIRO CIVIL DE OBRA JUNIOR COM ENCARGOS COMPLEMENTARES",93565,"MÊS",null,1,null,null,15497.03,null,{"$f":"G4019*J4019","v":15497.03}]
[null,null,"AUXILIAR DE TOPÓGRAFO COM ENCARGOS COMPLEMENTARES",88253,"H",null,240,null,null,14.84,null,{"$f":"G4020*J4020","v":3561.6}]
[null,null,"TOPOGRAFO COM ENCARGOS COMPLEMENTARES",90781,"H",null,240,null,null,31.9,null,{"$f":"G4021*J4021","v":7656}]
[null,null,"DESENHISTA PROJETISTA COM ENCARGOS COMPLEMENTARES",90775,"H",null,264,null,null,24.77,null,{"$f":"G4022*J4022","v":6539.28}]
[]
[null,null,"OBSERVAÇÕES:","PROD DA EQUIPE =",null,null,1,null,null,null,"CUSTO (SUB-TOTAL 1 + 2 + 3 + 4) = ",{"$f":"L4017+L4012+L4007+L4003","v":33253.910000000003}]
[null,null,null,"RESP. TÉCNICO:",{"$nulls":6},"TOTAL - R$ = ",{"$f":"L4024*G4024","v":33253.910000000003}]
[{"$nulls":10},"BDI (%) = ",{"$f":"I3","v":0.2101044698987744}]
[{"$nulls":10},"TOTAL DO SERVIÇO - R$ = ",{"$f":"(1+L4026)*L4025","v":40240.705132611554}]
[null,null,{"$f":"C4032","v":"SERVIÇO: MURO DE GABIÃO, ENCHIMENTO COM PEDRA DE MÃO TIPO RACHÃO, DE GRAVIDADE, COM GAIOLAS DE COMPRIMENTO IGUAL A 5 METROS, ALTURA DO MURO DE ATÉ 4 METROS - FORNECIMENTO E EXECUÇÃO. "},{"$f":"I4032","v":"CAC-126"},{"$f":"L4032","v":"M2"},"C. Unit. =",{"$f":"L4059","v":349.23077333333333},null,"P. Unit.=",{"$f":"L4061","v":422.60571983687237},{"$f":"$C$5","v":"SINAPI:Abril/2020 (Alagoas/AL) - NÃO DESONERADO"}]
[null,null," COMPOSIÇÃO ANALÍTICA DE CUSTO"]
[]
[null,null,{"$f":"$C$3","v":"EXECUÇÃO DE OBRAS E SERVIÇOS DE RECUPERAÇÃO PARCIAL DO DIQUE DE PROTEÇÃO E RECUPERAÇÃO DOS CANAIS DE IRRIGAÇÃO DO PERÍMETRO IRRIGADO DO ITIÚBA (canal adutor leste, P12, S1P12 e S2P12) E DOS CANAIS DE IRRIGAÇÃO (CLI e CLII) DO PERÍMETRO IRRIGADO DO BOACICA."},{"$nulls":4},{"$f":"$C$4","v":"CODEVASF"},null,null,{"$f":"$C$6","v":"DATA: ANO 2020"}]
[null,null,"SERVIÇO: MURO DE GABIÃO, ENCHIMENTO COM PEDRA DE MÃO TIPO RACHÃO, DE GRAVIDADE, COM GAIOLAS DE COMPRIMENTO IGUAL A 5 METROS, ALTURA DO MURO DE ATÉ 4 METROS - FORNECIMENTO E EXECUÇÃO. ",{"$nulls":4},"COD: ","CAC-126",null,"UNIDADE: ","M2"]
[]
[null,null,"SERVIÇOS - COMPOSIÇÕES AUXILIARES ............................................................................................................................................................................",{"$nulls":7},"SUB-TOTAL (1) = ",{"$f":"SUM(L4036:L4037)","v":0}]
[null,null,"DISCRIMINAÇÃO","SINAPI","UNID",null,"QTDE","PROD","IMPROD","P.UNIT. PROD","P.UNIT. IMPR","P.TOTAL"]
[{"$nulls":11},{"$f":"G4036*J4036","v":0}]
[{"$nulls":11},{"$f":"G4037*J4037","v":0}]
[]
[null,null,"EQUIPAMENTO .............................................................................................................................................................................................................................",{"$nulls":7},"SUB-TOTAL (2) = ",{"$f":"SUM(L4041:L4042)","v":22.478839999999998}]
[null,null,"DISCRIMINAÇÃO","SINAPI","UNID",null,"QTDE","PROD","IMPROD","P.UNIT. PROD","P.UNIT. IMPR","P.TOTAL"]
[null,null,"ESCAVADEIRA HIDRÁULICA SOBRE ESTEIRAS, CAÇAMBA 0,80 M3, PESO OPERACIONAL 17 T, POTENCIA BRUTA 111 HP - CHP DIURNO. AF_06/2014","5631","CHP",null,5.8999999999999997E-2,null,null,114.76,null,{"$f":"J4041*G4041","v":6.7708399999999997}]
[null,null,"ESCAVADEIRA HIDRÁULICA SOBRE ESTEIRAS, CAÇAMBA 0,80 M3, PESO OPERACIONAL 17 T, POTENCIA BRUTA 111 HP - CHI DIURNO. AF_06/2014","5632","CHI",null,0.33600000000000002,null,null,null,46.75,{"$f":"K4042*G4042","v":15.708}]
[]
[null,null,"MATERIAL ........................................................................................................................................................................................................................................",{"$nulls":7},"SUB-TOTAL (3) = ",{"$f":"SUM(L4046:L4050)","v":286.57605333333333}]
[null,null,"DISCRIMINAÇÃO","SINAPI \n/ COTAÇÃO","UNID",null,"QTDE","PROD","IMPROD","P.UNIT. PROD","P.UNIT. IMPR","P.TOTAL"]
[null,null,"GABIAO TIPO CAIXA, MALHA HEXAGONAL 8 X 10 CM (ZN/AL), FIO DE 2,7 MM, DIMENSOES 5,0 X 1,0 X 1,0 M (C X L X A), INCLUSO ARAME DE AÇO 2.2 MM + PVC","COTAÇÃO","M3",null,1,null,null,199.62,null,{"$f":"G4046*J4046","v":199.62}]
[null,null,"GEOTEXTIL NAO TECIDO AGULHADO DE FILAMENTOS CONTINUOS 100% POLIESTER, RESITENCIA A TRACAO = 10 KN/M",4011,"M2",null,0.91400000000000003,null,null,5.7,null,{"$f":"G4047*J4047","v":5.2098000000000004}]
[null,null,"PEDRA DE MAO OU PEDRA RACHAO PARA ARRIMO/FUNDACAO (POSTO PEDREIRA/FORNECEDOR, SEM FRETE)","COTAÇÃO","M3",null,1.3,null,null,{"$f":"(60+70+45)/3","v":58.333333333333336},null,75.833333333333343]
[null,null,"PREGO DE ACO POLIDO COM CABECA 14 X 18 (1 1/2 X 14)",5063,"KG",null,2E-3,null,null,14.78,null,2.9559999999999999E-2]
[null,null,"SARRAFO DE MADEIRA NAO APARELHADA *2,5 X 10 CM, MACARANDUBA, ANGELIM OU EQUIVALENTE DA REGIAO",4460,"M",null,0.71399999999999997,null,null,8.24,null,5.8833599999999997]
[]
[null,null,"MÃO DE OBRA .................................................................................................................................................................................................................................",{"$nulls":7},"SUB-TOTAL (4) = ",{"$f":"SUM(L4054:L4056)","v":40.175879999999999}]
[null,null,"DISCRIMINAÇÃO","SINAPI","UNID",null,"QTDE","PROD","IMPROD","P.UNIT. PROD","P.UNIT. IMPR","P.TOTAL"]
[null,null,"PEDREIRO COM ENCARGOS COMPLEMENTARES",88309,"H",null,1.5780000000000001,null,null,18.309999999999999,null,{"$f":"G4054*J4054","v":28.893180000000001}]
[null,null,"SERVENTE COM ENCARGOS COMPLEMENTARES",88316,"H",null,0.78900000000000003,null,null,14.3,null,{"$f":"G4055*J4055","v":11.2827}]
[{"$nulls":11},{"$f":"G4056*J4056","v":0}]
[]
[null,null,"OBSERVAÇÕES:","PROD DA EQUIPE =",null,null,1,null,null,null,"CUSTO (SUB-TOTAL 1 + 2 + 3 + 4) = ",{"$f":"L4052+L4044+L4034+L4039","v":349.23077333333333}]
[null,null,null,"RESP. TÉCNICO:",{"$nulls":6},"TOTAL - R$ = ",{"$f":"L4058/G4058","v":349.23077333333333}]
[{"$nulls":10},"BDI (%) = ",{"$f":"$I$3","v":0.2101044698987744}]
[{"$nulls":10},"TOTAL DO SERVIÇO - R$ = ",{"$f":"L4059*L4060+L4059","v":422.60571983687237}]
[null,null," COMPOSIÇÃO ANALÍTICA DE CUSTO"]
[]
[null,null,{"$f":"$C$3","v":"EXECUÇÃO DE OBRAS E SERVIÇOS DE RECUPERAÇÃO PARCIAL DO DIQUE DE PROTEÇÃO E RECUPERAÇÃO DOS CANAIS DE IRRIGAÇÃO DO PERÍMETRO IRRIGADO DO ITIÚBA (canal adutor leste, P12, S1P12 e S2P12) E DOS CANAIS DE IRRIGAÇÃO (CLI e CLII) DO PERÍMETRO IRRIGADO DO BOACICA."},{"$nulls":4},{"$f":"$C$4","v":"CODEVASF"},null,null,{"$f":"$C$6","v":"DATA: ANO 2020"}]
[null,null,"SERVIÇO: MURO DE GABIÃO, ENCHIMENTO COM PEDRA DE MÃO TIPO RACHÃO, DE GRAVIDADE, COM GAIOLAS DE COMPRIMENTO IGUAL A 5 METROS, ALTURA DO MURO DE ATÉ 4 METROS - FORNECIMENTO E EXECUÇÃO. ",{"$nulls":4},"COD: ","CAC-126",null,"UNIDADE: ","M2"]
[]
[null,null,"SERVIÇOS - COMPOSIÇÕES AUXILIARES ............................................................................................................................................................................",{"$nulls":7},"SUB-TOTAL (1) = ",{"$f":"SUM(L4069:L4070)","v":0}]
[null,null,"DISCRIMINAÇÃO","SINAPI","UNID",null,"QTDE","PROD","IMPROD","P.UNIT. PROD","P.UNIT. IMPR","P.TOTAL"]
[{"$nulls":11},{"$f":"G4069*J4069","v":0}]
[{"$nulls":11},{"$f":"G4070*J4070","v":0}]
[]
[null,null,"EQUIPAMENTO .............................................................................................................................................................................................................................",{"$nulls":7},"SUB-TOTAL (2) = ",{"$f":"SUM(L4074:L4075)","v":22.478839999999998}]
[null,null,"DISCRIMINAÇÃO","SINAPI","UNID",null,"QTDE","PROD","IMPROD","P.UNIT. PROD","P.UNIT. IMPR","P.TOTAL"]
[null,null,"ESCAVADEIRA HIDRÁULICA SOBRE ESTEIRAS, CAÇAMBA 0,80 M3, PESO OPERACIONAL 17 T, POTENCIA BRUTA 111 HP - CHP DIURNO. AF_06/2014","5631","CHP",null,5.8999999999999997E-2,null,null,114.76,null,{"$f":"J4074*G4074","v":6.7708399999999997}]
[null,null,"ESCAVADEIRA HIDRÁULICA SOBRE ESTEIRAS, CAÇAMBA 0,80 M3, PESO OPERACIONAL 17 T, POTENCIA BRUTA 111 HP - CHI DIURNO. AF_06/2014","5632","CHI",null,0.33600000000000002,null,null,null,46.75,{"$f":"K4075*G4075","v":15.708}]
[]
[null,null,"MATERIAL ........................................................................................................................................................................................................................................",{"$nulls":7},"SUB-TOTAL (3) = ",{"$f":"SUM(L4079:L4083)","v":286.57605333333333}]
[null,null,"DISCRIMINAÇÃO","SINAPI \n/ COTAÇÃO","UNID",null,"QTDE","PROD","IMPROD","P.UNIT. PROD","P.UNIT. IMPR","P.TOTAL"]
[null,null,"GABIAO TIPO CAIXA, MALHA HEXAGONAL 8 X 10 CM (ZN/AL), FIO DE 2,7 MM, DIMENSOES 5,0 X 1,0 X 1,0 M (C X L X A), INCLUSO ARAME DE AÇO 2.2 MM + PVC","COTAÇÃO","M3",null,1,null,null,199.62,null,{"$f":"G4079*J4079","v":199.62}]
[null,null,"GEOTEXTIL NAO TECIDO AGULHADO DE FILAMENTOS CONTINUOS 100% POLIESTER, RESITENCIA A TRACAO = 10 KN/M",4011,"M2",null,0.91400000000000003,null,null,5.7,null,{"$f":"G4080*J4080","v":5.2098000000000004}]
[null,null,"PEDRA DE MAO OU PEDRA RACHAO PARA ARRIMO/FUNDACAO (POSTO PEDREIRA/FORNECEDOR, SEM FRETE)","COTAÇÃO","M3",null,1.3,null,null,{"$f":"(60+70+45)/3","v":58.333333333333336},null,75.833333333333343]
[null,null,"PREGO DE ACO POLIDO COM CABECA 14 X 18 (1 1/2 X 14)",5063,"KG",null,2E-3,null,null,14.78,null,2.9559999999999999E-2]
[null,null,"SARRAFO DE MADEIRA NAO APARELHADA *2,5 X 10 CM, MACARANDUBA, ANGELIM OU EQUIVALENTE DA REGIAO",4460,"M",null,0.71399999999999997,null,null,8.24,null,5.8833599999999997]
[]
[null,null,"MÃO DE OBRA .................................................................................................................................................................................................................................",{"$nulls":7},"SUB-TOTAL (4) = ",{"$f":"SUM(L4087:L4088)","v":40.175879999999999}]
[null,null,"DISCRIMINAÇÃO","SINAPI","UNID",null,"QTDE","PROD","IMPROD","P.UNIT. PROD","P.UNIT. IMPR","P.TOTAL"]
[null,null,"PEDREIRO COM ENCARGOS COMPLEMENTARES",88309,"H",null,1.5780000000000001,null,null,18.309999999999999,null,{"$f":"G4087*J4087","v":28.893180000000001}]
[null,null,"SERVENTE COM ENCARGOS COMPLEMENTARES",88316,"H",null,0.78900000000000003,null,null,14.3,null,{"$f":"G4088*J4088","v":11.2827}]
[]
[null,null,"OBSERVAÇÕES:","PROD DA EQUIPE =",null,null,1,null,null,null,"CUSTO (SUB-TOTAL 1 + 2 + 3 + 4) = ",{"$f":"L4085+L4077+L4067+L4072","v":349.23077333333333}]
[null,null,null,"RESP. TÉCNICO:",{"$nulls":6},"TOTAL - R$ = ",{"$f":"L4090/G4090","v":349.23077333333333}]
[{"$nulls":10},"BDI (%) = ",{"$f":"$I$3","v":0.2101044698987744}]
[{"$nulls":10},"TOTAL DO SERVIÇO - R$ = ",{"$f":"L4091*L4092+L4091","v":422.60571983687237}]
[null,null,{"$f":"C4098","v":"SERVIÇO: ATERRO MECANIZADO COM RETROESCAVADEIRA COM MATERIAL DE EMPRÉSTIMO E COMPACTAÇÃO MECANIZADA  "},{"$f":"I4098","v":"CAC-016"},{"$f":"L4098","v":"M2"},"C. Unit. =",{"$f":"L4125","v":29.781010000000002},null,"P. Unit.=",{"$f":"L4127","v":36.038133319100105},{"$f":"$C$5","v":"SINAPI:Abril/2020 (Alagoas/AL) - NÃO DESONERADO"}]
[null,null," COMPOSIÇÃO ANALÍTICA DE CUSTO"]
[]
[null,null,{"$f":"$C$3","v":"EXECUÇÃO DE OBRAS E SERVIÇOS DE RECUPERAÇÃO PARCIAL DO DIQUE DE PROTEÇÃO E RECUPERAÇÃO DOS CANAIS DE IRRIGAÇÃO DO PERÍMETRO IRRIGADO DO ITIÚBA (canal adutor leste, P12, S1P12 e S2P12) E DOS CANAIS DE IRRIGAÇÃO (CLI e CLII) DO PERÍMETRO IRRIGADO DO BOACICA."},{"$nulls":4},{"$f":"$C$4","v":"CODEVASF"},null,null,{"$f":"$C$6","v":"DATA: ANO 2020"}]
[null,null,"SERVIÇO: ATERRO MECANIZADO COM RETROESCAVADEIRA COM MATERIAL DE EMPRÉSTIMO E COMPACTAÇÃO MECANIZADA  ",{"$nulls":4},"COD: ","CAC-016",null,"UNIDADE: ","M2"]
[]
[null,null,"SERVIÇOS - COMPOSIÇÕES AUXILIARES ............................................................................................................................................................................",{"$nulls":7},"SUB-TOTAL (1) = ",{"$f":"SUM(L4102:L4103)","v":0}]
[null,null,"DISCRIMINAÇÃO","SINAPI","UNID",null,"QTDE","PROD","IMPROD","P.UNIT. PROD","P.UNIT. IMPR","P.TOTAL"]
[]
[{"$nulls":11},{"$f":"G4103*J4103","v":0}]
[]
[null,null,"EQUIPAMENTO .............................................................................................................................................................................................................................",{"$nulls":7},"SUB-TOTAL (2) = ",{"$f":"SUM(L4107:L4112)","v":17.37491}]
[null,null,"DISCRIMINAÇÃO","SINAPI","UNID",null,"QTDE","PROD","IMPROD","P.UNIT. PROD","P.UNIT. IMPR","P.TOTAL"]
[null,null,"CAMINHÃO PIPA 10.000 L TRUCADO, PESO BRUTO TOTAL 23.000 KG, CARGA ÚTIL MÁXIMA 15.935 KG, DISTÂNCIA ENTRE EIXOS 4,8 M, POTÊNCIA 230 CV, INCLUSIVE TANQUE DE AÇO PARA TRANSPORTE DE ÁGUA - CHP DIURNO. AF_06/2014",5901,"CHP",null,6.0000000000000001E-3,null,null,171.35,null,{"$f":"G4107*J4107","v":1.0281}]
[null,null,"CAMINHÃO PIPA 10.000 L TRUCADO, PESO BRUTO TOTAL 23.000 KG, CARGA ÚTIL MÁXIMA 15.935 KG, DISTÂNCIA ENTRE EIXOS 4,8 M, POTÊNCIA 230 CV, INCLUSIVE TANQUE DE AÇO PARA TRANSPORTE DE ÁGUA - CHP DIURNO. AF_06/2014",5903,"CHI",null,3.0000000000000001E-3,null,null,null,33.450000000000003,{"$f":"G4108*K4108","v":0.10035000000000001}]
[null,null,"RETROESCAVADEIRA SOBRE RODAS COM CARREGADEIRA, TRAÇÃO 4X4, POTÊNCIA LÍQ. 88 HP, CAÇAMBA CARREG. CAP. MÍN. 1 M3, CAÇAMBA RETRO CAP. 0,26 M3, PESO OPERACIONAL MÍN. 6.674 KG, PROFUNDIDADE ESCAVAÇÃO MÁX. 4,37 M - CHP DIURNO. AF_06/2014",5678,"CHP",null,0.04,null,null,83.34,null,3.3336000000000001]
[null,null,"RETROESCAVADEIRA SOBRE RODAS COM CARREGADEIRA, TRAÇÃO 4X4, POTÊNCIA LÍQ. 88 HP, CAÇAMBA CARREG. CAP. MÍN. 1 M3, CAÇAMBA RETRO CAP. 0,26 M3, PESO OPERACIONAL MÍN. 6.674 KG, PROFUNDIDADE ESCAVAÇÃO MÁX. 4,37 M - CHI DIURNO. AF_06/2014",5679,"CHI",null,5.2999999999999999E-2,null,null,null,34.9,{"$f":"G4110*K4110","v":1.8496999999999999}]
[null,null,"COMPACTADOR DE SOLOS DE PERCUSSÃO (SOQUETE) COM MOTOR A GASOLINA 4 TEMPOS, POTÊNCIA 4 CV - CHP DIURNO. AF_08/2015",91533,"CHP",null,0.27200000000000002,null,null,23.58,null,{"$f":"G4111*J4111","v":6.4137599999999999}]
[null,null,"COMPACTADOR DE SOLOS DE PERCUSSÃO (SOQUETE) COM MOTOR A GASOLINA 4 TEMPOS, POTÊNCIA 4 CV - CHI DIURNO. AF_08/2015",91534,"CHI",null,0.252,null,null,null,18.45,{"$f":"G4112*K4112","v":4.6494}]
[]
[null,null,"MATERIAL ........................................................................................................................................................................................................................................",{"$nulls":7},"SUB-TOTAL (3) = ",{"$f":"SUM(L4116:L4117)","v":11.6625}]
[null,null,"DISCRIMINAÇÃO","SINAPI","UNID",null,"QTDE","PROD","IMPROD","P.UNIT. PROD","P.UNIT. IMPR","P.TOTAL"]
[null,null,"ARGILA, ARGILA VERMELHA OU ARGILA ARENOSA (RETIRADA NA JAZIDA, SEM TRANSPORTE)",6079,"M3",null,1.25,null,null,9.33,null,{"$f":"G4116*J4116","v":11.6625}]
[{"$nulls":11},{"$f":"G4117*J4117","v":0}]
[]
[null,null,"MÃO DE OBRA .................................................................................................................................................................................................................................",{"$nulls":7},"SUB-TOTAL (4) = ",{"$f":"SUM(L4121:L4122)","v":0.74360000000000004}]
[null,null,"DISCRIMINAÇÃO","SINAPI","UNID",null,"QTDE","PROD","IMPROD","P.UNIT. PROD","P.UNIT. IMPR","P.TOTAL"]
[null,null,"SERVENTE COM ENCARGOS COMPLEMENTARES",88316,null,null,5.1999999999999998E-2,null,null,14.3,null,{"$f":"G4121*J4121","v":0.74360000000000004}]
[{"$nulls":11},{"$f":"G4122*J4122","v":0}]
[]
[null,null,"OBSERVAÇÕES:","PROD DA EQUIPE =",null,null,1,null,null,null,"CUSTO (SUB-TOTAL 1 + 2 + 3 + 4) = ",{"$f":"L4119+L4114+L4100+L4105","v":29.781010000000002}]
[null,null,null,"RESP. TÉCNICO:",{"$nulls":6},"TOTAL - R$ = ",{"$f":"L4124/G4124","v":29.781010000000002}]
[{"$nulls":10},"BDI (%) = ",{"$f":"$I$3","v":0.2101044698987744}]
[{"$nulls":10},"TOTAL DO SERVIÇO - R$ = ",{"$f":"L4125*L4126+L4125","v":36.038133319100105}]

{"sheet":"DADOS DE ENTRADA","index":1,"n_rows":443,"n_cols":19,"rows_kept":443,"cut":false,"hidden":false,"merged":[[39,0,48,0],[36,0,38,0],[0,0,0,4],[1,0,1,4],[3,0,14,0],[15,0,25,0],[26,0,35,0]]}
["MEMÓRIA DE CÁLCULO"]
["DADOS DE ENTRADA"]
[]
["OBRAS EM CANAIS","Diâmetro interno da Tubulação:","m","Ø",0.4,null,null,null,"Lista de Canais Principais","ITEM",null,"Lista de Estradas","ITEM",null,"Lista de Coletores","ITEM",null,"Lista de Pontilhões tipo 2","ITEM"]
[null,"Espessura das paredes:","m","ep=",0.2,null,null,null,"GERAL - DEMAIS CANAIS","3.2",null,"GERAL","4.1",null,"COLETOR","5.1",null,"GERAL","10.1"]
[null,"Espessura da laje de fundo:","m","ef=",0.15,null,null,null,"ADUTOR LESTE","3.1",null,"ESTRADA - S1P1 A","4.1.1",{"$nulls":4},"Próximo ao CL l - 9","10.1"]
[null,"Espessura da camada de areia","m","ea=",0.15,null,null,null,"CANAL P1 e DERIVADOS","3.2",null,"ESTRADA - P1","4.1.2",null,"CP1D","5.1.1",null,"Próximo ao CL l - 13","10.2"]
[null,"Espessura do cascalho da estrada (acabamento)","m","ee=",0.2,null,null,null,"CANAL P2 e DERIVADOS","3.3",null,"ESTRADA - S1P1","4.1.3",null,"CS1P1D","5.1.2",null,"Próximo ao CL l - 15","10.3"]
[null,"espessura da parede do canal retangular:","m","ec=",0.12,null,null,null,"CANAL P3 e DERIVADOS","3.4",null,"ESTRADA - T1S1P1","4.1.4",null,"CT1S1P1D","5.1.3",null,"Próximo ao CL l - 16","10.4"]
[null,"Espessura da camada de solo-cimento:","m","eb=",0.1,null,null,null,"CANAL P3A e DERIVADOS","3.5",null,"ESTRADA - S2P1","4.1.5",null,"CT2S1P1D","5.1.4",null,"Próximo ao CL l - 17","10.5"]
[null,"Espessura da parede da tubulação de concreto","m","et=",0.05,null,null,null,"CANAL P4 e DERIVADOS","3.6",null,"ESTRADA - S3P1","4.1.6",null,"CT3S1P1D","5.1.5",null,"Próximo ao CL l - 18","10.6"]
[null,"Espessura do Solo Cimento","m","esc=",0,null,null,null,"CANAL P5 e DERIVADOS","3.7",null,"ESTRADA - P2","4.1.7",null,"CT4S1P1D","5.1.6",null,"Próximo ao CL l - 19","10.7"]
[null,"DMT (Importação):","km","DMT 1 =",10,null,null,null,"CANAL P6 e DERIVADOS","3.8",null,"ESTRADA - S1P2","4.1.8",null,"CT5S1P1D","5.1.7",null,"Próximo ao CL l - 21","10.8"]
[null,"DMT (Bota Fora):","km","DMT 2 =",10,null,null,null,"CANAL P7 e DERIVADOS","3.9",null,"ESTRADA - T1S1P2","4.1.9",null,"CS2P1D","5.1.8",null,"Próximo ao CL l - 23","10.9"]
[null,"Kg de aço por m³:","kg/m³","Aço =",60,null,null,null,"CANAL P8 e DERIVADOS","3.10",null,"ESTRADA - T2S1P2","4.1.10",null,"CS3P1D","5.1.9",null,"Próximo ao CL l - 26 ","10.10"]
["TRAPEZOIDAL","Espessura Placa Revestimento Canal:","m","e =",0.05,null,null,null,"CANAL P9 e DERIVADOS","3.11",null,"ESTRADA - S2P2","4.1.11",null,"CS4P1D","5.1.10",null,"Próximo ao CL l - 28","10.11"]
[null,"Espessura Placa Revestimento Canal Existente (Demolição):","m","ed =",7.0000000000000007E-2,null,null,null,"CANAL P10 e DERIVADOS","3.12",null,"ESTRADA - P4","4.1.12",null,"CQ1T3S5P1D","5.1.11",null,"Próximo ao CL l - 29","10.12"]
[null,"Espessura Camada Solo a Retirar (Solo Impróprio):","m","ecsi =",0.33,null,null,null,"CANAL P11 e DERIVADOS","3.13",null,"ESTRADA - S1P4","4.1.13",null,"CS5P1D","5.1.12",null,"Próximo ao CL l - 31","10.13"]
[null,"Espessura da camada de solo-cimento:","m","erSC =",{"$f":"E10","v":0.1},null,null,null,"CANAL P12 e DERIVADOS","3.14",null,"ESTRADA - S2P4","4.1.14",null,"CT3S5P1D","5.1.13",null,"Próximo ao CL l - 32 ","10.14"]
[null,"Espessura Camada Solo a Recompor:","m","erecomp.",0.25]
[]
[null,"Ancoragem (Largura):","m","a =",0.2,{"$nulls":6},"ESTRADA - S1P5","4.1.18",null,"CQ1T7S6P1D","5.1.17"]
[null,"Ancoragem (Altura):","m","b =",0.2,{"$nulls":6},"ESTRADA - S2P5","4.1.19",null,"CQ2T7S6P1D","5.1.18"]
[null,"Largura de Limpeza Canal p/ cada lado:","m","L =",0.5,{"$nulls":6},"ESTRADA - P6","4.1.20",null,"CS6P1D","5.1.19"]
[null,"DMT (Importação):","km","DMT 1 =",{"$f":"E13","v":10},{"$nulls":6},"ESTRADA - S2P7","4.1.21",null,"CT1S6P1D","5.1.20"]
[null,"DMT (Bota Fora):","km","DMT 2 =",{"$f":"E14","v":10},{"$nulls":6},"ESTRADA - P8","4.1.22",null,"CT2S6P1D","5.1.21"]
["RETANGULAR","Canal retangular (Espessura Parede):","m","c=",0.12,{"$nulls":6},"ESTRADA - P10","4.1.23",null,"CT3S6P1D","5.1.22"]
[null,"Canal Retangular (Laje Base Espessura):","m","eb=",0.1,{"$nulls":6},"ESTRADA - S1P10","4.1.24",null,"CT4S6P1D","5.1.23"]
[null,"Canal retangular (Laje Base Espessura):","m","h=",0.1,{"$nulls":6},"ESTRADA - S2P10","4.1.25",null,"CT5S6P1D","5.1.24"]
[null,"Canal Retangular (Viga Horizontal Superior Largura):","m","vs=",0.12,{"$nulls":6},"ESTRADA - P11","4.1.26",null,"CT6S6P1D","5.1.25"]
[null,"Canal retangular (Viga Horizontal Superior Altura):","m","hs=",0.12,{"$nulls":6},"ESTRADA - S1P11","4.1.27",null,"CT7S6P1D","5.1.26"]
[null,"Canal Existente (Espessura Placa):","m","ep=",7.0000000000000007E-2,{"$nulls":6},"ESTRADA - T1S1P11","4.1.28",null,"CT8S6P1D","5.1.27"]
[null,"Concreto Magro (Espessura):","m","em=",0.05,{"$nulls":6},"ESTRADA - T2S1P11","4.1.29",null,"CS7P1D","5.1.28"]
[null,"DMT (Importação):","km","DMT 1 =",10,{"$nulls":6},"ESTRADA - S2P11","4.1.30",null,"CT10S7P1D","5.1.29"]
[null,"DMT (Bota Fora):","km","DMT 2 =",10,{"$nulls":6},"ESTRADA - T1S2P11","4.1.31",null,"CT11S7P1D","5.1.30"]
[null,"Kg de aço por m³:","kg/m³","Aço =",60,{"$nulls":6},"ESTRADA - T2S2P11","4.1.32",null,"CT12S7P1D","6.1"]
["ESTRADA","Largura de Limpeza Estrada:","m","Lestr=",4,{"$nulls":6},"ESTRADA - P12","4.1.33",null,"CT13S7P1D","6.2"]
[null,"DTM (Importação de cascalho de jazida):","km","DMT 1estr =",15,{"$nulls":6},"ESTRADA - S1P12","4.1.34",null,"CT14S7P1D","5.2.1"]
[{"$nulls":11},"ESTRADA - S2P12","4.1.35",null,"CT15S7P1D","5.2.2"]
["RETANGULAR","Canal retangular (Espessura Parede):","m","c=",0.12,{"$nulls":6},"ESTRADA - P10","4.1.23",null,"CT3S6P1D","5.1.22"]
[null,"Canal Retangular (Laje Base Espessura):","m","eb=",0.1,{"$nulls":6},"ESTRADA - S1P10","4.1.24",null,"CT4S6P1D","5.1.23"]
[null,"Canal retangular (Laje Base Espessura):","m","h=",0.1,{"$nulls":6},"ESTRADA - S2P10","4.1.25",null,"CT5S6P1D","5.1.24"]
[null,"Canal Retangular (Viga Horizontal Superior Largura):","m","vs=",0.12,{"$nulls":6},"ESTRADA - P11","4.1.26",null,"CT6S6P1D","5.1.25"]
[null,"Canal retangular (Viga Horizontal Superior Altura):","m","hs=",0.12,{"$nulls":6},"ESTRADA - S1P11","4.1.27",null,"CT7S6P1D","5.1.26"]
[null,"Canal Existente (Espessura Placa):","m","ep=",7.0000000000000007E-2,{"$nulls":6},"ESTRADA - T1S1P11","4.1.28",null,"CT8S6P1D","5.1.27"]
[null,"Concreto Magro (Espessura):","m","em=",0.05,{"$nulls":6},"ESTRADA - T2S1P11","4.1.29",null,"CS7P1D","5.1.28"]
[null,"DMT (Importação):","km","DMT 1 =",5,{"$nulls":6},"ESTRADA - S2P11","4.1.30",null,"CT10S7P1D","5.1.29"]
[null,"DMT (Bota Fora):","km","DMT 2 =",5,{"$nulls":6},"ESTRADA - T1S2P11","4.1.31",null,"CT11S7P1D","5.1.30"]
[null,"Kg de aço por m³:","kg/m³","Aço =",60,{"$nulls":6},"ESTRADA - T2S2P11","4.1.32",null,"CT12S7P1D","6.1"]
[{"$nulls":11},"ESTRADA - S3P12","4.1.36",null,"CT16S7P1D","5.2.3"]
[{"$nulls":11},"ESTRADA - S4P12","4.1.37",null,"CT17S7P1D","5.2.4"]
[{"$nulls":11},"ESTRADA - S5P12","4.1.38",null,"CT18S7P1D","5.2.5"]
[{"$nulls":11},"ESTRADA - T1S5P12","4.1.39",null,"CT19S7P1D","5.2.6"]
[{"$nulls":11},"ESTRADA - S1P13","4.1.40",null,"CT1S7P1D","5.2.7"]
[{"$nulls":11},"ESTRADA - T1S1P13","4.1.41",null,"CT20S7P1D","5.2.8"]
[{"$nulls":11},"ESTRADA - S2P13","4.1.42",null,"CT2S7P1D","5.2.9"]
[{"$nulls":11},"ESTRADA - T1S2P13","4.1.43",null,"CT3S7P1D","5.2.10"]
[{"$nulls":11},"ESTRADA - P16","4.1.44",null,"CT4S7P1D","5.2.11"]
[{"$nulls":11},"ESTRADA - P16-P12","4.1.45",null,"CT5S7P1D","5.2.12"]
[{"$nulls":11},"ESTRADA - ACESSO AO LOTE 28","4.1.46",null,"CT6S7P1D","5.2.13"]
[{"$nulls":11},"ESTRADA - AD. LESTE TRECHO 1","4.1.47",null,"CT7S7P1D","5.2.14"]
[{"$nulls":11},"ESTRADA - AD. LESTE TRECHO 2","4.1.48",null,"CT8S7P1D","5.2.15"]
[{"$nulls":11},"ESTRADA - AL-230_AD. LESTE","4.1.49",null,"CT9S7P1D","5.2.16"]
[{"$nulls":11},"ESTRADA - RESERVA NORTE","4.1.50",null,"CQ10T8S8P1D","5.2.17"]
[{"$nulls":11},"ESTRADA - RESERVINHA","4.1.51",null,"CQ12T8S8P1D","5.2.18"]
[{"$nulls":14},"CQ14T8S8P1D","5.2.19"]
[{"$nulls":14},"CQ16T8S8P1D","5.2.20"]
[{"$nulls":14},"CQ17T8S8P1D","5.2.21"]
[{"$nulls":14},"CQ18T8S8P1D","5.2.22"]
[{"$nulls":14},"CQ19T8S8P1D","5.2.23"]
[{"$nulls":14},"CQ1T17S8P1D","5.2.24"]
[{"$nulls":14},"CQ1T19S8P1D","5.2.25"]
[{"$nulls":14},"CQ1T3S8P1D","5.2.26"]
[{"$nulls":14},"CQ1T8S8P1D","5.2.27"]
[{"$nulls":14},"CQ20T8S8P1D","5.2.28"]
[{"$nulls":14},"CQ2T17S8P1D","5.2.29"]
[{"$nulls":14},"CQ2T19S8P1D","5.2.30"]
[{"$nulls":14},"CQ2T3S8P1D","5.2.31"]
[{"$nulls":14},"CQ2T8S8P1D","5.2.32"]
[{"$nulls":14},"CQ3T17S8P1D","5.2.33"]
[{"$nulls":14},"CQ3T8S8P1D","5.2.34"]
[{"$nulls":14},"CQ4T17S8P1D","5.2.35"]
[{"$nulls":14},"CQ4T19S8P1D","5.2.36"]
[{"$nulls":14},"CQ4T8S8P1D","5.2.37"]
[{"$nulls":14},"CQ5T17S8P1D","5.2.38"]
[{"$nulls":14},"CQ5T8S8P1D","5.2.39"]
[{"$nulls":14},"CQ6T17S8P1D","5.2.40"]
[{"$nulls":14},"CQ6T8S8P1D","5.2.41"]
[{"$nulls":14},"CQ7T8S8P1D","5.2.42"]
[{"$nulls":14},"CQ8T8S8P1D","5.2.43"]
[{"$nulls":14},"CQ9T8S8P1D","5.2.44"]
[{"$nulls":14},"CS8P1D","5.2.45"]
[{"$nulls":14},"CT10S8P1D","5.2.46"]
[{"$nulls":14},"CT11S8P1D","5.2.47"]
[{"$nulls":14},"CT12S8P1D","5.2.48"]
[{"$nulls":14},"CT13S8P1D","5.2.49"]
[{"$nulls":14},"CT14S8P1D","5.2.50"]
[{"$nulls":14},"CT15S8P1D","5.2.51"]
[{"$nulls":14},"CT16S8P1D","5.2.52"]
[{"$nulls":14},"CT17S8P1D","5.2.53"]
[{"$nulls":14},"CT19S8P1D","5.2.54"]
[{"$nulls":14},"CT1S8P1D","5.2.55"]
[{"$nulls":14},"CT22S8P1D","5.2.56"]
[{"$nulls":14},"CT26S8P1D","5.2.57"]
[{"$nulls":14},"CT2S8P1D","5.2.58"]
[{"$nulls":14},"CT3S8P1D","5.2.59"]
[{"$nulls":14},"CT4S8P1D","5.2.60"]
[{"$nulls":14},"CT5S8P1D","5.2.61"]
[{"$nulls":14},"CT6S8P1D","5.2.62"]
[{"$nulls":14},"CT7S8P1D","5.2.63"]
[{"$nulls":14},"CT8S8P1D","5.2.64"]
[{"$nulls":14},"CT9S8P1D","5.2.65"]
[{"$nulls":14},"CS10P1D","5.2.66"]
[{"$nulls":14},"CS11P1D","5.2.67"]
[{"$nulls":14},"CT1S11P1D","5.2.68"]
[{"$nulls":14},"CT2S11P1D","5.2.69"]
[{"$nulls":14},"CT3S11P1D","5.2.70"]
[{"$nulls":14},"CT4S11P1D","5.2.71"]
[{"$nulls":14},"CT5S11P1D","5.2.72"]
[{"$nulls":14},"CS12P1D","5.2.73"]
[{"$nulls":14},"CS13P1D","5.2.74"]
[{"$nulls":14},"CT1S13P1D","5.2.75"]
[{"$nulls":14},"CS14P1D","5.2.76"]
[{"$nulls":14},"CT1S14P1D","5.2.77"]
[{"$nulls":14},"CS15P1D","5.2.78"]
[{"$nulls":14},"CT1S15P1D","5.2.79"]
[{"$nulls":14},"CS16P1D","5.2.80"]
[{"$nulls":14},"CP2D","5.2.81"]
[{"$nulls":14},"CS1P2D","5.2.82"]
[{"$nulls":14},"CS2P2D","5.2.83"]
[{"$nulls":14},"CT1S2P2D","5.2.84"]
[{"$nulls":14},"CT2S2P2D","5.2.85"]
[{"$nulls":14},"CT3S2P2D","5.2.86"]
[{"$nulls":14},"CS3P2D","5.2.87"]
[{"$nulls":14},"CQ1T3S4P2D","5.2.88"]
[{"$nulls":14},"CQ1T4S4P2D","5.2.89"]
[{"$nulls":14},"CQ2T3S4P2D","5.2.90"]
[{"$nulls":14},"CS4P2D","5.2.91"]
[{"$nulls":14},"CT1S4P2D","5.2.92"]
[{"$nulls":14},"CT2S4P2D","5.2.93"]
[{"$nulls":14},"CT3S4P2D","5.2.94"]
[{"$nulls":14},"CT4S4P2D","5.2.95"]
[{"$nulls":14},"CS5P2D","5.2.96"]
[{"$nulls":14},"CS6P2D","5.2.97"]
[{"$nulls":14},"CQ1T5S7P2D","5.2.98"]
[{"$nulls":14},"CS7P2D","5.2.99"]
[{"$nulls":14},"CT1S7P2D","5.2.100"]
[{"$nulls":14},"CT2S7P2D","5.2.101"]
[{"$nulls":14},"CT3S7P2D","5.2.102"]
[{"$nulls":14},"CT4S7P2D","5.2.103"]
[{"$nulls":14},"CT5S7P2D","5.2.104"]
[{"$nulls":14},"CS8P2D","5.2.105"]
[{"$nulls":14},"CS9P2D","5.2.106"]
[{"$nulls":14},"CS10P2D","5.2.107"]
[{"$nulls":14},"CT1S10P2D","5.2.108"]
[{"$nulls":14},"CS11P2D","5.2.109"]
[{"$nulls":14},"CS12P2D","5.2.110"]
[{"$nulls":14},"CS13P2D","5.2.111"]
[{"$nulls":14},"CS14P2D","5.2.112"]
[{"$nulls":14},"BRAÇO DO CP2D","5.2.113"]
[{"$nulls":14},"CP3D","5.2.114"]
[{"$nulls":14},"CP3.1D","5.2.115"]
[{"$nulls":14},"CP3E","5.2.116"]
[{"$nulls":14},"CS2P3E","5.2.117"]
[{"$nulls":14},"CS3P3E","5.2.118"]
[{"$nulls":14},"CS4P3E","5.2.119"]
[{"$nulls":14},"CS5P3E","5.2.120"]
[{"$nulls":14},"CS6P3E","5.2.121"]
[{"$nulls":14},"CS7P3E","5.2.122"]
[{"$nulls":14},"CP1E","5.2.123"]
[{"$nulls":14},"CS1P3E","5.2.124"]
[{"$nulls":14},"CP2E","5.2.125"]
[{"$nulls":14},"CS1P2E","5.2.126"]
[{"$nulls":14},"CP4D","5.2.127"]
[{"$nulls":14},"CP4E","5.2.128"]
[{"$nulls":14},"CS1P4E","5.2.129"]
[{"$nulls":14},"CP5D","5.2.130"]
[{"$nulls":14},"CP5E","5.2.131"]
[{"$nulls":14},"CS1P5D","5.2.132"]
[{"$nulls":14},"CP6.1D","5.2.133"]
[{"$nulls":14},"CP6D","5.2.134"]
[{"$nulls":14},"CP6E","5.2.135"]
[{"$nulls":14},"CP7D","5.2.136"]
[{"$nulls":14},"CP7E","5.2.137"]
[{"$nulls":14},"CS1P7E","5.2.138"]
[{"$nulls":14},"CS2P7D","5.2.139"]
[{"$nulls":14},"CS2P7E","5.2.140"]
[{"$nulls":14},"CS3P7D","5.2.141"]
[{"$nulls":14},"CS4P7D","5.2.142"]
[{"$nulls":14},"CT1S2P7D","5.2.143"]
[{"$nulls":14},"CT2S2P7D","5.2.144"]
[{"$nulls":14},"CT3S2P7D","5.2.145"]
[{"$nulls":14},"CT4S2P7D","5.2.146"]
[{"$nulls":14},"CT5S2P7D","5.2.147"]
[{"$nulls":14},"CP8D","5.2.148"]
[{"$nulls":14},"CP8E","5.2.149"]
[{"$nulls":14},"CP9D","5.2.150"]
[{"$nulls":14},"CP9E","5.2.151"]
[{"$nulls":14},"CS1P9E","5.2.152"]
[{"$nulls":14},"CS2P9E","5.2.153"]
[{"$nulls":14},"CS3P9E","5.2.154"]
[{"$nulls":14},"CS4P9E","5.2.155"]
[{"$nulls":14},"CS5P9E","5.2.156"]
[{"$nulls":14},"CS6P9E","5.2.157"]
[{"$nulls":14},"CT1S2P9E","5.2.158"]
[{"$nulls":14},"CT1S3P9E","5.2.159"]
[{"$nulls":14},"CT1S4P9E","5.2.160"]
[{"$nulls":14},"CT2S2P9E","5.2.161"]
[{"$nulls":14},"CT3S2P9E","5.2.162"]
[{"$nulls":14},"CT4S2P9E","5.2.163"]
[{"$nulls":14},"CT5S2P9E","5.2.164"]
[{"$nulls":14},"CP10D","5.2.165"]
[{"$nulls":14},"CP10E","5.2.166"]
[{"$nulls":14},"CP11D","5.2.167"]
[{"$nulls":14},"CP12D","5.2.168"]
[{"$nulls":14},"CS1P10E","5.2.169"]
[{"$nulls":14},"DESCARGA RESERVA NORTE","5.2.170"]
[{"$nulls":14},"EFLUENTE BARRAGEM DO CASTRO","5.2.171"]
[{"$nulls":14},"AFLUENTE BARRAGEM DO CASTRO","5.2.172"]
[{"$nulls":14},"CHAMADA PRINCIPAL","5.2.173"]
[{"$nulls":14},"CHAMADA EB-02","5.2.174"]
[{"$nulls":14},"CHAMADA EBP","5.2.175"]
[{"$nulls":15},"5.2.176"]
[{"$nulls":15},"5.2.177"]
[{"$nulls":15},"5.2.178"]
[{"$nulls":15},"5.2.179"]
[{"$nulls":15},"5.2.180"]
[{"$nulls":15},"5.2.181"]
[{"$nulls":15},"5.2.182"]
[{"$nulls":15},"5.2.183"]
[{"$nulls":15},"5.2.184"]
[{"$nulls":15},"5.2.185"]
[{"$nulls":15},"5.2.186"]
[{"$nulls":15},"5.2.187"]
[{"$nulls":15},"5.2.188"]
[{"$nulls":15},"5.2.189"]
[{"$nulls":15},"5.2.190"]
[{"$nulls":15},"5.2.191"]
[{"$nulls":15},"5.2.192"]
[{"$nulls":15},"5.2.193"]
[{"$nulls":15},"5.2.194"]
[{"$nulls":15},"5.2.195"]
[{"$nulls":15},"5.2.196"]
[{"$nulls":15},"5.2.197"]
[{"$nulls":15},"5.2.198"]
[{"$nulls":15},"5.2.199"]
[{"$nulls":15},"5.2.200"]
[{"$nulls":15},"5.2.201"]
[{"$nulls":15},"5.2.202"]
[{"$nulls":15},"5.2.203"]
[{"$nulls":15},"5.2.204"]
[{"$nulls":15},"5.2.205"]
[{"$nulls":15},"5.2.206"]
[{"$nulls":15},"5.2.207"]
[{"$nulls":15},"5.2.208"]
[{"$nulls":15},"5.2.209"]
[{"$nulls":15},"5.2.210"]
[{"$nulls":15},"5.2.211"]
[{"$nulls":15},"5.2.212"]
[{"$nulls":15},"5.2.213"]
[{"$nulls":15},"5.2.214"]
[{"$nulls":15},"5.2.215"]
[{"$nulls":15},"5.2.216"]
[{"$nulls":15},"5.2.217"]
[{"$nulls":15},"5.2.218"]
[{"$nulls":15},"5.2.219"]
[{"$nulls":15},"5.2.220"]
[{"$nulls":15},"5.2.221"]
[{"$nulls":15},"5.2.222"]
[{"$nulls":15},"5.2.223"]
[{"$nulls":15},"5.2.224"]
[{"$nulls":15},"5.2.225"]
[{"$nulls":15},"5.2.226"]
[{"$nulls":15},"5.2.227"]
[{"$nulls":15},"5.2.228"]
[{"$nulls":15},"5.2.229"]
[{"$nulls":15},"5.2.230"]
[{"$nulls":15},"5.2.231"]
[{"$nulls":15},"5.2.232"]
[{"$nulls":15},"5.2.233"]
[{"$nulls":15},"5.2.234"]
[{"$nulls":15},"5.2.235"]
[{"$nulls":15},"5.2.236"]
[{"$nulls":15},"5.2.237"]
[{"$nulls":15},"5.2.238"]
[{"$nulls":15},"5.2.239"]
[{"$nulls":15},"5.2.240"]
[{"$nulls":15},"5.2.241"]
[{"$nulls":15},"5.2.242"]
[{"$nulls":15},"5.2.243"]
[{"$nulls":15},"5.2.244"]
[{"$nulls":15},"5.2.245"]
[{"$nulls":15},"5.2.246"]
[{"$nulls":15},"5.2.247"]
[{"$nulls":15},"5.2.248"]
[{"$nulls":15},"5.2.249"]
[{"$nulls":15},"5.2.250"]
[{"$nulls":15},"5.2.251"]
[{"$nulls":15},"5.2.252"]
[{"$nulls":15},"5.2.253"]
[{"$nulls":15},"5.2.254"]
[{"$nulls":15},"5.2.255"]
[{"$nulls":15},"5.2.256"]
[{"$nulls":15},"5.2.257"]
[{"$nulls":15},"5.2.258"]
[{"$nulls":15},"5.2.259"]
[{"$nulls":15},"5.2.260"]
[{"$nulls":15},"5.2.261"]
[{"$nulls":15},"5.2.262"]
[{"$nulls":15},"5.2.263"]
[{"$nulls":15},"5.2.264"]
[{"$nulls":15},"5.2.265"]
[{"$nulls":15},"5.2.266"]
[{"$nulls":15},"5.2.267"]
[{"$nulls":15},"5.2.268"]
[{"$nulls":15},"5.2.269"]
[{"$nulls":15},"5.2.270"]
[{"$nulls":15},"5.2.271"]
[{"$nulls":15},"5.2.272"]
[{"$nulls":15},"5.2.273"]
[{"$nulls":15},"5.2.274"]
[{"$nulls":15},"5.2.275"]
[{"$nulls":15},"5.2.276"]
[{"$nulls":15},"5.2.277"]
[{"$nulls":15},"5.2.278"]
[{"$nulls":15},"5.2.279"]
[{"$nulls":15},"5.2.280"]
[{"$nulls":15},"5.2.281"]
[{"$nulls":15},"5.2.282"]
[{"$nulls":15},"5.2.283"]
[{"$nulls":15},"5.2.284"]
[{"$nulls":15},"5.2.285"]
[{"$nulls":15},"5.2.286"]
[{"$nulls":15},"5.2.287"]
[{"$nulls":15},"5.2.288"]
[{"$nulls":15},"5.2.289"]
[{"$nulls":15},"5.2.290"]
[{"$nulls":15},"5.2.291"]
[{"$nulls":15},"5.2.292"]
[{"$nulls":15},"5.2.293"]
[{"$nulls":15},"5.2.294"]
[{"$nulls":15},"5.2.295"]
[{"$nulls":15},"5.2.296"]
[{"$nulls":15},"5.2.297"]
[{"$nulls":15},"5.2.298"]
[{"$nulls":15},"5.2.299"]
[{"$nulls":15},"5.2.300"]
[{"$nulls":15},"5.2.301"]
[{"$nulls":15},"5.2.302"]
[{"$nulls":15},"5.2.303"]
[{"$nulls":15},"5.2.304"]
[{"$nulls":15},"5.2.305"]
[{"$nulls":15},"5.2.306"]
[{"$nulls":15},"5.2.307"]
[{"$nulls":15},"5.2.308"]
[{"$nulls":15},"5.2.309"]
[{"$nulls":15},"5.2.310"]
[{"$nulls":15},"5.2.311"]
[{"$nulls":15},"5.2.312"]
[{"$nulls":15},"5.2.313"]
[{"$nulls":15},"5.2.314"]
[{"$nulls":15},"5.2.315"]
[{"$nulls":15},"5.2.316"]
[{"$nulls":15},"5.2.317"]
[{"$nulls":15},"5.2.318"]
[{"$nulls":15},"5.2.319"]
[{"$nulls":15},"5.2.320"]
[{"$nulls":15},"5.2.321"]
[{"$nulls":15},"5.2.322"]
[{"$nulls":15},"5.2.323"]
[{"$nulls":15},"5.2.324"]
[{"$nulls":15},"5.2.325"]
[{"$nulls":15},"5.2.326"]
[{"$nulls":15},"5.2.327"]
[{"$nulls":15},"5.2.328"]
[{"$nulls":15},"5.2.329"]
[{"$nulls":15},"5.2.330"]
[{"$nulls":15},"5.2.331"]
[{"$nulls":15},"5.2.332"]
[{"$nulls":15},"5.2.333"]
[{"$nulls":15},"5.2.334"]
[{"$nulls":15},"5.2.335"]
[{"$nulls":15},"5.2.336"]
[{"$nulls":15},"5.2.337"]
[{"$nulls":15},"5.2.338"]
[{"$nulls":15},"5.2.339"]
[{"$nulls":15},"5.2.340"]
[{"$nulls":15},"5.2.341"]
[{"$nulls":15},"5.2.342"]
[{"$nulls":15},"5.2.343"]
[{"$nulls":15},"5.2.344"]
[{"$nulls":15},"5.2.345"]
[{"$nulls":15},"5.2.346"]
[{"$nulls":15},"5.2.347"]
[{"$nulls":15},"5.2.348"]
[{"$nulls":15},"5.2.349"]
[{"$nulls":15},"5.2.350"]
[{"$nulls":15},"5.2.351"]
[{"$nulls":15},"5.2.352"]
[{"$nulls":15},"5.2.353"]
[{"$nulls":15},"5.2.354"]
[{"$nulls":15},"5.2.355"]
[{"$nulls":15},"5.2.356"]
[{"$nulls":15},"5.2.357"]
[{"$nulls":15},"5.2.358"]
[{"$nulls":15},"5.2.359"]
[{"$nulls":15},"5.2.360"]
[{"$nulls":15},"5.2.361"]
[{"$nulls":15},"5.2.362"]
[{"$nulls":15},"5.2.363"]
[{"$nulls":15},"5.2.364"]
[{"$nulls":15},"5.2.365"]
[{"$nulls":15},"5.2.366"]
[{"$nulls":15},"5.2.367"]
[{"$nulls":15},"5.2.368"]
[{"$nulls":15},"5.2.369"]
[{"$nulls":15},"5.2.370"]
[{"$nulls":15},"5.2.371"]
[{"$nulls":15},"5.2.372"]
[{"$nulls":15},"5.2.373"]
[{"$nulls":15},"5.2.374"]
[{"$nulls":15},"5.2.375"]
[{"$nulls":15},"5.2.376"]
[{"$nulls":15},"5.2.377"]
[{"$nulls":15},"5.2.378"]
[{"$nulls":15},"5.2.379"]
[{"$nulls":15},"5.2.380"]
[{"$nulls":15},"5.2.381"]
[{"$nulls":15},"5.2.382"]
[{"$nulls":15},"5.2.383"]
[{"$nulls":15},"5.2.384"]
[{"$nulls":15},"5.2.385"]
[{"$nulls":15},"5.2.386"]
[{"$nulls":15},"5.2.387"]
[{"$nulls":15},"5.2.388"]
[{"$nulls":15},"5.2.389"]
[{"$nulls":15},"5.2.390"]
[{"$nulls":15},"5.2.391"]
[{"$nulls":15},"5.2.392"]
[{"$nulls":15},"5.2.393"]
[{"$nulls":15},"5.2.394"]
[{"$nulls":15},"5.2.395"]
[{"$nulls":15},"5.2.396"]

{"sheet":"ORÇ. GERAL","index":2,"n_rows":24,"n_cols":4,"rows_kept":24,"cut":false,"hidden":false,"merged":[[3,1,3,3],[4,1,4,3],[0,2,1,3]]}
[null,null,"MINISTÉRIO DA INTEGRAÇÃO NACIONAL - MI\nCOMPANHIA DE DESENVOLVIMENTO DOS VALES DO SÃO FRANCISCO E DO PARNAÍBA\n5ª Superintendência Regional"]
[]
[]
[null,"EXECUÇÃO DE OBRAS E SERVIÇOS DE RECUPERAÇÃO PARCIAL DO DIQUE DE PROTEÇÃO E RECUPERAÇÃO DOS CANAIS DE IRRIGAÇÃO DO PERÍMETRO IRRIGADO DO ITIÚBA (canal adutor leste, P12, S1P12 e S2P12) E DOS CANAIS DE IRRIGAÇÃO (CLI e CLII) DO PERÍMETRO IRRIGADO DO BOACICA."]
[null,"Planilha de Custos do Valor do Orçamento de Referência"]
[null,"ÍTEM","DESCRIÇÃO","R$ Total (c/BDI)"]
[null,null,"TOTAL GERAL"]
[null,1,"SERVIÇOS GERAIS E DE APOIO",{"$f":"'SERV. GER. E ADMIN LOCAL'!K8","v":148990.42000000001}]
[null,2,"ADMINISTRAÇÃO LOCAL / MANUTENÇÃO DO CANTEIRO DE OBRAS",{"$f":"'SERV. GER. E ADMIN LOCAL'!K18","v":732505.03}]
[null,3,"RECUPERAÇÃO E ADEQUAÇÃO DO SISTEMA DE CONDUÇÃO (CANAL DE IRRIGAÇÃO)\n - 4933 M CANAL ADUTOR LESTE - PERÍMETRO ITIÚBA"]
[null,null,"CANAL ADUTOR LESTE"]
[null,null,"CANAL TRAPEZOIDAL - 4.933,41 M",{"$f":"'ADUTOR LESTE'!K11","v":3288319.96}]
[null,4,"RECUPERAÇÃO PARCIAL DO DIQUE ITIÚBA"]
[null,null,"TRECHO I",{"$f":"'DIQUE ITIÚBA'!I12","v":1410904.2200000002}]
[null,null,"TRECHO II",{"$f":"'DIQUE ITIÚBA'!I38","v":2327306.7599999998}]
[null,5,"RECUPERAÇÃO E ADEQUAÇÃO DO SISTEMA DE CONDUÇÃO - 4933 M CANAL P12 E TRIBUTÁRIOS PERÍMETRO ITIÚBA"]
[null,null,"CANAL P12 E TRIBUTÁRIOS S1P12 E S2P12"]
[null,null,"CANAL TRAPEZOIDAL - 5251,72 M",{"$f":"'P12 E TRIBUTÁRIOS'!K13","v":2439126.4000000004}]
[null,null,"RECONSTRUÇÃO DE CANAL COM A RETIRADA DE CANAL TRAPEZOIDAL EXISTENTE E \nEXECUÇÃO DE CANAL RETANGULAR EM CONCRETO ARMADO - 1.014,84 m",{"$f":"'P12 E TRIBUTÁRIOS'!K36","v":338982.06}]
[null,6,"RECUPERAÇÃO E ADEQUAÇÃO DO SISTEMA DE CONDUÇÃO (CANAL DE IRRIGAÇÃO)\n - PERÍMETRO BOACICA"]
[null,null,"CANAIS DE IRRIGAÇÃO PERÍMETRO IRRIGADO BOACICA - TOTAL 8.539,54 m   \n( CLI  e CLII - E SEUS DERIVADOS)",{"$f":"'CANAIS BOACICA'!K159","v":5641075.1799999997}]
[null,null,"TOTAL GERAL",{"$f":"SUM(D8:D21)","v":16327210.030000001}]
[null,{"$f":"\"OBS: - BDI - SERVIÇO = \"&ROUND('C.C.U'!$I$3*100,2)&\"%   /   FORNECIMENTO = \"&ROUND('C.C.U'!$I$4*100,2)&\"%\"","v":"OBS: - BDI - SERVIÇO = 21,01%   /   FORNECIMENTO = 13,27%"}]
[null,"  - Nos itens apresentados estão inclusos custos de serviços e fornecimento"]

{"sheet":"SERV. GER. E ADMIN LOCAL","index":3,"n_rows":21,"n_cols":11,"rows_kept":21,"cut":false,"hidden":false,"merged":[[4,3,4,10],[3,3,3,10],[19,8,19,9],[0,4,2,10]]}
[{"$nulls":4},"MINISTÉRIO DO DESENVOLVIMENTO REGIONAL - MD\nCOMPANHIA DE DESENVOLVIMENTO DOS VALES DO SÃO FRANCISCO E DO PARNAÍBA\n5ª Superintendência Regional"]
[]
[]
[null,null,null,{"$f":"'ORÇ. GERAL'!B4","v":"EXECUÇÃO DE OBRAS E SERVIÇOS DE RECUPERAÇÃO PARCIAL DO DIQUE DE PROTEÇÃO E RECUPERAÇÃO DOS CANAIS DE IRRIGAÇÃO DO PERÍMETRO IRRIGADO DO ITIÚBA (canal adutor leste, P12, S1P12 e S2P12) E DOS CANAIS DE IRRIGAÇÃO (CLI e CLII) DO PERÍMETRO IRRIGADO DO BOACICA."}]
[null,null,null,{"$f":"'ORÇ. GERAL'!B5","v":"Planilha de Custos do Valor do Orçamento de Referência"}]
["ÍTEM MÃE","NÍVEL","SEQ.","ÍTEM","DESCRIÇÃO","UNID","CÓD. COMP.","QTDE","R$ / UNID    (S/ BDI)","R$ Total (C/BDI)","R$ Total (c/BDI)"]
[null,0,0,0,"TOTAL GERAL"]
[{"$f":"IFERROR(LEFT(D8,LEN(D8)-(LEN(C8)+1)),0)","v":0},1,1,1,"SERVIÇOS GERAIS E DE APOIO",{"$nulls":5},{"$f":"SUM(K9:K17)","v":148990.42000000001}]
[null,null,null,"1.1","DESENVOLVIMENTO DE PROJETO EXECUTIVO E AS BIULT","unid","CAC-125",1,{"$f":"VLOOKUP(G9,'C.C.U'!D:L,4,0)","v":33253.910000000003},{"$f":"VLOOKUP(G9,'C.C.U'!D:L,7,0)","v":40240.705132611554},{"$f":"ROUND(J9*H9,2)","v":40240.71}]
[{"$f":"IFERROR(LEFT(D10,LEN(D10)-(LEN(C10)+1)),0)","v":"1"},2,1,"1.2","MOBILIZAÇÃO","unid","CAC-087",1,{"$f":"VLOOKUP(G10,'C.C.U'!D:L,4,0)","v":1773.8457649489021},{"$f":"VLOOKUP(G10,'C.C.U'!D:L,7,0)","v":2146.5386890756772},{"$f":"ROUND(J10*H10,2)","v":2146.54}]
[{"$f":"IFERROR(LEFT(D11,LEN(D11)-(LEN(C11)+1)),0)","v":"1"},2,2,"1.3","DESMOBILIZAÇÃO","unid","CAC-088",1,{"$f":"VLOOKUP(G11,'C.C.U'!D:L,4,0)","v":1773.8457649489021},{"$f":"VLOOKUP(G11,'C.C.U'!D:L,7,0)","v":2146.5386890756772},2146.54]
[{"$f":"IFERROR(LEFT(D12,LEN(D12)-(LEN(C12)+1)),0)","v":"1"},2,4,"1.4","INSTALAÇÃO DE CANTEIRO DE OBRAS PARA ALMOXARIFADO\n(quantitativo para o canteiro no Perímetro Itiúba e no Perímetro Boacica) ","m²","CAC-089",20,{"$f":"VLOOKUP(G12,'C.C.U'!D:L,4,0)","v":587.66999999999996},{"$f":"VLOOKUP(G12,'C.C.U'!D:L,7,0)","v":711.14209382541276},14222.84]
[null,null,null,"1.5","CERCA COM MOUROES DE MADEIRA ROLICA, ESPACAMENTO DE 2M ALTURA LIVRE DE 1M, CRAVADOS 0,5M, COM 5 FIOS DE ARAME FARPADO Nº 14\n(quantitativo para isolamento do canteiro no Perímetro Itiúba e no Perímetro Boacica)","m","CAC-121",80,{"$f":"VLOOKUP(G13,'C.C.U'!D:L,4,0)","v":27.72},{"$f":"VLOOKUP(G13,'C.C.U'!D:L,7,0)","v":33.544095905594027},2683.53]
[null,null,null,"1.6","ALUGUEL CONTAINER/ESCRIT INCL INST ELET LARG=2,20 COMP=6,20M ALT=2,50M CHAPA ACO C/NERV TRAPEZ FORRO C/ISOL TERMO/ACUSTICO CHASSIS REFORC PISO COMPENS NAVAL EXC TRANSP/CARGA/DESCARG ","mês","CAC-120",18,{"$f":"VLOOKUP(G14,'C.C.U'!D:L,4,0)","v":522},{"$f":"VLOOKUP(G14,'C.C.U'!D:L,7,0)","v":591.25690721536057},10642.62]
[null,null,null,"1.7","Aluguel de banheiro químico, com 03 limpezas semanais\n( 01 para Perímetro Itiúba e 01 para Perímetro Boacica)","mês","CAC-124",18,{"$f":"VLOOKUP(G15,'C.C.U'!D:L,4,0)","v":857.44},{"$f":"VLOOKUP(G15,'C.C.U'!D:L,7,0)","v":971.20176728494027},17481.63]
[{"$f":"IFERROR(LEFT(D16,LEN(D16)-(LEN(C16)+1)),0)","v":"1"},2,5,"1.8","PLACAS DE OBRA ","m²","CAC-091",{"$f":"'BD_Mobilização e Serv. iniciais'!B4","v":25},{"$f":"VLOOKUP(G16,'C.C.U'!D:L,4,0)","v":362.0557},{"$f":"VLOOKUP(G16,'C.C.U'!D:L,7,0)","v":438.12522092232973},10953.13]
[null,null,null,"1.9"," FORNECIMENTO DE VEÍCULO LEVE 1.0 OU SUPERIOR,  PARA APOIO A FISCALIZAÇÃO, COM AR-CONDICIONADO, INCLUINDO DESPESAS COM COMBUSTÍVEL, ÓLEOS, CONSERVAÇÃO E MANUTENÇÃO.","mês","CCU VEÍCULO",18,{"$f":"'CCU VEÍCULO'!D49","v":2377.5004255707763},{"$f":"I17+I17*'C.C.U'!I4","v":2692.9378324256336},48472.88]
[{"$f":"IFERROR(LEFT(D18,LEN(D18)-(LEN(C18)+1)),0)","v":0},1,2,2,"ADMINISTRAÇÃO LOCAL / MANUTENÇÃO DO CANTEIRO DE OBRAS",{"$nulls":5},{"$f":"K19","v":732505.03}]
[{"$f":"IFERROR(LEFT(D19,LEN(D19)-(LEN(C19)+1)),0)","v":"2"},2,1,{"$f":"D18&\".\"&C19","v":"2.1"},"ADMINISTRAÇÃO LOCAL / MANUTENÇÃO DO CANTEIRO DE OBRAS","global","CAC-090",1,{"$f":"VLOOKUP(G19,'C.C.U'!D:L,4,0)","v":605323.79866027401},{"$f":"VLOOKUP(G19,'C.C.U'!D:L,7,0)","v":732505.03},{"$f":"J19*H19","v":732505.03}]
[{"$nulls":8},"R$ TOTAl (C/BDI)",null,{"$f":"ROUND(K18+K8,2)","v":881495.45}]
[null,null,null,{"$f":"\"OBS: - BDI - SERVIÇO = \"&ROUND('C.C.U'!$I$3*100,2)&\"%   /   FORNECIMENTO = \"&ROUND('C.C.U'!$I$4*100,2)&\"%\"","v":"OBS: - BDI - SERVIÇO = 21,01%   /   FORNECIMENTO = 13,27%"}]

{"sheet":"ADUTOR LESTE","index":4,"n_rows":36,"n_cols":13,"rows_kept":36,"cut":false,"hidden":false,"merged":[[4,3,4,10],[3,3,3,10],[0,4,2,10]]}
[{"$nulls":4},"MINISTÉRIO DO DESENVOLVIMENTO REGIONAL - MD\nCOMPANHIA DE DESENVOLVIMENTO DOS VALES DO SÃO FRANCISCO E DO PARNAÍBA\n5ª Superintendência Regional"]
[]
[]
[null,null,null,{"$f":"'ORÇ. GERAL'!B4","v":"EXECUÇÃO DE OBRAS E SERVIÇOS DE RECUPERAÇÃO PARCIAL DO DIQUE DE PROTEÇÃO E RECUPERAÇÃO DOS CANAIS DE IRRIGAÇÃO DO PERÍMETRO IRRIGADO DO ITIÚBA (canal adutor leste, P12, S1P12 e S2P12) E DOS CANAIS DE IRRIGAÇÃO (CLI e CLII) DO PERÍMETRO IRRIGADO DO BOACICA."}]
[null,null,null,{"$f":"'SERV. GER. E ADMIN LOCAL'!D5:K5","v":"Planilha de Custos do Valor do Orçamento de Referência"}]
[{"$nulls":8},{"$f":"'C.C.U'!G3","v":"BDI SERVIÇOS (%) = "},{"$f":"'C.C.U'!I3","v":0.2101044698987744}]
[{"$nulls":8},{"$f":"'C.C.U'!G4","v":"BDI FORNEC. (%)="},{"$f":"'C.C.U'!I4","v":0.13267606746237659}]
["ÍTEM MÃE","NÍVEL","SEQ.","ÍTEM","DESCRIÇÃO","UNID","CÓD. COMP.","QTDE","R$ / UNID    \n( S/ BDI)","R$ / UNID    \n( C/ BDI)","R$ Total ( C /BDI)"]
[{"$f":"IFERROR(LEFT(D9,LEN(D9)-(LEN(C9)+1)),0)","v":0},1,3,3,"RECUPERAÇÃO E ADEQUAÇÃO DO SISTEMA DE CONDUÇÃO"]
[{"$f":"IFERROR(LEFT(D10,LEN(D10)-(LEN(C10)+1)),0)","v":"3"},2,1,"3.1","ADUTOR LESTE"]
[{"$f":"IFERROR(LEFT(D11,LEN(D11)-(LEN(C11)+1)),0)","v":"3.1"},3,1,{"$f":"D10&\".\"&C11","v":"3.1.1"},{"$f":"\"TRECHO TRAPEZOIDAL - RECUPERAÇÃO GEOMETRICA DA SEÇÃO COM SOLO-CIMENTO, MANTA DE PEAD 1 MM, TELA DE AÇO, 5 CM CONCRETO \n- L = \"&H13&\" m\"","v":"TRECHO TRAPEZOIDAL - RECUPERAÇÃO GEOMETRICA DA SEÇÃO COM SOLO-CIMENTO, MANTA DE PEAD 1 MM, TELA DE AÇO, 5 CM CONCRETO \n- L = 4933,41 m"},{"$nulls":5},{"$f":"ROUND(K12+K15+K20+K24+K28+K32,2)","v":3288319.96},null,{"$f":"K11/4933.41","v":666.5409848360465}]
[{"$f":"IFERROR(LEFT(D12,LEN(D12)-(LEN(C12)+1)),0)","v":"3.1.1"},4,1,{"$f":"D11&\".\"&C12","v":"3.1.1.1"},"LOCAÇÃO E NIVELAMENTO COM EQUIPAMENTO TOPOGRÁFICO",{"$nulls":5},{"$f":"K13","v":11971.28}]
[{"$f":"IFERROR(LEFT(D13,LEN(D13)-(LEN(C13)+1)),0)","v":"3.1.1.1"},5,{"$f":"ROW()-ROW(C12)","v":1},{"$f":"D12&\".\"&C13","v":"3.1.1.1.1"},"LOCACAO E NIVELAMENTO DE REDE DE CANAIS COLETORES DE IRRIGAÇÃO COM AUXILIO DE EQUIPAMENTO TOPOGRAFICO","m","CAC-002",{"$f":"IF(E10=\"GERAL - DEMAIS CANAIS\",SUMIF('M. CÁL. ADUTOR LESTE'!$7:$7,\"CANAL *\",'M. CÁL. ADUTOR LESTE'!$38:$38),SUMIF('M. CÁL. ADUTOR LESTE'!$7:$7,E10,'M. CÁL. ADUTOR LESTE'!$38:$38))","v":4933.41},{"$f":"VLOOKUP(G13,'C.C.U'!D:L,4,0)","v":2.0052599999999998},{"$f":"VLOOKUP(G13,'C.C.U'!D:L,7,0)","v":2.426574089309216},{"$f":"ROUND(H13*J13,2)","v":11971.28}]
[{"$f":"IFERROR(LEFT(D14,LEN(D14)-(LEN(C14)+1)),0)","v":"3.1.1"},4,3,{"$f":"D11&\".\"&C14","v":"3.1.1.3"},"RECOMPOSIÇÃO DA GEOMETRIA DO CANAL E REVESTIMENTO"]
["3.1.1.3",4,2,{"$f":"D14&\".\"&C20","v":"3.1.1.3.1"},"REMOÇÃO DA ESTRUTURA (REVESTIMENTO) EXISTENTE",{"$nulls":5},{"$f":"K16+K17+K18+K19","v":146219.89000000001}]
["3.1.1.3.1",5,{"$f":"ROW()-ROW(C15)","v":1},{"$f":"D15&\".\"&C16","v":"3.1.1.3.1.1"},"LIMPEZA MANUAL DE VEGETAÇÃO EM TERRENO COM ENXADA","m²","CAC-001",{"$f":"SUM('M. CÁL. ADUTOR LESTE'!E39:I39)","v":4933.41},{"$f":"VLOOKUP(G16,'C.C.U'!D:L,4,0)","v":2.2799999999999998},{"$f":"VLOOKUP(G16,'C.C.U'!D:L,7,0)","v":2.7590381913692053},{"$f":"ROUND(H16*J16,2)","v":13611.47}]
["3.1.1.3.1",5,{"$f":"ROW()-ROW(C15)","v":2},{"$f":"D15&\".\"&C17","v":"3.1.1.3.1.2"},"DEMOLIÇÃO DE PLACAS EM CONCRETO ( MECANICAMENTE)","m³","CAC-003",{"$f":"IF($E$10=\"GERAL - DEMAIS CANAIS\",SUMIF('M. CÁL. ADUTOR LESTE'!$7:$7,\"CANAL *\",'M. CÁL. ADUTOR LESTE'!40:40),SUMIF('M. CÁL. ADUTOR LESTE'!$7:$7,$E$10,'M. CÁL. ADUTOR LESTE'!40:40))","v":1901.1514937869617},{"$f":"VLOOKUP(G17,'C.C.U'!D:L,4,0)","v":42.268500000000003},{"$f":"VLOOKUP(G17,'C.C.U'!D:L,7,0)","v":51.149300785916353},{"$f":"ROUND(H17*J17,2)","v":97242.57}]
["3.1.1.3.1",5,{"$f":"ROW()-ROW(C15)","v":3},{"$f":"D15&\".\"&C18","v":"3.1.1.3.1.3"},"CARGA E DESCARGA MECANIZADAS DE ENTULHO EM CAMINHAO BASCULANTE 6 M3","m³","CAC-005",{"$f":"IF($E$10=\"GERAL - DEMAIS CANAIS\",SUMIF('M. CÁL. ADUTOR LESTE'!$7:$7,\"CANAL *\",'M. CÁL. ADUTOR LESTE'!41:41),SUMIF('M. CÁL. ADUTOR LESTE'!$7:$7,$E$10,'M. CÁL. ADUTOR LESTE'!41:41))","v":1901.1514937869617},{"$f":"VLOOKUP(G18,'C.C.U'!D:L,4,0)","v":3.0724999999999998},{"$f":"VLOOKUP(G18,'C.C.U'!D:L,7,0)","v":3.7180459837639841},{"$f":"ROUND(H18*J18,2)","v":7068.57}]
["3.1.1.3.1",5,{"$f":"ROW()-ROW(C15)","v":4},{"$f":"D15&\".\"&C19","v":"3.1.1.3.1.4"},"TRANSPORTE COM CAMINHÃO BASCULANTE DE 6 M3, EM VIA URBANA EM REVESTIMENTO PRIMÁRIO","m³XKm","CAC-007",{"$f":"IF($E$10=\"GERAL - DEMAIS CANAIS\",SUMIF('M. CÁL. ADUTOR LESTE'!$7:$7,\"CANAL *\",'M. CÁL. ADUTOR LESTE'!42:42),SUMIF('M. CÁL. ADUTOR LESTE'!$7:$7,$E$10,'M. CÁL. ADUTOR LESTE'!42:42))","v":19011.514937869619},{"$f":"VLOOKUP(G19,'C.C.U'!D:L,4,0)","v":1.23},{"$f":"VLOOKUP(G19,'C.C.U'!D:L,7,0)","v":1.4884284979754925},{"$f":"ROUND(H19*J19,2)","v":28297.279999999999}]
["3.1.1.3",5,1,{"$f":"D14&\".\"&C15","v":"3.1.1.3.2"},"RETIRADA SOLO IMPRÓPRIO",{"$nulls":5},{"$f":"K21+K22+K23","v":168130.5}]
["3.1.1.3.2",6,{"$f":"ROW()-ROW(C20)","v":1},{"$f":"D20&\".\"&C21","v":"3.1.1.3.2.1"},"ESCAVACAO MECANICA, A CEU ABERTO, EM MATERIAL DE 1A CATEGORIA, COM RETROESCAVADEIRA","m³","CAC-014",{"$f":"IF($E$10=\"GERAL - DEMAIS CANAIS\",SUMIF('M. CÁL. ADUTOR LESTE'!$7:$7,\"CANAL *\",'M. CÁL. ADUTOR LESTE'!43:43),SUMIF('M. CÁL. ADUTOR LESTE'!$7:$7,$E$10,'M. CÁL. ADUTOR LESTE'!43:43))","v":8962.5713278528183},{"$f":"VLOOKUP(G21,'C.C.U'!D:L,4,0)","v":1.8631480000000002},{"$f":"VLOOKUP(G21,'C.C.U'!D:L,7,0)","v":2.2546037228829618},{"$f":"ROUND(H21*J21,2)","v":20207.05}]
["3.1.1.3.2",6,{"$f":"ROW()-ROW(C20)","v":2},{"$f":"D20&\".\"&C22","v":"3.1.1.3.2.2"},"CARGA E DESCARGA MECANICA DE SOLO UTILIZANDO CAMINHAO BASCULANTE 6,0M3","m³","CAC-006",{"$f":"IF($E$10=\"GERAL - DEMAIS CANAIS\",SUMIF('M. CÁL. ADUTOR LESTE'!$7:$7,\"CANAL *\",'M. CÁL. ADUTOR LESTE'!44:44),SUMIF('M. CÁL. ADUTOR LESTE'!$7:$7,$E$10,'M. CÁL. ADUTOR LESTE'!44:44))","v":8962.5713278528183},{"$f":"'C.C.U'!$G$196","v":1.3389680000000002},{"$f":"'C.C.U'!$J$196","v":1.6202911618514224},{"$f":"ROUND(H22*J22,2)","v":14521.98}]
["3.1.1.3.2",6,{"$f":"ROW()-ROW(C20)","v":3},{"$f":"D20&\".\"&C23","v":"3.1.1.3.2.3"},"TRANSPORTE COM CAMINHÃO BASCULANTE DE 6 M3, EM VIA URBANA EM REVESTIMENTO PRIMÁRIO","m³XKm","CAC-007",{"$f":"IF($E$10=\"GERAL - DEMAIS CANAIS\",SUMIF('M. CÁL. ADUTOR LESTE'!$7:$7,\"CANAL *\",'M. CÁL. ADUTOR LESTE'!45:45),SUMIF('M. CÁL. ADUTOR LESTE'!$7:$7,$E$10,'M. CÁL. ADUTOR LESTE'!45:45))","v":89625.713278528186},{"$f":"VLOOKUP(G23,'C.C.U'!D:L,4,0)","v":1.23},{"$f":"VLOOKUP(G23,'C.C.U'!D:L,7,0)","v":1.4884284979754925},{"$f":"ROUND(H23*J23,2)","v":133401.47}]
["3.1.1.3",5,3,{"$f":"D14&\".\"&C24","v":"3.1.1.3.3"},"RECOMPOSIÇÃO GEOMETRIA DO CANAL",{"$nulls":5},{"$f":"SUM(K25:K27)","v":1115834.6100000001}]
[{"$f":"IFERROR(LEFT(D25,LEN(D25)-(LEN(C25)+1)),0)","v":"3.1.1.3.3"},6,{"$f":"ROW()-ROW(C24)","v":1},{"$f":"D24&\".\"&C25","v":"3.1.1.3.3.1"},"TRANSPORTE COM CAMINHÃO BASCULANTE DE 6 M3, EM VIA URBANA EM REVESTIMENTO PRIMÁRIO","m³XKm","CAC-007",{"$f":"H26*5","v":31482.42881762431},{"$f":"VLOOKUP(G25,'C.C.U'!D:L,4,0)","v":1.23},{"$f":"VLOOKUP(G25,'C.C.U'!D:L,7,0)","v":1.4884284979754925},{"$f":"ROUND(H25*J25,2)","v":46859.34}]
[null,null,1,{"$f":"D24&\".\"&C26","v":"3.1.1.3.3.1"},"ATERRO MANUAL COM MATERIAL DE EMPRÉSTIMO, COMPACTAÇÃO MECANIZADA  E REGULARIZAÇÃO DO TALUDE","m³","CAC-015",{"$f":"SUM('M. CÁL. ADUTOR LESTE'!E47:I47)","v":6296.4857635248618},{"$f":"VLOOKUP(G26,'C.C.U'!D:L,4,0)","v":31.947420000000001},{"$f":"VLOOKUP(G26,'C.C.U'!D:L,7,0)","v":38.659715743733507},{"$f":"ROUND(H26*J26,2)","v":243420.35}]
[{"$f":"IFERROR(LEFT(D27,LEN(D27)-(LEN(C27)+1)),0)","v":"3.1.1.3.3"},6,{"$f":"ROW()-ROW(C24)","v":3},{"$f":"D24&\".\"&C27","v":"3.1.1.3.3.3"},"PPREPARO E EXECUÇÃO DE SOLO-CIMENTO TRAÇO 1:12 EM VOLUME, (CIMENTO/ARENOSO), COM COMPACTAÇÃO E ESPALHAMENTO, PARA SUPORTE DE FUNDAÇÕES, INCLUSIVE CIMENTO E ARENOSO COMERCIAL ","m³","CAC-018",{"$f":"IF($E$10=\"GERAL - DEMAIS CANAIS\",SUMIF('M. CÁL. ADUTOR LESTE'!$7:$7,\"CANAL *\",'M. CÁL. ADUTOR LESTE'!46:46),SUMIF('M. CÁL. ADUTOR LESTE'!$7:$7,$E$10,'M. CÁL. ADUTOR LESTE'!46:46))","v":2715.9307054099449},{"$f":"VLOOKUP(G27,'C.C.U'!D:L,4,0)","v":251.19119999999998},{"$f":"VLOOKUP(G27,'C.C.U'!D:L,7,0)","v":303.967593919237},{"$f":"ROUND(H27*J27,2)","v":825554.92}]
["3.1.1.3",5,4,{"$f":"D14&\".\"&C28","v":"3.1.1.3.4"},"ASSENTAMENTE DE MANTA PEAD",{"$nulls":5},{"$f":"K29+K30+K31","v":900370.61999999988}]
["3.1.1.3.4",6,{"$f":"ROW()-ROW(C28)","v":1},{"$f":"D28&\".\"&C29","v":"3.1.1.3.4.1"},"ESCAVAÇÃO MANUAL DE VALAS PARA ANCORAGEM DA MANTA PEAD","m³","CAC-022",{"$f":"SUM('M. CÁL. ADUTOR LESTE'!E48:I48)","v":394.67280000000005},{"$f":"VLOOKUP(G29,'C.C.U'!D:L,4,0)","v":56.57},{"$f":"VLOOKUP(G29,'C.C.U'!D:L,7,0)","v":68.455609862173674},{"$f":"ROUND(H29*J29,2)","v":27017.57}]
["3.1.1.3.4",6,{"$f":"ROW()-ROW(C28)","v":2},{"$f":"D28&\".\"&C30","v":"3.1.1.3.4.2"},"FORNECIMENTO E INSTALAÇÃO DE GEOMEMBRANA TEXTURIZADA EM AMBAS AS FACES, ESP. = 1,00 MM","m²","CAC-017",{"$f":"SUM('M. CÁL. ADUTOR LESTE'!E49:I49)","v":31106.035054099451},{"$f":"VLOOKUP(G30,'C.C.U'!D:L,4,0)","v":22.942463600000004},{"$f":"VLOOKUP(G30,'C.C.U'!D:L,7,0)","v":27.762777752849932},{"$f":"ROUND(H30*J30,2)","v":863589.94}]
["3.1.1.3.4",6,{"$f":"ROW()-ROW(C28)","v":3},{"$f":"D28&\".\"&C31","v":"3.1.1.3.4.3"},"REATERRO COM COMPACTACAO MECANIZADA DAS VALAS ( ANCORAGEM DA MANTA PEAD )","m³","CAC-012",{"$f":"SUM('M. CÁL. ADUTOR LESTE'!E50:I50)","v":394.67280000000005},{"$f":"VLOOKUP(G31,'C.C.U'!D:L,4,0)","v":20.442219999999999},{"$f":"VLOOKUP(G31,'C.C.U'!D:L,7,0)","v":24.737221796654122},{"$f":"ROUND(H31*J31,2)","v":9763.11}]
["3.1.1.3",5,5,{"$f":"D14&\".\"&C32","v":"3.1.1.3.5"},"REVESTIMENTO CANAL FINAL",{"$nulls":5},{"$f":"K33+K34","v":945793.06}]
["3.1.1.3.5",6,{"$f":"ROW()-ROW(C32)","v":1},{"$f":"D32&\".\"&C33","v":"3.1.1.3.5.1"},"ARMACAO EM TELA DE ACO SOLDADA NERVURADA Q-138, ACO CA-60, 4,2MM, MALHA 15X15 CM PARA REVESTIMENTO DO CANAL TRAPEZOIDAL","m²","CAC-028",{"$f":"SUM('M. CÁL. ADUTOR LESTE'!E51:I51)","v":27159.307054099449},{"$f":"VLOOKUP(G33,'C.C.U'!D:L,4,0)","v":9.1443999999999992},{"$f":"VLOOKUP(G33,'C.C.U'!D:L,7,0)","v":11.065679314542352},{"$f":"ROUND(H33*J33,2)","v":300536.18}]
["3.1.1.3.5",6,{"$f":"ROW()-ROW(C32)","v":2},{"$f":"D32&\".\"&C34","v":"3.1.1.3.5.2"},"CONCRETO FCK=20MPA PARA ESTRUTURAS, INCLUINDO PREPARO MECANICO, LANCAMENTO E ADENSAMENTO","m³","CAC-033",{"$f":"IF(E10=\"GERAL - DEMAIS CANAIS\",SUMIF('M. CÁL. ADUTOR LESTE'!$7:$7,\"Canal *\",'M. CÁL. ADUTOR LESTE'!$52:$52),SUMIF('M. CÁL. ADUTOR LESTE'!$7:$7,E10,'M. CÁL. ADUTOR LESTE'!$52:$52))","v":1357.9653527049725},{"$f":"VLOOKUP(G34,'C.C.U'!D:L,4,0)","v":392.66399999999999},{"$f":"VLOOKUP(G34,'C.C.U'!D:L,7,0)","v":475.16446156833234},{"$f":"ROUND(H34*J34,2)","v":645256.88}]
[]
[{"$nulls":9},"TOTAL ",{"$f":"ROUND(K11,2)","v":3288319.96}]

{"sheet":"DIQUE ITIÚBA","index":5,"n_rows":63,"n_cols":10,"rows_kept":63,"cut":false,"hidden":false,"merged":[[11,1,11,2],[37,1,37,2],[0,1,3,8],[4,1,4,8],[5,1,5,8],[9,2,10,2],[9,1,10,1]]}
[null,"MINISTÉRIO DO DESENVOLVIMENTO REGIONAL - MD\nCOMPANHIA DE DESENVOLVIMENTO DOS VALES DO SÃO FRANCISCO E DO PARNAÍBA\n5ª Superintendência Regional"]
[]
[]
[]
[null,{"$f":"'ORÇ. GERAL'!B4","v":"EXECUÇÃO DE OBRAS E SERVIÇOS DE RECUPERAÇÃO PARCIAL DO DIQUE DE PROTEÇÃO E RECUPERAÇÃO DOS CANAIS DE IRRIGAÇÃO DO PERÍMETRO IRRIGADO DO ITIÚBA (canal adutor leste, P12, S1P12 e S2P12) E DOS CANAIS DE IRRIGAÇÃO (CLI e CLII) DO PERÍMETRO IRRIGADO DO BOACICA."}]
[null,{"$f":"'ORÇ. GERAL'!B5:D5","v":"Planilha de Custos do Valor do Orçamento de Referência"}]
[{"$nulls":7},{"$f":"'C.C.U'!G3","v":"BDI SERVIÇOS (%) = "},{"$f":"'C.C.U'!I3","v":0.2101044698987744}]
[{"$nulls":7},{"$f":"'C.C.U'!G4","v":"BDI FORNEC. (%)="},{"$f":"'C.C.U'!I4","v":0.13267606746237659}]
[null,"ÍTEM","DESCRIÇÃO","UNID","CÓD. COMP.","QTDE","R$ / UNID    \n( S/ BDI)","R$ / UNID    \n( C/ BDI)","R$ Total ( C /BDI)","P. UNIT. C/ B.D.I "]
[null,4,"RECUPERAÇÃO PARCIAL DO DIQUE DE ITIÚBA"]
[]
[null,"1º TRECHO - 320M",{"$nulls":6},{"$f":"I13+I18+I25+I32","v":1410904.2200000002},{"$f":"J13+J18+J25+J32","v":{"$error":"#REF!"}}]
[null,"4.1","  MOVIMENTO DE TERRA                       ",null,"                  ",null,null,null,{"$f":"SUM(I14:I17)","v":356624.73},{"$f":"SUM(J14:J17)","v":{"$error":"#REF!"}}]
[null,"4.1.1","LIMPEZA MECANIZADA DE CAMADA VEGETAL, VEGETAÇÃO E PEQUENAS ÁRVORES (DIÂMETRO DE TRONCO MENOR QUE 0,20 M), COM TRATOR DE ESTEIRAS","  M2    ",98525,6250,0.24,{"$f":"G14+G14*$I$7","v":0.29042507277570584},{"$f":"ROUND(H14*F14,2)","v":1815.16},{"$f":"#REF!*1.2863","v":{"$error":"#REF!"}}]
[null,"4.1.2","ESCAVACAO, CARGA E TRANSPORTE DE MATERIAL DE 1A CATEGORIA COM TRATOR SOBRE ESTEIRAS 347 HP E CACAMBA 6M3, DMT 50 A 200M","  M3    ","74154/001",5857,3.67,{"$f":"G15+G15*$I$7","v":4.4410834045285021},{"$f":"ROUND(H15*F15,2)","v":26011.43},{"$f":"#REF!*1.2863","v":{"$error":"#REF!"}}]
[null,"4.1.4","ATERRO MECANIZADO COM RETROESCAVADEIRA COM MATERIAL DE EMPRÉSTIMO E COMPACTAÇÃO MECANIZADA  ","M3","CAC-016",7851.8,{"$f":"'C.C.U'!G4094","v":29.781010000000002},{"$f":"'C.C.U'!J4094","v":36.038133319100105},{"$f":"ROUND(H16*F16,2)","v":282964.21999999997}]
[null,"4.1.5","EXECUCAO DE DRENO FRANCES COM AREIA MEDIA","  M3    ","73883/001",400,94.69,{"$f":"G17+G17*$I$7","v":114.58479225471494},{"$f":"ROUND(H17*F17,2)","v":45833.919999999998},{"$f":"#REF!*1.2863","v":{"$error":"#REF!"}}]
[null,"4.2","  CARGA E TRANSPORTE",null,"                  ",null,null,null,{"$f":"SUM(I19:I24)","v":194354.16},{"$f":"SUM(J19:J24)","v":{"$error":"#REF!"}}]
[null,"4.2.1","TRANSPORTE COM CAMINHÃO BASCULANTE DE 6 M3, EM VIA URBANA EM REVESTIMENTO PRIMÁRIO","M3xKM   ","CAC-007",16875,{"$f":"'C.C.U'!G226","v":1.23},{"$f":"'C.C.U'!J226","v":1.4884284979754925},{"$f":"ROUND(H19*F19,2)","v":25117.23},{"$f":"#REF!*1.2863","v":{"$error":"#REF!"}}]
[null,"4.2.2","TRANSPORTE COM CAMINHÃO BASCULANTE DE 6 M3, EM VIA URBANA PAVIMENTADA, M3XKM DMT ATÉ 30 KM - VOLUME DE \nAREIA","M3xKM   ",97914,12000,1.1599999999999999,{"$f":"G20+G20*$I$7","v":1.4037211850825781},16844.650000000001,{"$f":"#REF!*1.2863","v":{"$error":"#REF!"}}]
[null,"4.2.3","TRANSPORTE COM CAMINHÃO BASCULANTE DE 6 M3, EM VIA URBANA PAVIMENTADA, M3XKM DMT ACIMA DE 30 KM  - VOLUME DE  BRITA","M3xKM   ",97914,2890,0.81,0.98018462061800737,2832.73,{"$f":"#REF!*1.2863","v":{"$error":"#REF!"}}]
[null,"4.2.4","TRANSPORTE COM CAMINHÃO BASCULANTE DE 6 M3, EM VIA URBANA PAVIMENTADA, M3XKM DMT ACIMA DE 30 KM - VOLUME PEDRA","M3xKM   ",97914,132141,0.81,0.98018462061800737,129522.58,{"$f":"#REF!*1.2863","v":{"$error":"#REF!"}}]
[null,"4.2.5","CARGA E DESCARGA MECANICA DE SOLO UTILIZANDO CAMINHAO BASCULANTE 6,0M3 (C/RETROESCAVADEIRA)","M3","CAC-006",9814.75,{"$f":"'C.C.U'!G196","v":1.3389680000000002},{"$f":"'C.C.U'!J196","v":1.6202911618514224},15902.75,{"$f":"#REF!*1.2863","v":{"$error":"#REF!"}}]
[null,"4.2.6","ESPALHAMENTO DE MATERIAL EM BOTA FORA, COM UTILIZACAO DE TRATOR DE ESTEIRAS DE 165 HP","  M3    ",100574,4217.8,0.81,0.98018462061800737,4134.22,{"$f":"#REF!*1.2863","v":{"$error":"#REF!"}}]
[null,"4.3","  CONTENCAO E PROTECAO DE MARGEM           ",null,"                  ",null,null,null,{"$f":"SUM(I26:I31)","v":820950.98},{"$f":"SUM(J26:J31)","v":{"$error":"#REF!"}}]
[null,"4.3.1","MURO DE GABIÃO, ENCHIMENTO COM PEDRA DE MÃO TIPO RACHÃO, DE GRAVIDADE, COM GAIOLAS DE COMPRIMENTO IGUAL A 5 METROS, ALTURA DO MURO DE ATÉ 4 METROS - FORNECIMENTO E EXECUÇÃO. AF_12/2015","  M3    ","CAC-126",1381.5,{"$f":"'C.C.U'!G4028","v":349.23077333333333},{"$f":"'C.C.U'!J4028","v":422.60571983687237},{"$f":"ROUND(H26*F26,2)","v":583829.80000000005},{"$f":"#REF!*1.2863","v":{"$error":"#REF!"}}]
[null,"4.3.2","PROTEÇÃO SUPERFICIAL DE CANAL EM GABIÃO TIPO COLCHÃO, ALTURA DE 17 CENTÍMETROS, ENCHIMENTO COM PEDRA DE MÃO TIPO RACHÃO - FORNECIMENTO E EXECUÇÃO. AF 12/2015","  M2    ",92755,640,178.27,{"$f":"G27+G27*$I$7","v":215.72532384885452},138064.21,{"$f":"#REF!*1.2863","v":{"$error":"#REF!"}}]
[null,"4.3.3","ENROCAMENTO MANUAL, COM ARRUMACAO DO MATERIAL","  M3    ","CAC-123",66,{"$f":"'C.C.U'!G3937","v":191.99566666666664},232.33481443452843,15334.1,{"$f":"#REF!*1.2863","v":{"$error":"#REF!"}}]
[null,"4.3.4","CAMADA DRENANTE COM BRITA NUM 3","  M3    ","CAC-122",34,{"$f":"'C.C.U'!G3907","v":107.7299},130.36443353174798,4432.3900000000003,{"$f":"#REF!*1.2863","v":{"$error":"#REF!"}}]
[null,"4.3.5","PLANTIO DE GRAMA EM PLACAS. ","  M2    ",98504,4756,8.99,10.878839184389982,51739.76,{"$f":"#REF!*1.2863","v":{"$error":"#REF!"}}]
[null,"4.3.6","EXECUCAO DE DRENO COM MANTA GEOTEXTIL 400 G/M2","  M2    ","73881/003",1852.5,12.29,14.872183935055936,27550.720000000001,{"$f":"#REF!*1.2863","v":{"$error":"#REF!"}}]
[null,"4.4","  DRENAGEM                                 ",null,"                  ",null,null,null,{"$f":"SUM(I33:I36)","v":38974.350000000006},{"$f":"SUM(J33:J36)","v":{"$error":"#REF!"}}]
[null,"4.4.1","  INSTALACAO E FORNECIMENTO DE CANALETA DN  300 MM  ","  M     ","CAC-112",320,{"$f":"'C.C.U'!G3789","v":28.919},{"$f":"G33+G33*$I$7","v":34.995011165002659},{"$f":"ROUND(H33*F33,2)","v":11198.4},{"$f":"#REF!*1.2863","v":{"$error":"#REF!"}}]
[null,"4.4.2","  INSTALACAO E FORNECIMENTO DE TUBO PVC 200 MM  ","  M     ","CAC-113",49,{"$f":"'C.C.U'!G3820","v":157.87860000000001},{"$f":"G34+G34*$I$7","v":191.04959956136065},{"$f":"ROUND(H34*F34,2)","v":9361.43},{"$f":"#REF!*1.2863","v":{"$error":"#REF!"}}]
[null,"4.4.3","  INSTALACAO E FORNECIMENTO DE TUBO DE PEAD CORRUGADO 100MM    ","  M     ","CAC-111",520,{"$f":"'C.C.U'!G3759","v":27.350999999999999},{"$f":"G35+G35*$I$7","v":33.097567356201381},{"$f":"ROUND(H35*F35,2)","v":17210.740000000002},{"$f":"#REF!*1.2863","v":{"$error":"#REF!"}}]
[null,"4.4.4","  CAIXA DE PASSAGEM 30X30X40 COM TAMPA E DRENO BRITA","  UNID  ",83446,7,142.11000000000001,{"$f":"G36+G36*$I$7","v":171.96794621731485},{"$f":"ROUND(H36*F36,2)","v":1203.78},{"$f":"#REF!*1.2863","v":{"$error":"#REF!"}}]
[]
[null,"2º TRECHO - 580M",{"$nulls":6},{"$f":"I39+I44+I51+I58","v":2327306.7599999998},{"$f":"J39+J44+J51+J58","v":{"$error":"#REF!"}}]
[null,"4.5","  MOVIMENTO DE TERRA                       ",null,"                  ",null,null,null,{"$f":"SUM(I40:I43)","v":553301.01},{"$f":"SUM(J40:J43)","v":{"$error":"#REF!"}}]
[null,"4.5.1","LIMPEZA MECANIZADA DE CAMADA VEGETAL, VEGETAÇÃO E PEQUENAS ÁRVORES (DIÂMETRO DE TRONCO MENOR QUE 0,20 M), COM TRATOR DE ESTEIRAS","  M2    ","73822/002",12010,0.22,{"$f":"G40+G40*$I$7","v":0.26622298337773037},{"$f":"ROUND(H40*F40,2)","v":3197.34},{"$f":"#REF!*1.2863","v":{"$error":"#REF!"}}]
[null,"4.5.2","ESCAVACAO, CARGA E TRANSPORTE DE MATERIAL DE 1A CATEGORIA COM TRATOR SOBRE ESTEIRAS 347 HP E CACAMBA 6M3, DMT 50 A 200M","  M3    ","74154/001",12210.8,3.62,{"$f":"G41+G41*$I$7","v":4.3805781810335631},{"$f":"ROUND(H41*F41,2)","v":53490.36},{"$f":"#REF!*1.2863","v":{"$error":"#REF!"}}]
[null,"4.5.4","ATERRO MECANIZADO COM RETROESCAVADEIRA COM MATERIAL DE EMPRÉSTIMO E COMPACTAÇÃO MECANIZADA  ","M3","CAC-016",{"$f":"'M, CÁL. DIQUE ITIUBA'!L442","v":12508.4},{"$f":"'C.C.U'!G4094","v":29.781010000000002},{"$f":"'C.C.U'!J4094","v":36.038133319100105},{"$f":"ROUND(H42*F42,2)","v":450779.39}]
[null,"4.5.5","EXECUCAO DE DRENO FRANCES COM AREIA MEDIA","  M3    ","73883/001",400,94.69,{"$f":"G43+G43*$I$7","v":114.58479225471494},{"$f":"ROUND(H43*F43,2)","v":45833.919999999998},{"$f":"#REF!*1.2863","v":{"$error":"#REF!"}}]
[null,"4.6","  CARGA E TRANSPORTE",null,"                  ",null,null,null,{"$f":"SUM(I45:I50)","v":347885.82},{"$f":"SUM(J45:J50)","v":{"$error":"#REF!"}}]
[null,"4.6.1","TRANSPORTE COM CAMINHÃO BASCULANTE DE 6 M3, EM VIA URBANA EM REVESTIMENTO PRIMÁRIO","M3xKM   ","CAC-007",27458.959999999999,{"$f":"'C.C.U'!G226","v":1.23},{"$f":"'C.C.U'!J226","v":1.4884284979754925},{"$f":"ROUND(H45*F45,2)","v":40870.699999999997},{"$f":"#REF!*1.2863","v":{"$error":"#REF!"}}]
[null,"4.6.2","TRANSPORTE COM CAMINHÃO BASCULANTE DE 6 M3, EM VIA URBANA PAVIMENTADA, M3XKM DMT ATÉ 30 KM - VOLUME DE \nAREIA","M3xKM   ",97914,12000,1.1599999999999999,{"$f":"G46+G46*$I$7","v":1.4037211850825781},16844.650000000001,{"$f":"#REF!*1.2863","v":{"$error":"#REF!"}}]
[null,"4.6.3","TRANSPORTE COM CAMINHÃO BASCULANTE DE 6 M3, EM VIA URBANA PAVIMENTADA, M3XKM DMT ACIMA DE 30 KM  - VOLUME DE  BRITA","M3xKM   ",97914,10115,0.81,0.98018462061800737,9914.57,{"$f":"#REF!*1.2863","v":{"$error":"#REF!"}}]
[null,"4.6.4","TRANSPORTE COM CAMINHÃO BASCULANTE DE 6 M3, EM VIA URBANA PAVIMENTADA, M3XKM DMT ACIMA DE 30 KM - VOLUME PEDRA","M3xKM   ",97914,221609.45,0.81,0.98018462061800737,217218.17,{"$f":"#REF!*1.2863","v":{"$error":"#REF!"}}]
[null,"4.6.5","CARGA E DESCARGA MECANICA DE SOLO/ENTULHO UTILIZANDO CAMINHAO BASCULANTE 6,0M3/16T E RETROESCAVADEIRA, CAÇAMBA RETRO CAP. 0,20 M3,PESO OPERACIONAL MÍN. 6.570 KG","M3","CAC-005",15635.5,{"$f":"'C.C.U'!L160","v":3.0724999999999998},3.7180459837639841,58133.51,{"$f":"#REF!*1.2863","v":{"$error":"#REF!"}}]
[null,"4.6.6","ESPALHAMENTO DE MATERIAL EM BOTA FORA, COM UTILIZACAO DE TRATOR DE ESTEIRAS DE 165 HP","  M3    ",100574,5003.3599999999997,0.81,0.98018462061800737,4904.22,{"$f":"#REF!*1.2863","v":{"$error":"#REF!"}}]
[null,"4.7","  CONTENCAO E PROTECAO DE MARGEM           ",null,"                  ",null,null,null,{"$f":"SUM(I52:I57)","v":1366032.34},{"$f":"SUM(J52:J57)","v":{"$error":"#REF!"}}]
[null,"4.7.1","MURO DE GABIÃO, ENCHIMENTO COM PEDRA DE MÃO TIPO RACHÃO, DE GRAVIDADE, COM GAIOLAS DE COMPRIMENTO IGUAL A 5 METROS, ALTURA DO MURO DE ATÉ 4 METROS - FORNECIMENTO E EXECUÇÃO. AF_12/2015","  M3    ","CAC-126",2184.75,{"$f":"'C.C.U'!G4028","v":349.23077333333333},{"$f":"'C.C.U'!J4028","v":422.60571983687237},{"$f":"ROUND(H52*F52,2)","v":923287.85},{"$f":"#REF!*1.2863","v":{"$error":"#REF!"}}]
[null,"4.7.2","PROTEÇÃO SUPERFICIAL DE CANAL EM GABIÃO TIPO COLCHÃO, ALTURA DE 17 CENTÍMETROS, ENCHIMENTO COM PEDRA DE MÃO TIPO RACHÃO - FORNECIMENTO E EXECUÇÃO. AF 12/2015","  M2    ",92755,1126,178.27,{"$f":"G53+G53*$I$7","v":215.72532384885452},242906.71,{"$f":"#REF!*1.2863","v":{"$error":"#REF!"}}]
[null,"4.7.3","ENROCAMENTO MANUAL, COM ARRUMACAO DO MATERIAL","  M3    ","CAC-123",231,{"$f":"G28","v":191.99566666666664},232.33481443452843,53669.34,{"$f":"#REF!*1.2863","v":{"$error":"#REF!"}}]
[null,"4.7.4","CAMADA DRENANTE COM BRITA NUM 3","  M3    ","CAC-122",119,{"$f":"G29","v":107.7299},130.36443353174798,15513.37,{"$f":"#REF!*1.2863","v":{"$error":"#REF!"}}]
[null,"4.7.5","PLANTIO DE GRAMA EM PLACAS. ","  M2    ",98504,7755,8.99,10.878839184389982,84365.4,{"$f":"#REF!*1.2863","v":{"$error":"#REF!"}}]
[null,"4.7.6","EXECUCAO DE DRENO COM MANTA GEOTEXTIL 400 G/M2","  M2    ","73881/003",3112.5,12.29,14.872183935055936,46289.67,{"$f":"#REF!*1.2863","v":{"$error":"#REF!"}}]
[null,"4.8","  DRENAGEM                                 ",null,"                  ",null,null,null,{"$f":"SUM(I59:I62)","v":60087.59},{"$f":"SUM(J59:J62)","v":{"$error":"#REF!"}}]
[null,"4.8.1","INSTALACAO E FORNECIMENTO DE CANALETA DN  300 MM  ","  M     ","CAC-112",566.5,{"$f":"G33","v":28.919},{"$f":"G59+G59*$I$7","v":34.995011165002659},{"$f":"ROUND(H59*F59,2)","v":19824.669999999998},{"$f":"#REF!*1.2863","v":{"$error":"#REF!"}}]
[null,"4.8.2","INSTALACAO E FORNECIMENTO DE TUBO PVC 200 MM  ","  M     ","CAC-113",96,{"$f":"G34","v":157.87860000000001},{"$f":"G60+G60*$I$7","v":191.04959956136065},{"$f":"ROUND(H60*F60,2)","v":18340.759999999998},{"$f":"#REF!*1.2863","v":{"$error":"#REF!"}}]
[null,"4.8.3","INSTALACAO E FORNECIMENTO DE TUBO DE PEAD CORRUGADO 100MM    ","  M     ","CAC-103",600,{"$f":"G35","v":27.350999999999999},{"$f":"G61+G61*$I$7","v":33.097567356201381},{"$f":"ROUND(H61*F61,2)","v":19858.54},{"$f":"#REF!*1.2863","v":{"$error":"#REF!"}}]
[null,"4.8.4","CAIXA DE PASSAGEM 30X30X40 COM TAMPA E DRENO BRITA","  UNID  ",83446,12,{"$f":"G36","v":142.11000000000001},{"$f":"G62+G62*$I$7","v":171.96794621731485},{"$f":"ROUND(H62*F62,2)","v":2063.62},{"$f":"#REF!*1.2863","v":{"$error":"#REF!"}}]
[{"$nulls":7},"TOTAL",{"$f":"I13+I18+I25+I32+I39+I44+I51+I58","v":3738210.9800000004},{"$f":"J13+J18+J25+J32+J39+J44+J51+J58+#REF!+#REF!+#REF!+#REF!","v":{"$error":"#REF!"}}]

{"sheet":"P12 E TRIBUTÁRIOS","index":6,"n_rows":55,"n_cols":15,"rows_kept":55,"cut":false,"hidden":false,"merged":[[4,3,4,10],[5,3,5,10],[0,4,3,10]]}
[{"$nulls":4},"MINISTÉRIO DO DESENVOLVIMENTO REGIONAL - MD\nCOMPANHIA DE DESENVOLVIMENTO DOS VALES DO SÃO FRANCISCO E DO PARNAÍBA\n5ª Superintendência Regional"]
[]
[]
[]
[null,null,null,{"$f":"'DIQUE ITIÚBA'!B5","v":"EXECUÇÃO DE OBRAS E SERVIÇOS DE RECUPERAÇÃO PARCIAL DO DIQUE DE PROTEÇÃO E RECUPERAÇÃO DOS CANAIS DE IRRIGAÇÃO DO PERÍMETRO IRRIGADO DO ITIÚBA (canal adutor leste, P12, S1P12 e S2P12) E DOS CANAIS DE IRRIGAÇÃO (CLI e CLII) DO PERÍMETRO IRRIGADO DO BOACICA."}]
[null,null,null,{"$f":"'ORÇ. GERAL'!B5","v":"Planilha de Custos do Valor do Orçamento de Referência"}]
[{"$nulls":8},{"$f":"'C.C.U'!G3","v":"BDI SERVIÇOS (%) = "},{"$f":"'C.C.U'!I3","v":0.2101044698987744}]
[{"$nulls":8},{"$f":"'C.C.U'!G4","v":"BDI FORNEC. (%)="},{"$f":"'C.C.U'!I4","v":0.13267606746237659}]
["ÍTEM MÃE","NÍVEL","SEQ.","ÍTEM","DESCRIÇÃO","UNID","CÓD. COMP.","QTDE","R$ / UNID    (S/ BDI)","R$ / UNID    (C/ BDI)","R$ Total ( C / BDI)"]
[{"$f":"IFERROR(LEFT(D10,LEN(D10)-(LEN(C10)+1)),0)","v":0},1,3,5,"RECUPERAÇÃO E ADEQUAÇÃO DO SISTEMA DE CONDUÇÃO - ITIÚBA",{"$nulls":5},{"$f":"SUMIF($A:$A,$D10,K:K)","v":0}]
[{"$f":"IFERROR(LEFT(D11,LEN(D11)-(LEN(C11)+2)),0)","v":""},2,2,"5.1","CANAL P12 e DERIVADOS"]
[{"$f":"IFERROR(LEFT(D12,LEN(D12)-(LEN(C12)+1)),0)","v":"5"},2,1,"5.1","OBRAS EM CANAL"]
[{"$f":"IFERROR(LEFT(D13,LEN(D13)-(LEN(C13)+1)),0)","v":"5.1"},3,1,{"$f":"D12&\".\"&C13","v":"5.1.1"},{"$f":"\"TRECHO TRAPEZOIDAL - RECUPERAÇÃO GEOMETRICA DA SEÇÃO SOLO-CIMENTO, MANTA DE PEAD 1 MM, TELA DE AÇO, 5 CM CONCRETO - L = \"&H15&\" m\"","v":"TRECHO TRAPEZOIDAL - RECUPERAÇÃO GEOMETRICA DA SEÇÃO SOLO-CIMENTO, MANTA DE PEAD 1 MM, TELA DE AÇO, 5 CM CONCRETO - L = 5251,72 m"},{"$nulls":5},{"$f":"K14+K16+K21+K25+K29+K33","v":2439126.4000000004},null,null,null,{"$f":"K13/5251.72","v":464.44334427578019}]
[{"$f":"IFERROR(LEFT(D14,LEN(D14)-(LEN(C14)+1)),0)","v":"5.1.1"},4,1,{"$f":"D13&\".\"&C14","v":"5.1.1.1"},"LOCAÇÃO E NIVELAMENTO COM EQUIPAMENTO TOPOGRÁFICO",{"$nulls":5},{"$f":"K15","v":12743.69}]
[{"$f":"IFERROR(LEFT(D15,LEN(D15)-(LEN(C15)+1)),0)","v":"5.1.1.1"},5,{"$f":"ROW()-ROW(C14)","v":1},{"$f":"D14&\".\"&C15","v":"5.1.1.1.1"},"LOCACAO E NIVELAMENTO DE REDE DE CANAIS COLETORES DE IRRIGAÇÃO COM AUXILIO DE EQUIPAMENTO TOPOGRAFICO ","m","CAC-002",{"$f":"IF(E11=\"GERAL - DEMAIS CANAIS\",SUMIF('M. CÁL. P12 E TRIB.'!$7:$7,\"CANAL*\",'M. CÁL. P12 E TRIB.'!$38:$38),SUMIF('M. CÁL. P12 E TRIB.'!$7:$7,E11,'M. CÁL. P12 E TRIB.'!$38:$38))","v":5251.72},{"$f":"VLOOKUP(G15,'C.C.U'!D:L,4,0)","v":2.0052599999999998},{"$f":"VLOOKUP(G15,'C.C.U'!D:L,7,0)","v":2.426574089309216},{"$f":"ROUND(J15*H15,2)","v":12743.69}]
[{"$f":"IFERROR(LEFT(D16,LEN(D16)-(LEN(C16)+1)),0)","v":"5.1.1"},4,2,{"$f":"D13&\".\"&C16","v":"5.1.1.2"},"REMOÇÃO DA ESTRUTURA (REVESTIMENTO) EXISTENTE",{"$nulls":5},{"$f":"K17+K18+K19+K20","v":110818.39}]
["5.1.1.2",5,{"$f":"ROW()-ROW(C16)","v":1},{"$f":"D16&\".\"&C17","v":"5.1.1.2.1"},"LIMPEZA MANUAL DE VEGETAÇÃO EM TERRENO COM ENXADA","m²","CAC-001",{"$f":"IF(E11=\"GERAL - DEMAIS CANAIS\",SUMIF('M. CÁL. P12 E TRIB.'!$7:$7,\"CANAL*\",'M. CÁL. P12 E TRIB.'!$39:$39),SUMIF('M. CÁL. P12 E TRIB.'!$7:$7,E11,'M. CÁL. P12 E TRIB.'!$39:$39))","v":5251.72},{"$f":"VLOOKUP(G17,'C.C.U'!D:L,4,0)","v":2.2799999999999998},{"$f":"VLOOKUP(G17,'C.C.U'!D:L,7,0)","v":2.7590381913692053},{"$f":"ROUND(J17*H17,2)","v":14489.7}]
["5.1.1.2",5,{"$f":"ROW()-ROW(C16)","v":2},{"$f":"D16&\".\"&C18","v":"5.1.1.2.2"},"DEMOLIÇÃO DE PLACAS EM CONCRETO ( MECANICAMENTE)","m³","CAC-003",{"$f":"IF(E11=\"GERAL - DEMAIS CANAIS\",SUMIF('M. CÁL. P12 E TRIB.'!$7:$7,\"Canal *\",'M. CÁL. P12 E TRIB.'!$40:$40),SUMIF('M. CÁL. P12 E TRIB.'!$7:$7,E11,'M. CÁL. P12 E TRIB.'!$40:$40))","v":1381.0242413510464},{"$f":"VLOOKUP(G18,'C.C.U'!D:L,4,0)","v":42.268500000000003},{"$f":"VLOOKUP(G18,'C.C.U'!D:L,7,0)","v":51.149300785916353},{"$f":"ROUND(J18*H18,2)","v":70638.42}]
["5.1.1.2",5,{"$f":"ROW()-ROW(C16)","v":3},{"$f":"D16&\".\"&C19","v":"5.1.1.2.3"},"CARGA E DESCARGA MECANIZADAS DE ENTULHO EM CAMINHAO BASCULANTE 6 M3 ","m³","CAC-005",{"$f":"IF(E11=\"GERAL - DEMAIS CANAIS\",SUMIF('M. CÁL. P12 E TRIB.'!$7:$7,\"Canal *\",'M. CÁL. P12 E TRIB.'!$41:$41),SUMIF('M. CÁL. P12 E TRIB.'!$7:$7,E11,'M. CÁL. P12 E TRIB.'!$41:$41))","v":1381.0242413510464},{"$f":"VLOOKUP(G19,'C.C.U'!D:L,4,0)","v":3.0724999999999998},{"$f":"VLOOKUP(G19,'C.C.U'!D:L,7,0)","v":3.7180459837639841},{"$f":"ROUND(J19*H19,2)","v":5134.71}]
["5.1.1.2",5,{"$f":"ROW()-ROW(C16)","v":4},{"$f":"D16&\".\"&C20","v":"5.1.1.2.4"},"TRANSPORTE COM CAMINHÃO BASCULANTE DE 6 M3, EM VIA URBANA EM REVESTIMENTO PRIMÁRIO","m³XKm","CAC-007",{"$f":"IF(E11=\"GERAL - DEMAIS CANAIS\",SUMIF('M. CÁL. P12 E TRIB.'!$7:$7,\"Canal *\",'M. CÁL. P12 E TRIB.'!$42:$42),SUMIF('M. CÁL. P12 E TRIB.'!$7:$7,E11,'M. CÁL. P12 E TRIB.'!$42:$42))","v":13810.242413510461},{"$f":"VLOOKUP(G20,'C.C.U'!D:L,4,0)","v":1.23},{"$f":"VLOOKUP(G20,'C.C.U'!D:L,7,0)","v":1.4884284979754925},{"$f":"ROUND(J20*H20,2)","v":20555.560000000001}]
["5.1.1",5,1,"5.1.1.3","RETIRADA SOLO IMPRÓPRIO",{"$nulls":5},{"$f":"SUM(K22:K24)","v":122132.45}]
["5.1.1.3",6,{"$f":"ROW()-ROW(C21)","v":1},{"$f":"D21&\".\"&C22","v":"5.1.1.3.1"},"ESCAVACAO MECANICA, A CEU ABERTO, EM MATERIAL DE 1A CATEGORIA, COM RETROESCAVADEIRA","m³","CAC-014",{"$f":"IF(E11=\"GERAL - DEMAIS CANAIS\",SUMIF('M. CÁL. P12 E TRIB.'!$7:$7,\"Canal *\",'M. CÁL. P12 E TRIB.'!$43:$43),SUMIF('M. CÁL. P12 E TRIB.'!$7:$7,E11,'M. CÁL. P12 E TRIB.'!$43:$43))","v":6510.542852083503},{"$f":"VLOOKUP(G22,'C.C.U'!D:L,4,0)","v":1.8631480000000002},{"$f":"VLOOKUP(G22,'C.C.U'!D:L,7,0)","v":2.2546037228829618},{"$f":"ROUND(J22*H22,2)","v":14678.69}]
["5.1.1.3",6,{"$f":"ROW()-ROW(C21)","v":2},{"$f":"D21&\".\"&C23","v":"5.1.1.3.2"},"CARGA E DESCARGA MECANICA DE SOLO UTILIZANDO CAMINHAO BASCULANTE 6,0M3","m³","CAC-006",{"$f":"IF(E11=\"GERAL - DEMAIS CANAIS\",SUMIF('M. CÁL. P12 E TRIB.'!$7:$7,\"Canal *\",'M. CÁL. P12 E TRIB.'!$44:$44),SUMIF('M. CÁL. P12 E TRIB.'!$7:$7,E11,'M. CÁL. P12 E TRIB.'!$44:$44))","v":6510.542852083503},{"$f":"'C.C.U'!$G$196","v":1.3389680000000002},{"$f":"'C.C.U'!$J$196","v":1.6202911618514224},{"$f":"ROUND(J23*H23,2)","v":10548.98}]
["5.1.1.3",6,{"$f":"ROW()-ROW(C21)","v":3},{"$f":"D21&\".\"&C24","v":"5.1.1.3.3"},"TRANSPORTE COM CAMINHÃO BASCULANTE DE 6 M3, EM VIA URBANA EM REVESTIMENTO PRIMÁRIO","m³XKm","CAC-007",{"$f":"IF(E11=\"GERAL - DEMAIS CANAIS\",SUMIF('M. CÁL. P12 E TRIB.'!$7:$7,\"Canal *\",'M. CÁL. P12 E TRIB.'!$45:$45),SUMIF('M. CÁL. P12 E TRIB.'!$7:$7,E11,'M. CÁL. P12 E TRIB.'!$45:$45))","v":65105.428520835027},{"$f":"VLOOKUP(G24,'C.C.U'!D:L,4,0)","v":1.23},{"$f":"VLOOKUP(G24,'C.C.U'!D:L,7,0)","v":1.4884284979754925},{"$f":"ROUND(J24*H24,2)","v":96904.78}]
["5.1.1",5,2,"5.1.1.4","RECOMPOSIÇÃO GEOMETRIA DO CANAL",{"$nulls":5},{"$f":"SUM(K26:K28)","v":802868.71}]
[{"$f":"IFERROR(LEFT(D26,LEN(D26)-(LEN(C26)+1)),0)","v":"5.1.1.4"},6,{"$f":"ROW()-ROW(C25)","v":1},{"$f":"D25&\".\"&C26","v":"5.1.1.4.1"},"TRANSPORTE COM CAMINHÃO BASCULANTE DE 6 M3, EM VIA URBANA EM REVESTIMENTO PRIMÁRIO","m³XKm","CAC-007",{"$f":"H28*5","v":22035.287166982962},{"$f":"VLOOKUP(G26,'C.C.U'!D:L,4,0)","v":1.23},{"$f":"VLOOKUP(G26,'C.C.U'!D:L,7,0)","v":1.4884284979754925},{"$f":"ROUND(J26*H26,2)","v":32797.949999999997}]
[{"$f":"IFERROR(LEFT(D27,LEN(D27)-(LEN(C27)+1)),0)","v":"5.1.1.4"},6,{"$f":"ROW()-ROW(C25)","v":2},{"$f":"D25&\".\"&C27","v":"5.1.1.4.2"},"PPREPARO E EXECUÇÃO DE SOLO-CIMENTO TRAÇO 1:12 EM VOLUME, (CIMENTO/ARENOSO), COM COMPACTAÇÃO E ESPALHAMENTO, PARA SUPORTE DE FUNDAÇÕES, INCLUSIVE CIMENTO E ARENOSO COMERCIAL ","m³","CAC-018",{"$f":"IF(E11=\"GERAL - DEMAIS CANAIS\",SUMIF('M. CÁL. P12 E TRIB.'!$7:$7,\"Canal *\",'M. CÁL. P12 E TRIB.'!$46:$46),SUMIF('M. CÁL. P12 E TRIB.'!$7:$7,E11,'M. CÁL. P12 E TRIB.'!$46:$46))","v":1972.8917733586377},{"$f":"VLOOKUP(G27,'C.C.U'!D:L,4,0)","v":251.19119999999998},{"$f":"VLOOKUP(G27,'C.C.U'!D:L,7,0)","v":303.967593919237},{"$f":"ROUND(J27*H27,2)","v":599695.17000000004}]
[null,null,1,{"$f":"D25&\".\"&C28","v":"5.1.1.4.1"},"ATERRO MANUAL COM MATERIAL DE EMPRÉSTIMO, COMPACTAÇÃO MECANIZADA  E REGULARIZAÇÃO DO TALUDE","m³","CAC-015",{"$f":"IF(E11=\"GERAL - DEMAIS CANAIS\",SUMIF('M. CÁL. P12 E TRIB.'!$7:$7,\"Canal *\",'M. CÁL. P12 E TRIB.'!$47:$47),SUMIF('M. CÁL. P12 E TRIB.'!$7:$7,E11,'M. CÁL. P12 E TRIB.'!$47:$47))","v":4407.0574333965924},{"$f":"VLOOKUP(G28,'C.C.U'!D:L,4,0)","v":31.947420000000001},{"$f":"VLOOKUP(G28,'C.C.U'!D:L,7,0)","v":38.659715743733507},{"$f":"ROUND(J28*H28,2)","v":170375.59}]
["5.1.1",5,3,"5.1.1.5","ASSENTAMENTE DE MANTA PEAD",{"$nulls":5},{"$f":"SUM(K30:K32)","v":703525.25000000012}]
["5.1.1.5",6,{"$f":"ROW()-ROW(C29)","v":1},{"$f":"D29&\".\"&C30","v":"5.1.1.5.1"},"ESCAVAÇÃO MANUAL DE VALAS ","m³","CAC-022",{"$f":"IF(E11=\"GERAL - DEMAIS CANAIS\",SUMIF('M. CÁL. P12 E TRIB.'!$7:$7,\"Canal *\",'M. CÁL. P12 E TRIB.'!$48:$48),SUMIF('M. CÁL. P12 E TRIB.'!$7:$7,E11,'M. CÁL. P12 E TRIB.'!$48:$48))","v":420.13760000000002},{"$f":"VLOOKUP(G30,'C.C.U'!D:L,4,0)","v":56.57},{"$f":"VLOOKUP(G30,'C.C.U'!D:L,7,0)","v":68.455609862173674},{"$f":"ROUND(J30*H30,2)","v":28760.78}]
["5.1.1.5",6,{"$f":"ROW()-ROW(C29)","v":2},{"$f":"D29&\".\"&C31","v":"5.1.1.5.2"},"FORNECIMENTO E INSTALAÇÃO DE GEOMEMBRANA TEXTURIZADA EM AMBAS AS FACES, ESP. = 1,00 MM","m²","CAC-017",{"$f":"IF(E11=\"GERAL - DEMAIS CANAIS\",SUMIF('M. CÁL. P12 E TRIB.'!$7:$7,\"Canal *\",'M. CÁL. P12 E TRIB.'!$49:$49),SUMIF('M. CÁL. P12 E TRIB.'!$7:$7,E11,'M. CÁL. P12 E TRIB.'!$49:$49))","v":23930.293733586379},{"$f":"VLOOKUP(G31,'C.C.U'!D:L,4,0)","v":22.942463600000004},{"$f":"VLOOKUP(G31,'C.C.U'!D:L,7,0)","v":27.762777752849932},{"$f":"ROUND(J31*H31,2)","v":664371.43000000005}]
["5.1.1.5",6,{"$f":"ROW()-ROW(C29)","v":3},{"$f":"D29&\".\"&C32","v":"5.1.1.5.3"},"REATERRO COM COMPACTACAO MECANIZADA DAS VALAS","m³","CAC-012",{"$f":"IF(E11=\"GERAL - DEMAIS CANAIS\",SUMIF('M. CÁL. P12 E TRIB.'!$7:$7,\"Canal *\",'M. CÁL. P12 E TRIB.'!$50:$50),SUMIF('M. CÁL. P12 E TRIB.'!$7:$7,E11,'M. CÁL. P12 E TRIB.'!$50:$50))","v":420.13760000000002},{"$f":"VLOOKUP(G32,'C.C.U'!D:L,4,0)","v":20.442219999999999},{"$f":"VLOOKUP(G32,'C.C.U'!D:L,7,0)","v":24.737221796654122},{"$f":"ROUND(J32*H32,2)","v":10393.040000000001}]
["5.1.1",5,4,"5.1.1.6","REVESTIMENTO CANAL FINAL",{"$nulls":5},{"$f":"SUM(K34:K35)","v":687037.91}]
["5.1.1.6",6,{"$f":"ROW()-ROW(C33)","v":1},{"$f":"D33&\".\"&C34","v":"5.1.1.6.1"},"ARMACAO EM TELA DE ACO SOLDADA NERVURADA Q-138, ACO CA-60, 4,2MM, MALHA 15X15 CM PARA REVESTIMENTO DO CANAL TRAPEZOIDAL","m²","CAC-028",{"$f":"IF(E11=\"GERAL - DEMAIS CANAIS\",SUMIF('M. CÁL. P12 E TRIB.'!$7:$7,\"Canal *\",'M. CÁL. P12 E TRIB.'!$51:$51),SUMIF('M. CÁL. P12 E TRIB.'!$7:$7,E11,'M. CÁL. P12 E TRIB.'!$51:$51))","v":19728.917733586371},{"$f":"VLOOKUP(G34,'C.C.U'!D:L,4,0)","v":9.1443999999999992},{"$f":"VLOOKUP(G34,'C.C.U'!D:L,7,0)","v":11.065679314542352},{"$f":"ROUND(J34*H34,2)","v":218313.88}]
["5.1.1.6",6,{"$f":"ROW()-ROW(C33)","v":2},{"$f":"D33&\".\"&C35","v":"5.1.1.6.2"},"CONCRETO FCK=20MPA PARA ESTRUTURAS, INCLUINDO PREPARO MECANICO, LANCAMENTO E ADENSAMENTO","m³","CAC-033",{"$f":"IF(E11=\"GERAL - DEMAIS CANAIS\",SUMIF('M. CÁL. P12 E TRIB.'!$7:$7,\"Canal *\",'M. CÁL. P12 E TRIB.'!$52:$52),SUMIF('M. CÁL. P12 E TRIB.'!$7:$7,E11,'M. CÁL. P12 E TRIB.'!$52:$52))","v":986.44588667931885},{"$f":"VLOOKUP(G35,'C.C.U'!D:L,4,0)","v":392.66399999999999},{"$f":"VLOOKUP(G35,'C.C.U'!D:L,7,0)","v":475.16446156833234},{"$f":"ROUND(J35*H35,2)","v":468724.03}]
["5.1",3,2,{"$f":"D12&\".\"&C36","v":"5.1.2"},{"$f":"\"RECONSTRUÇÃO DE CANAL COM A RETIRADA DE CANAL TRAPEZOIDAL EXISTENTE E EXECUÇÃO DE CANAL RETANGULAR EM CONCRETO ARMADO - L = \"&H38&\" m\"","v":"RECONSTRUÇÃO DE CANAL COM A RETIRADA DE CANAL TRAPEZOIDAL EXISTENTE E EXECUÇÃO DE CANAL RETANGULAR EM CONCRETO ARMADO - L = 1014,84 m"},{"$nulls":5},{"$f":"K37+K39+K44","v":338982.06}]
["5.1.2",4,1,{"$f":"D36&\".\"&C37","v":"5.1.2.1"},"LOCAÇÃO E NIVELAMENTO COM EQUIPAMENTO TOPOGRÁFICO",{"$nulls":5},{"$f":"SUM(K38)","v":2462.58}]
["5.1.2.1",5,{"$f":"ROW()-ROW(C37)","v":1},{"$f":"D37&\".\"&C38","v":"5.1.2.1.1"},"LOCACAO E NIVELAMENTO DE REDE DE CANAIS COLETORES DE IRRIGAÇÃO COM AUXILIO DE EQUIPAMENTO TOPOGRAFICO ","m","CAC-002",{"$f":"IF(E11=\"GERAL - DEMAIS CANAIS\",SUMIF('M. CÁL. P12 E TRIB.'!$7:$7,\"Canal *\",'M. CÁL. P12 E TRIB.'!$88:$88),SUMIF('M. CÁL. P12 E TRIB.'!$7:$7,E11,'M. CÁL. P12 E TRIB.'!$88:$88))","v":1014.8399999999999},{"$f":"VLOOKUP(G38,'C.C.U'!D:L,4,0)","v":2.0052599999999998},{"$f":"VLOOKUP(G38,'C.C.U'!D:L,7,0)","v":2.426574089309216},{"$f":"ROUND(J38*H38,2)","v":2462.58}]
["5.1.2",4,2,{"$f":"D36&\".\"&C39","v":"5.1.2.2"},"REMOÇÃO DA ESTRUTURA (REVESTIMENTO) EXISTENTE",{"$nulls":5},{"$f":"SUM(K40:K43)","v":30070.68}]
["5.1.2.2",5,{"$f":"ROW()-ROW(C39)","v":1},{"$f":"D39&\".\"&C40","v":"5.1.2.2.1"},"LIMPEZA MANUAL DE VEGETAÇÃO EM TERRENO COM ENXADA","m²","CAC-001",{"$f":"IF(E11=\"GERAL - DEMAIS CANAIS\",SUMIF('M. CÁL. P12 E TRIB.'!$7:$7,\"Canal *\",'M. CÁL. P12 E TRIB.'!$89:$89),SUMIF('M. CÁL. P12 E TRIB.'!$7:$7,E11,'M. CÁL. P12 E TRIB.'!$89:$89))","v":6089.04},{"$f":"VLOOKUP(G40,'C.C.U'!D:L,4,0)","v":2.2799999999999998},{"$f":"VLOOKUP(G40,'C.C.U'!D:L,7,0)","v":2.7590381913692053},{"$f":"ROUND(J40*H40,2)","v":16799.89}]
["5.1.2.2",5,{"$f":"ROW()-ROW(C39)","v":2},{"$f":"D39&\".\"&C41","v":"5.1.2.2.2"},"DEMOLIÇÃO DE PLACAS EM CONCRETO ( MECANICAMENTE)","m³","CAC-003",{"$f":"IF(E11=\"GERAL - DEMAIS CANAIS\",SUMIF('M. CÁL. P12 E TRIB.'!$7:$7,\"Canal *\",'M. CÁL. P12 E TRIB.'!$90:$90),SUMIF('M. CÁL. P12 E TRIB.'!$7:$7,E11,'M. CÁL. P12 E TRIB.'!$90:$90))","v":159.29487607264247},{"$f":"VLOOKUP(G41,'C.C.U'!D:L,4,0)","v":42.268500000000003},{"$f":"VLOOKUP(G41,'C.C.U'!D:L,7,0)","v":51.149300785916353},{"$f":"ROUND(J41*H41,2)","v":8147.82}]
["5.1.2.2",5,{"$f":"ROW()-ROW(C39)","v":3},{"$f":"D39&\".\"&C42","v":"5.1.2.2.3"},"CARGA E DESCARGA MECANIZADAS DE ENTULHO EM CAMINHAO BASCULANTE 6 M3 ","m³","CAC-005",{"$f":"IF(E$11=\"GERAL - DEMAIS CANAIS\",SUMIF('M. CÁL. P12 E TRIB.'!$7:$7,\"Canal *\",'M. CÁL. P12 E TRIB.'!91:91),SUMIF('M. CÁL. P12 E TRIB.'!$7:$7,E$11,'M. CÁL. P12 E TRIB.'!91:91))","v":275.39371018415324},{"$f":"VLOOKUP(G42,'C.C.U'!D:L,4,0)","v":3.0724999999999998},{"$f":"VLOOKUP(G42,'C.C.U'!D:L,7,0)","v":3.7180459837639841},{"$f":"ROUND(J42*H42,2)","v":1023.93}]
["5.1.2.2",5,{"$f":"ROW()-ROW(C39)","v":4},{"$f":"D39&\".\"&C43","v":"5.1.2.2.4"},"TRANSPORTE COM CAMINHÃO BASCULANTE DE 6 M3, EM VIA URBANA EM REVESTIMENTO PRIMÁRIO","m³XKm","CAC-007",{"$f":"IF(E$11=\"GERAL - DEMAIS CANAIS\",SUMIF('M. CÁL. P12 E TRIB.'!$7:$7,\"Canal *\",'M. CÁL. P12 E TRIB.'!92:92),SUMIF('M. CÁL. P12 E TRIB.'!$7:$7,E$11,'M. CÁL. P12 E TRIB.'!92:92))","v":2753.9371018415322},{"$f":"VLOOKUP(G43,'C.C.U'!D:L,4,0)","v":1.23},{"$f":"VLOOKUP(G43,'C.C.U'!D:L,7,0)","v":1.4884284979754925},{"$f":"ROUND(J43*H43,2)","v":4099.04}]
["5.1.2",4,3,{"$f":"D36&\".\"&C44","v":"5.1.2.3"},"EXECUÇÃO DE CANAL SEÇÃO RETANGULAR",{"$nulls":5},{"$f":"SUM(K45:K53)","v":306448.8}]
["5.1.2.3",5,{"$f":"ROW()-ROW(C44)","v":1},{"$f":"D44&\".\"&C45","v":"5.1.2.3.1"},"ESCAVAÇÃO MANUAL DE VALAS ","m³","CAC-022",{"$f":"IF(E$11=\"GERAL - DEMAIS CANAIS\",SUMIF('M. CÁL. P12 E TRIB.'!$7:$7,\"Canal *\",'M. CÁL. P12 E TRIB.'!93:93),SUMIF('M. CÁL. P12 E TRIB.'!$7:$7,E$11,'M. CÁL. P12 E TRIB.'!93:93))","v":116.0988341115108},{"$f":"VLOOKUP(G45,'C.C.U'!D:L,4,0)","v":56.57},{"$f":"VLOOKUP(G45,'C.C.U'!D:L,7,0)","v":68.455609862173674},{"$f":"ROUND(J45*H45,2)","v":7947.62}]
["5.1.2.3",5,{"$f":"ROW()-ROW(C44)","v":2},{"$f":"D44&\".\"&C46","v":"5.1.2.3.2"},"ATERRO MANUAL COM MATERIAL DE EMPRÉSTIMO, COMPACTAÇÃO MECANIZADA  E REGULARIZAÇÃO DO TALUDE","m²","CAC-015",{"$f":"IF(E$11=\"GERAL - DEMAIS CANAIS\",SUMIF('M. CÁL. P12 E TRIB.'!$7:$7,\"Canal *\",'M. CÁL. P12 E TRIB.'!94:94),SUMIF('M. CÁL. P12 E TRIB.'!$7:$7,E$11,'M. CÁL. P12 E TRIB.'!94:94))","v":175.0599},{"$f":"VLOOKUP(G46,'C.C.U'!D:L,4,0)","v":31.947420000000001},{"$f":"VLOOKUP(G46,'C.C.U'!D:L,7,0)","v":38.659715743733507},6767.77]
["5.1.2.3",5,{"$f":"ROW()-ROW(C44)","v":3},{"$f":"D44&\".\"&C47","v":"5.1.2.3.3"},"EXECUÇÃO DE LASTRO EM CONCRETO MAGRO (1:4,5:4,5), PREPARO MEC., LANÇAMENTO E APLICAÇÃO MANUAL","m³","CAC-020",{"$f":"IF(E$11=\"GERAL - DEMAIS CANAIS\",SUMIF('M. CÁL. P12 E TRIB.'!$7:$7,\"Canal *\",'M. CÁL. P12 E TRIB.'!95:95),SUMIF('M. CÁL. P12 E TRIB.'!$7:$7,E$11,'M. CÁL. P12 E TRIB.'!95:95))","v":35.011980000000001},{"$f":"VLOOKUP(G47,'C.C.U'!D:L,4,0)","v":336.57400000000001},{"$f":"VLOOKUP(G47,'C.C.U'!D:L,7,0)","v":407.28970185171011},14260.02]
["5.1.2.3",5,{"$f":"ROW()-ROW(C44)","v":4},{"$f":"D44&\".\"&C48","v":"5.1.2.3.4"},"FORMA PLANA METALICA PARA MURETA, UTILIZAÇÃO 20X - CANAL RETANGULAR","m²","CAC-021",{"$f":"IF(E$11=\"GERAL - DEMAIS CANAIS\",SUMIF('M. CÁL. P12 E TRIB.'!$7:$7,\"Canal *\",'M. CÁL. P12 E TRIB.'!96:96),SUMIF('M. CÁL. P12 E TRIB.'!$7:$7,E$11,'M. CÁL. P12 E TRIB.'!96:96))","v":2467.3887999999997},{"$f":"VLOOKUP(G48,'C.C.U'!D:L,4,0)","v":5.6880799999999994},{"$f":"VLOOKUP(G48,'C.C.U'!D:L,7,0)","v":6.8831710331418199},16983.46]
["5.1.2.3",5,{"$f":"ROW()-ROW(C44)","v":5},{"$f":"D44&\".\"&C49","v":"5.1.2.3.5"},"JUNTA DE DILATAÇÃO EM MASTIQUE ELÁSTICO","m","CAC-026",{"$f":"IF(E$11=\"GERAL - DEMAIS CANAIS\",SUMIF('M. CÁL. P12 E TRIB.'!$7:$7,\"Canal *\",'M. CÁL. P12 E TRIB.'!97:97),SUMIF('M. CÁL. P12 E TRIB.'!$7:$7,E$11,'M. CÁL. P12 E TRIB.'!97:97))","v":132.40736666666663},{"$f":"VLOOKUP(G49,'C.C.U'!D:L,4,0)","v":22.577500000000001},{"$f":"VLOOKUP(G49,'C.C.U'!D:L,7,0)","v":27.321133669139581},3617.52]
["5.1.2.3",5,{"$f":"ROW()-ROW(C44)","v":6},{"$f":"D44&\".\"&C50","v":"5.1.2.3.6"},"ARMAÇÃO DE AÇO CA-60 COM FORNECIMENTO / CORTE (C/ PERDA DE 10%) / DOBRA / COLOCAÇÃO","KG","CAC-019",{"$f":"IF(E$11=\"GERAL - DEMAIS CANAIS\",SUMIF('M. CÁL. P12 E TRIB.'!$7:$7,\"Canal *\",'M. CÁL. P12 E TRIB.'!98:98),SUMIF('M. CÁL. P12 E TRIB.'!$7:$7,E$11,'M. CÁL. P12 E TRIB.'!98:98))","v":11824.602388363635},{"$f":"VLOOKUP(G50,'C.C.U'!D:L,4,0)","v":10.747},{"$f":"VLOOKUP(G50,'C.C.U'!D:L,7,0)","v":13.004992738002128},153778.87]
["5.1.2.3",5,{"$f":"ROW()-ROW(C44)","v":7},{"$f":"D44&\".\"&C51","v":"5.1.2.3.7"},"CONCRETO FCK=20MPA PARA ESTRUTURAS, INCLUINDO PREPARO MECANICO, LANCAMENTO E ADENSAMENTO","m³","CAC-033",{"$f":"IF(E$11=\"GERAL - DEMAIS CANAIS\",SUMIF('M. CÁL. P12 E TRIB.'!$7:$7,\"Canal *\",'M. CÁL. P12 E TRIB.'!99:99),SUMIF('M. CÁL. P12 E TRIB.'!$7:$7,E$11,'M. CÁL. P12 E TRIB.'!99:99))","v":197.07670647272727},{"$f":"VLOOKUP(G51,'C.C.U'!D:L,4,0)","v":392.66399999999999},{"$f":"VLOOKUP(G51,'C.C.U'!D:L,7,0)","v":475.16446156833234},93643.85]
["5.1.2.3",5,{"$f":"ROW()-ROW(C44)","v":8},{"$f":"D44&\".\"&C52","v":"5.1.2.3.8"},"TRELIÇA DE SUSTENTAÇÃO VERTICAL COM ESPAÇAMENTO 5,50 M","m","CAC-023",{"$f":"IF(E$11=\"GERAL - DEMAIS CANAIS\",SUMIF('M. CÁL. P12 E TRIB.'!$7:$7,\"Canal *\",'M. CÁL. P12 E TRIB.'!100:100),SUMIF('M. CÁL. P12 E TRIB.'!$7:$7,E$11,'M. CÁL. P12 E TRIB.'!100:100))","v":261.21134545454544},{"$f":"VLOOKUP(G52,'C.C.U'!D:L,4,0)","v":5.8174999999999999},{"$f":"VLOOKUP(G52,'C.C.U'!D:L,7,0)","v":7.0397827536361195},1838.87]
["5.1.2.3",5,{"$f":"ROW()-ROW(C44)","v":9},{"$f":"D44&\".\"&C53","v":"5.1.2.3.9"},"REATERRO COM COMPACTACAO MECANIZADA DAS VALAS","m³","CAC-012",{"$f":"IF(E$11=\"GERAL - DEMAIS CANAIS\",SUMIF('M. CÁL. P12 E TRIB.'!$7:$7,\"Canal *\",'M. CÁL. P12 E TRIB.'!101:101),SUMIF('M. CÁL. P12 E TRIB.'!$7:$7,E$11,'M. CÁL. P12 E TRIB.'!101:101))","v":307.6667466115108},{"$f":"VLOOKUP(G53,'C.C.U'!D:L,4,0)","v":20.442219999999999},{"$f":"VLOOKUP(G53,'C.C.U'!D:L,7,0)","v":24.737221796654122},7610.82]
[null,3,3,"3.2","GERAL"]
[{"$nulls":9},"TOTAL",{"$f":"K36+K13","v":2778108.4600000004}]

{"sheet":"CANAIS BOACICA","index":7,"n_rows":159,"n_cols":11,"rows_kept":159,"cut":false,"hidden":false,"merged":[[0,4,3,9],[4,3,4,10],[5,3,5,10]]}
[{"$nulls":4},"MINISTÉRIO DO DESENVOLVIMENTO REGIONAL - MD\nCOMPANHIA DE DESENVOLVIMENTO DOS VALES DO SÃO FRANCISCO E DO PARNAÍBA\n5ª Superintendência Regional"]
[]
[]
[]
[null,null,null,"ELABORAÇÃO DOS PROJETOS BÁSICOS PARA RECUPERAÇÃO E ADEQUAÇÃO DAS REDES DE IRRIGAÇÃO, DRENAGEM, VIÁRIA E DE PROTEÇÃO INTERNA DOS PERÍMETROS IRRIGADOS DE BOACICA E ITIÚBA, LOCALIZADOS, RESPECTIVAMENTE, NOS MUNICÍPIOS DE PENEDO/IGREJA NOVA E PORTO REAL DO COLÉGIO, NO ESTADO DE ALAGOAS."]
[null,null,null,"ORÇAMENTO - OBRAS DE RECUPERAÇÃO DO SISTEMA DE CONDUÇÃO PERÍMETRO IRRIGADO DO BOACICA"]
["ÍTEM MÃE","NÍVEL","SEQ.","ÍTEM","DESCRIÇÃO","UNID","CÓD. COMP.","QTDE","R$ / UNID   \n (s/ BDI)","R$ Total \n(C/BDI)","R$ Total (c/BDI)"]
[{"$f":"IFERROR(LEFT(D8,LEN(D8)-(LEN(C8)+1)),0)","v":0},1,3,6,"RECUPERAÇÃO E ADEQUAÇÃO DO SISTEMA DE CONDUÇÃO"]
[{"$f":"IFERROR(LEFT(D9,LEN(D9)-(LEN(C9)+1)),0)","v":"6"},2,{"$f":"RIGHT(D9,LEN(D9)-SEARCH(\".\",D9,1))","v":"1"},"6.1","CANAL CLI"]
[{"$f":"IFERROR(LEFT(D10,LEN(D10)-(LEN(C10)+1)),0)","v":"6.1"},3,1,{"$f":"D9&\".\"&C10","v":"6.1.1"},"OBRAS EM CANAL"]
[{"$f":"IFERROR(LEFT(D11,LEN(D11)-(LEN(C11)+1)),0)","v":"6.1.1"},4,1,{"$f":"D10&\".\"&C11","v":"6.1.1.1"},{"$f":"\"TRECHO TRAPEZOIDAL - RECUPERAÇÃO GEOMETRICA DA SEÇÃO COM SOLO-CIMENTO, MANTA DE PEAD 1 MM, TELA DE AÇO, 5 CM CONCRETO - L = \"&H13&\" m\"","v":"TRECHO TRAPEZOIDAL - RECUPERAÇÃO GEOMETRICA DA SEÇÃO COM SOLO-CIMENTO, MANTA DE PEAD 1 MM, TELA DE AÇO, 5 CM CONCRETO - L = 940 m"},{"$nulls":5},{"$f":"K12+K14+K19+K23+K27+K31","v":1046949.2999999999}]
["6.1.1.1",5,1,{"$f":"D11&\".\"&C12","v":"6.1.1.1.1"},"LOCAÇÃO E NIVELAMENTO COM EQUIPAMENTO TOPOGRÁFICO",{"$nulls":5},{"$f":"K13","v":2280.98}]
[{"$f":"IFERROR(LEFT(D13,LEN(D13)-(LEN(C13)+1)),0)","v":"6.1.1.1.1"},6,{"$f":"ROW()-ROW(C12)","v":1},{"$f":"D12&\".\"&C13","v":"6.1.1.1.1.1"},"LOCACAO E NIVELAMENTO DE REDE DE CANAIS COLETORES DE IRRIGAÇÃO COM AUXILIO DE EQUIPAMENTO TOPOGRAFICO ","m","CAC-002",{"$f":"IF($E$9=\"GERAL\",SUMIF('M. CÁL. CANAIS BOACICA'!$1:$1,\"Canal C*\",'M. CÁL. CANAIS BOACICA'!$33:$33),SUMIF('M. CÁL. CANAIS BOACICA'!$1:$1,$E$9,'M. CÁL. CANAIS BOACICA'!$33:$33))","v":940},{"$f":"VLOOKUP(G13,'C.C.U'!D:L,4,0)","v":2.0052599999999998},{"$f":"VLOOKUP(G13,'C.C.U'!D:L,7,0)","v":2.426574089309216},{"$f":"ROUND(J13*H13,2)","v":2280.98}]
["6.1.1.1",5,2,{"$f":"D11&\".\"&C14","v":"6.1.1.1.2"},"REMOÇÃO DA ESTRUTURA (REVESTIMENTO) EXISTENTE",{"$nulls":5},{"$f":"K15+K16+K17+K18","v":45070.48}]
["6.1.1.1.2",6,{"$f":"ROW()-ROW(C14)","v":1},{"$f":"D14&\".\"&C15","v":"6.1.1.1.2.1"},"LIMPEZA MANUAL DE VEGETAÇÃO EM TERRENO COM ENXADA","m²","CAC-001",{"$f":"IF($E$9=\"GERAL\",SUMIF('M. CÁL. CANAIS BOACICA'!$1:$1,\"Canal C*\",'M. CÁL. CANAIS BOACICA'!$34:$34),SUMIF('M. CÁL. CANAIS BOACICA'!$1:$1,$E$9,'M. CÁL. CANAIS BOACICA'!$34:$34))","v":940},{"$f":"VLOOKUP(G15,'C.C.U'!D:L,4,0)","v":2.2799999999999998},{"$f":"VLOOKUP(G15,'C.C.U'!D:L,7,0)","v":2.7590381913692053},{"$f":"ROUND(J15*H15,2)","v":2593.5}]
["6.1.1.1.2",6,{"$f":"ROW()-ROW(C14)","v":2},{"$f":"D14&\".\"&C16","v":"6.1.1.1.2.2"},"DEMOLIÇÃO DE PLACAS EM CONCRETO ( MECANICAMENTE)","m³","CAC-003",{"$f":"IF($E$9=\"GERAL\",SUMIF('M. CÁL. CANAIS BOACICA'!$1:$1,\"Canal C*\",'M. CÁL. CANAIS BOACICA'!35:35),SUMIF('M. CÁL. CANAIS BOACICA'!$1:$1,$E$9,'M. CÁL. CANAIS BOACICA'!35:35))","v":608.9746514549114},{"$f":"VLOOKUP(G16,'C.C.U'!D:L,4,0)","v":42.268500000000003},{"$f":"VLOOKUP(G16,'C.C.U'!D:L,7,0)","v":51.149300785916353},{"$f":"ROUND(J16*H16,2)","v":31148.63}]
["6.1.1.1.2",6,{"$f":"ROW()-ROW(C14)","v":3},{"$f":"D14&\".\"&C17","v":"6.1.1.1.2.3"},"CARGA E DESCARGA MECANIZADAS DE ENTULHO EM CAMINHAO BASCULANTE 6 M3","m³","CAC-005",{"$f":"IF($E$9=\"GERAL\",SUMIF('M. CÁL. CANAIS BOACICA'!$1:$1,\"Canal C*\",'M. CÁL. CANAIS BOACICA'!36:36),SUMIF('M. CÁL. CANAIS BOACICA'!$1:$1,$E$9,'M. CÁL. CANAIS BOACICA'!36:36))","v":608.9746514549114},{"$f":"VLOOKUP(G17,'C.C.U'!D:L,4,0)","v":3.0724999999999998},{"$f":"VLOOKUP(G17,'C.C.U'!D:L,7,0)","v":3.7180459837639841},{"$f":"ROUND(J17*H17,2)","v":2264.1999999999998}]
["6.1.1.1.2",6,{"$f":"ROW()-ROW(C14)","v":4},{"$f":"D14&\".\"&C18","v":"6.1.1.1.2.4"},"TRANSPORTE COM CAMINHÃO BASCULANTE DE 6 M3, EM VIA URBANA EM REVESTIMENTO PRIMÁRIO","m³XKm","CAC-007",{"$f":"IF($E$9=\"GERAL\",SUMIF('M. CÁL. CANAIS BOACICA'!$1:$1,\"Canal C*\",'M. CÁL. CANAIS BOACICA'!37:37),SUMIF('M. CÁL. CANAIS BOACICA'!$1:$1,$E$9,'M. CÁL. CANAIS BOACICA'!37:37))","v":6089.7465145491142},{"$f":"VLOOKUP(G18,'C.C.U'!D:L,4,0)","v":1.23},{"$f":"VLOOKUP(G18,'C.C.U'!D:L,7,0)","v":1.4884284979754925},{"$f":"ROUND(J18*H18,2)","v":9064.15}]
["6.1.1.1",6,3,{"$f":"D11&\".\"&C19","v":"6.1.1.1.3"},"RETIRADA SOLO IMPRÓPRIO",{"$nulls":5},{"$f":"SUM(K20:K22)","v":53855.360000000001}]
["6.1.1.1.3",7,{"$f":"ROW()-ROW(C19)","v":1},{"$f":"D19&\".\"&C20","v":"6.1.1.1.3.1"},"ESCAVACAO MECANICA, A CEU ABERTO, EM MATERIAL DE 1A CATEGORIA, COM RETROESCAVADEIRA","m³","CAC-014",{"$f":"IF($E$9=\"GERAL\",SUMIF('M. CÁL. CANAIS BOACICA'!$1:$1,\"Canal C*\",'M. CÁL. CANAIS BOACICA'!38:38),SUMIF('M. CÁL. CANAIS BOACICA'!$1:$1,$E$9,'M. CÁL. CANAIS BOACICA'!38:38))","v":2870.8804997160105},{"$f":"VLOOKUP(G20,'C.C.U'!D:L,4,0)","v":1.8631480000000002},{"$f":"VLOOKUP(G20,'C.C.U'!D:L,7,0)","v":2.2546037228829618},{"$f":"ROUND(J20*H20,2)","v":6472.7}]
["6.1.1.1.3",7,{"$f":"ROW()-ROW(C19)","v":2},{"$f":"D19&\".\"&C21","v":"6.1.1.1.3.2"},"CARGA E DESCARGA MECANICA DE SOLO UTILIZANDO CAMINHAO BASCULANTE 6,0M3","m³","CAC-006",{"$f":"IF($E$9=\"GERAL\",SUMIF('M. CÁL. CANAIS BOACICA'!$1:$1,\"Canal C*\",'M. CÁL. CANAIS BOACICA'!39:39),SUMIF('M. CÁL. CANAIS BOACICA'!$1:$1,$E$9,'M. CÁL. CANAIS BOACICA'!39:39))","v":2870.8804997160105},{"$f":"'C.C.U'!$G$196","v":1.3389680000000002},{"$f":"'C.C.U'!$J$196","v":1.6202911618514224},{"$f":"ROUND(J21*H21,2)","v":4651.66}]
["6.1.1.1.3",7,{"$f":"ROW()-ROW(C19)","v":3},{"$f":"D19&\".\"&C22","v":"6.1.1.1.3.3"},"TRANSPORTE COM CAMINHÃO BASCULANTE DE 6 M3, EM VIA URBANA EM REVESTIMENTO PRIMÁRIO","m³XKm","CAC-007",{"$f":"IF($E$9=\"GERAL\",SUMIF('M. CÁL. CANAIS BOACICA'!$1:$1,\"Canal C*\",'M. CÁL. CANAIS BOACICA'!40:40),SUMIF('M. CÁL. CANAIS BOACICA'!$1:$1,$E$9,'M. CÁL. CANAIS BOACICA'!40:40))","v":28708.804997160103},{"$f":"VLOOKUP(G22,'C.C.U'!D:L,4,0)","v":1.23},{"$f":"VLOOKUP(G22,'C.C.U'!D:L,7,0)","v":1.4884284979754925},{"$f":"ROUND(J22*H22,2)","v":42731}]
["6.1.1.1",6,4,{"$f":"$D$11&\".\"&C23","v":"6.1.1.1.4"},"RECOMPOSIÇÃO GEOMETRIA DO CANAL",{"$nulls":5},{"$f":"SUM(K24:K26)","v":373375.31999999995}]
["6.1.1.1.4",7,{"$f":"ROW()-ROW(C23)","v":1},{"$f":"D23&\".\"&C24","v":"6.1.1.1.4.1"},"TRANSPORTE COM CAMINHÃO BASCULANTE DE 6 M3, EM VIA URBANA EM REVESTIMENTO PRIMÁRIO","m³XKm","CAC-007",{"$f":"H26*5","v":11814.547347409127},{"$f":"VLOOKUP(G24,'C.C.U'!D:L,4,0)","v":1.23},{"$f":"VLOOKUP(G24,'C.C.U'!D:L,7,0)","v":1.4884284979754925},{"$f":"ROUND(J24*H24,2)","v":17585.11}]
[{"$f":"IFERROR(LEFT(D25,LEN(D25)-(LEN(C25)+1)),0)","v":"6.1.1.1.4"},7,{"$f":"ROW()-ROW(C23)","v":2},{"$f":"D23&\".\"&C25","v":"6.1.1.1.4.2"},"PPREPARO E EXECUÇÃO DE SOLO-CIMENTO TRAÇO 1:12 EM VOLUME, (CIMENTO/ARENOSO), COM COMPACTAÇÃO E ESPALHAMENTO, PARA SUPORTE DE FUNDAÇÕES, INCLUSIVE CIMENTO E ARENOSO COMERCIAL ","m³","CAC-018",{"$f":"IF($E$9=\"GERAL\",SUMIF('M. CÁL. CANAIS BOACICA'!$1:$1,\"Canal C*\",'M. CÁL. CANAIS BOACICA'!41:41),SUMIF('M. CÁL. CANAIS BOACICA'!$1:$1,$E$9,'M. CÁL. CANAIS BOACICA'!41:41))","v":869.9637877927305},{"$f":"VLOOKUP(G25,'C.C.U'!D:L,4,0)","v":251.19119999999998},{"$f":"VLOOKUP(G25,'C.C.U'!D:L,7,0)","v":303.967593919237},{"$f":"ROUND(J25*H25,2)","v":264440.8}]
[null,null,5,{"$f":"D23&\".\"&C26","v":"6.1.1.1.4.5"},"ATERRO MANUAL COM MATERIAL DE EMPRÉSTIMO, COMPACTAÇÃO MECANIZADA  E REGULARIZAÇÃO DO TALUDE","m²","CAC-015",{"$f":"IF($E$9=\"GERAL\",SUMIF('M. CÁL. CANAIS BOACICA'!$1:$1,\"Canal C*\",'M. CÁL. CANAIS BOACICA'!42:42),SUMIF('M. CÁL. CANAIS BOACICA'!$1:$1,$E$9,'M. CÁL. CANAIS BOACICA'!42:42))","v":2362.9094694818255},{"$f":"VLOOKUP(G26,'C.C.U'!D:L,4,0)","v":31.947420000000001},{"$f":"VLOOKUP(G26,'C.C.U'!D:L,7,0)","v":38.659715743733507},{"$f":"ROUND(J26*H26,2)","v":91349.41}]
["6.1.1.1",6,5,{"$f":"$D$11&\".\"&C27","v":"6.1.1.1.5"},"ASSENTAMENTE DE MANTA PEAD",{"$nulls":5},{"$f":"SUM(K28:K30)","v":269411.81999999995}]
["6.1.1.1.5",7,{"$f":"ROW()-ROW(C27)","v":1},{"$f":"D27&\".\"&C28","v":"6.1.1.1.5.1"},"ESCAVAÇÃO MANUAL DE VALAS ","m³","CAC-022",{"$f":"IF($E$9=\"GERAL\",SUMIF('M. CÁL. CANAIS BOACICA'!$1:$1,\"Canal C*\",'M. CÁL. CANAIS BOACICA'!43:43),SUMIF('M. CÁL. CANAIS BOACICA'!$1:$1,$E$9,'M. CÁL. CANAIS BOACICA'!43:43))","v":75.200000000000017},{"$f":"VLOOKUP(G28,'C.C.U'!D:L,4,0)","v":56.57},{"$f":"VLOOKUP(G28,'C.C.U'!D:L,7,0)","v":68.455609862173674},{"$f":"ROUND(J28*H28,2)","v":5147.8599999999997}]
["6.1.1.1.5",7,{"$f":"ROW()-ROW(C27)","v":2},{"$f":"D27&\".\"&C29","v":"6.1.1.1.5.2"},"FORNECIMENTO E INSTALAÇÃO DE GEOMEMBRANA TEXTURIZADA EM AMBAS AS FACES, ESP. = 1,00 MM","m²","CAC-017",{"$f":"IF($E$9=\"GERAL\",SUMIF('M. CÁL. CANAIS BOACICA'!$1:$1,\"Canal C*\",'M. CÁL. CANAIS BOACICA'!44:44),SUMIF('M. CÁL. CANAIS BOACICA'!$1:$1,$E$9,'M. CÁL. CANAIS BOACICA'!44:44))","v":9451.6378779273018},{"$f":"VLOOKUP(G29,'C.C.U'!D:L,4,0)","v":22.942463600000004},{"$f":"VLOOKUP(G29,'C.C.U'!D:L,7,0)","v":27.762777752849932},{"$f":"ROUND(J29*H29,2)","v":262403.71999999997}]
["6.1.1.1.5",7,{"$f":"ROW()-ROW(C27)","v":3},{"$f":"D27&\".\"&C30","v":"6.1.1.1.5.3"},"REATERRO COM COMPACTACAO MECANIZADA DAS VALAS","m³","CAC-012",{"$f":"IF($E$9=\"GERAL\",SUMIF('M. CÁL. CANAIS BOACICA'!$1:$1,\"Canal C*\",'M. CÁL. CANAIS BOACICA'!45:45),SUMIF('M. CÁL. CANAIS BOACICA'!$1:$1,$E$9,'M. CÁL. CANAIS BOACICA'!45:45))","v":75.200000000000017},{"$f":"VLOOKUP(G30,'C.C.U'!D:L,4,0)","v":20.442219999999999},{"$f":"VLOOKUP(G30,'C.C.U'!D:L,7,0)","v":24.737221796654122},{"$f":"ROUND(J30*H30,2)","v":1860.24}]
["6.1.1.1",6,6,{"$f":"$D$11&\".\"&C31","v":"6.1.1.1.6"},"REVESTIMENTO CANAL FINAL",{"$nulls":5},{"$f":"SUM(K32:K33)","v":302955.33999999997}]
["6.1.1.1.6",7,{"$f":"ROW()-ROW(C31)","v":1},{"$f":"D31&\".\"&C32","v":"6.1.1.1.6.1"},"ARMACAO EM TELA DE ACO SOLDADA NERVURADA Q-138, ACO CA-60, 4,2MM, MALHA 15X15 CM PARA REVESTIMENTO DO CANAL TRAPEZOIDAL","m²","CAC-028",{"$f":"IF($E$9=\"GERAL\",SUMIF('M. CÁL. CANAIS BOACICA'!$1:$1,\"Canal C*\",'M. CÁL. CANAIS BOACICA'!46:46),SUMIF('M. CÁL. CANAIS BOACICA'!$1:$1,$E$9,'M. CÁL. CANAIS BOACICA'!46:46))","v":8699.6378779273036},{"$f":"VLOOKUP(G32,'C.C.U'!D:L,4,0)","v":9.1443999999999992},{"$f":"VLOOKUP(G32,'C.C.U'!D:L,7,0)","v":11.065679314542352},{"$f":"ROUND(J32*H32,2)","v":96267.4}]
["6.1.1.1.6",7,{"$f":"ROW()-ROW(C31)","v":2},{"$f":"D31&\".\"&C33","v":"6.1.1.1.6.2"},"CONCRETO FCK=20MPA PARA ESTRUTURAS, INCLUINDO PREPARO MECANICO, LANCAMENTO E ADENSAMENTO","m³","CAC-033",{"$f":"IF($E$9=\"GERAL\",SUMIF('M. CÁL. CANAIS BOACICA'!$1:$1,\"Canal C*\",'M. CÁL. CANAIS BOACICA'!47:47),SUMIF('M. CÁL. CANAIS BOACICA'!$1:$1,$E$9,'M. CÁL. CANAIS BOACICA'!47:47))","v":434.98189389636525},{"$f":"VLOOKUP(G33,'C.C.U'!D:L,4,0)","v":392.66399999999999},{"$f":"VLOOKUP(G33,'C.C.U'!D:L,7,0)","v":475.16446156833234},{"$f":"ROUND(J33*H33,2)","v":206687.94}]
[{"$f":"IFERROR(LEFT(D34,LEN(D34)-(LEN(C34)+1)),0)","v":"6"},2,{"$f":"RIGHT(D34,LEN(D34)-SEARCH(\".\",D34,1))","v":"2"},"6.2","CANAL CLI-1 e DERIVADOS"]
[{"$f":"IFERROR(LEFT(D35,LEN(D35)-(LEN(C35)+1)),0)","v":"6.2"},3,1,{"$f":"D34&\".\"&C35","v":"6.2.1"},"OBRAS EM CANAL"]
[{"$f":"IFERROR(LEFT(D36,LEN(D36)-(LEN(C36)+1)),0)","v":"6.2.1"},4,1,{"$f":"D35&\".\"&C36","v":"6.2.1.1"},{"$f":"\"TRECHO TRAPEZOIDAL - RECUPERAÇÃO GEOMETRICA DA SEÇÃO COM SOLO-CIMENTO, MANTA DE PEAD 1 MM, TELA DE AÇO, 5 CM CONCRETO - L = \"&H38&\" m\"","v":"TRECHO TRAPEZOIDAL - RECUPERAÇÃO GEOMETRICA DA SEÇÃO COM SOLO-CIMENTO, MANTA DE PEAD 1 MM, TELA DE AÇO, 5 CM CONCRETO - L = 1094,29 m"},{"$nulls":5},{"$f":"K37+K39+K44+K48+K52+K56","v":538268.1}]
[{"$f":"IFERROR(LEFT(D37,LEN(D37)-(LEN(C37)+1)),0)","v":"6.2.1.1"},5,1,{"$f":"D36&\".\"&C37","v":"6.2.1.1.1"},"LOCAÇÃO E NIVELAMENTO COM EQUIPAMENTO TOPOGRÁFICO",{"$nulls":5},{"$f":"K38","v":2655.38}]
[{"$f":"IFERROR(LEFT(D38,LEN(D38)-(LEN(C38)+1)),0)","v":"6.2.1.1.1"},6,{"$f":"ROW()-ROW(C37)","v":1},{"$f":"D37&\".\"&C38","v":"6.2.1.1.1.1"},"LOCACAO E NIVELAMENTO DE REDE DE CANAIS COLETORES DE IRRIGAÇÃO COM AUXILIO DE EQUIPAMENTO TOPOGRAFICO ","m","CAC-002",{"$f":"IF($E$34=\"GERAL\",SUMIF('M. CÁL. CANAIS BOACICA'!$1:$1,\"Canal C*\",'M. CÁL. CANAIS BOACICA'!$33:$33),SUMIF('M. CÁL. CANAIS BOACICA'!$1:$1,$E$34,'M. CÁL. CANAIS BOACICA'!$33:$33))","v":1094.29},{"$f":"VLOOKUP(G38,'C.C.U'!D:L,4,0)","v":2.0052599999999998},{"$f":"VLOOKUP(G38,'C.C.U'!D:L,7,0)","v":2.426574089309216},{"$f":"ROUND(J38*H38,2)","v":2655.38}]
[{"$f":"IFERROR(LEFT(D39,LEN(D39)-(LEN(C39)+1)),0)","v":"6.2.1.1"},5,2,{"$f":"D36&\".\"&C39","v":"6.2.1.1.2"},"REMOÇÃO DA ESTRUTURA (REVESTIMENTO) EXISTENTE",{"$nulls":5},{"$f":"K40+K41+K42+K43","v":23720.34}]
["6.2.1.1.2",6,{"$f":"ROW()-ROW(C39)","v":1},{"$f":"D39&\".\"&C40","v":"6.2.1.1.2.1"},"LIMPEZA MANUAL DE VEGETAÇÃO EM TERRENO COM ENXADA","m²","CAC-001",{"$f":"IF($E$34=\"GERAL\",SUMIF('M. CÁL. CANAIS BOACICA'!$1:$1,\"Canal C*\",'M. CÁL. CANAIS BOACICA'!34:34),SUMIF('M. CÁL. CANAIS BOACICA'!$1:$1,$E$34,'M. CÁL. CANAIS BOACICA'!34:34))","v":1094.29},{"$f":"VLOOKUP(G40,'C.C.U'!D:L,4,0)","v":2.2799999999999998},{"$f":"VLOOKUP(G40,'C.C.U'!D:L,7,0)","v":2.7590381913692053},{"$f":"ROUND(J40*H40,2)","v":3019.19}]
["6.2.1.1.2",6,{"$f":"ROW()-ROW(C39)","v":2},{"$f":"D39&\".\"&C41","v":"6.2.1.1.2.2"},"DEMOLIÇÃO DE PLACAS EM CONCRETO ( MECANICAMENTE)","m³","CAC-003",{"$f":"IF($E$34=\"GERAL\",SUMIF('M. CÁL. CANAIS BOACICA'!$1:$1,\"Canal C*\",'M. CÁL. CANAIS BOACICA'!35:35),SUMIF('M. CÁL. CANAIS BOACICA'!$1:$1,$E$34,'M. CÁL. CANAIS BOACICA'!35:35))","v":296.78367624614327},{"$f":"VLOOKUP(G41,'C.C.U'!D:L,4,0)","v":42.268500000000003},{"$f":"VLOOKUP(G41,'C.C.U'!D:L,7,0)","v":51.149300785916353},{"$f":"ROUND(J41*H41,2)","v":15180.28}]
["6.2.1.1.2",6,{"$f":"ROW()-ROW(C39)","v":3},{"$f":"D39&\".\"&C42","v":"6.2.1.1.2.3"},"CARGA E DESCARGA MECANIZADAS DE ENTULHO EM CAMINHAO BASCULANTE 6 M3","m³","CAC-005",{"$f":"IF($E$34=\"GERAL\",SUMIF('M. CÁL. CANAIS BOACICA'!$1:$1,\"Canal C*\",'M. CÁL. CANAIS BOACICA'!36:36),SUMIF('M. CÁL. CANAIS BOACICA'!$1:$1,$E$34,'M. CÁL. CANAIS BOACICA'!36:36))","v":296.78367624614327},{"$f":"VLOOKUP(G42,'C.C.U'!D:L,4,0)","v":3.0724999999999998},{"$f":"VLOOKUP(G42,'C.C.U'!D:L,7,0)","v":3.7180459837639841},{"$f":"ROUND(J42*H42,2)","v":1103.46}]
["6.2.1.1.2",6,{"$f":"ROW()-ROW(C39)","v":4},{"$f":"D39&\".\"&C43","v":"6.2.1.1.2.4"},"TRANSPORTE COM CAMINHÃO BASCULANTE DE 6 M3, EM VIA URBANA EM REVESTIMENTO PRIMÁRIO","m³XKm","CAC-007",{"$f":"IF($E$34=\"GERAL\",SUMIF('M. CÁL. CANAIS BOACICA'!$1:$1,\"Canal C*\",'M. CÁL. CANAIS BOACICA'!37:37),SUMIF('M. CÁL. CANAIS BOACICA'!$1:$1,$E$34,'M. CÁL. CANAIS BOACICA'!37:37))","v":2967.836762461433},{"$f":"VLOOKUP(G43,'C.C.U'!D:L,4,0)","v":1.23},{"$f":"VLOOKUP(G43,'C.C.U'!D:L,7,0)","v":1.4884284979754925},{"$f":"ROUND(J43*H43,2)","v":4417.41}]
["6.2.1",6,3,{"$f":"$D$35&\".\"&C44","v":"6.2.1.3"},"RETIRADA SOLO IMPRÓPRIO",{"$nulls":5},{"$f":"SUM(K45:K47)","v":26246.41}]
["6.2.1.3",7,{"$f":"ROW()-ROW(C44)","v":1},{"$f":"D44&\".\"&C45","v":"6.2.1.3.1"},"ESCAVACAO MECANICA, A CEU ABERTO, EM MATERIAL DE 1A CATEGORIA, COM RETROESCAVADEIRA","m³","CAC-014",{"$f":"IF($E$34=\"GERAL\",SUMIF('M. CÁL. CANAIS BOACICA'!$1:$1,\"Canal C*\",'M. CÁL. CANAIS BOACICA'!38:38),SUMIF('M. CÁL. CANAIS BOACICA'!$1:$1,$E$34,'M. CÁL. CANAIS BOACICA'!38:38))","v":1399.1230451603897},{"$f":"VLOOKUP(G45,'C.C.U'!D:L,4,0)","v":1.8631480000000002},{"$f":"VLOOKUP(G45,'C.C.U'!D:L,7,0)","v":2.2546037228829618},{"$f":"ROUND(J45*H45,2)","v":3154.47}]
["6.2.1.3",7,{"$f":"ROW()-ROW(C44)","v":2},{"$f":"D44&\".\"&C46","v":"6.2.1.3.2"},"CARGA E DESCARGA MECANICA DE SOLO UTILIZANDO CAMINHAO BASCULANTE 6,0M3","m³","CAC-006",{"$f":"IF($E$34=\"GERAL\",SUMIF('M. CÁL. CANAIS BOACICA'!$1:$1,\"Canal C*\",'M. CÁL. CANAIS BOACICA'!39:39),SUMIF('M. CÁL. CANAIS BOACICA'!$1:$1,$E$34,'M. CÁL. CANAIS BOACICA'!39:39))","v":1399.1230451603897},{"$f":"'C.C.U'!$G$196","v":1.3389680000000002},{"$f":"'C.C.U'!$J$196","v":1.6202911618514224},{"$f":"ROUND(J46*H46,2)","v":2266.9899999999998}]
["6.2.1.3",7,{"$f":"ROW()-ROW(C44)","v":3},{"$f":"D44&\".\"&C47","v":"6.2.1.3.3"},"TRANSPORTE COM CAMINHÃO BASCULANTE DE 6 M3, EM VIA URBANA EM REVESTIMENTO PRIMÁRIO","m³XKm","CAC-007",{"$f":"IF($E$34=\"GERAL\",SUMIF('M. CÁL. CANAIS BOACICA'!$1:$1,\"Canal C*\",'M. CÁL. CANAIS BOACICA'!40:40),SUMIF('M. CÁL. CANAIS BOACICA'!$1:$1,$E$34,'M. CÁL. CANAIS BOACICA'!40:40))","v":13991.230451603897},{"$f":"VLOOKUP(G47,'C.C.U'!D:L,4,0)","v":1.23},{"$f":"VLOOKUP(G47,'C.C.U'!D:L,7,0)","v":1.4884284979754925},{"$f":"ROUND(J47*H47,2)","v":20824.95}]
["6.2.1",6,4,{"$f":"$D$35&\".\"&C48","v":"6.2.1.4"},"RECOMPOSIÇÃO GEOMETRIA DO CANAL",{"$nulls":5},{"$f":"SUM(K49:K51)","v":187830.21}]
["6.2.1.4",7,{"$f":"ROW()-ROW(C48)","v":1},{"$f":"D48&\".\"&C49","v":"6.2.1.4.1"},"TRANSPORTE COM CAMINHÃO BASCULANTE DE 6 M3, EM VIA URBANA EM REVESTIMENTO PRIMÁRIO","m³XKm","CAC-007",{"$f":"H51*5","v":6393.9985043954148},{"$f":"VLOOKUP(G49,'C.C.U'!D:L,4,0)","v":1.23},{"$f":"VLOOKUP(G49,'C.C.U'!D:L,7,0)","v":1.4884284979754925},{"$f":"ROUND(J49*H49,2)","v":9517.01}]
[{"$f":"IFERROR(LEFT(D50,LEN(D50)-(LEN(C50)+1)),0)","v":"6.2.1.4"},7,{"$f":"ROW()-ROW(C48)","v":2},{"$f":"D48&\".\"&C50","v":"6.2.1.4.2"},"PPREPARO E EXECUÇÃO DE SOLO-CIMENTO TRAÇO 1:12 EM VOLUME, (CIMENTO/ARENOSO), COM COMPACTAÇÃO E ESPALHAMENTO, PARA SUPORTE DE FUNDAÇÕES, INCLUSIVE CIMENTO E ARENOSO COMERCIAL ","m³","CAC-018",{"$f":"IF($E$34=\"GERAL\",SUMIF('M. CÁL. CANAIS BOACICA'!$1:$1,\"Canal C*\",'M. CÁL. CANAIS BOACICA'!41:41),SUMIF('M. CÁL. CANAIS BOACICA'!$1:$1,$E$34,'M. CÁL. CANAIS BOACICA'!41:41))","v":423.97668035163326},{"$f":"VLOOKUP(G50,'C.C.U'!D:L,4,0)","v":251.19119999999998},{"$f":"VLOOKUP(G50,'C.C.U'!D:L,7,0)","v":303.967593919237},{"$f":"ROUND(J50*H50,2)","v":128875.17}]
[null,null,5,{"$f":"D48&\".\"&C51","v":"6.2.1.4.5"},"ATERRO MANUAL COM MATERIAL DE EMPRÉSTIMO, COMPACTAÇÃO MECANIZADA  E REGULARIZAÇÃO DO TALUDE","m²","CAC-015",{"$f":"IF($E$34=\"GERAL\",SUMIF('M. CÁL. CANAIS BOACICA'!$1:$1,\"Canal C*\",'M. CÁL. CANAIS BOACICA'!42:42),SUMIF('M. CÁL. CANAIS BOACICA'!$1:$1,$E$34,'M. CÁL. CANAIS BOACICA'!42:42))","v":1278.799700879083},{"$f":"VLOOKUP(G51,'C.C.U'!D:L,4,0)","v":31.947420000000001},{"$f":"VLOOKUP(G51,'C.C.U'!D:L,7,0)","v":38.659715743733507},{"$f":"ROUND(J51*H51,2)","v":49438.03}]
["6.2.1",6,5,{"$f":"$D$35&\".\"&C52","v":"6.2.1.5"},"ASSENTAMENTE DE MANTA PEAD",{"$nulls":5},{"$f":"SUM(K53:K55)","v":150170.53}]
["6.2.1.5",7,{"$f":"ROW()-ROW(C52)","v":1},{"$f":"D52&\".\"&C53","v":"6.2.1.5.1"},"ESCAVAÇÃO MANUAL DE VALAS ","m³","CAC-022",{"$f":"IF($E$34=\"GERAL\",SUMIF('M. CÁL. CANAIS BOACICA'!$1:$1,\"Canal C*\",'M. CÁL. CANAIS BOACICA'!43:43),SUMIF('M. CÁL. CANAIS BOACICA'!$1:$1,$E$34,'M. CÁL. CANAIS BOACICA'!43:43))","v":87.543200000000013},{"$f":"VLOOKUP(G53,'C.C.U'!D:L,4,0)","v":56.57},{"$f":"VLOOKUP(G53,'C.C.U'!D:L,7,0)","v":68.455609862173674},{"$f":"ROUND(J53*H53,2)","v":5992.82}]
["6.2.1.5",7,{"$f":"ROW()-ROW(C52)","v":2},{"$f":"D52&\".\"&C54","v":"6.2.1.5.2"},"FORNECIMENTO E INSTALAÇÃO DE GEOMEMBRANA TEXTURIZADA EM AMBAS AS FACES, ESP. = 1,00 MM","m²","CAC-017",{"$f":"IF($E$34=\"GERAL\",SUMIF('M. CÁL. CANAIS BOACICA'!$1:$1,\"Canal C*\",'M. CÁL. CANAIS BOACICA'!44:44),SUMIF('M. CÁL. CANAIS BOACICA'!$1:$1,$E$34,'M. CÁL. CANAIS BOACICA'!44:44))","v":5115.1988035163322},{"$f":"VLOOKUP(G54,'C.C.U'!D:L,4,0)","v":22.942463600000004},{"$f":"VLOOKUP(G54,'C.C.U'!D:L,7,0)","v":27.762777752849932},{"$f":"ROUND(J54*H54,2)","v":142012.13}]
["6.2.1.5",7,{"$f":"ROW()-ROW(C52)","v":3},{"$f":"D52&\".\"&C55","v":"6.2.1.5.3"},"REATERRO COM COMPACTACAO MECANIZADA DAS VALAS","m³","CAC-012",{"$f":"IF($E$34=\"GERAL\",SUMIF('M. CÁL. CANAIS BOACICA'!$1:$1,\"Canal C*\",'M. CÁL. CANAIS BOACICA'!45:45),SUMIF('M. CÁL. CANAIS BOACICA'!$1:$1,$E$34,'M. CÁL. CANAIS BOACICA'!45:45))","v":87.543200000000013},{"$f":"VLOOKUP(G55,'C.C.U'!D:L,4,0)","v":20.442219999999999},{"$f":"VLOOKUP(G55,'C.C.U'!D:L,7,0)","v":24.737221796654122},{"$f":"ROUND(J55*H55,2)","v":2165.58}]
["6.2.1",6,6,{"$f":"$D$35&\".\"&C56","v":"6.2.1.6"},"REVESTIMENTO CANAL FINAL",{"$nulls":5},{"$f":"SUM(K57:K58)","v":147645.23000000001}]
["6.2.1.6",7,{"$f":"ROW()-ROW(C56)","v":1},{"$f":"D56&\".\"&C57","v":"6.2.1.6.1"},"ARMACAO EM TELA DE ACO SOLDADA NERVURADA Q-138, ACO CA-60, 4,2MM, MALHA 15X15 CM PARA REVESTIMENTO DO CANAL TRAPEZOIDAL","m²","CAC-028",{"$f":"IF($E$34=\"GERAL\",SUMIF('M. CÁL. CANAIS BOACICA'!$1:$1,\"Canal C*\",'M. CÁL. CANAIS BOACICA'!46:46),SUMIF('M. CÁL. CANAIS BOACICA'!$1:$1,$E$34,'M. CÁL. CANAIS BOACICA'!46:46))","v":4239.7668035163324},{"$f":"VLOOKUP(G57,'C.C.U'!D:L,4,0)","v":9.1443999999999992},{"$f":"VLOOKUP(G57,'C.C.U'!D:L,7,0)","v":11.065679314542352},{"$f":"ROUND(J57*H57,2)","v":46915.9}]
["6.2.1.6",7,{"$f":"ROW()-ROW(C56)","v":2},{"$f":"D56&\".\"&C58","v":"6.2.1.6.2"},"CONCRETO FCK=20MPA PARA ESTRUTURAS, INCLUINDO PREPARO MECANICO, LANCAMENTO E ADENSAMENTO","m³","CAC-033",{"$f":"IF($E$34=\"GERAL\",SUMIF('M. CÁL. CANAIS BOACICA'!$1:$1,\"Canal C*\",'M. CÁL. CANAIS BOACICA'!47:47),SUMIF('M. CÁL. CANAIS BOACICA'!$1:$1,$E$34,'M. CÁL. CANAIS BOACICA'!47:47))","v":211.98834017581663},{"$f":"VLOOKUP(G58,'C.C.U'!D:L,4,0)","v":392.66399999999999},{"$f":"VLOOKUP(G58,'C.C.U'!D:L,7,0)","v":475.16446156833234},{"$f":"ROUND(J58*H58,2)","v":100729.33}]
["6",2,{"$f":"RIGHT(D59,LEN(D59)-SEARCH(\".\",D59,1))","v":"3"},"6.3","CANAL CLI-37 e DERIVADOS"]
["6.3",3,1,{"$f":"D59&\".\"&C60","v":"6.3.1"},"OBRAS EM CANAL"]
["6.3.1",4,1,{"$f":"D60&\".\"&C61","v":"6.3.1.1"},{"$f":"\"TRECHO TRAPEZOIDAL - RECUPERAÇÃO GEOMETRICA DA SEÇÃO COM SOLO-CIMENTO, MANTA DE PEAD 1 MM, TELA DE AÇO, 5 CM CONCRETO - L = \"&H63&\" m\"","v":"TRECHO TRAPEZOIDAL - RECUPERAÇÃO GEOMETRICA DA SEÇÃO COM SOLO-CIMENTO, MANTA DE PEAD 1 MM, TELA DE AÇO, 5 CM CONCRETO - L = 134 m"},{"$nulls":5},{"$f":"K62+K64+K69+K73+K77+K81","v":61421.37}]
["6.3.1.1",5,1,{"$f":"D61&\".\"&C62","v":"6.3.1.1.1"},"LOCAÇÃO E NIVELAMENTO COM EQUIPAMENTO TOPOGRÁFICO",{"$nulls":5},{"$f":"K63","v":325.16000000000003}]
["6.3.1.1.1",6,{"$f":"ROW()-ROW(C62)","v":1},{"$f":"D62&\".\"&C63","v":"6.3.1.1.1.1"},"LOCACAO E NIVELAMENTO DE REDE DE CANAIS COLETORES DE IRRIGAÇÃO COM AUXILIO DE EQUIPAMENTO TOPOGRAFICO ","m","CAC-002",{"$f":"IF($E$59=\"GERAL\",SUMIF('M. CÁL. CANAIS BOACICA'!$1:$1,\"Canal C*\",'M. CÁL. CANAIS BOACICA'!33:33),SUMIF('M. CÁL. CANAIS BOACICA'!$1:$1,$E$59,'M. CÁL. CANAIS BOACICA'!33:33))","v":134},{"$f":"VLOOKUP(G63,'C.C.U'!D:L,4,0)","v":2.0052599999999998},{"$f":"VLOOKUP(G63,'C.C.U'!D:L,7,0)","v":2.426574089309216},{"$f":"ROUND(J63*H63,2)","v":325.16000000000003}]
["6.3.1.1",5,2,{"$f":"D61&\".\"&C64","v":"6.3.1.1.2"},"REMOÇÃO DA ESTRUTURA (REVESTIMENTO) EXISTENTE",{"$nulls":5},{"$f":"K65+K66+K67+K68","v":2714.9}]
["6.3.1.1.2",6,{"$f":"ROW()-ROW(C64)","v":1},{"$f":"D64&\".\"&C65","v":"6.3.1.1.2.1"},"LIMPEZA MANUAL DE VEGETAÇÃO EM TERRENO COM ENXADA","m²","CAC-001",{"$f":"IF($E$59=\"GERAL\",SUMIF('M. CÁL. CANAIS BOACICA'!$1:$1,\"Canal C*\",'M. CÁL. CANAIS BOACICA'!34:34),SUMIF('M. CÁL. CANAIS BOACICA'!$1:$1,$E$59,'M. CÁL. CANAIS BOACICA'!34:34))","v":134},{"$f":"VLOOKUP(G65,'C.C.U'!D:L,4,0)","v":2.2799999999999998},{"$f":"VLOOKUP(G65,'C.C.U'!D:L,7,0)","v":2.7590381913692053},{"$f":"ROUND(J65*H65,2)","v":369.71}]
["6.3.1.1.2",6,{"$f":"ROW()-ROW(C64)","v":2},{"$f":"D64&\".\"&C66","v":"6.3.1.1.2.2"},"DEMOLIÇÃO DE PLACAS EM CONCRETO ( MECANICAMENTE)","m³","CAC-003",{"$f":"IF($E$59=\"GERAL\",SUMIF('M. CÁL. CANAIS BOACICA'!$1:$1,\"Canal C*\",'M. CÁL. CANAIS BOACICA'!35:35),SUMIF('M. CÁL. CANAIS BOACICA'!$1:$1,$E$59,'M. CÁL. CANAIS BOACICA'!35:35))","v":33.62205677108178},{"$f":"VLOOKUP(G66,'C.C.U'!D:L,4,0)","v":42.268500000000003},{"$f":"VLOOKUP(G66,'C.C.U'!D:L,7,0)","v":51.149300785916353},{"$f":"ROUND(J66*H66,2)","v":1719.74}]
["6.3.1.1.2",6,{"$f":"ROW()-ROW(C64)","v":3},{"$f":"D64&\".\"&C67","v":"6.3.1.1.2.3"},"CARGA E DESCARGA MECANIZADAS DE ENTULHO EM CAMINHAO BASCULANTE 6 M3","m³","CAC-005",{"$f":"IF($E$59=\"GERAL\",SUMIF('M. CÁL. CANAIS BOACICA'!$1:$1,\"Canal C*\",'M. CÁL. CANAIS BOACICA'!36:36),SUMIF('M. CÁL. CANAIS BOACICA'!$1:$1,$E$59,'M. CÁL. CANAIS BOACICA'!36:36))","v":33.62205677108178},{"$f":"VLOOKUP(G67,'C.C.U'!D:L,4,0)","v":3.0724999999999998},{"$f":"VLOOKUP(G67,'C.C.U'!D:L,7,0)","v":3.7180459837639841},{"$f":"ROUND(J67*H67,2)","v":125.01}]
["6.3.1.1.2",6,{"$f":"ROW()-ROW(C64)","v":4},{"$f":"D64&\".\"&C68","v":"6.3.1.1.2.4"},"TRANSPORTE COM CAMINHÃO BASCULANTE DE 6 M3, EM VIA URBANA EM REVESTIMENTO PRIMÁRIO","m³XKm","CAC-007",{"$f":"IF($E$59=\"GERAL\",SUMIF('M. CÁL. CANAIS BOACICA'!$1:$1,\"Canal C*\",'M. CÁL. CANAIS BOACICA'!37:37),SUMIF('M. CÁL. CANAIS BOACICA'!$1:$1,$E$59,'M. CÁL. CANAIS BOACICA'!37:37))","v":336.22056771081782},{"$f":"VLOOKUP(G68,'C.C.U'!D:L,4,0)","v":1.23},{"$f":"VLOOKUP(G68,'C.C.U'!D:L,7,0)","v":1.4884284979754925},{"$f":"ROUND(J68*H68,2)","v":500.44}]
["6.3.1.1",6,3,{"$f":"$D$61&\".\"&C69","v":"6.3.1.1.3"},"RETIRADA SOLO IMPRÓPRIO",{"$nulls":5},{"$f":"SUM(K70:K72)","v":2973.3999999999996}]
["6.3.1.1.3",7,{"$f":"ROW()-ROW(C69)","v":1},{"$f":"D69&\".\"&C70","v":"6.3.1.1.3.1"},"ESCAVACAO MECANICA, A CEU ABERTO, EM MATERIAL DE 1A CATEGORIA, COM RETROESCAVADEIRA","m³","CAC-014",{"$f":"IF($E$59=\"GERAL\",SUMIF('M. CÁL. CANAIS BOACICA'!$1:$1,\"Canal C*\",'M. CÁL. CANAIS BOACICA'!38:38),SUMIF('M. CÁL. CANAIS BOACICA'!$1:$1,$E$59,'M. CÁL. CANAIS BOACICA'!38:38))","v":158.50398192081411},{"$f":"VLOOKUP(G70,'C.C.U'!D:L,4,0)","v":1.8631480000000002},{"$f":"VLOOKUP(G70,'C.C.U'!D:L,7,0)","v":2.2546037228829618},{"$f":"ROUND(J70*H70,2)","v":357.36}]
["6.3.1.1.3",7,{"$f":"ROW()-ROW(C69)","v":2},{"$f":"D69&\".\"&C71","v":"6.3.1.1.3.2"},"CARGA E DESCARGA MECANICA DE SOLO UTILIZANDO CAMINHAO BASCULANTE 6,0M3","m³","CAC-006",{"$f":"IF($E$59=\"GERAL\",SUMIF('M. CÁL. CANAIS BOACICA'!$1:$1,\"Canal C*\",'M. CÁL. CANAIS BOACICA'!39:39),SUMIF('M. CÁL. CANAIS BOACICA'!$1:$1,$E$59,'M. CÁL. CANAIS BOACICA'!39:39))","v":158.50398192081411},{"$f":"'C.C.U'!$G$196","v":1.3389680000000002},{"$f":"'C.C.U'!$J$196","v":1.6202911618514224},{"$f":"ROUND(J71*H71,2)","v":256.82}]
["6.3.1.1.3",7,{"$f":"ROW()-ROW(C69)","v":3},{"$f":"D69&\".\"&C72","v":"6.3.1.1.3.3"},"TRANSPORTE COM CAMINHÃO BASCULANTE DE 6 M3, EM VIA URBANA EM REVESTIMENTO PRIMÁRIO","m³XKm","CAC-007",{"$f":"IF($E$59=\"GERAL\",SUMIF('M. CÁL. CANAIS BOACICA'!$1:$1,\"Canal C*\",'M. CÁL. CANAIS BOACICA'!40:40),SUMIF('M. CÁL. CANAIS BOACICA'!$1:$1,$E$59,'M. CÁL. CANAIS BOACICA'!40:40))","v":1585.0398192081411},{"$f":"VLOOKUP(G72,'C.C.U'!D:L,4,0)","v":1.23},{"$f":"VLOOKUP(G72,'C.C.U'!D:L,7,0)","v":1.4884284979754925},{"$f":"ROUND(J72*H72,2)","v":2359.2199999999998}]
["6.3.1.1",6,4,{"$f":"$D$61&\".\"&C73","v":"6.3.1.1.4"},"RECOMPOSIÇÃO GEOMETRIA DO CANAL",{"$nulls":5},{"$f":"SUM(K74:K76)","v":21371.4}]
["6.3.1.1.4",7,{"$f":"ROW()-ROW(C73)","v":1},{"$f":"D73&\".\"&C74","v":"6.3.1.1.4.1"},"TRANSPORTE COM CAMINHÃO BASCULANTE DE 6 M3, EM VIA URBANA EM REVESTIMENTO PRIMÁRIO","m³XKm","CAC-007",{"$f":"H76*5","v":734.39387091217452},{"$f":"VLOOKUP(G74,'C.C.U'!D:L,4,0)","v":1.23},{"$f":"VLOOKUP(G74,'C.C.U'!D:L,7,0)","v":1.4884284979754925},{"$f":"ROUND(J74*H74,2)","v":1093.0899999999999}]
[null,null,null,{"$f":"D76&\".\"&C75","v":"6.3.1.1.4.3."},"PPREPARO E EXECUÇÃO DE SOLO-CIMENTO TRAÇO 1:12 EM VOLUME, (CIMENTO/ARENOSO), COM COMPACTAÇÃO E ESPALHAMENTO, PARA SUPORTE DE FUNDAÇÕES, INCLUSIVE CIMENTO E ARENOSO COMERCIAL ","m³","CAC-018",{"$f":"IF($E$59=\"GERAL\",SUMIF('M. CÁL. CANAIS BOACICA'!$1:$1,\"Canal C*\",'M. CÁL. CANAIS BOACICA'!41:41),SUMIF('M. CÁL. CANAIS BOACICA'!$1:$1,$E$59,'M. CÁL. CANAIS BOACICA'!41:41))","v":48.031509672973968},{"$f":"VLOOKUP(G75,'C.C.U'!D:L,4,0)","v":251.19119999999998},{"$f":"VLOOKUP(G75,'C.C.U'!D:L,7,0)","v":303.967593919237},{"$f":"ROUND(J75*H75,2)","v":14600.02}]
["6.3.1.1.4",7,{"$f":"ROW()-ROW(C73)","v":3},{"$f":"D73&\".\"&C76","v":"6.3.1.1.4.3"},"ATERRO MANUAL COM MATERIAL DE EMPRÉSTIMO, COMPACTAÇÃO MECANIZADA  E REGULARIZAÇÃO DO TALUDE","m²","CAC-015",{"$f":"IF($E$59=\"GERAL\",SUMIF('M. CÁL. CANAIS BOACICA'!$1:$1,\"Canal C*\",'M. CÁL. CANAIS BOACICA'!42:42),SUMIF('M. CÁL. CANAIS BOACICA'!$1:$1,$E$59,'M. CÁL. CANAIS BOACICA'!42:42))","v":146.87877418243491},{"$f":"VLOOKUP(G76,'C.C.U'!D:L,4,0)","v":31.947420000000001},{"$f":"VLOOKUP(G76,'C.C.U'!D:L,7,0)","v":38.659715743733507},{"$f":"ROUND(J76*H76,2)","v":5678.29}]
["6.3.1.1",6,5,{"$f":"$D$61&\".\"&C77","v":"6.3.1.1.5"},"ASSENTAMENTE DE MANTA PEAD",{"$nulls":5},{"$f":"SUM(K78:K80)","v":17310.07}]
["6.3.1.1.5",7,{"$f":"ROW()-ROW(C77)","v":1},{"$f":"D77&\".\"&C78","v":"6.3.1.1.5.1"},"ESCAVAÇÃO MANUAL DE VALAS ","m³","CAC-022",{"$f":"IF($E$59=\"GERAL\",SUMIF('M. CÁL. CANAIS BOACICA'!$1:$1,\"Canal C*\",'M. CÁL. CANAIS BOACICA'!43:43),SUMIF('M. CÁL. CANAIS BOACICA'!$1:$1,$E$59,'M. CÁL. CANAIS BOACICA'!43:43))","v":10.720000000000002},{"$f":"VLOOKUP(G78,'C.C.U'!D:L,4,0)","v":56.57},{"$f":"VLOOKUP(G78,'C.C.U'!D:L,7,0)","v":68.455609862173674},{"$f":"ROUND(J78*H78,2)","v":733.84}]
["6.3.1.1.5",7,{"$f":"ROW()-ROW(C77)","v":2},{"$f":"D77&\".\"&C79","v":"6.3.1.1.5.2"},"FORNECIMENTO E INSTALAÇÃO DE GEOMEMBRANA TEXTURIZADA EM AMBAS AS FACES, ESP. = 1,00 MM","m²","CAC-017",{"$f":"IF($E$59=\"GERAL\",SUMIF('M. CÁL. CANAIS BOACICA'!$1:$1,\"Canal C*\",'M. CÁL. CANAIS BOACICA'!44:44),SUMIF('M. CÁL. CANAIS BOACICA'!$1:$1,$E$59,'M. CÁL. CANAIS BOACICA'!44:44))","v":587.51509672973964},{"$f":"VLOOKUP(G79,'C.C.U'!D:L,4,0)","v":22.942463600000004},{"$f":"VLOOKUP(G79,'C.C.U'!D:L,7,0)","v":27.762777752849932},{"$f":"ROUND(J79*H79,2)","v":16311.05}]
["6.3.1.1.5",7,{"$f":"ROW()-ROW(C77)","v":3},{"$f":"D77&\".\"&C80","v":"6.3.1.1.5.3"},"REATERRO COM COMPACTACAO MECANIZADA DAS VALAS","m³","CAC-012",{"$f":"IF($E$59=\"GERAL\",SUMIF('M. CÁL. CANAIS BOACICA'!$1:$1,\"Canal C*\",'M. CÁL. CANAIS BOACICA'!45:45),SUMIF('M. CÁL. CANAIS BOACICA'!$1:$1,$E$59,'M. CÁL. CANAIS BOACICA'!45:45))","v":10.720000000000002},{"$f":"VLOOKUP(G80,'C.C.U'!D:L,4,0)","v":20.442219999999999},{"$f":"VLOOKUP(G80,'C.C.U'!D:L,7,0)","v":24.737221796654122},{"$f":"ROUND(J80*H80,2)","v":265.18}]
["6.3.1.1",6,6,{"$f":"$D$61&\".\"&C81","v":"6.3.1.1.6"},"REVESTIMENTO CANAL FINAL",{"$nulls":5},{"$f":"SUM(K82:K83)","v":16726.440000000002}]
["6.3.1.1.6",7,{"$f":"ROW()-ROW(C81)","v":1},{"$f":"D81&\".\"&C82","v":"6.3.1.1.6.1"},"ARMACAO EM TELA DE ACO SOLDADA NERVURADA Q-138, ACO CA-60, 4,2MM, MALHA 15X15 CM PARA REVESTIMENTO DO CANAL TRAPEZOIDAL","m²","CAC-028",{"$f":"IF($E$59=\"GERAL\",SUMIF('M. CÁL. CANAIS BOACICA'!$1:$1,\"Canal C*\",'M. CÁL. CANAIS BOACICA'!46:46),SUMIF('M. CÁL. CANAIS BOACICA'!$1:$1,$E$59,'M. CÁL. CANAIS BOACICA'!46:46))","v":480.31509672973971},{"$f":"VLOOKUP(G82,'C.C.U'!D:L,4,0)","v":9.1443999999999992},{"$f":"VLOOKUP(G82,'C.C.U'!D:L,7,0)","v":11.065679314542352},{"$f":"ROUND(J82*H82,2)","v":5315.01}]
["6.3.1.1.6",7,{"$f":"ROW()-ROW(C81)","v":2},{"$f":"D81&\".\"&C83","v":"6.3.1.1.6.2"},"CONCRETO FCK=20MPA PARA ESTRUTURAS, INCLUINDO PREPARO MECANICO, LANCAMENTO E ADENSAMENTO","m³","CAC-033",{"$f":"IF($E$59=\"GERAL\",SUMIF('M. CÁL. CANAIS BOACICA'!$1:$1,\"Canal C*\",'M. CÁL. CANAIS BOACICA'!47:47),SUMIF('M. CÁL. CANAIS BOACICA'!$1:$1,$E$59,'M. CÁL. CANAIS BOACICA'!47:47))","v":24.015754836486984},{"$f":"VLOOKUP(G83,'C.C.U'!D:L,4,0)","v":392.66399999999999},{"$f":"VLOOKUP(G83,'C.C.U'!D:L,7,0)","v":475.16446156833234},{"$f":"ROUND(J83*H83,2)","v":11411.43}]
["6",2,{"$f":"RIGHT(D84,LEN(D84)-SEARCH(\".\",D84,1))","v":"4"},"6.4","CANAL CLII"]
["6.4",3,1,{"$f":"D84&\".\"&C85","v":"6.4.1"},"OBRAS EM CANAL"]
["6.4.1",4,1,{"$f":"D85&\".\"&C86","v":"6.4.1.1"},{"$f":"\"TRECHO TRAPEZOIDAL - RECUPERAÇÃO GEOMETRICA DA SEÇÃO COM SOLO-CIMENTO, MANTA DE PEAD 1 MM, TELA DE AÇO, 5 CM CONCRETO - L = \"&H88&\" m\"","v":"TRECHO TRAPEZOIDAL - RECUPERAÇÃO GEOMETRICA DA SEÇÃO COM SOLO-CIMENTO, MANTA DE PEAD 1 MM, TELA DE AÇO, 5 CM CONCRETO - L = 1988,79 m"},{"$nulls":5},{"$f":"K87+K89+K94+K98+K102+K106","v":2042927.0099999998}]
["6.4.1.1",5,1,{"$f":"D86&\".\"&C87","v":"6.4.1.1.1"},"LOCAÇÃO E NIVELAMENTO COM EQUIPAMENTO TOPOGRÁFICO",{"$nulls":5},{"$f":"K88","v":4825.95}]
["6.4.1.1.1",6,1,{"$f":"D87&\".\"&C88","v":"6.4.1.1.1.1"},"LOCACAO E NIVELAMENTO DE REDE DE CANAIS COLETORES DE IRRIGAÇÃO COM AUXILIO DE EQUIPAMENTO TOPOGRAFICO ","m","CAC-002",{"$f":"IF($E$84=\"GERAL\",SUMIF('M. CÁL. CANAIS BOACICA'!$1:$1,\"Canal C*\",'M. CÁL. CANAIS BOACICA'!33:33),SUMIF('M. CÁL. CANAIS BOACICA'!$1:$1,$E$84,'M. CÁL. CANAIS BOACICA'!33:33))","v":1988.79},{"$f":"VLOOKUP(G88,'C.C.U'!D:L,4,0)","v":2.0052599999999998},{"$f":"VLOOKUP(G88,'C.C.U'!D:L,7,0)","v":2.426574089309216},{"$f":"ROUND(J88*H88,2)","v":4825.95}]
["6.4.1.1",5,2,{"$f":"D86&\".\"&C89","v":"6.4.1.1.2"},"REMOÇÃO DA ESTRUTURA (REVESTIMENTO) EXISTENTE",{"$nulls":5},{"$f":"K90+K91+K92+K93","v":88085.340000000011}]
["6.4.1.1.2",6,1,{"$f":"D89&\".\"&C90","v":"6.4.1.1.2.1"},"LIMPEZA MANUAL DE VEGETAÇÃO EM TERRENO COM ENXADA","m²","CAC-001",{"$f":"IF($E$84=\"GERAL\",SUMIF('M. CÁL. CANAIS BOACICA'!$1:$1,\"Canal C*\",'M. CÁL. CANAIS BOACICA'!34:34),SUMIF('M. CÁL. CANAIS BOACICA'!$1:$1,$E$84,'M. CÁL. CANAIS BOACICA'!34:34))","v":1988.79},{"$f":"VLOOKUP(G90,'C.C.U'!D:L,4,0)","v":2.2799999999999998},{"$f":"VLOOKUP(G90,'C.C.U'!D:L,7,0)","v":2.7590381913692053},{"$f":"ROUND(J90*H90,2)","v":5487.15}]
["6.4.1.1.2",6,2,{"$f":"D89&\".\"&C91","v":"6.4.1.1.2.2"},"DEMOLIÇÃO DE PLACAS EM CONCRETO ( MECANICAMENTE)","m³","CAC-003",{"$f":"IF($E$84=\"GERAL\",SUMIF('M. CÁL. CANAIS BOACICA'!$1:$1,\"Canal C*\",'M. CÁL. CANAIS BOACICA'!35:35),SUMIF('M. CÁL. CANAIS BOACICA'!$1:$1,$E$84,'M. CÁL. CANAIS BOACICA'!35:35))","v":1184.1756323137959},{"$f":"VLOOKUP(G91,'C.C.U'!D:L,4,0)","v":42.268500000000003},{"$f":"VLOOKUP(G91,'C.C.U'!D:L,7,0)","v":51.149300785916353},{"$f":"ROUND(J91*H91,2)","v":60569.760000000002}]
["6.4.1.1.2",6,3,{"$f":"D89&\".\"&C92","v":"6.4.1.1.2.3"},"CARGA E DESCARGA MECANIZADAS DE ENTULHO EM CAMINHAO BASCULANTE 6 M3","m³","CAC-005",{"$f":"IF($E$84=\"GERAL\",SUMIF('M. CÁL. CANAIS BOACICA'!$1:$1,\"Canal C*\",'M. CÁL. CANAIS BOACICA'!36:36),SUMIF('M. CÁL. CANAIS BOACICA'!$1:$1,$E$84,'M. CÁL. CANAIS BOACICA'!36:36))","v":1184.1756323137959},{"$f":"VLOOKUP(G92,'C.C.U'!D:L,4,0)","v":3.0724999999999998},{"$f":"VLOOKUP(G92,'C.C.U'!D:L,7,0)","v":3.7180459837639841},{"$f":"ROUND(J92*H92,2)","v":4402.82}]
["6.4.1.1.2",6,4,{"$f":"D89&\".\"&C93","v":"6.4.1.1.2.4"},"TRANSPORTE COM CAMINHÃO BASCULANTE DE 6 M3, EM VIA URBANA EM REVESTIMENTO PRIMÁRIO","m³XKm","CAC-007",{"$f":"IF($E$84=\"GERAL\",SUMIF('M. CÁL. CANAIS BOACICA'!$1:$1,\"Canal C*\",'M. CÁL. CANAIS BOACICA'!37:37),SUMIF('M. CÁL. CANAIS BOACICA'!$1:$1,$E$84,'M. CÁL. CANAIS BOACICA'!37:37))","v":11841.756323137959},{"$f":"VLOOKUP(G93,'C.C.U'!D:L,4,0)","v":1.23},{"$f":"VLOOKUP(G93,'C.C.U'!D:L,7,0)","v":1.4884284979754925},{"$f":"ROUND(J93*H93,2)","v":17625.61}]
["6.4.1.1",6,3,{"$f":"$D$86&\".\"&C94","v":"6.4.1.1.3"},"RETIRADA SOLO IMPRÓPRIO",{"$nulls":5},{"$f":"SUM(K95:K97)","v":104723.91}]
["6.4.1.1.3",7,2,{"$f":"D94&\".\"&C95","v":"6.4.1.1.3.2"},"ESCAVACAO MECANICA, A CEU ABERTO, EM MATERIAL DE 1A CATEGORIA, COM RETROESCAVADEIRA","m³","CAC-014",{"$f":"IF($E$84=\"GERAL\",SUMIF('M. CÁL. CANAIS BOACICA'!$1:$1,\"Canal C*\",'M. CÁL. CANAIS BOACICA'!38:38),SUMIF('M. CÁL. CANAIS BOACICA'!$1:$1,$E$84,'M. CÁL. CANAIS BOACICA'!38:38))","v":5582.5422666221812},{"$f":"VLOOKUP(G95,'C.C.U'!D:L,4,0)","v":1.8631480000000002},{"$f":"VLOOKUP(G95,'C.C.U'!D:L,7,0)","v":2.2546037228829618},{"$f":"ROUND(J95*H95,2)","v":12586.42}]
[{"$f":"IFERROR(LEFT(D96,LEN(D96)-(LEN(C96)+1)),0)","v":"6.4.1.1.3"},7,3,{"$f":"D94&\".\"&C96","v":"6.4.1.1.3.3"},"CARGA E DESCARGA MECANICA DE SOLO UTILIZANDO CAMINHAO BASCULANTE 6,0M3","m³","CAC-006",{"$f":"IF($E$84=\"GERAL\",SUMIF('M. CÁL. CANAIS BOACICA'!$1:$1,\"Canal C*\",'M. CÁL. CANAIS BOACICA'!39:39),SUMIF('M. CÁL. CANAIS BOACICA'!$1:$1,$E$84,'M. CÁL. CANAIS BOACICA'!39:39))","v":5582.5422666221812},{"$f":"'C.C.U'!$G$196","v":1.3389680000000002},{"$f":"'C.C.U'!$J$196","v":1.6202911618514224},{"$f":"ROUND(J96*H96,2)","v":9045.34}]
["6.4.1.1.3",7,4,{"$f":"D94&\".\"&C97","v":"6.4.1.1.3.4"},"TRANSPORTE COM CAMINHÃO BASCULANTE DE 6 M3, EM VIA URBANA EM REVESTIMENTO PRIMÁRIO","m³XKm","CAC-007",{"$f":"IF($E$84=\"GERAL\",SUMIF('M. CÁL. CANAIS BOACICA'!$1:$1,\"Canal C*\",'M. CÁL. CANAIS BOACICA'!40:40),SUMIF('M. CÁL. CANAIS BOACICA'!$1:$1,$E$84,'M. CÁL. CANAIS BOACICA'!40:40))","v":55825.422666221813},{"$f":"VLOOKUP(G97,'C.C.U'!D:L,4,0)","v":1.23},{"$f":"VLOOKUP(G97,'C.C.U'!D:L,7,0)","v":1.4884284979754925},{"$f":"ROUND(J97*H97,2)","v":83092.149999999994}]
["6.4.1.1",6,4,{"$f":"$D$86&\".\"&C98","v":"6.4.1.1.4"},"RECOMPOSIÇÃO GEOMETRIA DO CANAL",{"$nulls":5},{"$f":"SUM(K99:K101)","v":727527.03999999992}]
["6.4.1.1.4",7,null,{"$f":"D98&\".\"&C99","v":"6.4.1.1.4."},"TRANSPORTE COM CAMINHÃO BASCULANTE DE 6 M3, EM VIA URBANA EM REVESTIMENTO PRIMÁRIO","m³XKm","CAC-007",{"$f":"H101*5","v":23134.783434174926},{"$f":"VLOOKUP(G99,'C.C.U'!D:L,4,0)","v":1.23},{"$f":"VLOOKUP(G99,'C.C.U'!D:L,7,0)","v":1.4884284979754925},{"$f":"ROUND(J99*H99,2)","v":34434.47}]
[null,null,5,{"$f":"D98&\".\"&C100","v":"6.4.1.1.4.5"},"PPREPARO E EXECUÇÃO DE SOLO-CIMENTO TRAÇO 1:12 EM VOLUME, (CIMENTO/ARENOSO), COM COMPACTAÇÃO E ESPALHAMENTO, PARA SUPORTE DE FUNDAÇÕES, INCLUSIVE CIMENTO E ARENOSO COMERCIAL ","m³","CAC-018",{"$f":"IF($E$84=\"GERAL\",SUMIF('M. CÁL. CANAIS BOACICA'!$1:$1,\"Canal C*\",'M. CÁL. CANAIS BOACICA'!41:41),SUMIF('M. CÁL. CANAIS BOACICA'!$1:$1,$E$84,'M. CÁL. CANAIS BOACICA'!41:41))","v":1691.6794747339943},{"$f":"VLOOKUP(G100,'C.C.U'!D:L,4,0)","v":251.19119999999998},{"$f":"VLOOKUP(G100,'C.C.U'!D:L,7,0)","v":303.967593919237},{"$f":"ROUND(J100*H100,2)","v":514215.74}]
["6.4.1.1.4",7,5,{"$f":"D98&\".\"&C101","v":"6.4.1.1.4.5"},"ATERRO MANUAL COM MATERIAL DE EMPRÉSTIMO, COMPACTAÇÃO MECANIZADA  E REGULARIZAÇÃO DO TALUDE","m³","CAC-015",{"$f":"IF($E$84=\"GERAL\",SUMIF('M. CÁL. CANAIS BOACICA'!$1:$1,\"Canal C*\",'M. CÁL. CANAIS BOACICA'!42:42),SUMIF('M. CÁL. CANAIS BOACICA'!$1:$1,$E$84,'M. CÁL. CANAIS BOACICA'!42:42))","v":4626.9566868349848},{"$f":"VLOOKUP(G101,'C.C.U'!D:L,4,0)","v":31.947420000000001},{"$f":"VLOOKUP(G101,'C.C.U'!D:L,7,0)","v":38.659715743733507},{"$f":"ROUND(J101*H101,2)","v":178876.83}]
["6.4.1.1",6,5,{"$f":"$D$86&\".\"&C102","v":"6.4.1.1.5"},"ASSENTAMENTE DE MANTA PEAD",{"$nulls":5},{"$f":"SUM(K103:K105)","v":528655.96}]
["6.4.1.1.5",7,2,{"$f":"D102&\".\"&C103","v":"6.4.1.1.5.2"},"ESCAVAÇÃO MANUAL DE VALAS ","m³","CAC-022",{"$f":"IF($E$84=\"GERAL\",SUMIF('M. CÁL. CANAIS BOACICA'!$1:$1,\"Canal C*\",'M. CÁL. CANAIS BOACICA'!43:43),SUMIF('M. CÁL. CANAIS BOACICA'!$1:$1,$E$84,'M. CÁL. CANAIS BOACICA'!43:43))","v":159.10320000000004},{"$f":"VLOOKUP(G103,'C.C.U'!D:L,4,0)","v":56.57},{"$f":"VLOOKUP(G103,'C.C.U'!D:L,7,0)","v":68.455609862173674},{"$f":"ROUND(J103*H103,2)","v":10891.51}]
["6.4.1.1.5",7,3,{"$f":"D102&\".\"&C104","v":"6.4.1.1.5.3"},"FORNECIMENTO E INSTALAÇÃO DE GEOMEMBRANA TEXTURIZADA EM AMBAS AS FACES, ESP. = 1,00 MM","m²","CAC-017",{"$f":"IF($E$84=\"GERAL\",SUMIF('M. CÁL. CANAIS BOACICA'!$1:$1,\"Canal C*\",'M. CÁL. CANAIS BOACICA'!44:44),SUMIF('M. CÁL. CANAIS BOACICA'!$1:$1,$E$84,'M. CÁL. CANAIS BOACICA'!44:44))","v":18507.826747339939},{"$f":"VLOOKUP(G104,'C.C.U'!D:L,4,0)","v":22.942463600000004},{"$f":"VLOOKUP(G104,'C.C.U'!D:L,7,0)","v":27.762777752849932},{"$f":"ROUND(J104*H104,2)","v":513828.68}]
["6.4.1.1.5",7,6,{"$f":"D102&\".\"&C105","v":"6.4.1.1.5.6"},"REATERRO COM COMPACTACAO MECANIZADA DAS VALAS","m³","CAC-012",{"$f":"IF($E$84=\"GERAL\",SUMIF('M. CÁL. CANAIS BOACICA'!$1:$1,\"Canal C*\",'M. CÁL. CANAIS BOACICA'!45:45),SUMIF('M. CÁL. CANAIS BOACICA'!$1:$1,$E$84,'M. CÁL. CANAIS BOACICA'!45:45))","v":159.10320000000004},{"$f":"VLOOKUP(G105,'C.C.U'!D:L,4,0)","v":20.442219999999999},{"$f":"VLOOKUP(G105,'C.C.U'!D:L,7,0)","v":24.737221796654122},{"$f":"ROUND(J105*H105,2)","v":3935.77}]
["6.4.1.1",6,6,{"$f":"$D$86&\".\"&C106","v":"6.4.1.1.6"},"REVESTIMENTO CANAL FINAL",{"$nulls":5},{"$f":"SUM(K107:K108)","v":589108.80999999994}]
["6.4.1.1.6",7,2,{"$f":"D106&\".\"&C107","v":"6.4.1.1.6.2"},"ARMACAO EM TELA DE ACO SOLDADA NERVURADA Q-138, ACO CA-60, 4,2MM, MALHA 15X15 CM PARA REVESTIMENTO DO CANAL TRAPEZOIDAL","m²","CAC-028",{"$f":"IF($E$84=\"GERAL\",SUMIF('M. CÁL. CANAIS BOACICA'!$1:$1,\"Canal C*\",'M. CÁL. CANAIS BOACICA'!46:46),SUMIF('M. CÁL. CANAIS BOACICA'!$1:$1,$E$84,'M. CÁL. CANAIS BOACICA'!46:46))","v":16916.79474733994},{"$f":"VLOOKUP(G107,'C.C.U'!D:L,4,0)","v":9.1443999999999992},{"$f":"VLOOKUP(G107,'C.C.U'!D:L,7,0)","v":11.065679314542352},{"$f":"ROUND(J107*H107,2)","v":187195.83}]
["6.4.1.1.6",7,{"$f":"ROW()-ROW(C106)","v":2},{"$f":"D106&\".\"&C108","v":"6.4.1.1.6.2"},"CONCRETO FCK=20MPA PARA ESTRUTURAS, INCLUINDO PREPARO MECANICO, LANCAMENTO E ADENSAMENTO","m³","CAC-033",{"$f":"IF($E$84=\"GERAL\",SUMIF('M. CÁL. CANAIS BOACICA'!$1:$1,\"Canal C*\",'M. CÁL. CANAIS BOACICA'!47:47),SUMIF('M. CÁL. CANAIS BOACICA'!$1:$1,$E$84,'M. CÁL. CANAIS BOACICA'!47:47))","v":845.83973736699716},{"$f":"VLOOKUP(G108,'C.C.U'!D:L,4,0)","v":392.66399999999999},{"$f":"VLOOKUP(G108,'C.C.U'!D:L,7,0)","v":475.16446156833234},{"$f":"ROUND(J108*H108,2)","v":401912.98}]
["6",2,{"$f":"RIGHT(D109,LEN(D109)-SEARCH(\".\",D109,1))","v":"5"},"6.5","CANAL CLII-3 e DERIVADOS"]
["6.5",3,1,{"$f":"D109&\".\"&C110","v":"6.5.1"},"OBRAS EM CANAL"]
["6.5.1",4,1,{"$f":"D110&\".\"&C111","v":"6.5.1.1"},{"$f":"\"TRECHO TRAPEZOIDAL - RECUPERAÇÃO GEOMETRICA DA SEÇÃO COM SOLO-CIMENTO, MANTA DE PEAD 1 MM, TELA DE AÇO, 5 CM CONCRETO - L = \"&H113&\" m\"","v":"TRECHO TRAPEZOIDAL - RECUPERAÇÃO GEOMETRICA DA SEÇÃO COM SOLO-CIMENTO, MANTA DE PEAD 1 MM, TELA DE AÇO, 5 CM CONCRETO - L = 2708,34 m"},{"$nulls":5},{"$f":"K112+K114+K119+K123+K127+K131","v":1197416.3500000001}]
["6.5.1.1",5,1,{"$f":"D111&\".\"&C112","v":"6.5.1.1.1"},"LOCAÇÃO E NIVELAMENTO COM EQUIPAMENTO TOPOGRÁFICO",{"$nulls":5},{"$f":"K113","v":6571.99}]
["6.5.1.1.1",6,{"$f":"ROW()-ROW(C112)","v":1},{"$f":"D112&\".\"&C113","v":"6.5.1.1.1.1"},"LOCACAO E NIVELAMENTO DE REDE DE CANAIS COLETORES DE IRRIGAÇÃO COM AUXILIO DE EQUIPAMENTO TOPOGRAFICO ","m","CAC-002",{"$f":"IF($E$109=\"GERAL\",SUMIF('M. CÁL. CANAIS BOACICA'!$1:$1,\"Canal C*\",'M. CÁL. CANAIS BOACICA'!33:33),SUMIF('M. CÁL. CANAIS BOACICA'!$1:$1,$E$109,'M. CÁL. CANAIS BOACICA'!33:33))","v":2708.34},{"$f":"VLOOKUP(G113,'C.C.U'!D:L,4,0)","v":2.0052599999999998},{"$f":"VLOOKUP(G113,'C.C.U'!D:L,7,0)","v":2.426574089309216},{"$f":"ROUND(J113*H113,2)","v":6571.99}]
["6.5.1.1",5,2,{"$f":"D111&\".\"&C114","v":"6.5.1.1.2"},"REMOÇÃO DA ESTRUTURA (REVESTIMENTO) EXISTENTE",{"$nulls":5},{"$f":"K115+K116+K117+K118","v":53013.469999999994}]
["6.5.1.1.2",6,{"$f":"ROW()-ROW(C114)","v":1},{"$f":"D114&\".\"&C115","v":"6.5.1.1.2.1"},"LIMPEZA MANUAL DE VEGETAÇÃO EM TERRENO COM ENXADA","m²","CAC-001",{"$f":"IF($E$109=\"GERAL\",SUMIF('M. CÁL. CANAIS BOACICA'!$1:$1,\"Canal C*\",'M. CÁL. CANAIS BOACICA'!34:34),SUMIF('M. CÁL. CANAIS BOACICA'!$1:$1,$E$109,'M. CÁL. CANAIS BOACICA'!34:34))","v":2708.34},{"$f":"VLOOKUP(G115,'C.C.U'!D:L,4,0)","v":2.2799999999999998},{"$f":"VLOOKUP(G115,'C.C.U'!D:L,7,0)","v":2.7590381913692053},{"$f":"ROUND(J115*H115,2)","v":7472.41}]
["6.5.1.1.2",6,{"$f":"ROW()-ROW(C114)","v":2},{"$f":"D114&\".\"&C116","v":"6.5.1.1.2.2"},"DEMOLIÇÃO DE PLACAS EM CONCRETO ( MECANICAMENTE)","m³","CAC-003",{"$f":"IF($E$109=\"GERAL\",SUMIF('M. CÁL. CANAIS BOACICA'!$1:$1,\"Canal C*\",'M. CÁL. CANAIS BOACICA'!35:35),SUMIF('M. CÁL. CANAIS BOACICA'!$1:$1,$E$109,'M. CÁL. CANAIS BOACICA'!35:35))","v":652.90309795254223},{"$f":"VLOOKUP(G116,'C.C.U'!D:L,4,0)","v":42.268500000000003},{"$f":"VLOOKUP(G116,'C.C.U'!D:L,7,0)","v":51.149300785916353},{"$f":"ROUND(J116*H116,2)","v":33395.54}]
["6.5.1.1.2",6,{"$f":"ROW()-ROW(C114)","v":3},{"$f":"D114&\".\"&C117","v":"6.5.1.1.2.3"},"CARGA E DESCARGA MECANIZADAS DE ENTULHO EM CAMINHAO BASCULANTE 6 M3","m³","CAC-005",{"$f":"IF($E$109=\"GERAL\",SUMIF('M. CÁL. CANAIS BOACICA'!$1:$1,\"Canal C*\",'M. CÁL. CANAIS BOACICA'!36:36),SUMIF('M. CÁL. CANAIS BOACICA'!$1:$1,$E$109,'M. CÁL. CANAIS BOACICA'!36:36))","v":652.90309795254223},{"$f":"VLOOKUP(G117,'C.C.U'!D:L,4,0)","v":3.0724999999999998},{"$f":"VLOOKUP(G117,'C.C.U'!D:L,7,0)","v":3.7180459837639841},{"$f":"ROUND(J117*H117,2)","v":2427.52}]
["6.5.1.1.2",6,{"$f":"ROW()-ROW(C114)","v":4},{"$f":"D114&\".\"&C118","v":"6.5.1.1.2.4"},"TRANSPORTE COM CAMINHÃO BASCULANTE DE 6 M3, EM VIA URBANA EM REVESTIMENTO PRIMÁRIO","m³XKm","CAC-007",{"$f":"IF($E$109=\"GERAL\",SUMIF('M. CÁL. CANAIS BOACICA'!$1:$1,\"Canal C*\",'M. CÁL. CANAIS BOACICA'!37:37),SUMIF('M. CÁL. CANAIS BOACICA'!$1:$1,$E$109,'M. CÁL. CANAIS BOACICA'!37:37))","v":6529.0309795254225},{"$f":"VLOOKUP(G118,'C.C.U'!D:L,4,0)","v":1.23},{"$f":"VLOOKUP(G118,'C.C.U'!D:L,7,0)","v":1.4884284979754925},{"$f":"ROUND(J118*H118,2)","v":9718}]
["6.5.1.1",6,3,{"$f":"$D$111&\".\"&C119","v":"6.5.1.1.3"},"RETIRADA SOLO IMPRÓPRIO",{"$nulls":5},{"$f":"SUM(K120:K122)","v":57740.23}]
["6.5.1.1.3",7,{"$f":"ROW()-ROW(C119)","v":1},{"$f":"D119&\".\"&C120","v":"6.5.1.1.3.1"},"ESCAVACAO MECANICA, A CEU ABERTO, EM MATERIAL DE 1A CATEGORIA, COM RETROESCAVADEIRA","m³","CAC-014",{"$f":"IF($E$109=\"GERAL\",SUMIF('M. CÁL. CANAIS BOACICA'!$1:$1,\"Canal C*\",'M. CÁL. CANAIS BOACICA'!38:38),SUMIF('M. CÁL. CANAIS BOACICA'!$1:$1,$E$109,'M. CÁL. CANAIS BOACICA'!38:38))","v":3077.9717474905556},{"$f":"VLOOKUP(G120,'C.C.U'!D:L,4,0)","v":1.8631480000000002},{"$f":"VLOOKUP(G120,'C.C.U'!D:L,7,0)","v":2.2546037228829618},{"$f":"ROUND(J120*H120,2)","v":6939.61}]
["6.5.1.1.3",7,{"$f":"ROW()-ROW(C119)","v":2},{"$f":"D119&\".\"&C121","v":"6.5.1.1.3.2"},"CARGA E DESCARGA MECANICA DE SOLO UTILIZANDO CAMINHAO BASCULANTE 6,0M3","m³","CAC-006",{"$f":"IF($E$109=\"GERAL\",SUMIF('M. CÁL. CANAIS BOACICA'!$1:$1,\"Canal C*\",'M. CÁL. CANAIS BOACICA'!39:39),SUMIF('M. CÁL. CANAIS BOACICA'!$1:$1,$E$109,'M. CÁL. CANAIS BOACICA'!39:39))","v":3077.9717474905556},{"$f":"'C.C.U'!$G$196","v":1.3389680000000002},{"$f":"'C.C.U'!$J$196","v":1.6202911618514224},{"$f":"ROUND(J121*H121,2)","v":4987.21}]
["6.5.1.1.3",7,{"$f":"ROW()-ROW(C119)","v":3},{"$f":"D119&\".\"&C122","v":"6.5.1.1.3.3"},"TRANSPORTE COM CAMINHÃO BASCULANTE DE 6 M3, EM VIA URBANA EM REVESTIMENTO PRIMÁRIO","m³XKm","CAC-007",{"$f":"IF($E$109=\"GERAL\",SUMIF('M. CÁL. CANAIS BOACICA'!$1:$1,\"Canal C*\",'M. CÁL. CANAIS BOACICA'!40:40),SUMIF('M. CÁL. CANAIS BOACICA'!$1:$1,$E$109,'M. CÁL. CANAIS BOACICA'!40:40))","v":30779.717474905559},{"$f":"VLOOKUP(G122,'C.C.U'!D:L,4,0)","v":1.23},{"$f":"VLOOKUP(G122,'C.C.U'!D:L,7,0)","v":1.4884284979754925},{"$f":"ROUND(J122*H122,2)","v":45813.41}]
["6.5.1.1",6,4,{"$f":"$D$111&\".\"&C123","v":"6.5.1.1.4"},"RECOMPOSIÇÃO GEOMETRIA DO CANAL",{"$nulls":5},{"$f":"SUM(K124:K126)","v":415988.32}]
["6.5.1.1.4",7,{"$f":"ROW()-ROW(C123)","v":1},{"$f":"D123&\".\"&C124","v":"6.5.1.1.4.1"},"TRANSPORTE COM CAMINHÃO BASCULANTE DE 6 M3, EM VIA URBANA EM REVESTIMENTO PRIMÁRIO","m³XKm","CAC-007",{"$f":"H126*5","v":14367.323892009681},{"$f":"VLOOKUP(G124,'C.C.U'!D:L,4,0)","v":1.23},{"$f":"VLOOKUP(G124,'C.C.U'!D:L,7,0)","v":1.4884284979754925},{"$f":"ROUND(J124*H124,2)","v":21384.73}]
[null,null,4,{"$f":"D123&\".\"&C125","v":"6.5.1.1.4.4"},"PPREPARO E EXECUÇÃO DE SOLO-CIMENTO TRAÇO 1:12 EM VOLUME, (CIMENTO/ARENOSO), COM COMPACTAÇÃO E ESPALHAMENTO, PARA SUPORTE DE FUNDAÇÕES, INCLUSIVE CIMENTO E ARENOSO COMERCIAL ","m³","CAC-018",{"$f":"IF($E$109=\"GERAL\",SUMIF('M. CÁL. CANAIS BOACICA'!$1:$1,\"Canal C*\",'M. CÁL. CANAIS BOACICA'!41:41),SUMIF('M. CÁL. CANAIS BOACICA'!$1:$1,$E$109,'M. CÁL. CANAIS BOACICA'!41:41))","v":932.71871136077448},{"$f":"VLOOKUP(G125,'C.C.U'!D:L,4,0)","v":251.19119999999998},{"$f":"VLOOKUP(G125,'C.C.U'!D:L,7,0)","v":303.967593919237},{"$f":"ROUND(J125*H125,2)","v":283516.26}]
["6.5.1.1.4",7,{"$f":"ROW()-ROW(C123)","v":3},{"$f":"D123&\".\"&C126","v":"6.5.1.1.4.3"},"ATERRO MANUAL COM MATERIAL DE EMPRÉSTIMO, COMPACTAÇÃO MECANIZADA  E REGULARIZAÇÃO DO TALUDE","m²","CAC-015",{"$f":"IF($E$109=\"GERAL\",SUMIF('M. CÁL. CANAIS BOACICA'!$1:$1,\"Canal C*\",'M. CÁL. CANAIS BOACICA'!42:42),SUMIF('M. CÁL. CANAIS BOACICA'!$1:$1,$E$109,'M. CÁL. CANAIS BOACICA'!42:42))","v":2873.4647784019362},{"$f":"VLOOKUP(G126,'C.C.U'!D:L,4,0)","v":31.947420000000001},{"$f":"VLOOKUP(G126,'C.C.U'!D:L,7,0)","v":38.659715743733507},{"$f":"ROUND(J126*H126,2)","v":111087.33}]
["6.5.1.1",6,5,{"$f":"$D$111&\".\"&C127","v":"6.5.1.1.5"},"ASSENTAMENTE DE MANTA PEAD",{"$nulls":5},{"$f":"SUM(K128:K130)","v":339293.29000000004}]
["6.5.1.1.5",7,{"$f":"ROW()-ROW(C127)","v":1},{"$f":"D127&\".\"&C128","v":"6.5.1.1.5.1"},"ESCAVAÇÃO MANUAL DE VALAS ","m³","CAC-022",{"$f":"IF($E$109=\"GERAL\",SUMIF('M. CÁL. CANAIS BOACICA'!$1:$1,\"Canal C*\",'M. CÁL. CANAIS BOACICA'!43:43),SUMIF('M. CÁL. CANAIS BOACICA'!$1:$1,$E$109,'M. CÁL. CANAIS BOACICA'!43:43))","v":216.66720000000007},{"$f":"VLOOKUP(G128,'C.C.U'!D:L,4,0)","v":56.57},{"$f":"VLOOKUP(G128,'C.C.U'!D:L,7,0)","v":68.455609862173674},{"$f":"ROUND(J128*H128,2)","v":14832.09}]
["6.5.1.1.5",7,{"$f":"ROW()-ROW(C127)","v":2},{"$f":"D127&\".\"&C129","v":"6.5.1.1.5.2"},"FORNECIMENTO E INSTALAÇÃO DE GEOMEMBRANA TEXTURIZADA EM AMBAS AS FACES, ESP. = 1,00 MM","m²","CAC-017",{"$f":"IF($E$109=\"GERAL\",SUMIF('M. CÁL. CANAIS BOACICA'!$1:$1,\"Canal C*\",'M. CÁL. CANAIS BOACICA'!44:44),SUMIF('M. CÁL. CANAIS BOACICA'!$1:$1,$E$109,'M. CÁL. CANAIS BOACICA'!44:44))","v":11493.859113607745},{"$f":"VLOOKUP(G129,'C.C.U'!D:L,4,0)","v":22.942463600000004},{"$f":"VLOOKUP(G129,'C.C.U'!D:L,7,0)","v":27.762777752849932},{"$f":"ROUND(J129*H129,2)","v":319101.46000000002}]
["6.5.1.1.5",7,{"$f":"ROW()-ROW(C127)","v":3},{"$f":"D127&\".\"&C130","v":"6.5.1.1.5.3"},"REATERRO COM COMPACTACAO MECANIZADA DAS VALAS","m³","CAC-012",{"$f":"IF($E$109=\"GERAL\",SUMIF('M. CÁL. CANAIS BOACICA'!$1:$1,\"Canal C*\",'M. CÁL. CANAIS BOACICA'!45:45),SUMIF('M. CÁL. CANAIS BOACICA'!$1:$1,$E$109,'M. CÁL. CANAIS BOACICA'!45:45))","v":216.66720000000007},{"$f":"VLOOKUP(G130,'C.C.U'!D:L,4,0)","v":20.442219999999999},{"$f":"VLOOKUP(G130,'C.C.U'!D:L,7,0)","v":24.737221796654122},{"$f":"ROUND(J130*H130,2)","v":5359.74}]
["6.5.1.1",6,6,{"$f":"$D$111&\".\"&C131","v":"6.5.1.1.6"},"REVESTIMENTO CANAL FINAL",{"$nulls":5},{"$f":"SUM(K132:K133)","v":324809.05000000005}]
["6.5.1.1.6",7,{"$f":"ROW()-ROW(C131)","v":1},{"$f":"D131&\".\"&C132","v":"6.5.1.1.6.1"},"ARMACAO EM TELA DE ACO SOLDADA NERVURADA Q-138, ACO CA-60, 4,2MM, MALHA 15X15 CM PARA REVESTIMENTO DO CANAL TRAPEZOIDAL","m²","CAC-028",{"$f":"IF($E$109=\"GERAL\",SUMIF('M. CÁL. CANAIS BOACICA'!$1:$1,\"Canal C*\",'M. CÁL. CANAIS BOACICA'!46:46),SUMIF('M. CÁL. CANAIS BOACICA'!$1:$1,$E$109,'M. CÁL. CANAIS BOACICA'!46:46))","v":9327.1871136077461},{"$f":"VLOOKUP(G132,'C.C.U'!D:L,4,0)","v":9.1443999999999992},{"$f":"VLOOKUP(G132,'C.C.U'!D:L,7,0)","v":11.065679314542352},{"$f":"ROUND(J132*H132,2)","v":103211.66}]
["6.5.1.1.6",7,{"$f":"ROW()-ROW(C131)","v":2},{"$f":"D131&\".\"&C133","v":"6.5.1.1.6.2"},"CONCRETO FCK=20MPA PARA ESTRUTURAS, INCLUINDO PREPARO MECANICO, LANCAMENTO E ADENSAMENTO","m³","CAC-033",{"$f":"IF($E$109=\"GERAL\",SUMIF('M. CÁL. CANAIS BOACICA'!$1:$1,\"Canal C*\",'M. CÁL. CANAIS BOACICA'!47:47),SUMIF('M. CÁL. CANAIS BOACICA'!$1:$1,$E$109,'M. CÁL. CANAIS BOACICA'!47:47))","v":466.35935568038724},{"$f":"VLOOKUP(G133,'C.C.U'!D:L,4,0)","v":392.66399999999999},{"$f":"VLOOKUP(G133,'C.C.U'!D:L,7,0)","v":475.16446156833234},{"$f":"ROUND(J133*H133,2)","v":221597.39}]
["6",2,{"$f":"RIGHT(D134,LEN(D134)-SEARCH(\".\",D134,1))","v":"6"},"6.6","CANAL CLII-13 e DERIVADOS"]
["6.6",3,1,{"$f":"D134&\".\"&C135","v":"6.6.1"},"OBRAS EM CANAL"]
["6.6.1",4,1,{"$f":"D135&\".\"&C136","v":"6.6.1.1"},{"$f":"\"TRECHO TRAPEZOIDAL - RECUPERAÇÃO GEOMETRICA DA SEÇÃO COM SOLO-CIMENTO, MANTA DE PEAD 1 MM, TELA DE AÇO, 5 CM CONCRETO - L = \"&H138&\" m\"","v":"TRECHO TRAPEZOIDAL - RECUPERAÇÃO GEOMETRICA DA SEÇÃO COM SOLO-CIMENTO, MANTA DE PEAD 1 MM, TELA DE AÇO, 5 CM CONCRETO - L = 1674,12 m"},{"$nulls":5},{"$f":"K137+K139+K144+K148+K152+K156","v":754093.04999999993}]
["6.6.1.1",5,1,{"$f":"D136&\".\"&C137","v":"6.6.1.1.1"},"LOCAÇÃO E NIVELAMENTO COM EQUIPAMENTO TOPOGRÁFICO",{"$nulls":5},{"$f":"K138","v":4062.38}]
["6.6.1.1.1",6,{"$f":"ROW()-ROW(C137)","v":1},{"$f":"D137&\".\"&C138","v":"6.6.1.1.1.1"},"LOCACAO E NIVELAMENTO DE REDE DE CANAIS COLETORES DE IRRIGAÇÃO COM AUXILIO DE EQUIPAMENTO TOPOGRAFICO ","m","CAC-002",{"$f":"IF($E$134=\"GERAL\",SUMIF('M. CÁL. CANAIS BOACICA'!$1:$1,\"Canal C*\",'M. CÁL. CANAIS BOACICA'!33:33),SUMIF('M. CÁL. CANAIS BOACICA'!$1:$1,$E$134,'M. CÁL. CANAIS BOACICA'!33:33))","v":1674.12},{"$f":"VLOOKUP(G138,'C.C.U'!D:L,4,0)","v":2.0052599999999998},{"$f":"VLOOKUP(G138,'C.C.U'!D:L,7,0)","v":2.426574089309216},{"$f":"ROUND(J138*H138,2)","v":4062.38}]
["6.6.1.1",5,2,{"$f":"D136&\".\"&C139","v":"6.6.1.1.2"},"REMOÇÃO DA ESTRUTURA (REVESTIMENTO) EXISTENTE",{"$nulls":5},{"$f":"K140+K141+K142+K143","v":33357.86}]
["6.6.1.1.2",6,{"$f":"ROW()-ROW(C139)","v":1},{"$f":"D139&\".\"&C140","v":"6.6.1.1.2.1"},"LIMPEZA MANUAL DE VEGETAÇÃO EM TERRENO COM ENXADA","m²","CAC-001",{"$f":"IF($E$134=\"GERAL\",SUMIF('M. CÁL. CANAIS BOACICA'!$1:$1,\"Canal C*\",'M. CÁL. CANAIS BOACICA'!34:34),SUMIF('M. CÁL. CANAIS BOACICA'!$1:$1,$E$134,'M. CÁL. CANAIS BOACICA'!34:34))","v":1674.12},{"$f":"VLOOKUP(G140,'C.C.U'!D:L,4,0)","v":2.2799999999999998},{"$f":"VLOOKUP(G140,'C.C.U'!D:L,7,0)","v":2.7590381913692053},{"$f":"ROUND(J140*H140,2)","v":4618.96}]
["6.6.1.1.2",6,{"$f":"ROW()-ROW(C139)","v":2},{"$f":"D139&\".\"&C141","v":"6.6.1.1.2.2"},"DEMOLIÇÃO DE PLACAS EM CONCRETO ( MECANICAMENTE)","m³","CAC-003",{"$f":"IF($E$134=\"GERAL\",SUMIF('M. CÁL. CANAIS BOACICA'!$1:$1,\"Canal C*\",'M. CÁL. CANAIS BOACICA'!35:35),SUMIF('M. CÁL. CANAIS BOACICA'!$1:$1,$E$134,'M. CÁL. CANAIS BOACICA'!35:35))","v":412.01752646840276},{"$f":"VLOOKUP(G141,'C.C.U'!D:L,4,0)","v":42.268500000000003},{"$f":"VLOOKUP(G141,'C.C.U'!D:L,7,0)","v":51.149300785916353},{"$f":"ROUND(J141*H141,2)","v":21074.41}]
["6.6.1.1.2",6,{"$f":"ROW()-ROW(C139)","v":3},{"$f":"D139&\".\"&C142","v":"6.6.1.1.2.3"},"CARGA E DESCARGA MECANIZADAS DE ENTULHO EM CAMINHAO BASCULANTE 6 M3","m³","CAC-005",{"$f":"IF($E$134=\"GERAL\",SUMIF('M. CÁL. CANAIS BOACICA'!$1:$1,\"Canal C*\",'M. CÁL. CANAIS BOACICA'!36:36),SUMIF('M. CÁL. CANAIS BOACICA'!$1:$1,$E$134,'M. CÁL. CANAIS BOACICA'!36:36))","v":412.01752646840276},{"$f":"VLOOKUP(G142,'C.C.U'!D:L,4,0)","v":3.0724999999999998},{"$f":"VLOOKUP(G142,'C.C.U'!D:L,7,0)","v":3.7180459837639841},{"$f":"ROUND(J142*H142,2)","v":1531.9}]
["6.6.1.1.2",6,{"$f":"ROW()-ROW(C139)","v":4},{"$f":"D139&\".\"&C143","v":"6.6.1.1.2.4"},"TRANSPORTE COM CAMINHÃO BASCULANTE DE 6 M3, EM VIA URBANA EM REVESTIMENTO PRIMÁRIO","m³XKm","CAC-007",{"$f":"IF($E$134=\"GERAL\",SUMIF('M. CÁL. CANAIS BOACICA'!$1:$1,\"Canal C*\",'M. CÁL. CANAIS BOACICA'!37:37),SUMIF('M. CÁL. CANAIS BOACICA'!$1:$1,$E$134,'M. CÁL. CANAIS BOACICA'!37:37))","v":4120.1752646840278},{"$f":"VLOOKUP(G143,'C.C.U'!D:L,4,0)","v":1.23},{"$f":"VLOOKUP(G143,'C.C.U'!D:L,7,0)","v":1.4884284979754925},{"$f":"ROUND(J143*H143,2)","v":6132.59}]
["6.6.1.1",6,3,{"$f":"$D$136&\".\"&C144","v":"6.6.1.1.3"},"RETIRADA SOLO IMPRÓPRIO",{"$nulls":5},{"$f":"SUM(K145:K147)","v":36437.229999999996}]
["6.6.1.1.3",7,{"$f":"ROW()-ROW(C144)","v":1},{"$f":"D144&\".\"&C145","v":"6.6.1.1.3.1"},"ESCAVACAO MECANICA, A CEU ABERTO, EM MATERIAL DE 1A CATEGORIA, COM RETROESCAVADEIRA","m³","CAC-014",{"$f":"IF($E$134=\"GERAL\",SUMIF('M. CÁL. CANAIS BOACICA'!$1:$1,\"Canal C*\",'M. CÁL. CANAIS BOACICA'!38:38),SUMIF('M. CÁL. CANAIS BOACICA'!$1:$1,$E$134,'M. CÁL. CANAIS BOACICA'!38:38))","v":1942.3683390653273},{"$f":"VLOOKUP(G145,'C.C.U'!D:L,4,0)","v":1.8631480000000002},{"$f":"VLOOKUP(G145,'C.C.U'!D:L,7,0)","v":2.2546037228829618},{"$f":"ROUND(J145*H145,2)","v":4379.2700000000004}]
["6.6.1.1.3",7,{"$f":"ROW()-ROW(C144)","v":2},{"$f":"D144&\".\"&C146","v":"6.6.1.1.3.2"},"CARGA E DESCARGA MECANICA DE SOLO UTILIZANDO CAMINHAO BASCULANTE 6,0M3","m³","CAC-006",{"$f":"IF($E$134=\"GERAL\",SUMIF('M. CÁL. CANAIS BOACICA'!$1:$1,\"Canal C*\",'M. CÁL. CANAIS BOACICA'!39:39),SUMIF('M. CÁL. CANAIS BOACICA'!$1:$1,$E$134,'M. CÁL. CANAIS BOACICA'!39:39))","v":1942.3683390653273},{"$f":"'C.C.U'!$G$196","v":1.3389680000000002},{"$f":"'C.C.U'!$J$196","v":1.6202911618514224},{"$f":"ROUND(J146*H146,2)","v":3147.2}]
["6.6.1.1.3",7,{"$f":"ROW()-ROW(C144)","v":3},{"$f":"D144&\".\"&C147","v":"6.6.1.1.3.3"},"TRANSPORTE COM CAMINHÃO BASCULANTE DE 6 M3, EM VIA URBANA EM REVESTIMENTO PRIMÁRIO","m³XKm","CAC-007",{"$f":"IF($E$134=\"GERAL\",SUMIF('M. CÁL. CANAIS BOACICA'!$1:$1,\"Canal C*\",'M. CÁL. CANAIS BOACICA'!40:40),SUMIF('M. CÁL. CANAIS BOACICA'!$1:$1,$E$134,'M. CÁL. CANAIS BOACICA'!40:40))","v":19423.683390653274},{"$f":"VLOOKUP(G147,'C.C.U'!D:L,4,0)","v":1.23},{"$f":"VLOOKUP(G147,'C.C.U'!D:L,7,0)","v":1.4884284979754925},{"$f":"ROUND(J147*H147,2)","v":28910.76}]
["6.6.1.1",6,4,{"$f":"$D$136&\".\"&C148","v":"6.6.1.1.4"},"RECOMPOSIÇÃO GEOMETRIA DO CANAL",{"$nulls":5},{"$f":"SUM(K149:K151)","v":262188.73}]
["6.6.1.1.4",7,{"$f":"ROW()-ROW(C148)","v":1},{"$f":"D148&\".\"&C149","v":"6.6.1.1.4.1"},"TRANSPORTE COM CAMINHÃO BASCULANTE DE 6 M3, EM VIA URBANA EM REVESTIMENTO PRIMÁRIO","m³XKm","CAC-007",{"$f":"H151*5","v":9031.5758297929078},{"$f":"VLOOKUP(G149,'C.C.U'!D:L,4,0)","v":1.23},{"$f":"VLOOKUP(G149,'C.C.U'!D:L,7,0)","v":1.4884284979754925},{"$f":"ROUND(J149*H149,2)","v":13442.85}]
[null,null,4,{"$f":"D148&\".\"&C150","v":"6.6.1.1.4.4"},"PPREPARO E EXECUÇÃO DE SOLO-CIMENTO TRAÇO 1:12 EM VOLUME, (CIMENTO/ARENOSO), COM COMPACTAÇÃO E ESPALHAMENTO, PARA SUPORTE DE FUNDAÇÕES, INCLUSIVE CIMENTO E ARENOSO COMERCIAL ","m³","CAC-018",{"$f":"IF($E$134=\"GERAL\",SUMIF('M. CÁL. CANAIS BOACICA'!$1:$1,\"Canal C*\",'M. CÁL. CANAIS BOACICA'!41:41),SUMIF('M. CÁL. CANAIS BOACICA'!$1:$1,$E$134,'M. CÁL. CANAIS BOACICA'!41:41))","v":588.59646638343258},{"$f":"VLOOKUP(G150,'C.C.U'!D:L,4,0)","v":251.19119999999998},{"$f":"VLOOKUP(G150,'C.C.U'!D:L,7,0)","v":303.967593919237},{"$f":"ROUND(J150*H150,2)","v":178914.25}]
["6.6.1.1.4",7,{"$f":"ROW()-ROW(C148)","v":3},{"$f":"D148&\".\"&C151","v":"6.6.1.1.4.3"},"ATERRO MANUAL COM MATERIAL DE EMPRÉSTIMO, COMPACTAÇÃO MECANIZADA  E REGULARIZAÇÃO DO TALUDE","m²","CAC-015",{"$f":"IF($E$134=\"GERAL\",SUMIF('M. CÁL. CANAIS BOACICA'!$1:$1,\"Canal C*\",'M. CÁL. CANAIS BOACICA'!42:42),SUMIF('M. CÁL. CANAIS BOACICA'!$1:$1,$E$134,'M. CÁL. CANAIS BOACICA'!42:42))","v":1806.3151659585815},{"$f":"VLOOKUP(G151,'C.C.U'!D:L,4,0)","v":31.947420000000001},{"$f":"VLOOKUP(G151,'C.C.U'!D:L,7,0)","v":38.659715743733507},{"$f":"ROUND(J151*H151,2)","v":69831.63}]
["6.6.1.1",6,5,{"$f":"$D$136&\".\"&C152","v":"6.6.1.1.5"},"ASSENTAMENTE DE MANTA PEAD",{"$nulls":5},{"$f":"SUM(K153:K155)","v":213074.59}]
["6.6.1.1.5",7,{"$f":"ROW()-ROW(C152)","v":1},{"$f":"D152&\".\"&C153","v":"6.6.1.1.5.1"},"ESCAVAÇÃO MANUAL DE VALAS ","m³","CAC-022",{"$f":"IF($E$134=\"GERAL\",SUMIF('M. CÁL. CANAIS BOACICA'!$1:$1,\"Canal C*\",'M. CÁL. CANAIS BOACICA'!43:43),SUMIF('M. CÁL. CANAIS BOACICA'!$1:$1,$E$134,'M. CÁL. CANAIS BOACICA'!43:43))","v":133.92960000000002},{"$f":"VLOOKUP(G153,'C.C.U'!D:L,4,0)","v":56.57},{"$f":"VLOOKUP(G153,'C.C.U'!D:L,7,0)","v":68.455609862173674},{"$f":"ROUND(J153*H153,2)","v":9168.23}]
["6.6.1.1.5",7,{"$f":"ROW()-ROW(C152)","v":2},{"$f":"D152&\".\"&C154","v":"6.6.1.1.5.2"},"FORNECIMENTO E INSTALAÇÃO DE GEOMEMBRANA TEXTURIZADA EM AMBAS AS FACES, ESP. = 1,00 MM","m²","CAC-017",{"$f":"IF($E$134=\"GERAL\",SUMIF('M. CÁL. CANAIS BOACICA'!$1:$1,\"Canal C*\",'M. CÁL. CANAIS BOACICA'!44:44),SUMIF('M. CÁL. CANAIS BOACICA'!$1:$1,$E$134,'M. CÁL. CANAIS BOACICA'!44:44))","v":7225.2606638343259},{"$f":"VLOOKUP(G154,'C.C.U'!D:L,4,0)","v":22.942463600000004},{"$f":"VLOOKUP(G154,'C.C.U'!D:L,7,0)","v":27.762777752849932},{"$f":"ROUND(J154*H154,2)","v":200593.31}]
["6.6.1.1.5",7,{"$f":"ROW()-ROW(C152)","v":3},{"$f":"D152&\".\"&C155","v":"6.6.1.1.5.3"},"REATERRO COM COMPACTACAO MECANIZADA DAS VALAS","m³","CAC-012",{"$f":"IF($E$134=\"GERAL\",SUMIF('M. CÁL. CANAIS BOACICA'!$1:$1,\"Canal C*\",'M. CÁL. CANAIS BOACICA'!45:45),SUMIF('M. CÁL. CANAIS BOACICA'!$1:$1,$E$134,'M. CÁL. CANAIS BOACICA'!45:45))","v":133.92960000000002},{"$f":"VLOOKUP(G155,'C.C.U'!D:L,4,0)","v":20.442219999999999},{"$f":"VLOOKUP(G155,'C.C.U'!D:L,7,0)","v":24.737221796654122},{"$f":"ROUND(J155*H155,2)","v":3313.05}]
["6.6.1.1",6,6,{"$f":"$D$136&\".\"&C156","v":"6.6.1.1.6"},"REVESTIMENTO CANAL FINAL",{"$nulls":5},{"$f":"SUM(K157:K158)","v":204972.26}]
["6.6.1.1.6",7,{"$f":"ROW()-ROW(C156)","v":1},{"$f":"D156&\".\"&C157","v":"6.6.1.1.6.1"},"ARMACAO EM TELA DE ACO SOLDADA NERVURADA Q-138, ACO CA-60, 4,2MM, MALHA 15X15 CM PARA REVESTIMENTO DO CANAL TRAPEZOIDAL","m²","CAC-028",{"$f":"IF($E$134=\"GERAL\",SUMIF('M. CÁL. CANAIS BOACICA'!$1:$1,\"Canal C*\",'M. CÁL. CANAIS BOACICA'!46:46),SUMIF('M. CÁL. CANAIS BOACICA'!$1:$1,$E$134,'M. CÁL. CANAIS BOACICA'!46:46))","v":5885.9646638343247},{"$f":"VLOOKUP(G157,'C.C.U'!D:L,4,0)","v":9.1443999999999992},{"$f":"VLOOKUP(G157,'C.C.U'!D:L,7,0)","v":11.065679314542352},{"$f":"ROUND(J157*H157,2)","v":65132.2}]
[{"$f":"IFERROR(LEFT(D158,LEN(D158)-(LEN(C158)+1)),0)","v":"6.6.1.1.6"},7,{"$f":"ROW()-ROW(C156)","v":2},{"$f":"D156&\".\"&C158","v":"6.6.1.1.6.2"},"CONCRETO FCK=20MPA PARA ESTRUTURAS, INCLUINDO PREPARO MECANICO, LANCAMENTO E ADENSAMENTO","m³","CAC-033",{"$f":"IF($E$134=\"GERAL\",SUMIF('M. CÁL. CANAIS BOACICA'!$1:$1,\"Canal C*\",'M. CÁL. CANAIS BOACICA'!47:47),SUMIF('M. CÁL. CANAIS BOACICA'!$1:$1,$E$134,'M. CÁL. CANAIS BOACICA'!47:47))","v":294.29823319171629},{"$f":"VLOOKUP(G158,'C.C.U'!D:L,4,0)","v":392.66399999999999},{"$f":"VLOOKUP(G158,'C.C.U'!D:L,7,0)","v":475.16446156833234},{"$f":"ROUND(J158*H158,2)","v":139840.06}]
[{"$nulls":9},"TOTAL",{"$f":"ROUND(SUM(K136+K111+K86+K61+K36+K11),2)","v":5641075.1799999997}]

{"sheet":"CRONOGRAMA","index":8,"n_rows":40,"n_cols":24,"rows_kept":40,"cut":false,"hidden":false,"merged":[[7,4,8,4],[4,1,5,23],[7,5,7,16],[7,23,8,23],[17,3,18,3],[17,1,18,1],[7,1,8,1],[7,2,8,2],[7,3,8,3],[33,1,34,1],[33,2,34,2],[33,3,34,3],[9,1,9,2],[10,1,11,1],[10,2,11,2],[10,3,11,3],[12,1,13,1],[12,2,13,2],[12,3,13,3],[14,1,15,1],[14,2,15,2],[19,1,20,1],[19,2,20,2],[19,3,20,3],[17,2,18,2],[21,2,22,2],[21,3,22,3],[23,2,24,2],[23,3,24,3],[39,1,39,4],[37,1,37,2],[38,1,38,2],[26,1,27,1],[26,2,27,2],[26,3,27,3],[28,2,29,2],[28,3,29,3],[35,2,36,2],[35,3,36,3],[30,2,31,2],[30,3,31,3]]}
[{"$nulls":4},"Ministério do Desenvolvimento Regional - MDR"]
[{"$nulls":4},"Companhia de Desenvolvimento dos Vales do São Francisco e do Parnaíba"]
[{"$nulls":4},"5ª Superintendência Regional"]
[]
[null,"CRONOGRAMA FÍSICO-FINANCEIRO"]
[]
[]
[null,"ITEM","ETAPA","TOTAL (R$) \n(C/BDI)","%","PERÍODO (MESES)",{"$nulls":17},"TOTAL"]
[{"$nulls":5},1,2,3,4,5,6,{"$f":"K9+1","v":7},8,9,10,11,12,{"$f":"Q9+1","v":13},{"$f":"R9+1","v":14},{"$f":"S9+1","v":15},{"$f":"T9+1","v":16},{"$f":"U9+1","v":17},{"$f":"V9+1","v":18}]
[null,"S E R V I Ç O S"]
[null,{"$f":"'ORÇ. GERAL'!B8","v":1},{"$f":"'ORÇ. GERAL'!C8","v":"SERVIÇOS GERAIS E DE APOIO"},{"$f":"'ORÇ. GERAL'!D8","v":148990.42000000001},{"$f":"D11","v":148990.42000000001},{"$f":"ROUND(F12*$E$11,4)","v":40227.413399999998},20083.908599999999,5542.4435999999996,5542.4435999999996,5542.4435999999996,5542.4435999999996,5542.4435999999996,5542.4435999999996,5542.4435999999996,5542.4435999999996,5542.4435999999996,5542.4435999999996,5542.4435999999996,5542.4435999999996,5542.4435999999996,5542.4435999999996,5542.4435999999996,5542.4435999999996,{"$f":"SUM(F11:W11)","v":148990.41959999999}]
[{"$nulls":4},{"$f":"ROUND(E11/$D$38,4)","v":9.1000000000000004E-3},0.27,0.1348,3.7199999999999997E-2,3.7199999999999997E-2,3.7199999999999997E-2,3.7199999999999997E-2,3.7199999999999997E-2,3.7199999999999997E-2,3.7199999999999997E-2,3.7199999999999997E-2,3.7199999999999997E-2,3.7199999999999997E-2,3.7199999999999997E-2,3.7199999999999997E-2,3.7199999999999997E-2,3.7199999999999997E-2,3.7199999999999997E-2,3.7199999999999997E-2,{"$f":"ROUND(X11/D11,4)","v":1}]
[null,{"$f":"'ORÇ. GERAL'!B9","v":2},{"$f":"'ORÇ. GERAL'!C9","v":"ADMINISTRAÇÃO LOCAL / MANUTENÇÃO DO CANTEIRO DE OBRAS"},{"$f":"'ORÇ. GERAL'!D9","v":732505.03},{"$f":"D13","v":732505.03},{"$f":"ROUND(F14*$E$13,4)","v":14650.1006},{"$f":"ROUND(G14*$E$13,4)","v":66218.454700000002},40727.279699999999,40727.279699999999,40727.279699999999,40727.279699999999,40727.279699999999,40727.279699999999,40727.279699999999,40727.279699999999,40727.279699999999,40727.279699999999,40727.279699999999,40727.279699999999,40727.279699999999,40727.279699999999,40727.279699999999,40727.279699999999,{"$f":"SUM(F13:W13)","v":732505.03049999988}]
[{"$nulls":4},{"$f":"ROUND(E13/$D$38,4)","v":4.4900000000000002E-2},0.02,9.0399999999999994E-2,5.5599999999999997E-2,5.5599999999999997E-2,5.5599999999999997E-2,5.5599999999999997E-2,5.5599999999999997E-2,5.5599999999999997E-2,5.5599999999999997E-2,5.5599999999999997E-2,5.5599999999999997E-2,5.5599999999999997E-2,5.5599999999999997E-2,5.5599999999999997E-2,5.5599999999999997E-2,5.5599999999999997E-2,5.5599999999999997E-2,5.5599999999999997E-2,{"$f":"ROUND(X13/D13,4)","v":1}]
[null,{"$f":"'ORÇ. GERAL'!B10","v":3},{"$f":"'ORÇ. GERAL'!C10","v":"RECUPERAÇÃO E ADEQUAÇÃO DO SISTEMA DE CONDUÇÃO (CANAL DE IRRIGAÇÃO)\n - 4933 M CANAL ADUTOR LESTE - PERÍMETRO ITIÚBA"}]
[]
[null,null,{"$f":"'ORÇ. GERAL'!C11","v":"CANAL ADUTOR LESTE"}]
[null,null,{"$f":"'ORÇ. GERAL'!C12","v":"CANAL TRAPEZOIDAL - 4.933,41 M"},{"$f":"'ORÇ. GERAL'!D12","v":3288319.96},{"$f":"D18","v":3288319.96},{"$f":"ROUND(F19*$E$18,4)","v":0},{"$f":"ROUND(G19*$E$18,4)","v":205519.9975},205519.9975,205519.9975,205519.9975,205519.9975,205519.9975,205519.9975,205519.9975,205519.9975,205519.9975,205519.9975,205519.9975,205519.9975,205519.9975,205519.9975,205519.9975,0,{"$f":"SUM(F18:W18)","v":3288319.9600000004}]
[{"$nulls":4},{"$f":"ROUND(E18/$D$38,4)","v":0.2014},0,6.25E-2,6.25E-2,6.25E-2,6.25E-2,6.25E-2,6.25E-2,6.25E-2,6.25E-2,6.25E-2,6.25E-2,6.25E-2,6.25E-2,6.25E-2,6.25E-2,6.25E-2,6.25E-2,null,{"$f":"ROUND(X18/D18,4)","v":1}]
[null,{"$f":"'ORÇ. GERAL'!B13","v":4},{"$f":"'ORÇ. GERAL'!C13","v":"RECUPERAÇÃO PARCIAL DO DIQUE ITIÚBA"}]
[]
[null,null,{"$f":"'ORÇ. GERAL'!C14","v":"TRECHO I"},{"$f":"'ORÇ. GERAL'!D14","v":1410904.2200000002},{"$f":"D22","v":1410904.2200000002},{"$f":"ROUND(F23*$E$22,4)","v":0},0,211635.633,211635.633,211635.633,352726.05499999999,141090.42199999999,141090.42199999999,141090.42199999999,0,{"$f":"ROUND(P23*$E$22,4)","v":0},{"$f":"ROUND(Q23*$E$22,4)","v":0},{"$f":"ROUND(R23*$E$22,4)","v":0},0,0,0,{"$f":"ROUND(V23*$E$22,4)","v":0},{"$f":"ROUND(W23*$E$22,4)","v":0},{"$f":"SUM(F22:W22)","v":1410904.22}]
[{"$nulls":4},{"$f":"ROUND(E22/$D$38,4)","v":8.6400000000000005E-2},0,0,0.15,0.15,0.15,0.25,0.1,0.1,0.1,0,0,0,0,0,0,0,0,0,{"$f":"ROUND(X22/D22,4)","v":1}]
[null,null,{"$f":"'ORÇ. GERAL'!C15","v":"TRECHO II"},{"$f":"'ORÇ. GERAL'!D15","v":2327306.7599999998},{"$f":"D24","v":2327306.7599999998},{"$f":"ROUND(F25*$E$24,4)","v":0},{"$f":"ROUND(G25*$E$24,4)","v":0},349096.01400000002,349096.01400000002,349096.01400000002,581826.68999999994,232730.67600000001,232730.67600000001,232730.67600000001,0,0,0,0,0,0,0,0,0,{"$f":"SUM(F24:W24)","v":2327306.7600000002}]
[{"$nulls":4},{"$f":"ROUND(E24/$D$38,4)","v":0.14249999999999999},0,0,0.15,0.15,0.15,0.25,0.1,0.1,0.1,0,0,0,0,0,0,0,0,0,{"$f":"ROUND(X24/D24,4)","v":1}]
[]
[null,{"$f":"'ORÇ. GERAL'!B16","v":5},{"$f":"'ORÇ. GERAL'!C16","v":"RECUPERAÇÃO E ADEQUAÇÃO DO SISTEMA DE CONDUÇÃO - 4933 M CANAL P12 E TRIBUTÁRIOS PERÍMETRO ITIÚBA"}]
[]
[null,null,{"$f":"'ORÇ. GERAL'!C18","v":"CANAL TRAPEZOIDAL - 5251,72 M"},{"$f":"'ORÇ. GERAL'!D18","v":2439126.4000000004},{"$f":"D29","v":2439126.4000000004},{"$f":"ROUND(F30*$E$29,4)","v":0},{"$f":"ROUND(G30*$E$29,4)","v":0},152445.4,152445.4,152445.4,152445.4,152445.4,152445.4,152445.4,152445.4,152445.4,152445.4,152445.4,152445.4,152445.4,152445.4,152445.4,152445.4,{"$f":"SUM(F29:W29)","v":2439126.3999999994}]
[{"$nulls":4},{"$f":"ROUND(E29/$D$38,4)","v":0.14940000000000001},0,0,6.25E-2,6.25E-2,6.25E-2,6.25E-2,6.25E-2,6.25E-2,6.25E-2,6.25E-2,6.25E-2,6.25E-2,6.25E-2,6.25E-2,6.25E-2,6.25E-2,6.25E-2,6.25E-2,{"$f":"ROUND(X29/D29,4)","v":1}]
[null,null,{"$f":"'ORÇ. GERAL'!C19","v":"RECONSTRUÇÃO DE CANAL COM A RETIRADA DE CANAL TRAPEZOIDAL EXISTENTE E \nEXECUÇÃO DE CANAL RETANGULAR EM CONCRETO ARMADO - 1.014,84 m"},{"$f":"'ORÇ. GERAL'!D19","v":338982.06},{"$f":"D31","v":338982.06},{"$f":"ROUND(F32*$E$31,4)","v":0},{"$f":"ROUND(G32*$E$31,4)","v":0},0,0,0,0,0,0,33898.205999999998,33898.205999999998,33898.205999999998,33898.205999999998,33898.205999999998,33898.205999999998,33898.205999999998,33898.205999999998,33898.205999999998,33898.205999999998,{"$f":"SUM(F31:W31)","v":338982.06}]
[{"$nulls":4},{"$f":"ROUND(E31/$D$38,4)","v":2.0799999999999999E-2},0,0,0,0,0,0,0,0,0.1,0.1,0.1,0.1,0.1,0.1,0.1,0.1,0.1,0.1,{"$f":"ROUND(X31/D31,4)","v":1}]
[]
[null,{"$f":"'ORÇ. GERAL'!B20","v":6},{"$f":"'ORÇ. GERAL'!C20","v":"RECUPERAÇÃO E ADEQUAÇÃO DO SISTEMA DE CONDUÇÃO (CANAL DE IRRIGAÇÃO)\n - PERÍMETRO BOACICA"}]
[]
[null,null,{"$f":"'ORÇ. GERAL'!C21","v":"CANAIS DE IRRIGAÇÃO PERÍMETRO IRRIGADO BOACICA - TOTAL 8.539,54 m   \n( CLI  e CLII - E SEUS DERIVADOS)"},{"$f":"'ORÇ. GERAL'!D21","v":5641075.1799999997},{"$f":"D36","v":5641075.1799999997},{"$f":"ROUND(F37*$E$36,4)","v":0},{"$f":"ROUND(G37*$E$36,4)","v":352567.19880000001},352567.19880000001,352567.19880000001,352567.19880000001,352567.19880000001,352567.19880000001,352567.19880000001,352567.19880000001,352567.19880000001,352567.19880000001,352567.19880000001,352567.19880000001,352567.19880000001,352567.19880000001,352567.19880000001,352567.19880000001,0,{"$f":"SUM(F36:W36)","v":5641075.1808000011}]
[{"$nulls":4},{"$f":"ROUND(E36/$D$38,4)","v":0.34549999999999997},0,6.25E-2,6.25E-2,6.25E-2,6.25E-2,6.25E-2,6.25E-2,6.25E-2,6.25E-2,6.25E-2,6.25E-2,6.25E-2,6.25E-2,6.25E-2,6.25E-2,6.25E-2,6.25E-2,0,{"$f":"ROUND(X36/D36,4)","v":1}]
[null,"TOTAL GERAL (R$) ",null,{"$f":"SUM(D11:D37)","v":16327210.030000001},{"$f":"E24+E22+E18+E13+E11+E29+E31+E36","v":16327210.029999999},54877.513999999996,644389.55960000004,1317533.9665999999,1317533.9665999999,1317533.9665999999,1691355.0646000002,1130623.4176,1130623.4176,1164521.6236,790700.52560000005,790700.52560000005,790700.52560000005,790700.52560000005,790700.52560000005,790700.52560000005,790700.52560000005,790700.52560000005,232613.32929999998,16327210.030900002]
[null,"TOTAL (%) ",null,1,{"$f":"E38/$D$38","v":0.99999999999999989},3.3611078622230472E-3,3.9467218123364831E-2,8.0695597360426669E-2,8.0695597360426669E-2,8.0695597360426669E-2,{"$f":"K38/$D$38","v":0.10359118682813931},{"$f":"L38/$D$38","v":6.9247802626570362E-2},6.9247802626570362E-2,7.1323981345268447E-2,4.8428391877555828E-2,4.8428391877555828E-2,4.8428391877555828E-2,{"$f":"R38/$D$38","v":4.8428391877555828E-2},4.8428391877555828E-2,4.8428391877555828E-2,4.8428391877555828E-2,4.8428391877555828E-2,1.4246973541259698E-2,{"$f":"X38/$D$38","v":1.0000000000551228}]
[null,"TOTAL ACUMULADO(%)  ",null,null,null,{"$f":"F39","v":3.3611078622230472E-3},{"$f":"G39+F40","v":4.2828325985587876E-2},0.12352392334601454,0.20421952070644123,0.28491511806686787,0.38850630489500715,0.45775410752157752,0.5270019101481479,0.59832589149341631,0.64675428337097218,0.69518267524852806,0.74361106712608394,{"$f":"R39+Q40","v":0.79203945900363981},{"$f":"S39+R40","v":0.84046785088119569},{"$f":"T39+S40","v":0.88889624275875156},{"$f":"U39+T40","v":0.93732463463630744},{"$f":"V39+U40","v":0.98575302651386332},{"$f":"W39+V40","v":1.000000000055123}]

{"sheet":"M. CÁL. ADUTOR LESTE","index":9,"n_rows":101,"n_cols":91,"rows_kept":101,"cut":false,"hidden":false,"merged":[[0,0,4,8],[6,0,6,3],[7,0,7,3],[87,0,100,0],[12,0,36,0],[52,0,86,0],[8,0,11,0],[9,1,9,3],[10,1,10,3],[37,0,51,0]]}
["MEMÓRIA DE CÁLCULO CANALA ADUTOR LESTE"]
[]
[]
[]
[]
[]
["CANAIS PRINCIPAIS",null,null,null,"ADUTOR LESTE","ADUTOR LESTE","ADUTOR LESTE","ADUTOR LESTE","ADUTOR LESTE","ADUTOR LESTE","CANAL P1 e DERIVADOS","CANAL P1 e DERIVADOS","CANAL P1 e DERIVADOS","CANAL P1 e DERIVADOS","CANAL P1 e DERIVADOS","CANAL P1 e DERIVADOS","CANAL P1 e DERIVADOS","CANAL P1 e DERIVADOS","CANAL P1 e DERIVADOS","CANAL P1 e DERIVADOS","CANAL P2 e DERIVADOS","CANAL P2 e DERIVADOS","CANAL P2 e DERIVADOS","CANAL P2 e DERIVADOS","CANAL P2 e DERIVADOS","CANAL P2 e DERIVADOS","CANAL P2 e DERIVADOS","CANAL P2 e DERIVADOS","CANAL P3A e DERIVADOS","CANAL P3 e DERIVADOS","CANAL P3A e DERIVADOS","CANAL P4 e DERIVADOS","CANAL P4 e DERIVADOS","CANAL P4 e DERIVADOS","CANAL P4 e DERIVADOS","CANAL P4 e DERIVADOS","CANAL P4 e DERIVADOS","CANAL P4 e DERIVADOS","CANAL P5 e DERIVADOS","CANAL P5 e DERIVADOS","CANAL P5 e DERIVADOS","CANAL P6 e DERIVADOS","CANAL P7 e DERIVADOS","CANAL P7 e DERIVADOS","CANAL P8 e DERIVADOS","CANAL P8 e DERIVADOS","CANAL P9 e DERIVADOS","CANAL P10 e DERIVADOS","CANAL P10 e DERIVADOS","CANAL P10 e DERIVADOS","CANAL P11 e DERIVADOS","CANAL P11 e DERIVADOS","CANAL P11 e DERIVADOS","CANAL P11 e DERIVADOS","CANAL P11 e DERIVADOS","CANAL P11 e DERIVADOS","CANAL P11 e DERIVADOS","CANAL P11 e DERIVADOS","CANAL P12 e DERIVADOS","CANAL P12 e DERIVADOS","CANAL P12 e DERIVADOS","CANAL P13 e DERIVADOS","CANAL P13 e DERIVADOS","CANAL P15 e DERIVADOS","CANAL P12 e DERIVADOS","CANAL P12 e DERIVADOS","CANAL P12 e DERIVADOS","CANAL P12 e DERIVADOS","CANAL P12 e DERIVADOS","CANAL P12 e DERIVADOS","CANAL P12 e DERIVADOS","CANAL P12 e DERIVADOS","CANAL P12 e DERIVADOS","CANAL P12 e DERIVADOS","CANAL P12 e DERIVADOS","CANAL P12 e DERIVADOS","CANAL P16 e DERIVADOS","CANAL P16 e DERIVADOS","CANAL P16 e DERIVADOS","CANAL P12 e DERIVADOS","CANAL P12 e DERIVADOS","CANAL P12 e DERIVADOS","CANAL P12 e DERIVADOS","CANAL P12 e DERIVADOS","CANAL P12 e DERIVADOS","CANAL P12 e DERIVADOS","CANAL P12 e DERIVADOS","CANAL P13 e DERIVADOS","CANAL P13 e DERIVADOS","CANAL P13 e DERIVADOS","CANAL P13 e DERIVADOS"]
["CANAL / TRECHO",null,null,null,"CANAL ADUTOR LESTE trecho1","CANAL ADUTOR LESTE trecho2","CANAL ADUTOR LESTE trecho3","CANAL ADUTOR LESTE trecho4","CANAL ADUTOR LESTE trecho5","CANAL ADUTOR LESTE trecho6"," P1 trecho1"," P1 trecho2"," P1 trecho3"," P1 trecho4","S1 P1 A","S1 P1","T1 S1 P1","S2 P1","S3 P1","S4 P1","P2 trecho1","P2 trecho2","P2 trecho3","S1 P2","S2 P2 trecho1","S2 P2 trecho2","T1 S1 P2","T2 S1 P2","P3A","P3","S2 P3A","P4","S1 P4","S2 P4 trecho1","S2 P4 trecho2","S2 P4 trecho3","T1 S2 P4","S3 P4","P5","S1 P5","S2 P5","P6","S1 P7","S2 P7","P8 trecho1","P8 trecho2","P9","P10","S1 P10","S2 P10","P11","S1 P11 trecho1","S1 P11 trecho2","T1 S1 P11","T1 S2 P11","T2 S1 P11","S2 P11","T2 S2 P11","S4 P12","S5 P12","T1 S5 P12","S2 P13","T1 S2 P13","P15","P12 trecho1","P12 trecho2","P12 trecho3","P12 trecho4","P12 trecho5","P12 trecho6","P12 trecho7","P12 trecho8","P12 trecho9","P12 trecho10","P12 trecho11","P12 trecho12","P16 trecho1","P16 trecho2","P16 trecho3","S1 P12 trecho1","S1 P12 trecho2","S1 P12 trecho3","S2 P12 trecho1","S2 P12 trecho2","S2 P12 trecho3","S2 P12 trecho4","S3 P12","P13 trecho1","P13 trecho2","S1 P13","T1 S1 P13"]
["LOCAÇÃO","COMPRIMENTO ACUMULADO POR CANAL","Lcum=","m",1730.64,2609.62,2994.73,4560,4933.41,7352.54,74.58,438.69,1570.13,2036.42,420.96,335.88,372.04,306.83999999999997,112.09,135.13,34.11,53.629999999999995,82.84,786.65,236.58,918.48,84.03,361.89,72.91,65.69,219.75,247.88,477.11,209.22,523.64,862.56999999999994,192.77,783.55,66.069999999999993,787.38,803.89,662.45,237.59,890.01,418.7,720.83999999999992,120.8,783.93,257.58,248.47,530.92999999999995,647.5,1098.8600000000001,99.24,260.61,434.9,701.12,813.3,685.17,423.84,252.71,355.34,181.66,384.59,388.68,605.58000000000004,937.62000000000012,1579.2200000000003,2099.2900000000004,2252.7100000000005,2299.8500000000004,2739.7400000000002,2865.78,3392.0200000000004,3542.4600000000005,3755.5600000000004,357.94,897.67000000000007,1296.5800000000002,580,818.24,1380.79,80,840,1287.4000000000001,1739.69,556.67999999999995,194.17,449.64,854.23,290.92]
[null,"ESTACA - TÉRMINO",null,null,"86+10,64","130+9,62","149+14,73",228,"265+13,41","367+12,54","3+14,58","21+18,69","78+10,13","101+16,42","21+0,96","16+15,88","18+12,04","15+6,84","5+12,09","6+15,13","1+14,11","2+13,63","4+2,84","39+6,65","11+16,58","45+18,48","4+4,03","18+1,89","3+12,91","3+5,69","10+19,75","12+7,88","23+17,11","10+9,22","26+3,64","43+2,57","9+12,77","39+3,55","3+6,07","39+7,38","40+3,89","33+2,45","11+17,59","44+10,01","20+18,7","36+0,84","6+0,8","39+3,93","12+17,58","12+8,47","26+10,93","32+7,5","54+18,86","4+19,24","13+0,61","21+14,9","35+1,12","40+13,3","34+5,17","21+3,84","12+12,71","17+15,34","9+1,66","19+4,59","19+8,68","30+5,58","46+17,62","78+19,22","104+19,29","112+12,71","114+19,85","136+19,74","143+5,78","169+12,02","177+2,46","187+15,56","17+17,94","44+17,67","64+16,58","29+0","40+18,24","69+0,79","4+0","42+0","64+7,4","86+19,69","27+16,68","9+14,17","22+9,64","42+14,23","14+10,92"]
[null,"ESTACA - INÍCIO",null,null,0,"86+10,64","130+9,62","149+14,73",247,"308+5,04",0,"3+14,58","21+18,69","78+10,13",0,0,0,0,0,0,0,"1+14,11","2+13,63",0,0,"11+16,58",0,0,0,0,0,0,0,0,"10+9,22","26+3,64",0,0,0,0,0,0,0,0,0,"20+18,7",0,0,0,0,0,0,"32+7,5",0,0,0,0,0,0,0,0,0,0,0,0,"19+8,68","30+5,58","46+17,62","78+19,22","104+19,29","112+12,71","114+19,85","136+19,74","143+5,78","169+12,02","177+2,46",0,"17+17,94","44+17,67",0,"29+0","40+18,24",0,"4+0","42+0","64+7,4",0,0,"9+14,17",0,0]
[null,"COMPRIMENTO DO TRECHO:","L=","m",1730.64,878.98,385.11,1565.27,373.41,0,74.58,364.11,1131.44,466.29,420.96,335.88,372.04,306.83999999999997,112.09,135.13,34.11,19.52,29.21,786.65,236.58,681.9,84.03,361.89,72.91,65.69,219.75,247.88,477.11,209.22,314.42,338.93,192.77,783.55,66.069999999999993,787.38,803.89,662.45,237.59,890.01,418.7,302.14,120.8,783.93,257.58,248.47,530.92999999999995,647.5,451.36,99.24,260.61,434.9,701.12,813.3,685.17,423.84,252.71,355.34,181.66,384.59,388.68,216.9,332.04,641.6,520.07000000000005,153.41999999999999,47.14,439.89,126.04,526.24,150.44,213.1,357.94,539.73,398.91,580,238.24,562.54999999999995,80,760,447.4,452.29,556.67999999999995,194.17,255.47,854.23,290.92]
["CANAL TRAPEZOIDAL - MEDIDAS","Base Maior do Canal:","B =","m",{"$f":"IF(E14=\"\",\"\",E15*E17*2+E14)","v":4.04},{"$f":"IF(F14=\"\",\"\",F15*F17*2+F14)","v":3.9799999999999995},3.92,3.92,3.74,3.3,1.8800000000000001,1.7,1.56,1.28,"","","","","","",1.8499999999999999,1.8499999999999999,1.8499999999999999,"",1.6,1.44,"","","","","",2.2400000000000002,"",1.5,"","","","",1.8,1.56,"","","","",1.3,"","",1.74,"","",2.16,1.56,"","","","",1.57,"","","","","","","",4.1117647058823454,3.8200000000000003,3.77,4.08,3.92,{"$f":"IF(BR14=\"\",\"\",BR15*BR17*2+BR14)","v":3.92},3.92,3.94,3.92,3.92,3.92,3.26,1.78,1.58,{"$f":"IF(CA14=\"\",\"\",CA15*CA17*2+CA14)","v":1.3},1.3,1.3,"",1.7,1.58,1.53,"",1.25,1.7,1.32,1.05,""]
[null,"Base Menor do Canal:","b =","m",1.2,1.2,1.2,1.2,1.1000000000000001,1,0.3,0.3,0.3,0.3,{"$nulls":6},0.45,0.45,0.45,null,0.3,0.3,{"$nulls":5},0.5,null,0.5,{"$nulls":4},0.5,0.5,{"$nulls":4},0.3,null,null,0.5,null,null,1,0.3,{"$nulls":4},0.25,{"$nulls":7},1.9,2,1.95,1.8,1.5,1.5,1.5,1.5,1.5,1.5,1.5,1.5,0.3,0.3,0.3,0.3,0.3,null,0.5,0.5,0.45,null,0.25,0.5,0.3,0.25]
[null,"Altura do Canal:","H =","m",1.42,1.39,1.36,1.36,1.32,1.1499999999999999,0.79,0.7,0.63,0.49,{"$nulls":6},0.7,0.7,0.7,null,0.65,0.56999999999999995,{"$nulls":5},0.87,null,0.5,{"$nulls":4},0.65,0.53,{"$nulls":4},0.5,null,null,0.62,null,null,0.57999999999999996,0.63,{"$nulls":4},0.66,{"$nulls":7},0.94,0.91,0.91,1.1399999999999999,1.21,1.21,1.21,1.22,1.21,1.21,1.21,0.88,0.74,0.64,0.5,0.5,0.5,null,0.6,0.54,0.54,null,0.5,0.6,0.51,0.4]
[null,"Gola do Canal:","G =","m",0.2,0.2,0.2,0.2,0.2,0.2,0.2,0.2,0.2,0.2,{"$nulls":6},0.2,0.2,0.2,null,0.2,0.2,{"$nulls":5},0.2,null,0.2,{"$nulls":4},0.2,0.2,{"$nulls":4},0.2,null,null,0.2,null,null,0.2,0.2,{"$nulls":4},0.2,{"$nulls":7},0.2,0.2,0.2,0.2,0.2,0.2,0.2,0.2,0.2,0.2,0.2,0.2,0.2,0.2,0.2,0.2,0.2,null,0.2,0.2,0.2,null,0.2,0.2,0.2,0.2]
[null,"Inclinação 1:m","m =",null,1,1,1,1,1,1,1,1,1,1,{"$nulls":6},1,1,1,null,1,1,{"$nulls":5},1,null,1,{"$nulls":4},1,1,{"$nulls":4},1,null,null,1,null,null,1,1,{"$nulls":4},1,{"$nulls":7},1.1764705882352899,1,1,1,1,1,1,1,1,1,1,1,1,1,1,1,1,null,1,1,1,null,1,1,1,1]
[null,"Rampa:","r =","m",{"$f":"IF(E14=\"\",\"\",SQRT(((E15*E17)^2)+((E15)^2)))","v":2.0081832585697947},{"$f":"IF(F14=\"\",\"\",SQRT(((F15*F17)^2)+((F15)^2)))","v":1.9657568516986019},1.9233304448274096,1.9233304448274096,1.8667619023324855,1.6263455967290592,1.1172287142747452,0.98994949366116647,0.89095454429504994,0.69296464556281656,"","","","","","",0.98994949366116647,0.98994949366116647,0.98994949366116647,"",0.91923881554251186,0.8061017305526641,"","","","","",1.2303657992645927,"",0.70710678118654757,"","","","",0.91923881554251186,0.74953318805774038,"","","","",0.70710678118654757,"","",0.87681240867131893,"","",0.82024386617639511,0.89095454429504994,"","","","",0.93338095116624276,"","","","","","","",1.4514047604120306,1.2869343417595165,1.2869343417595165,1.6122034611053282,1.7111984104714451,{"$f":"IF(BR14=\"\",\"\",SQRT(((BR15*BR17)^2)+((BR15)^2)))","v":1.7111984104714451},1.7111984104714451,1.7253405460951758,1.7111984104714451,1.7111984104714451,1.7111984104714451,1.2445079348883237,1.0465180361560904,0.90509667991878084,0.70710678118654757,0.70710678118654757,0.70710678118654757,"",0.84852813742385702,0.7636753236814714,0.7636753236814714,"",0.70710678118654757,0.84852813742385702,0.72124891681027847,0.56568542494923812,""]
[null,"Espessura Placa Revestimento Canal:","e =","m",{"$f":"IF(E14=\"\",\"\",VLOOKUP($B$19,'DADOS DE ENTRADA'!$B:$E,4,0))","v":0.05},{"$f":"IF(F14=\"\",\"\",VLOOKUP($B$19,'DADOS DE ENTRADA'!$B:$E,4,0))","v":0.05},{"$f":"IF(G14=\"\",\"\",VLOOKUP($B$19,'DADOS DE ENTRADA'!$B:$E,4,0))","v":0.05},{"$f":"IF(H14=\"\",\"\",VLOOKUP($B$19,'DADOS DE ENTRADA'!$B:$E,4,0))","v":0.05},{"$f":"IF(I14=\"\",\"\",VLOOKUP($B$19,'DADOS DE ENTRADA'!$B:$E,4,0))","v":0.05},{"$f":"IF(J14=\"\",\"\",VLOOKUP($B$19,'DADOS DE ENTRADA'!$B:$E,4,0))","v":0.05},{"$f":"IF(K14=\"\",\"\",VLOOKUP($B$19,'DADOS DE ENTRADA'!$B:$E,4,0))","v":0.05},{"$f":"IF(L14=\"\",\"\",VLOOKUP($B$19,'DADOS DE ENTRADA'!$B:$E,4,0))","v":0.05},{"$f":"IF(M14=\"\",\"\",VLOOKUP($B$19,'DADOS DE ENTRADA'!$B:$E,4,0))","v":0.05},{"$f":"IF(N14=\"\",\"\",VLOOKUP($B$19,'DADOS DE ENTRADA'!$B:$E,4,0))","v":0.05},{"$f":"IF(O14=\"\",\"\",VLOOKUP($B$19,'DADOS DE ENTRADA'!$B:$E,4,0))","v":""},{"$f":"IF(P14=\"\",\"\",VLOOKUP($B$19,'DADOS DE ENTRADA'!$B:$E,4,0))","v":""},{"$f":"IF(Q14=\"\",\"\",VLOOKUP($B$19,'DADOS DE ENTRADA'!$B:$E,4,0))","v":""},{"$f":"IF(R14=\"\",\"\",VLOOKUP($B$19,'DADOS DE ENTRADA'!$B:$E,4,0))","v":""},{"$f":"IF(S14=\"\",\"\",VLOOKUP($B$19,'DADOS DE ENTRADA'!$B:$E,4,0))","v":""},{"$f":"IF(T14=\"\",\"\",VLOOKUP($B$19,'DADOS DE ENTRADA'!$B:$E,4,0))","v":""},{"$f":"IF(U14=\"\",\"\",VLOOKUP($B$19,'DADOS DE ENTRADA'!$B:$E,4,0))","v":0.05},{"$f":"IF(V14=\"\",\"\",VLOOKUP($B$19,'DADOS DE ENTRADA'!$B:$E,4,0))","v":0.05},{"$f":"IF(W14=\"\",\"\",VLOOKUP($B$19,'DADOS DE ENTRADA'!$B:$E,4,0))","v":0.05},{"$f":"IF(X14=\"\",\"\",VLOOKUP($B$19,'DADOS DE ENTRADA'!$B:$E,4,0))","v":""},{"$f":"IF(Y14=\"\",\"\",VLOOKUP($B$19,'DADOS DE ENTRADA'!$B:$E,4,0))","v":0.05},{"$f":"IF(Z14=\"\",\"\",VLOOKUP($B$19,'DADOS DE ENTRADA'!$B:$E,4,0))","v":0.05},{"$f":"IF(AA14=\"\",\"\",VLOOKUP($B$19,'DADOS DE ENTRADA'!$B:$E,4,0))","v":""},{"$f":"IF(AB14=\"\",\"\",VLOOKUP($B$19,'DADOS DE ENTRADA'!$B:$E,4,0))","v":""},{"$f":"IF(AC14=\"\",\"\",VLOOKUP($B$19,'DADOS DE ENTRADA'!$B:$E,4,0))","v":""},{"$f":"IF(AD14=\"\",\"\",VLOOKUP($B$19,'DADOS DE ENTRADA'!$B:$E,4,0))","v":""},{"$f":"IF(AE14=\"\",\"\",VLOOKUP($B$19,'DADOS DE ENTRADA'!$B:$E,4,0))","v":""},{"$f":"IF(AF14=\"\",\"\",VLOOKUP($B$19,'DADOS DE ENTRADA'!$B:$E,4,0))","v":0.05},{"$f":"IF(AG14=\"\",\"\",VLOOKUP($B$19,'DADOS DE ENTRADA'!$B:$E,4,0))","v":""},{"$f":"IF(AH14=\"\",\"\",VLOOKUP($B$19,'DADOS DE ENTRADA'!$B:$E,4,0))","v":0.05},{"$f":"IF(AI14=\"\",\"\",VLOOKUP($B$19,'DADOS DE ENTRADA'!$B:$E,4,0))","v":""},{"$f":"IF(AJ14=\"\",\"\",VLOOKUP($B$19,'DADOS DE ENTRADA'!$B:$E,4,0))","v":""},{"$f":"IF(AK14=\"\",\"\",VLOOKUP($B$19,'DADOS DE ENTRADA'!$B:$E,4,0))","v":""},{"$f":"IF(AL14=\"\",\"\",VLOOKUP($B$19,'DADOS DE ENTRADA'!$B:$E,4,0))","v":""},{"$f":"IF(AM14=\"\",\"\",VLOOKUP($B$19,'DADOS DE ENTRADA'!$B:$E,4,0))","v":0.05},{"$f":"IF(AN14=\"\",\"\",VLOOKUP($B$19,'DADOS DE ENTRADA'!$B:$E,4,0))","v":0.05},{"$f":"IF(AO14=\"\",\"\",VLOOKUP($B$19,'DADOS DE ENTRADA'!$B:$E,4,0))","v":""},{"$f":"IF(AP14=\"\",\"\",VLOOKUP($B$19,'DADOS DE ENTRADA'!$B:$E,4,0))","v":""},{"$f":"IF(AQ14=\"\",\"\",VLOOKUP($B$19,'DADOS DE ENTRADA'!$B:$E,4,0))","v":""},{"$f":"IF(AR14=\"\",\"\",VLOOKUP($B$19,'DADOS DE ENTRADA'!$B:$E,4,0))","v":""},{"$f":"IF(AS14=\"\",\"\",VLOOKUP($B$19,'DADOS DE ENTRADA'!$B:$E,4,0))","v":0.05},{"$f":"IF(AT14=\"\",\"\",VLOOKUP($B$19,'DADOS DE ENTRADA'!$B:$E,4,0))","v":""},{"$f":"IF(AU14=\"\",\"\",VLOOKUP($B$19,'DADOS DE ENTRADA'!$B:$E,4,0))","v":""},{"$f":"IF(AV14=\"\",\"\",VLOOKUP($B$19,'DADOS DE ENTRADA'!$B:$E,4,0))","v":0.05},{"$f":"IF(AW14=\"\",\"\",VLOOKUP($B$19,'DADOS DE ENTRADA'!$B:$E,4,0))","v":""},{"$f":"IF(AX14=\"\",\"\",VLOOKUP($B$19,'DADOS DE ENTRADA'!$B:$E,4,0))","v":""},{"$f":"IF(AY14=\"\",\"\",VLOOKUP($B$19,'DADOS DE ENTRADA'!$B:$E,4,0))","v":0.05},{"$f":"IF(AZ14=\"\",\"\",VLOOKUP($B$19,'DADOS DE ENTRADA'!$B:$E,4,0))","v":0.05},{"$f":"IF(BA14=\"\",\"\",VLOOKUP($B$19,'DADOS DE ENTRADA'!$B:$E,4,0))","v":""},{"$f":"IF(BB14=\"\",\"\",VLOOKUP($B$19,'DADOS DE ENTRADA'!$B:$E,4,0))","v":""},{"$f":"IF(BC14=\"\",\"\",VLOOKUP($B$19,'DADOS DE ENTRADA'!$B:$E,4,0))","v":""},{"$f":"IF(BD14=\"\",\"\",VLOOKUP($B$19,'DADOS DE ENTRADA'!$B:$E,4,0))","v":""},{"$f":"IF(BE14=\"\",\"\",VLOOKUP($B$19,'DADOS DE ENTRADA'!$B:$E,4,0))","v":0.05},{"$f":"IF(BF14=\"\",\"\",VLOOKUP($B$19,'DADOS DE ENTRADA'!$B:$E,4,0))","v":""},{"$f":"IF(BG14=\"\",\"\",VLOOKUP($B$19,'DADOS DE ENTRADA'!$B:$E,4,0))","v":""},{"$f":"IF(BH14=\"\",\"\",VLOOKUP($B$19,'DADOS DE ENTRADA'!$B:$E,4,0))","v":""},{"$f":"IF(BI14=\"\",\"\",VLOOKUP($B$19,'DADOS DE ENTRADA'!$B:$E,4,0))","v":""},{"$f":"IF(BJ14=\"\",\"\",VLOOKUP($B$19,'DADOS DE ENTRADA'!$B:$E,4,0))","v":""},{"$f":"IF(BK14=\"\",\"\",VLOOKUP($B$19,'DADOS DE ENTRADA'!$B:$E,4,0))","v":""},{"$f":"IF(BL14=\"\",\"\",VLOOKUP($B$19,'DADOS DE ENTRADA'!$B:$E,4,0))","v":""},{"$f":"IF(BM14=\"\",\"\",VLOOKUP($B$19,'DADOS DE ENTRADA'!$B:$E,4,0))","v":0.05},{"$f":"IF(BN14=\"\",\"\",VLOOKUP($B$19,'DADOS DE ENTRADA'!$B:$E,4,0))","v":0.05},{"$f":"IF(BO14=\"\",\"\",VLOOKUP($B$19,'DADOS DE ENTRADA'!$B:$E,4,0))","v":0.05},{"$f":"IF(BP14=\"\",\"\",VLOOKUP($B$19,'DADOS DE ENTRADA'!$B:$E,4,0))","v":0.05},{"$f":"IF(BQ14=\"\",\"\",VLOOKUP($B$19,'DADOS DE ENTRADA'!$B:$E,4,0))","v":0.05},{"$f":"IF(BR14=\"\",\"\",VLOOKUP($B$19,'DADOS DE ENTRADA'!$B:$E,4,0))","v":0.05},{"$f":"IF(BS14=\"\",\"\",VLOOKUP($B$19,'DADOS DE ENTRADA'!$B:$E,4,0))","v":0.05},{"$f":"IF(BT14=\"\",\"\",VLOOKUP($B$19,'DADOS DE ENTRADA'!$B:$E,4,0))","v":0.05},{"$f":"IF(BU14=\"\",\"\",VLOOKUP($B$19,'DADOS DE ENTRADA'!$B:$E,4,0))","v":0.05},{"$f":"IF(BV14=\"\",\"\",VLOOKUP($B$19,'DADOS DE ENTRADA'!$B:$E,4,0))","v":0.05},{"$f":"IF(BW14=\"\",\"\",VLOOKUP($B$19,'DADOS DE ENTRADA'!$B:$E,4,0))","v":0.05},{"$f":"IF(BX14=\"\",\"\",VLOOKUP($B$19,'DADOS DE ENTRADA'!$B:$E,4,0))","v":0.05},{"$f":"IF(BY14=\"\",\"\",VLOOKUP($B$19,'DADOS DE ENTRADA'!$B:$E,4,0))","v":0.05},{"$f":"IF(BZ14=\"\",\"\",VLOOKUP($B$19,'DADOS DE ENTRADA'!$B:$E,4,0))","v":0.05},{"$f":"IF(CA14=\"\",\"\",VLOOKUP($B$19,'DADOS DE ENTRADA'!$B:$E,4,0))","v":0.05},{"$f":"IF(CB14=\"\",\"\",VLOOKUP($B$19,'DADOS DE ENTRADA'!$B:$E,4,0))","v":0.05},{"$f":"IF(CC14=\"\",\"\",VLOOKUP($B$19,'DADOS DE ENTRADA'!$B:$E,4,0))","v":0.05},{"$f":"IF(CD14=\"\",\"\",VLOOKUP($B$19,'DADOS DE ENTRADA'!$B:$E,4,0))","v":""},{"$f":"IF(CE14=\"\",\"\",VLOOKUP($B$19,'DADOS DE ENTRADA'!$B:$E,4,0))","v":0.05},{"$f":"IF(CF14=\"\",\"\",VLOOKUP($B$19,'DADOS DE ENTRADA'!$B:$E,4,0))","v":0.05},{"$f":"IF(CG14=\"\",\"\",VLOOKUP($B$19,'DADOS DE ENTRADA'!$B:$E,4,0))","v":0.05},{"$f":"IF(CH14=\"\",\"\",VLOOKUP($B$19,'DADOS DE ENTRADA'!$B:$E,4,0))","v":""},{"$f":"IF(CI14=\"\",\"\",VLOOKUP($B$19,'DADOS DE ENTRADA'!$B:$E,4,0))","v":0.05},{"$f":"IF(CJ14=\"\",\"\",VLOOKUP($B$19,'DADOS DE ENTRADA'!$B:$E,4,0))","v":0.05},{"$f":"IF(CK14=\"\",\"\",VLOOKUP($B$19,'DADOS DE ENTRADA'!$B:$E,4,0))","v":0.05},{"$f":"IF(CL14=\"\",\"\",VLOOKUP($B$19,'DADOS DE ENTRADA'!$B:$E,4,0))","v":0.05},{"$f":"IF(CM14=\"\",\"\",VLOOKUP($B$19,'DADOS DE ENTRADA'!$B:$E,4,0))","v":""}]
[null,"Área Seção Concreto Revestimento:","acr =","m2",{"$f":"IF(E14=\"\",\"\",E33*E19)","v":0.28081832585697952},{"$f":"IF(F14=\"\",\"\",F33*F19)","v":0.2765756851698602},0.27233304448274098,0.27233304448274098,0.26167619023324862,0.23263455967290594,0.14672287142747453,0.13399494936611667,0.12409545442950501,0.10429646455628168,"","","","","","",0.14149494936611667,0.14149494936611667,0.14149494936611667,"",0.12692388155425122,0.11561017305526643,"","","","","",0.16803657992645929,"",0.11571067811865476,"","","","",0.1369238815542512,0.11995331880577405,"","","","",0.10571067811865478,"","",0.1326812408671319,"","",0.15202438661763953,0.12409545442950501,"","","","",0.1258380951166243,"","","","","","","",0.26014047604120311,0.24869343417595166,0.24619343417595166,0.27122034611053286,0.26611984104714453,{"$f":"IF(BR14=\"\",\"\",BR33*BR19)","v":0.26611984104714453},0.26611984104714453,0.26753405460951762,0.26611984104714453,0.26611984104714453,0.26611984104714453,0.2194507934888324,0.13965180361560905,0.1255096679918781,0.10571067811865478,0.10571067811865478,0.10571067811865478,"",0.12985281374238572,0.12136753236814715,0.11886753236814716,"",0.10321067811865477,0.12985281374238572,0.10712489168102786,8.9068542494923811E-2,""]
[null,"Espessura Placa Revestimento Canal Existente (Demolição):","ed =","m",{"$f":"IF(E16=\"\",\"\",VLOOKUP($B$21,'DADOS DE ENTRADA'!$B:$E,4,0))","v":7.0000000000000007E-2},{"$f":"IF(F16=\"\",\"\",VLOOKUP($B$21,'DADOS DE ENTRADA'!$B:$E,4,0))","v":7.0000000000000007E-2},{"$f":"IF(G16=\"\",\"\",VLOOKUP($B$21,'DADOS DE ENTRADA'!$B:$E,4,0))","v":7.0000000000000007E-2},{"$f":"IF(H16=\"\",\"\",VLOOKUP($B$21,'DADOS DE ENTRADA'!$B:$E,4,0))","v":7.0000000000000007E-2},{"$f":"IF(I16=\"\",\"\",VLOOKUP($B$21,'DADOS DE ENTRADA'!$B:$E,4,0))","v":7.0000000000000007E-2},{"$f":"IF(J16=\"\",\"\",VLOOKUP($B$21,'DADOS DE ENTRADA'!$B:$E,4,0))","v":7.0000000000000007E-2},{"$f":"IF(K16=\"\",\"\",VLOOKUP($B$21,'DADOS DE ENTRADA'!$B:$E,4,0))","v":7.0000000000000007E-2},{"$f":"IF(L16=\"\",\"\",VLOOKUP($B$21,'DADOS DE ENTRADA'!$B:$E,4,0))","v":7.0000000000000007E-2},{"$f":"IF(M16=\"\",\"\",VLOOKUP($B$21,'DADOS DE ENTRADA'!$B:$E,4,0))","v":7.0000000000000007E-2},{"$f":"IF(N16=\"\",\"\",VLOOKUP($B$21,'DADOS DE ENTRADA'!$B:$E,4,0))","v":7.0000000000000007E-2},{"$f":"IF(O16=\"\",\"\",VLOOKUP($B$21,'DADOS DE ENTRADA'!$B:$E,4,0))","v":""},{"$f":"IF(P16=\"\",\"\",VLOOKUP($B$21,'DADOS DE ENTRADA'!$B:$E,4,0))","v":""},{"$f":"IF(Q16=\"\",\"\",VLOOKUP($B$21,'DADOS DE ENTRADA'!$B:$E,4,0))","v":""},{"$f":"IF(R16=\"\",\"\",VLOOKUP($B$21,'DADOS DE ENTRADA'!$B:$E,4,0))","v":""},{"$f":"IF(S16=\"\",\"\",VLOOKUP($B$21,'DADOS DE ENTRADA'!$B:$E,4,0))","v":""},{"$f":"IF(T16=\"\",\"\",VLOOKUP($B$21,'DADOS DE ENTRADA'!$B:$E,4,0))","v":""},{"$f":"IF(U16=\"\",\"\",VLOOKUP($B$21,'DADOS DE ENTRADA'!$B:$E,4,0))","v":7.0000000000000007E-2},{"$f":"IF(V16=\"\",\"\",VLOOKUP($B$21,'DADOS DE ENTRADA'!$B:$E,4,0))","v":7.0000000000000007E-2},{"$f":"IF(W16=\"\",\"\",VLOOKUP($B$21,'DADOS DE ENTRADA'!$B:$E,4,0))","v":7.0000000000000007E-2},{"$f":"IF(X16=\"\",\"\",VLOOKUP($B$21,'DADOS DE ENTRADA'!$B:$E,4,0))","v":""},{"$f":"IF(Y16=\"\",\"\",VLOOKUP($B$21,'DADOS DE ENTRADA'!$B:$E,4,0))","v":7.0000000000000007E-2},{"$f":"IF(Z16=\"\",\"\",VLOOKUP($B$21,'DADOS DE ENTRADA'!$B:$E,4,0))","v":7.0000000000000007E-2},{"$f":"IF(AA16=\"\",\"\",VLOOKUP($B$21,'DADOS DE ENTRADA'!$B:$E,4,0))","v":""},{"$f":"IF(AB16=\"\",\"\",VLOOKUP($B$21,'DADOS DE ENTRADA'!$B:$E,4,0))","v":""},{"$f":"IF(AC16=\"\",\"\",VLOOKUP($B$21,'DADOS DE ENTRADA'!$B:$E,4,0))","v":""},{"$f":"IF(AD16=\"\",\"\",VLOOKUP($B$21,'DADOS DE ENTRADA'!$B:$E,4,0))","v":""},{"$f":"IF(AE16=\"\",\"\",VLOOKUP($B$21,'DADOS DE ENTRADA'!$B:$E,4,0))","v":""},{"$f":"IF(AF16=\"\",\"\",VLOOKUP($B$21,'DADOS DE ENTRADA'!$B:$E,4,0))","v":7.0000000000000007E-2},{"$f":"IF(AG16=\"\",\"\",VLOOKUP($B$21,'DADOS DE ENTRADA'!$B:$E,4,0))","v":""},{"$f":"IF(AH16=\"\",\"\",VLOOKUP($B$21,'DADOS DE ENTRADA'!$B:$E,4,0))","v":7.0000000000000007E-2},{"$f":"IF(AI16=\"\",\"\",VLOOKUP($B$21,'DADOS DE ENTRADA'!$B:$E,4,0))","v":""},{"$f":"IF(AJ16=\"\",\"\",VLOOKUP($B$21,'DADOS DE ENTRADA'!$B:$E,4,0))","v":""},{"$f":"IF(AK16=\"\",\"\",VLOOKUP($B$21,'DADOS DE ENTRADA'!$B:$E,4,0))","v":""},{"$f":"IF(AL16=\"\",\"\",VLOOKUP($B$21,'DADOS DE ENTRADA'!$B:$E,4,0))","v":""},{"$f":"IF(AM16=\"\",\"\",VLOOKUP($B$21,'DADOS DE ENTRADA'!$B:$E,4,0))","v":7.0000000000000007E-2},{"$f":"IF(AN16=\"\",\"\",VLOOKUP($B$21,'DADOS DE ENTRADA'!$B:$E,4,0))","v":7.0000000000000007E-2},{"$f":"IF(AO16=\"\",\"\",VLOOKUP($B$21,'DADOS DE ENTRADA'!$B:$E,4,0))","v":""},{"$f":"IF(AP16=\"\",\"\",VLOOKUP($B$21,'DADOS DE ENTRADA'!$B:$E,4,0))","v":""},{"$f":"IF(AQ16=\"\",\"\",VLOOKUP($B$21,'DADOS DE ENTRADA'!$B:$E,4,0))","v":""},{"$f":"IF(AR16=\"\",\"\",VLOOKUP($B$21,'DADOS DE ENTRADA'!$B:$E,4,0))","v":""},{"$f":"IF(AS16=\"\",\"\",VLOOKUP($B$21,'DADOS DE ENTRADA'!$B:$E,4,0))","v":7.0000000000000007E-2},{"$f":"IF(AT16=\"\",\"\",VLOOKUP($B$21,'DADOS DE ENTRADA'!$B:$E,4,0))","v":""},{"$f":"IF(AU16=\"\",\"\",VLOOKUP($B$21,'DADOS DE ENTRADA'!$B:$E,4,0))","v":""},{"$f":"IF(AV16=\"\",\"\",VLOOKUP($B$21,'DADOS DE ENTRADA'!$B:$E,4,0))","v":7.0000000000000007E-2},{"$f":"IF(AW16=\"\",\"\",VLOOKUP($B$21,'DADOS DE ENTRADA'!$B:$E,4,0))","v":""},{"$f":"IF(AX16=\"\",\"\",VLOOKUP($B$21,'DADOS DE ENTRADA'!$B:$E,4,0))","v":""},{"$f":"IF(AY16=\"\",\"\",VLOOKUP($B$21,'DADOS DE ENTRADA'!$B:$E,4,0))","v":7.0000000000000007E-2},{"$f":"IF(AZ16=\"\",\"\",VLOOKUP($B$21,'DADOS DE ENTRADA'!$B:$E,4,0))","v":7.0000000000000007E-2},{"$f":"IF(BA16=\"\",\"\",VLOOKUP($B$21,'DADOS DE ENTRADA'!$B:$E,4,0))","v":""},{"$f":"IF(BB16=\"\",\"\",VLOOKUP($B$21,'DADOS DE ENTRADA'!$B:$E,4,0))","v":""},{"$f":"IF(BC16=\"\",\"\",VLOOKUP($B$21,'DADOS DE ENTRADA'!$B:$E,4,0))","v":""},{"$f":"IF(BD16=\"\",\"\",VLOOKUP($B$21,'DADOS DE ENTRADA'!$B:$E,4,0))","v":""},{"$f":"IF(BE16=\"\",\"\",VLOOKUP($B$21,'DADOS DE ENTRADA'!$B:$E,4,0))","v":7.0000000000000007E-2},{"$f":"IF(BF16=\"\",\"\",VLOOKUP($B$21,'DADOS DE ENTRADA'!$B:$E,4,0))","v":""},{"$f":"IF(BG16=\"\",\"\",VLOOKUP($B$21,'DADOS DE ENTRADA'!$B:$E,4,0))","v":""},{"$f":"IF(BH16=\"\",\"\",VLOOKUP($B$21,'DADOS DE ENTRADA'!$B:$E,4,0))","v":""},{"$f":"IF(BI16=\"\",\"\",VLOOKUP($B$21,'DADOS DE ENTRADA'!$B:$E,4,0))","v":""},{"$f":"IF(BJ16=\"\",\"\",VLOOKUP($B$21,'DADOS DE ENTRADA'!$B:$E,4,0))","v":""},{"$f":"IF(BK16=\"\",\"\",VLOOKUP($B$21,'DADOS DE ENTRADA'!$B:$E,4,0))","v":""},{"$f":"IF(BL16=\"\",\"\",VLOOKUP($B$21,'DADOS DE ENTRADA'!$B:$E,4,0))","v":""},{"$f":"IF(BM16=\"\",\"\",VLOOKUP($B$21,'DADOS DE ENTRADA'!$B:$E,4,0))","v":7.0000000000000007E-2},{"$f":"IF(BN16=\"\",\"\",VLOOKUP($B$21,'DADOS DE ENTRADA'!$B:$E,4,0))","v":7.0000000000000007E-2},{"$f":"IF(BO16=\"\",\"\",VLOOKUP($B$21,'DADOS DE ENTRADA'!$B:$E,4,0))","v":7.0000000000000007E-2},{"$f":"IF(BP16=\"\",\"\",VLOOKUP($B$21,'DADOS DE ENTRADA'!$B:$E,4,0))","v":7.0000000000000007E-2},{"$f":"IF(BQ16=\"\",\"\",VLOOKUP($B$21,'DADOS DE ENTRADA'!$B:$E,4,0))","v":7.0000000000000007E-2},{"$f":"IF(BR16=\"\",\"\",VLOOKUP($B$21,'DADOS DE ENTRADA'!$B:$E,4,0))","v":7.0000000000000007E-2},{"$f":"IF(BS16=\"\",\"\",VLOOKUP($B$21,'DADOS DE ENTRADA'!$B:$E,4,0))","v":7.0000000000000007E-2},{"$f":"IF(BT16=\"\",\"\",VLOOKUP($B$21,'DADOS DE ENTRADA'!$B:$E,4,0))","v":7.0000000000000007E-2},{"$f":"IF(BU16=\"\",\"\",VLOOKUP($B$21,'DADOS DE ENTRADA'!$B:$E,4,0))","v":7.0000000000000007E-2},{"$f":"IF(BV16=\"\",\"\",VLOOKUP($B$21,'DADOS DE ENTRADA'!$B:$E,4,0))","v":7.0000000000000007E-2},{"$f":"IF(BW16=\"\",\"\",VLOOKUP($B$21,'DADOS DE ENTRADA'!$B:$E,4,0))","v":7.0000000000000007E-2},{"$f":"IF(BX16=\"\",\"\",VLOOKUP($B$21,'DADOS DE ENTRADA'!$B:$E,4,0))","v":7.0000000000000007E-2},{"$f":"IF(BY16=\"\",\"\",VLOOKUP($B$21,'DADOS DE ENTRADA'!$B:$E,4,0))","v":7.0000000000000007E-2},{"$f":"IF(BZ16=\"\",\"\",VLOOKUP($B$21,'DADOS DE ENTRADA'!$B:$E,4,0))","v":7.0000000000000007E-2},{"$f":"IF(CA16=\"\",\"\",VLOOKUP($B$21,'DADOS DE ENTRADA'!$B:$E,4,0))","v":7.0000000000000007E-2},{"$f":"IF(CB16=\"\",\"\",VLOOKUP($B$21,'DADOS DE ENTRADA'!$B:$E,4,0))","v":7.0000000000000007E-2},{"$f":"IF(CC16=\"\",\"\",VLOOKUP($B$21,'DADOS DE ENTRADA'!$B:$E,4,0))","v":7.0000000000000007E-2},{"$f":"IF(CD16=\"\",\"\",VLOOKUP($B$21,'DADOS DE ENTRADA'!$B:$E,4,0))","v":""},{"$f":"IF(CE16=\"\",\"\",VLOOKUP($B$21,'DADOS DE ENTRADA'!$B:$E,4,0))","v":7.0000000000000007E-2},{"$f":"IF(CF16=\"\",\"\",VLOOKUP($B$21,'DADOS DE ENTRADA'!$B:$E,4,0))","v":7.0000000000000007E-2},{"$f":"IF(CG16=\"\",\"\",VLOOKUP($B$21,'DADOS DE ENTRADA'!$B:$E,4,0))","v":7.0000000000000007E-2},{"$f":"IF(CH16=\"\",\"\",VLOOKUP($B$21,'DADOS DE ENTRADA'!$B:$E,4,0))","v":""},{"$f":"IF(CI16=\"\",\"\",VLOOKUP($B$21,'DADOS DE ENTRADA'!$B:$E,4,0))","v":7.0000000000000007E-2},{"$f":"IF(CJ16=\"\",\"\",VLOOKUP($B$21,'DADOS DE ENTRADA'!$B:$E,4,0))","v":7.0000000000000007E-2},{"$f":"IF(CK16=\"\",\"\",VLOOKUP($B$21,'DADOS DE ENTRADA'!$B:$E,4,0))","v":7.0000000000000007E-2},{"$f":"IF(CL16=\"\",\"\",VLOOKUP($B$21,'DADOS DE ENTRADA'!$B:$E,4,0))","v":7.0000000000000007E-2},{"$f":"IF(CM16=\"\",\"\",VLOOKUP($B$21,'DADOS DE ENTRADA'!$B:$E,4,0))","v":""}]
[null,"Espessura Camada Solo a Retirar (Solo Impróprio):","ecsi =","m",{"$f":"IF(E17=\"\",\"\",VLOOKUP($B$22,'DADOS DE ENTRADA'!$B:$E,4,0))","v":0.33},{"$f":"IF(F17=\"\",\"\",VLOOKUP($B$22,'DADOS DE ENTRADA'!$B:$E,4,0))","v":0.33},{"$f":"IF(G17=\"\",\"\",VLOOKUP($B$22,'DADOS DE ENTRADA'!$B:$E,4,0))","v":0.33},{"$f":"IF(H17=\"\",\"\",VLOOKUP($B$22,'DADOS DE ENTRADA'!$B:$E,4,0))","v":0.33},{"$f":"IF(I17=\"\",\"\",VLOOKUP($B$22,'DADOS DE ENTRADA'!$B:$E,4,0))","v":0.33},{"$f":"IF(J17=\"\",\"\",VLOOKUP($B$22,'DADOS DE ENTRADA'!$B:$E,4,0))","v":0.33},{"$f":"IF(K17=\"\",\"\",VLOOKUP($B$22,'DADOS DE ENTRADA'!$B:$E,4,0))","v":0.33},{"$f":"IF(L17=\"\",\"\",VLOOKUP($B$22,'DADOS DE ENTRADA'!$B:$E,4,0))","v":0.33},{"$f":"IF(M17=\"\",\"\",VLOOKUP($B$22,'DADOS DE ENTRADA'!$B:$E,4,0))","v":0.33},{"$f":"IF(N17=\"\",\"\",VLOOKUP($B$22,'DADOS DE ENTRADA'!$B:$E,4,0))","v":0.33},{"$f":"IF(O17=\"\",\"\",VLOOKUP($B$22,'DADOS DE ENTRADA'!$B:$E,4,0))","v":""},{"$f":"IF(P17=\"\",\"\",VLOOKUP($B$22,'DADOS DE ENTRADA'!$B:$E,4,0))","v":""},{"$f":"IF(Q17=\"\",\"\",VLOOKUP($B$22,'DADOS DE ENTRADA'!$B:$E,4,0))","v":""},{"$f":"IF(R17=\"\",\"\",VLOOKUP($B$22,'DADOS DE ENTRADA'!$B:$E,4,0))","v":""},{"$f":"IF(S17=\"\",\"\",VLOOKUP($B$22,'DADOS DE ENTRADA'!$B:$E,4,0))","v":""},{"$f":"IF(T17=\"\",\"\",VLOOKUP($B$22,'DADOS DE ENTRADA'!$B:$E,4,0))","v":""},{"$f":"IF(U17=\"\",\"\",VLOOKUP($B$22,'DADOS DE ENTRADA'!$B:$E,4,0))","v":0.33},{"$f":"IF(V17=\"\",\"\",VLOOKUP($B$22,'DADOS DE ENTRADA'!$B:$E,4,0))","v":0.33},{"$f":"IF(W17=\"\",\"\",VLOOKUP($B$22,'DADOS DE ENTRADA'!$B:$E,4,0))","v":0.33},{"$f":"IF(X17=\"\",\"\",VLOOKUP($B$22,'DADOS DE ENTRADA'!$B:$E,4,0))","v":""},{"$f":"IF(Y17=\"\",\"\",VLOOKUP($B$22,'DADOS DE ENTRADA'!$B:$E,4,0))","v":0.33},{"$f":"IF(Z17=\"\",\"\",VLOOKUP($B$22,'DADOS DE ENTRADA'!$B:$E,4,0))","v":0.33},{"$f":"IF(AA17=\"\",\"\",VLOOKUP($B$22,'DADOS DE ENTRADA'!$B:$E,4,0))","v":""},{"$f":"IF(AB17=\"\",\"\",VLOOKUP($B$22,'DADOS DE ENTRADA'!$B:$E,4,0))","v":""},{"$f":"IF(AC17=\"\",\"\",VLOOKUP($B$22,'DADOS DE ENTRADA'!$B:$E,4,0))","v":""},{"$f":"IF(AD17=\"\",\"\",VLOOKUP($B$22,'DADOS DE ENTRADA'!$B:$E,4,0))","v":""},{"$f":"IF(AE17=\"\",\"\",VLOOKUP($B$22,'DADOS DE ENTRADA'!$B:$E,4,0))","v":""},{"$f":"IF(AF17=\"\",\"\",VLOOKUP($B$22,'DADOS DE ENTRADA'!$B:$E,4,0))","v":0.33},{"$f":"IF(AG17=\"\",\"\",VLOOKUP($B$22,'DADOS DE ENTRADA'!$B:$E,4,0))","v":""},{"$f":"IF(AH17=\"\",\"\",VLOOKUP($B$22,'DADOS DE ENTRADA'!$B:$E,4,0))","v":0.33},{"$f":"IF(AI17=\"\",\"\",VLOOKUP($B$22,'DADOS DE ENTRADA'!$B:$E,4,0))","v":""},{"$f":"IF(AJ17=\"\",\"\",VLOOKUP($B$22,'DADOS DE ENTRADA'!$B:$E,4,0))","v":""},{"$f":"IF(AK17=\"\",\"\",VLOOKUP($B$22,'DADOS DE ENTRADA'!$B:$E,4,0))","v":""},{"$f":"IF(AL17=\"\",\"\",VLOOKUP($B$22,'DADOS DE ENTRADA'!$B:$E,4,0))","v":""},{"$f":"IF(AM17=\"\",\"\",VLOOKUP($B$22,'DADOS DE ENTRADA'!$B:$E,4,0))","v":0.33},{"$f":"IF(AN17=\"\",\"\",VLOOKUP($B$22,'DADOS DE ENTRADA'!$B:$E,4,0))","v":0.33},{"$f":"IF(AO17=\"\",\"\",VLOOKUP($B$22,'DADOS DE ENTRADA'!$B:$E,4,0))","v":""},{"$f":"IF(AP17=\"\",\"\",VLOOKUP($B$22,'DADOS DE ENTRADA'!$B:$E,4,0))","v":""},{"$f":"IF(AQ17=\"\",\"\",VLOOKUP($B$22,'DADOS DE ENTRADA'!$B:$E,4,0))","v":""},{"$f":"IF(AR17=\"\",\"\",VLOOKUP($B$22,'DADOS DE ENTRADA'!$B:$E,4,0))","v":""},{"$f":"IF(AS17=\"\",\"\",VLOOKUP($B$22,'DADOS DE ENTRADA'!$B:$E,4,0))","v":0.33},{"$f":"IF(AT17=\"\",\"\",VLOOKUP($B$22,'DADOS DE ENTRADA'!$B:$E,4,0))","v":""},{"$f":"IF(AU17=\"\",\"\",VLOOKUP($B$22,'DADOS DE ENTRADA'!$B:$E,4,0))","v":""},{"$f":"IF(AV17=\"\",\"\",VLOOKUP($B$22,'DADOS DE ENTRADA'!$B:$E,4,0))","v":0.33},{"$f":"IF(AW17=\"\",\"\",VLOOKUP($B$22,'DADOS DE ENTRADA'!$B:$E,4,0))","v":""},{"$f":"IF(AX17=\"\",\"\",VLOOKUP($B$22,'DADOS DE ENTRADA'!$B:$E,4,0))","v":""},{"$f":"IF(AY17=\"\",\"\",VLOOKUP($B$22,'DADOS DE ENTRADA'!$B:$E,4,0))","v":0.33},{"$f":"IF(AZ17=\"\",\"\",VLOOKUP($B$22,'DADOS DE ENTRADA'!$B:$E,4,0))","v":0.33},{"$f":"IF(BA17=\"\",\"\",VLOOKUP($B$22,'DADOS DE ENTRADA'!$B:$E,4,0))","v":""},{"$f":"IF(BB17=\"\",\"\",VLOOKUP($B$22,'DADOS DE ENTRADA'!$B:$E,4,0))","v":""},{"$f":"IF(BC17=\"\",\"\",VLOOKUP($B$22,'DADOS DE ENTRADA'!$B:$E,4,0))","v":""},{"$f":"IF(BD17=\"\",\"\",VLOOKUP($B$22,'DADOS DE ENTRADA'!$B:$E,4,0))","v":""},{"$f":"IF(BE17=\"\",\"\",VLOOKUP($B$22,'DADOS DE ENTRADA'!$B:$E,4,0))","v":0.33},{"$f":"IF(BF17=\"\",\"\",VLOOKUP($B$22,'DADOS DE ENTRADA'!$B:$E,4,0))","v":""},{"$f":"IF(BG17=\"\",\"\",VLOOKUP($B$22,'DADOS DE ENTRADA'!$B:$E,4,0))","v":""},{"$f":"IF(BH17=\"\",\"\",VLOOKUP($B$22,'DADOS DE ENTRADA'!$B:$E,4,0))","v":""},{"$f":"IF(BI17=\"\",\"\",VLOOKUP($B$22,'DADOS DE ENTRADA'!$B:$E,4,0))","v":""},{"$f":"IF(BJ17=\"\",\"\",VLOOKUP($B$22,'DADOS DE ENTRADA'!$B:$E,4,0))","v":""},{"$f":"IF(BK17=\"\",\"\",VLOOKUP($B$22,'DADOS DE ENTRADA'!$B:$E,4,0))","v":""},{"$f":"IF(BL17=\"\",\"\",VLOOKUP($B$22,'DADOS DE ENTRADA'!$B:$E,4,0))","v":""},{"$f":"IF(BM17=\"\",\"\",VLOOKUP($B$22,'DADOS DE ENTRADA'!$B:$E,4,0))","v":0.33},{"$f":"IF(BN17=\"\",\"\",VLOOKUP($B$22,'DADOS DE ENTRADA'!$B:$E,4,0))","v":0.33},{"$f":"IF(BO17=\"\",\"\",VLOOKUP($B$22,'DADOS DE ENTRADA'!$B:$E,4,0))","v":0.33},{"$f":"IF(BP17=\"\",\"\",VLOOKUP($B$22,'DADOS DE ENTRADA'!$B:$E,4,0))","v":0.33},{"$f":"IF(BQ17=\"\",\"\",VLOOKUP($B$22,'DADOS DE ENTRADA'!$B:$E,4,0))","v":0.33},{"$f":"IF(BR17=\"\",\"\",VLOOKUP($B$22,'DADOS DE ENTRADA'!$B:$E,4,0))","v":0.33},{"$f":"IF(BS17=\"\",\"\",VLOOKUP($B$22,'DADOS DE ENTRADA'!$B:$E,4,0))","v":0.33},{"$f":"IF(BT17=\"\",\"\",VLOOKUP($B$22,'DADOS DE ENTRADA'!$B:$E,4,0))","v":0.33},{"$f":"IF(BU17=\"\",\"\",VLOOKUP($B$22,'DADOS DE ENTRADA'!$B:$E,4,0))","v":0.33},{"$f":"IF(BV17=\"\",\"\",VLOOKUP($B$22,'DADOS DE ENTRADA'!$B:$E,4,0))","v":0.33},{"$f":"IF(BW17=\"\",\"\",VLOOKUP($B$22,'DADOS DE ENTRADA'!$B:$E,4,0))","v":0.33},{"$f":"IF(BX17=\"\",\"\",VLOOKUP($B$22,'DADOS DE ENTRADA'!$B:$E,4,0))","v":0.33},{"$f":"IF(BY17=\"\",\"\",VLOOKUP($B$22,'DADOS DE ENTRADA'!$B:$E,4,0))","v":0.33},{"$f":"IF(BZ17=\"\",\"\",VLOOKUP($B$22,'DADOS DE ENTRADA'!$B:$E,4,0))","v":0.33},{"$f":"IF(CA17=\"\",\"\",VLOOKUP($B$22,'DADOS DE ENTRADA'!$B:$E,4,0))","v":0.33},{"$f":"IF(CB17=\"\",\"\",VLOOKUP($B$22,'DADOS DE ENTRADA'!$B:$E,4,0))","v":0.33},{"$f":"IF(CC17=\"\",\"\",VLOOKUP($B$22,'DADOS DE ENTRADA'!$B:$E,4,0))","v":0.33},{"$f":"IF(CD17=\"\",\"\",VLOOKUP($B$22,'DADOS DE ENTRADA'!$B:$E,4,0))","v":""},{"$f":"IF(CE17=\"\",\"\",VLOOKUP($B$22,'DADOS DE ENTRADA'!$B:$E,4,0))","v":0.33},{"$f":"IF(CF17=\"\",\"\",VLOOKUP($B$22,'DADOS DE ENTRADA'!$B:$E,4,0))","v":0.33},{"$f":"IF(CG17=\"\",\"\",VLOOKUP($B$22,'DADOS DE ENTRADA'!$B:$E,4,0))","v":0.33},{"$f":"IF(CH17=\"\",\"\",VLOOKUP($B$22,'DADOS DE ENTRADA'!$B:$E,4,0))","v":""},{"$f":"IF(CI17=\"\",\"\",VLOOKUP($B$22,'DADOS DE ENTRADA'!$B:$E,4,0))","v":0.33},{"$f":"IF(CJ17=\"\",\"\",VLOOKUP($B$22,'DADOS DE ENTRADA'!$B:$E,4,0))","v":0.33},{"$f":"IF(CK17=\"\",\"\",VLOOKUP($B$22,'DADOS DE ENTRADA'!$B:$E,4,0))","v":0.33},{"$f":"IF(CL17=\"\",\"\",VLOOKUP($B$22,'DADOS DE ENTRADA'!$B:$E,4,0))","v":0.33},{"$f":"IF(CM17=\"\",\"\",VLOOKUP($B$22,'DADOS DE ENTRADA'!$B:$E,4,0))","v":""}]
[null,"Espessura da camada de solo-cimento:","erSC =","m",{"$f":"IF(E18=\"\",\"\",VLOOKUP($B$23,'DADOS DE ENTRADA'!$B:$E,4,0))","v":0.1},{"$f":"IF(F18=\"\",\"\",VLOOKUP($B$23,'DADOS DE ENTRADA'!$B:$E,4,0))","v":0.1},{"$f":"IF(G18=\"\",\"\",VLOOKUP($B$23,'DADOS DE ENTRADA'!$B:$E,4,0))","v":0.1},{"$f":"IF(H18=\"\",\"\",VLOOKUP($B$23,'DADOS DE ENTRADA'!$B:$E,4,0))","v":0.1},{"$f":"IF(I18=\"\",\"\",VLOOKUP($B$23,'DADOS DE ENTRADA'!$B:$E,4,0))","v":0.1},{"$f":"IF(J18=\"\",\"\",VLOOKUP($B$23,'DADOS DE ENTRADA'!$B:$E,4,0))","v":0.1},{"$f":"IF(K18=\"\",\"\",VLOOKUP($B$23,'DADOS DE ENTRADA'!$B:$E,4,0))","v":0.1},{"$f":"IF(L18=\"\",\"\",VLOOKUP($B$23,'DADOS DE ENTRADA'!$B:$E,4,0))","v":0.1},{"$f":"IF(M18=\"\",\"\",VLOOKUP($B$23,'DADOS DE ENTRADA'!$B:$E,4,0))","v":0.1},{"$f":"IF(N18=\"\",\"\",VLOOKUP($B$23,'DADOS DE ENTRADA'!$B:$E,4,0))","v":0.1},{"$f":"IF(O18=\"\",\"\",VLOOKUP($B$23,'DADOS DE ENTRADA'!$B:$E,4,0))","v":""},{"$f":"IF(P18=\"\",\"\",VLOOKUP($B$23,'DADOS DE ENTRADA'!$B:$E,4,0))","v":""},{"$f":"IF(Q18=\"\",\"\",VLOOKUP($B$23,'DADOS DE ENTRADA'!$B:$E,4,0))","v":""},{"$f":"IF(R18=\"\",\"\",VLOOKUP($B$23,'DADOS DE ENTRADA'!$B:$E,4,0))","v":""},{"$f":"IF(S18=\"\",\"\",VLOOKUP($B$23,'DADOS DE ENTRADA'!$B:$E,4,0))","v":""},{"$f":"IF(T18=\"\",\"\",VLOOKUP($B$23,'DADOS DE ENTRADA'!$B:$E,4,0))","v":""},{"$f":"IF(U18=\"\",\"\",VLOOKUP($B$23,'DADOS DE ENTRADA'!$B:$E,4,0))","v":0.1},{"$f":"IF(V18=\"\",\"\",VLOOKUP($B$23,'DADOS DE ENTRADA'!$B:$E,4,0))","v":0.1},{"$f":"IF(W18=\"\",\"\",VLOOKUP($B$23,'DADOS DE ENTRADA'!$B:$E,4,0))","v":0.1},{"$f":"IF(X18=\"\",\"\",VLOOKUP($B$23,'DADOS DE ENTRADA'!$B:$E,4,0))","v":""},{"$f":"IF(Y18=\"\",\"\",VLOOKUP($B$23,'DADOS DE ENTRADA'!$B:$E,4,0))","v":0.1},{"$f":"IF(Z18=\"\",\"\",VLOOKUP($B$23,'DADOS DE ENTRADA'!$B:$E,4,0))","v":0.1},{"$f":"IF(AA18=\"\",\"\",VLOOKUP($B$23,'DADOS DE ENTRADA'!$B:$E,4,0))","v":""},{"$f":"IF(AB18=\"\",\"\",VLOOKUP($B$23,'DADOS DE ENTRADA'!$B:$E,4,0))","v":""},{"$f":"IF(AC18=\"\",\"\",VLOOKUP($B$23,'DADOS DE ENTRADA'!$B:$E,4,0))","v":""},{"$f":"IF(AD18=\"\",\"\",VLOOKUP($B$23,'DADOS DE ENTRADA'!$B:$E,4,0))","v":""},{"$f":"IF(AE18=\"\",\"\",VLOOKUP($B$23,'DADOS DE ENTRADA'!$B:$E,4,0))","v":""},{"$f":"IF(AF18=\"\",\"\",VLOOKUP($B$23,'DADOS DE ENTRADA'!$B:$E,4,0))","v":0.1},{"$f":"IF(AG18=\"\",\"\",VLOOKUP($B$23,'DADOS DE ENTRADA'!$B:$E,4,0))","v":""},{"$f":"IF(AH18=\"\",\"\",VLOOKUP($B$23,'DADOS DE ENTRADA'!$B:$E,4,0))","v":0.1},{"$f":"IF(AI18=\"\",\"\",VLOOKUP($B$23,'DADOS DE ENTRADA'!$B:$E,4,0))","v":""},{"$f":"IF(AJ18=\"\",\"\",VLOOKUP($B$23,'DADOS DE ENTRADA'!$B:$E,4,0))","v":""},{"$f":"IF(AK18=\"\",\"\",VLOOKUP($B$23,'DADOS DE ENTRADA'!$B:$E,4,0))","v":""},{"$f":"IF(AL18=\"\",\"\",VLOOKUP($B$23,'DADOS DE ENTRADA'!$B:$E,4,0))","v":""},{"$f":"IF(AM18=\"\",\"\",VLOOKUP($B$23,'DADOS DE ENTRADA'!$B:$E,4,0))","v":0.1},{"$f":"IF(AN18=\"\",\"\",VLOOKUP($B$23,'DADOS DE ENTRADA'!$B:$E,4,0))","v":0.1},{"$f":"IF(AO18=\"\",\"\",VLOOKUP($B$23,'DADOS DE ENTRADA'!$B:$E,4,0))","v":""},{"$f":"IF(AP18=\"\",\"\",VLOOKUP($B$23,'DADOS DE ENTRADA'!$B:$E,4,0))","v":""},{"$f":"IF(AQ18=\"\",\"\",VLOOKUP($B$23,'DADOS DE ENTRADA'!$B:$E,4,0))","v":""},{"$f":"IF(AR18=\"\",\"\",VLOOKUP($B$23,'DADOS DE ENTRADA'!$B:$E,4,0))","v":""},{"$f":"IF(AS18=\"\",\"\",VLOOKUP($B$23,'DADOS DE ENTRADA'!$B:$E,4,0))","v":0.1},{"$f":"IF(AT18=\"\",\"\",VLOOKUP($B$23,'DADOS DE ENTRADA'!$B:$E,4,0))","v":""},{"$f":"IF(AU18=\"\",\"\",VLOOKUP($B$23,'DADOS DE ENTRADA'!$B:$E,4,0))","v":""},{"$f":"IF(AV18=\"\",\"\",VLOOKUP($B$23,'DADOS DE ENTRADA'!$B:$E,4,0))","v":0.1},{"$f":"IF(AW18=\"\",\"\",VLOOKUP($B$23,'DADOS DE ENTRADA'!$B:$E,4,0))","v":""},{"$f":"IF(AX18=\"\",\"\",VLOOKUP($B$23,'DADOS DE ENTRADA'!$B:$E,4,0))","v":""},{"$f":"IF(AY18=\"\",\"\",VLOOKUP($B$23,'DADOS DE ENTRADA'!$B:$E,4,0))","v":0.1},{"$f":"IF(AZ18=\"\",\"\",VLOOKUP($B$23,'DADOS DE ENTRADA'!$B:$E,4,0))","v":0.1},{"$f":"IF(BA18=\"\",\"\",VLOOKUP($B$23,'DADOS DE ENTRADA'!$B:$E,4,0))","v":""},{"$f":"IF(BB18=\"\",\"\",VLOOKUP($B$23,'DADOS DE ENTRADA'!$B:$E,4,0))","v":""},{"$f":"IF(BC18=\"\",\"\",VLOOKUP($B$23,'DADOS DE ENTRADA'!$B:$E,4,0))","v":""},{"$f":"IF(BD18=\"\",\"\",VLOOKUP($B$23,'DADOS DE ENTRADA'!$B:$E,4,0))","v":""},{"$f":"IF(BE18=\"\",\"\",VLOOKUP($B$23,'DADOS DE ENTRADA'!$B:$E,4,0))","v":0.1},{"$f":"IF(BF18=\"\",\"\",VLOOKUP($B$23,'DADOS DE ENTRADA'!$B:$E,4,0))","v":""},{"$f":"IF(BG18=\"\",\"\",VLOOKUP($B$23,'DADOS DE ENTRADA'!$B:$E,4,0))","v":""},{"$f":"IF(BH18=\"\",\"\",VLOOKUP($B$23,'DADOS DE ENTRADA'!$B:$E,4,0))","v":""},{"$f":"IF(BI18=\"\",\"\",VLOOKUP($B$23,'DADOS DE ENTRADA'!$B:$E,4,0))","v":""},{"$f":"IF(BJ18=\"\",\"\",VLOOKUP($B$23,'DADOS DE ENTRADA'!$B:$E,4,0))","v":""},{"$f":"IF(BK18=\"\",\"\",VLOOKUP($B$23,'DADOS DE ENTRADA'!$B:$E,4,0))","v":""},{"$f":"IF(BL18=\"\",\"\",VLOOKUP($B$23,'DADOS DE ENTRADA'!$B:$E,4,0))","v":""},{"$f":"IF(BM18=\"\",\"\",VLOOKUP($B$23,'DADOS DE ENTRADA'!$B:$E,4,0))","v":0.1},{"$f":"IF(BN18=\"\",\"\",VLOOKUP($B$23,'DADOS DE ENTRADA'!$B:$E,4,0))","v":0.1},{"$f":"IF(BO18=\"\",\"\",VLOOKUP($B$23,'DADOS DE ENTRADA'!$B:$E,4,0))","v":0.1},{"$f":"IF(BP18=\"\",\"\",VLOOKUP($B$23,'DADOS DE ENTRADA'!$B:$E,4,0))","v":0.1},{"$f":"IF(BQ18=\"\",\"\",VLOOKUP($B$23,'DADOS DE ENTRADA'!$B:$E,4,0))","v":0.1},{"$f":"IF(BR18=\"\",\"\",VLOOKUP($B$23,'DADOS DE ENTRADA'!$B:$E,4,0))","v":0.1},{"$f":"IF(BS18=\"\",\"\",VLOOKUP($B$23,'DADOS DE ENTRADA'!$B:$E,4,0))","v":0.1},{"$f":"IF(BT18=\"\",\"\",VLOOKUP($B$23,'DADOS DE ENTRADA'!$B:$E,4,0))","v":0.1},{"$f":"IF(BU18=\"\",\"\",VLOOKUP($B$23,'DADOS DE ENTRADA'!$B:$E,4,0))","v":0.1},{"$f":"IF(BV18=\"\",\"\",VLOOKUP($B$23,'DADOS DE ENTRADA'!$B:$E,4,0))","v":0.1},{"$f":"IF(BW18=\"\",\"\",VLOOKUP($B$23,'DADOS DE ENTRADA'!$B:$E,4,0))","v":0.1},{"$f":"IF(BX18=\"\",\"\",VLOOKUP($B$23,'DADOS DE ENTRADA'!$B:$E,4,0))","v":0.1},{"$f":"IF(BY18=\"\",\"\",VLOOKUP($B$23,'DADOS DE ENTRADA'!$B:$E,4,0))","v":0.1},{"$f":"IF(BZ18=\"\",\"\",VLOOKUP($B$23,'DADOS DE ENTRADA'!$B:$E,4,0))","v":0.1},{"$f":"IF(CA18=\"\",\"\",VLOOKUP($B$23,'DADOS DE ENTRADA'!$B:$E,4,0))","v":0.1},{"$f":"IF(CB18=\"\",\"\",VLOOKUP($B$23,'DADOS DE ENTRADA'!$B:$E,4,0))","v":0.1},{"$f":"IF(CC18=\"\",\"\",VLOOKUP($B$23,'DADOS DE ENTRADA'!$B:$E,4,0))","v":0.1},{"$f":"IF(CD18=\"\",\"\",VLOOKUP($B$23,'DADOS DE ENTRADA'!$B:$E,4,0))","v":""},{"$f":"IF(CE18=\"\",\"\",VLOOKUP($B$23,'DADOS DE ENTRADA'!$B:$E,4,0))","v":0.1},{"$f":"IF(CF18=\"\",\"\",VLOOKUP($B$23,'DADOS DE ENTRADA'!$B:$E,4,0))","v":0.1},{"$f":"IF(CG18=\"\",\"\",VLOOKUP($B$23,'DADOS DE ENTRADA'!$B:$E,4,0))","v":0.1},{"$f":"IF(CH18=\"\",\"\",VLOOKUP($B$23,'DADOS DE ENTRADA'!$B:$E,4,0))","v":""},{"$f":"IF(CI18=\"\",\"\",VLOOKUP($B$23,'DADOS DE ENTRADA'!$B:$E,4,0))","v":0.1},{"$f":"IF(CJ18=\"\",\"\",VLOOKUP($B$23,'DADOS DE ENTRADA'!$B:$E,4,0))","v":0.1},{"$f":"IF(CK18=\"\",\"\",VLOOKUP($B$23,'DADOS DE ENTRADA'!$B:$E,4,0))","v":0.1},{"$f":"IF(CL18=\"\",\"\",VLOOKUP($B$23,'DADOS DE ENTRADA'!$B:$E,4,0))","v":0.1},{"$f":"IF(CM18=\"\",\"\",VLOOKUP($B$23,'DADOS DE ENTRADA'!$B:$E,4,0))","v":""}]
[null,"Área Solo a Retirar (Solo Impróprio):","Acsr =","m2",{"$f":"IF(E14=\"\",\"\",E22*E33)","v":1.8534009506560647},{"$f":"IF(F14=\"\",\"\",F22*F33)","v":1.8253995221210775},1.7973980935860905,1.7973980935860905,1.7270628555394407,1.5353880938411792,0.968370951421332,0.88436666581637002,0.81902999923473307,0.68835666607145907,"","","","","","",0.93386666581637001,0.93386666581637001,0.93386666581637001,"",0.837697618258058,0.76302714216475842,"","","","","",1.1090414275146314,"",0.76369047558312153,"","","","",0.90369761825805794,0.79169190411810875,"","","","",0.69769047558312158,"","",0.87569618972307051,"","",1.003360951676421,0.81902999923473307,"","","","",0.83053142776972033,"","","","","","","",1.7169271418719403,1.6413766655612809,1.624876665561281,1.7900542843295169,1.7563909509111537,{"$f":"IF(BR14=\"\",\"\",BR22*BR33)","v":1.7563909509111537},1.7563909509111537,1.7657247604228163,1.7563909509111537,1.7563909509111537,1.7563909509111537,1.4483752370262939,0.92170190386301976,0.82836380874639548,0.69769047558312158,0.69769047558312158,0.69769047558312158,"",0.8570285706997457,0.80102571362977115,0.7845257136297713,"",0.68119047558312151,0.8570285706997457,0.70702428509478388,0.58785238046649713,""]
[null,"Área solo-cimento:","Asolo-cim.=","m2",{"$f":"IF(E14=\"\",\"\",E23*E33)","v":0.56163665171395905},{"$f":"IF(F14=\"\",\"\",F23*F33)","v":0.55315137033972039},0.54466608896548196,0.54466608896548196,0.52335238046649724,0.46526911934581189,0.29344574285494907,0.26798989873223333,0.24819090885901002,0.20859292911256336,"","","","","","",0.28298989873223335,0.28298989873223335,0.28298989873223335,"",0.25384776310850243,0.23122034611053285,"","","","","",0.33607315985291858,"",0.23142135623730953,"","","","",0.2738477631085024,0.2399066376115481,"","","","",0.21142135623730957,"","",0.2653624817342638,"","",0.30404877323527907,0.24819090885901002,"","","","",0.25167619023324861,"","","","","","","",0.52028095208240621,0.49738686835190332,0.49238686835190332,0.54244069222106572,0.53223968209428907,{"$f":"IF(BR14=\"\",\"\",BR23*BR33)","v":0.53223968209428907},0.53223968209428907,0.53506810921903525,0.53223968209428907,0.53223968209428907,0.53223968209428907,0.43890158697766479,0.27930360723121811,0.2510193359837562,0.21142135623730957,0.21142135623730957,0.21142135623730957,"",0.25970562748477144,0.2427350647362943,0.23773506473629433,"",0.20642135623730953,0.25970562748477144,0.21424978336205572,0.17813708498984762,""]
[null,"Recomposição de Berma c1:","c1 =","m",0,0,0,0,0,{"$f":"IF(J21=\"\",\"\",VLOOKUP($B$26,'DADOS DE ENTRADA'!$B:$E,4,0))","v":{"$error":"#N/A"}},{"$f":"IF(K21=\"\",\"\",VLOOKUP($B$26,'DADOS DE ENTRADA'!$B:$E,4,0))","v":{"$error":"#N/A"}},{"$f":"IF(L21=\"\",\"\",VLOOKUP($B$26,'DADOS DE ENTRADA'!$B:$E,4,0))","v":{"$error":"#N/A"}},{"$f":"IF(M21=\"\",\"\",VLOOKUP($B$26,'DADOS DE ENTRADA'!$B:$E,4,0))","v":{"$error":"#N/A"}},{"$f":"IF(N21=\"\",\"\",VLOOKUP($B$26,'DADOS DE ENTRADA'!$B:$E,4,0))","v":{"$error":"#N/A"}},{"$f":"IF(O21=\"\",\"\",VLOOKUP($B$26,'DADOS DE ENTRADA'!$B:$E,4,0))","v":""},{"$f":"IF(P21=\"\",\"\",VLOOKUP($B$26,'DADOS DE ENTRADA'!$B:$E,4,0))","v":""},{"$f":"IF(Q21=\"\",\"\",VLOOKUP($B$26,'DADOS DE ENTRADA'!$B:$E,4,0))","v":""},{"$f":"IF(R21=\"\",\"\",VLOOKUP($B$26,'DADOS DE ENTRADA'!$B:$E,4,0))","v":""},{"$f":"IF(S21=\"\",\"\",VLOOKUP($B$26,'DADOS DE ENTRADA'!$B:$E,4,0))","v":""},{"$f":"IF(T21=\"\",\"\",VLOOKUP($B$26,'DADOS DE ENTRADA'!$B:$E,4,0))","v":""},{"$f":"IF(U21=\"\",\"\",VLOOKUP($B$26,'DADOS DE ENTRADA'!$B:$E,4,0))","v":{"$error":"#N/A"}},{"$f":"IF(V21=\"\",\"\",VLOOKUP($B$26,'DADOS DE ENTRADA'!$B:$E,4,0))","v":{"$error":"#N/A"}},{"$f":"IF(W21=\"\",\"\",VLOOKUP($B$26,'DADOS DE ENTRADA'!$B:$E,4,0))","v":{"$error":"#N/A"}},{"$f":"IF(X21=\"\",\"\",VLOOKUP($B$26,'DADOS DE ENTRADA'!$B:$E,4,0))","v":""},{"$f":"IF(Y21=\"\",\"\",VLOOKUP($B$26,'DADOS DE ENTRADA'!$B:$E,4,0))","v":{"$error":"#N/A"}},{"$f":"IF(Z21=\"\",\"\",VLOOKUP($B$26,'DADOS DE ENTRADA'!$B:$E,4,0))","v":{"$error":"#N/A"}},{"$f":"IF(AA21=\"\",\"\",VLOOKUP($B$26,'DADOS DE ENTRADA'!$B:$E,4,0))","v":""},{"$f":"IF(AB21=\"\",\"\",VLOOKUP($B$26,'DADOS DE ENTRADA'!$B:$E,4,0))","v":""},{"$f":"IF(AC21=\"\",\"\",VLOOKUP($B$26,'DADOS DE ENTRADA'!$B:$E,4,0))","v":""},{"$f":"IF(AD21=\"\",\"\",VLOOKUP($B$26,'DADOS DE ENTRADA'!$B:$E,4,0))","v":""},{"$f":"IF(AE21=\"\",\"\",VLOOKUP($B$26,'DADOS DE ENTRADA'!$B:$E,4,0))","v":""},{"$f":"IF(AF21=\"\",\"\",VLOOKUP($B$26,'DADOS DE ENTRADA'!$B:$E,4,0))","v":{"$error":"#N/A"}},{"$f":"IF(AG21=\"\",\"\",VLOOKUP($B$26,'DADOS DE ENTRADA'!$B:$E,4,0))","v":""},{"$f":"IF(AH21=\"\",\"\",VLOOKUP($B$26,'DADOS DE ENTRADA'!$B:$E,4,0))","v":{"$error":"#N/A"}},{"$f":"IF(AI21=\"\",\"\",VLOOKUP($B$26,'DADOS DE ENTRADA'!$B:$E,4,0))","v":""},{"$f":"IF(AJ21=\"\",\"\",VLOOKUP($B$26,'DADOS DE ENTRADA'!$B:$E,4,0))","v":""},{"$f":"IF(AK21=\"\",\"\",VLOOKUP($B$26,'DADOS DE ENTRADA'!$B:$E,4,0))","v":""},{"$f":"IF(AL21=\"\",\"\",VLOOKUP($B$26,'DADOS DE ENTRADA'!$B:$E,4,0))","v":""},{"$f":"IF(AM21=\"\",\"\",VLOOKUP($B$26,'DADOS DE ENTRADA'!$B:$E,4,0))","v":{"$error":"#N/A"}},{"$f":"IF(AN21=\"\",\"\",VLOOKUP($B$26,'DADOS DE ENTRADA'!$B:$E,4,0))","v":{"$error":"#N/A"}},{"$f":"IF(AO21=\"\",\"\",VLOOKUP($B$26,'DADOS DE ENTRADA'!$B:$E,4,0))","v":""},{"$f":"IF(AP21=\"\",\"\",VLOOKUP($B$26,'DADOS DE ENTRADA'!$B:$E,4,0))","v":""},{"$f":"IF(AQ21=\"\",\"\",VLOOKUP($B$26,'DADOS DE ENTRADA'!$B:$E,4,0))","v":""},{"$f":"IF(AR21=\"\",\"\",VLOOKUP($B$26,'DADOS DE ENTRADA'!$B:$E,4,0))","v":""},{"$f":"IF(AS21=\"\",\"\",VLOOKUP($B$26,'DADOS DE ENTRADA'!$B:$E,4,0))","v":{"$error":"#N/A"}},{"$f":"IF(AT21=\"\",\"\",VLOOKUP($B$26,'DADOS DE ENTRADA'!$B:$E,4,0))","v":""},{"$f":"IF(AU21=\"\",\"\",VLOOKUP($B$26,'DADOS DE ENTRADA'!$B:$E,4,0))","v":""},{"$f":"IF(AV21=\"\",\"\",VLOOKUP($B$26,'DADOS DE ENTRADA'!$B:$E,4,0))","v":{"$error":"#N/A"}},{"$f":"IF(AW21=\"\",\"\",VLOOKUP($B$26,'DADOS DE ENTRADA'!$B:$E,4,0))","v":""},{"$f":"IF(AX21=\"\",\"\",VLOOKUP($B$26,'DADOS DE ENTRADA'!$B:$E,4,0))","v":""},{"$f":"IF(AY21=\"\",\"\",VLOOKUP($B$26,'DADOS DE ENTRADA'!$B:$E,4,0))","v":{"$error":"#N/A"}},{"$f":"IF(AZ21=\"\",\"\",VLOOKUP($B$26,'DADOS DE ENTRADA'!$B:$E,4,0))","v":{"$error":"#N/A"}},{"$f":"IF(BA21=\"\",\"\",VLOOKUP($B$26,'DADOS DE ENTRADA'!$B:$E,4,0))","v":""},{"$f":"IF(BB21=\"\",\"\",VLOOKUP($B$26,'DADOS DE ENTRADA'!$B:$E,4,0))","v":""},{"$f":"IF(BC21=\"\",\"\",VLOOKUP($B$26,'DADOS DE ENTRADA'!$B:$E,4,0))","v":""},{"$f":"IF(BD21=\"\",\"\",VLOOKUP($B$26,'DADOS DE ENTRADA'!$B:$E,4,0))","v":""},{"$f":"IF(BE21=\"\",\"\",VLOOKUP($B$26,'DADOS DE ENTRADA'!$B:$E,4,0))","v":{"$error":"#N/A"}},{"$f":"IF(BF21=\"\",\"\",VLOOKUP($B$26,'DADOS DE ENTRADA'!$B:$E,4,0))","v":""},{"$f":"IF(BG21=\"\",\"\",VLOOKUP($B$26,'DADOS DE ENTRADA'!$B:$E,4,0))","v":""},{"$f":"IF(BH21=\"\",\"\",VLOOKUP($B$26,'DADOS DE ENTRADA'!$B:$E,4,0))","v":""},{"$f":"IF(BI21=\"\",\"\",VLOOKUP($B$26,'DADOS DE ENTRADA'!$B:$E,4,0))","v":""},{"$f":"IF(BJ21=\"\",\"\",VLOOKUP($B$26,'DADOS DE ENTRADA'!$B:$E,4,0))","v":""},{"$f":"IF(BK21=\"\",\"\",VLOOKUP($B$26,'DADOS DE ENTRADA'!$B:$E,4,0))","v":""},{"$f":"IF(BL21=\"\",\"\",VLOOKUP($B$26,'DADOS DE ENTRADA'!$B:$E,4,0))","v":""},{"$f":"IF(BM21=\"\",\"\",VLOOKUP($B$26,'DADOS DE ENTRADA'!$B:$E,4,0))","v":{"$error":"#N/A"}},{"$f":"IF(BN21=\"\",\"\",VLOOKUP($B$26,'DADOS DE ENTRADA'!$B:$E,4,0))","v":{"$error":"#N/A"}},{"$f":"IF(BO21=\"\",\"\",VLOOKUP($B$26,'DADOS DE ENTRADA'!$B:$E,4,0))","v":{"$error":"#N/A"}},{"$f":"IF(BP21=\"\",\"\",VLOOKUP($B$26,'DADOS DE ENTRADA'!$B:$E,4,0))","v":{"$error":"#N/A"}},{"$f":"IF(BQ21=\"\",\"\",VLOOKUP($B$26,'DADOS DE ENTRADA'!$B:$E,4,0))","v":{"$error":"#N/A"}},{"$f":"IF(BR21=\"\",\"\",VLOOKUP($B$26,'DADOS DE ENTRADA'!$B:$E,4,0))","v":{"$error":"#N/A"}},{"$f":"IF(BS21=\"\",\"\",VLOOKUP($B$26,'DADOS DE ENTRADA'!$B:$E,4,0))","v":{"$error":"#N/A"}},{"$f":"IF(BT21=\"\",\"\",VLOOKUP($B$26,'DADOS DE ENTRADA'!$B:$E,4,0))","v":{"$error":"#N/A"}},{"$f":"IF(BU21=\"\",\"\",VLOOKUP($B$26,'DADOS DE ENTRADA'!$B:$E,4,0))","v":{"$error":"#N/A"}},{"$f":"IF(BV21=\"\",\"\",VLOOKUP($B$26,'DADOS DE ENTRADA'!$B:$E,4,0))","v":{"$error":"#N/A"}},{"$f":"IF(BW21=\"\",\"\",VLOOKUP($B$26,'DADOS DE ENTRADA'!$B:$E,4,0))","v":{"$error":"#N/A"}},{"$f":"IF(BX21=\"\",\"\",VLOOKUP($B$26,'DADOS DE ENTRADA'!$B:$E,4,0))","v":{"$error":"#N/A"}},{"$f":"IF(BY21=\"\",\"\",VLOOKUP($B$26,'DADOS DE ENTRADA'!$B:$E,4,0))","v":{"$error":"#N/A"}},{"$f":"IF(BZ21=\"\",\"\",VLOOKUP($B$26,'DADOS DE ENTRADA'!$B:$E,4,0))","v":{"$error":"#N/A"}},{"$f":"IF(CA21=\"\",\"\",VLOOKUP($B$26,'DADOS DE ENTRADA'!$B:$E,4,0))","v":{"$error":"#N/A"}},{"$f":"IF(CB21=\"\",\"\",VLOOKUP($B$26,'DADOS DE ENTRADA'!$B:$E,4,0))","v":{"$error":"#N/A"}},{"$f":"IF(CC21=\"\",\"\",VLOOKUP($B$26,'DADOS DE ENTRADA'!$B:$E,4,0))","v":{"$error":"#N/A"}},{"$f":"IF(CD21=\"\",\"\",VLOOKUP($B$26,'DADOS DE ENTRADA'!$B:$E,4,0))","v":""},{"$f":"IF(CE21=\"\",\"\",VLOOKUP($B$26,'DADOS DE ENTRADA'!$B:$E,4,0))","v":{"$error":"#N/A"}},{"$f":"IF(CF21=\"\",\"\",VLOOKUP($B$26,'DADOS DE ENTRADA'!$B:$E,4,0))","v":{"$error":"#N/A"}},{"$f":"IF(CG21=\"\",\"\",VLOOKUP($B$26,'DADOS DE ENTRADA'!$B:$E,4,0))","v":{"$error":"#N/A"}},{"$f":"IF(CH21=\"\",\"\",VLOOKUP($B$26,'DADOS DE ENTRADA'!$B:$E,4,0))","v":""},{"$f":"IF(CI21=\"\",\"\",VLOOKUP($B$26,'DADOS DE ENTRADA'!$B:$E,4,0))","v":{"$error":"#N/A"}},{"$f":"IF(CJ21=\"\",\"\",VLOOKUP($B$26,'DADOS DE ENTRADA'!$B:$E,4,0))","v":{"$error":"#N/A"}},{"$f":"IF(CK21=\"\",\"\",VLOOKUP($B$26,'DADOS DE ENTRADA'!$B:$E,4,0))","v":{"$error":"#N/A"}},{"$f":"IF(CL21=\"\",\"\",VLOOKUP($B$26,'DADOS DE ENTRADA'!$B:$E,4,0))","v":{"$error":"#N/A"}},{"$f":"IF(CM21=\"\",\"\",VLOOKUP($B$26,'DADOS DE ENTRADA'!$B:$E,4,0))","v":""}]
[null,"Recomposição de Berma c2:","c2 =","m",0,0,0,0,0,{"$f":"IF(J22=\"\",\"\",VLOOKUP($B$27,'DADOS DE ENTRADA'!$B:$E,4,0))","v":{"$error":"#N/A"}},{"$f":"IF(K22=\"\",\"\",VLOOKUP($B$27,'DADOS DE ENTRADA'!$B:$E,4,0))","v":{"$error":"#N/A"}},{"$f":"IF(L22=\"\",\"\",VLOOKUP($B$27,'DADOS DE ENTRADA'!$B:$E,4,0))","v":{"$error":"#N/A"}},{"$f":"IF(M22=\"\",\"\",VLOOKUP($B$27,'DADOS DE ENTRADA'!$B:$E,4,0))","v":{"$error":"#N/A"}},{"$f":"IF(N22=\"\",\"\",VLOOKUP($B$27,'DADOS DE ENTRADA'!$B:$E,4,0))","v":{"$error":"#N/A"}},{"$f":"IF(O22=\"\",\"\",VLOOKUP($B$27,'DADOS DE ENTRADA'!$B:$E,4,0))","v":""},{"$f":"IF(P22=\"\",\"\",VLOOKUP($B$27,'DADOS DE ENTRADA'!$B:$E,4,0))","v":""},{"$f":"IF(Q22=\"\",\"\",VLOOKUP($B$27,'DADOS DE ENTRADA'!$B:$E,4,0))","v":""},{"$f":"IF(R22=\"\",\"\",VLOOKUP($B$27,'DADOS DE ENTRADA'!$B:$E,4,0))","v":""},{"$f":"IF(S22=\"\",\"\",VLOOKUP($B$27,'DADOS DE ENTRADA'!$B:$E,4,0))","v":""},{"$f":"IF(T22=\"\",\"\",VLOOKUP($B$27,'DADOS DE ENTRADA'!$B:$E,4,0))","v":""},{"$f":"IF(U22=\"\",\"\",VLOOKUP($B$27,'DADOS DE ENTRADA'!$B:$E,4,0))","v":{"$error":"#N/A"}},{"$f":"IF(V22=\"\",\"\",VLOOKUP($B$27,'DADOS DE ENTRADA'!$B:$E,4,0))","v":{"$error":"#N/A"}},{"$f":"IF(W22=\"\",\"\",VLOOKUP($B$27,'DADOS DE ENTRADA'!$B:$E,4,0))","v":{"$error":"#N/A"}},{"$f":"IF(X22=\"\",\"\",VLOOKUP($B$27,'DADOS DE ENTRADA'!$B:$E,4,0))","v":""},{"$f":"IF(Y22=\"\",\"\",VLOOKUP($B$27,'DADOS DE ENTRADA'!$B:$E,4,0))","v":{"$error":"#N/A"}},{"$f":"IF(Z22=\"\",\"\",VLOOKUP($B$27,'DADOS DE ENTRADA'!$B:$E,4,0))","v":{"$error":"#N/A"}},{"$f":"IF(AA22=\"\",\"\",VLOOKUP($B$27,'DADOS DE ENTRADA'!$B:$E,4,0))","v":""},{"$f":"IF(AB22=\"\",\"\",VLOOKUP($B$27,'DADOS DE ENTRADA'!$B:$E,4,0))","v":""},{"$f":"IF(AC22=\"\",\"\",VLOOKUP($B$27,'DADOS DE ENTRADA'!$B:$E,4,0))","v":""},{"$f":"IF(AD22=\"\",\"\",VLOOKUP($B$27,'DADOS DE ENTRADA'!$B:$E,4,0))","v":""},{"$f":"IF(AE22=\"\",\"\",VLOOKUP($B$27,'DADOS DE ENTRADA'!$B:$E,4,0))","v":""},{"$f":"IF(AF22=\"\",\"\",VLOOKUP($B$27,'DADOS DE ENTRADA'!$B:$E,4,0))","v":{"$error":"#N/A"}},{"$f":"IF(AG22=\"\",\"\",VLOOKUP($B$27,'DADOS DE ENTRADA'!$B:$E,4,0))","v":""},{"$f":"IF(AH22=\"\",\"\",VLOOKUP($B$27,'DADOS DE ENTRADA'!$B:$E,4,0))","v":{"$error":"#N/A"}},{"$f":"IF(AI22=\"\",\"\",VLOOKUP($B$27,'DADOS DE ENTRADA'!$B:$E,4,0))","v":""},{"$f":"IF(AJ22=\"\",\"\",VLOOKUP($B$27,'DADOS DE ENTRADA'!$B:$E,4,0))","v":""},{"$f":"IF(AK22=\"\",\"\",VLOOKUP($B$27,'DADOS DE ENTRADA'!$B:$E,4,0))","v":""},{"$f":"IF(AL22=\"\",\"\",VLOOKUP($B$27,'DADOS DE ENTRADA'!$B:$E,4,0))","v":""},{"$f":"IF(AM22=\"\",\"\",VLOOKUP($B$27,'DADOS DE ENTRADA'!$B:$E,4,0))","v":{"$error":"#N/A"}},{"$f":"IF(AN22=\"\",\"\",VLOOKUP($B$27,'DADOS DE ENTRADA'!$B:$E,4,0))","v":{"$error":"#N/A"}},{"$f":"IF(AO22=\"\",\"\",VLOOKUP($B$27,'DADOS DE ENTRADA'!$B:$E,4,0))","v":""},{"$f":"IF(AP22=\"\",\"\",VLOOKUP($B$27,'DADOS DE ENTRADA'!$B:$E,4,0))","v":""},{"$f":"IF(AQ22=\"\",\"\",VLOOKUP($B$27,'DADOS DE ENTRADA'!$B:$E,4,0))","v":""},{"$f":"IF(AR22=\"\",\"\",VLOOKUP($B$27,'DADOS DE ENTRADA'!$B:$E,4,0))","v":""},{"$f":"IF(AS22=\"\",\"\",VLOOKUP($B$27,'DADOS DE ENTRADA'!$B:$E,4,0))","v":{"$error":"#N/A"}},{"$f":"IF(AT22=\"\",\"\",VLOOKUP($B$27,'DADOS DE ENTRADA'!$B:$E,4,0))","v":""},{"$f":"IF(AU22=\"\",\"\",VLOOKUP($B$27,'DADOS DE ENTRADA'!$B:$E,4,0))","v":""},{"$f":"IF(AV22=\"\",\"\",VLOOKUP($B$27,'DADOS DE ENTRADA'!$B:$E,4,0))","v":{"$error":"#N/A"}},{"$f":"IF(AW22=\"\",\"\",VLOOKUP($B$27,'DADOS DE ENTRADA'!$B:$E,4,0))","v":""},{"$f":"IF(AX22=\"\",\"\",VLOOKUP($B$27,'DADOS DE ENTRADA'!$B:$E,4,0))","v":""},{"$f":"IF(AY22=\"\",\"\",VLOOKUP($B$27,'DADOS DE ENTRADA'!$B:$E,4,0))","v":{"$error":"#N/A"}},{"$f":"IF(AZ22=\"\",\"\",VLOOKUP($B$27,'DADOS DE ENTRADA'!$B:$E,4,0))","v":{"$error":"#N/A"}},{"$f":"IF(BA22=\"\",\"\",VLOOKUP($B$27,'DADOS DE ENTRADA'!$B:$E,4,0))","v":""},{"$f":"IF(BB22=\"\",\"\",VLOOKUP($B$27,'DADOS DE ENTRADA'!$B:$E,4,0))","v":""},{"$f":"IF(BC22=\"\",\"\",VLOOKUP($B$27,'DADOS DE ENTRADA'!$B:$E,4,0))","v":""},{"$f":"IF(BD22=\"\",\"\",VLOOKUP($B$27,'DADOS DE ENTRADA'!$B:$E,4,0))","v":""},{"$f":"IF(BE22=\"\",\"\",VLOOKUP($B$27,'DADOS DE ENTRADA'!$B:$E,4,0))","v":{"$error":"#N/A"}},{"$f":"IF(BF22=\"\",\"\",VLOOKUP($B$27,'DADOS DE ENTRADA'!$B:$E,4,0))","v":""},{"$f":"IF(BG22=\"\",\"\",VLOOKUP($B$27,'DADOS DE ENTRADA'!$B:$E,4,0))","v":""},{"$f":"IF(BH22=\"\",\"\",VLOOKUP($B$27,'DADOS DE ENTRADA'!$B:$E,4,0))","v":""},{"$f":"IF(BI22=\"\",\"\",VLOOKUP($B$27,'DADOS DE ENTRADA'!$B:$E,4,0))","v":""},{"$f":"IF(BJ22=\"\",\"\",VLOOKUP($B$27,'DADOS DE ENTRADA'!$B:$E,4,0))","v":""},{"$f":"IF(BK22=\"\",\"\",VLOOKUP($B$27,'DADOS DE ENTRADA'!$B:$E,4,0))","v":""},{"$f":"IF(BL22=\"\",\"\",VLOOKUP($B$27,'DADOS DE ENTRADA'!$B:$E,4,0))","v":""},{"$f":"IF(BM22=\"\",\"\",VLOOKUP($B$27,'DADOS DE ENTRADA'!$B:$E,4,0))","v":{"$error":"#N/A"}},{"$f":"IF(BN22=\"\",\"\",VLOOKUP($B$27,'DADOS DE ENTRADA'!$B:$E,4,0))","v":{"$error":"#N/A"}},{"$f":"IF(BO22=\"\",\"\",VLOOKUP($B$27,'DADOS DE ENTRADA'!$B:$E,4,0))","v":{"$error":"#N/A"}},{"$f":"IF(BP22=\"\",\"\",VLOOKUP($B$27,'DADOS DE ENTRADA'!$B:$E,4,0))","v":{"$error":"#N/A"}},{"$f":"IF(BQ22=\"\",\"\",VLOOKUP($B$27,'DADOS DE ENTRADA'!$B:$E,4,0))","v":{"$error":"#N/A"}},{"$f":"IF(BR22=\"\",\"\",VLOOKUP($B$27,'DADOS DE ENTRADA'!$B:$E,4,0))","v":{"$error":"#N/A"}},{"$f":"IF(BS22=\"\",\"\",VLOOKUP($B$27,'DADOS DE ENTRADA'!$B:$E,4,0))","v":{"$error":"#N/A"}},{"$f":"IF(BT22=\"\",\"\",VLOOKUP($B$27,'DADOS DE ENTRADA'!$B:$E,4,0))","v":{"$error":"#N/A"}},{"$f":"IF(BU22=\"\",\"\",VLOOKUP($B$27,'DADOS DE ENTRADA'!$B:$E,4,0))","v":{"$error":"#N/A"}},{"$f":"IF(BV22=\"\",\"\",VLOOKUP($B$27,'DADOS DE ENTRADA'!$B:$E,4,0))","v":{"$error":"#N/A"}},{"$f":"IF(BW22=\"\",\"\",VLOOKUP($B$27,'DADOS DE ENTRADA'!$B:$E,4,0))","v":{"$error":"#N/A"}},{"$f":"IF(BX22=\"\",\"\",VLOOKUP($B$27,'DADOS DE ENTRADA'!$B:$E,4,0))","v":{"$error":"#N/A"}},{"$f":"IF(BY22=\"\",\"\",VLOOKUP($B$27,'DADOS DE ENTRADA'!$B:$E,4,0))","v":{"$error":"#N/A"}},{"$f":"IF(BZ22=\"\",\"\",VLOOKUP($B$27,'DADOS DE ENTRADA'!$B:$E,4,0))","v":{"$error":"#N/A"}},{"$f":"IF(CA22=\"\",\"\",VLOOKUP($B$27,'DADOS DE ENTRADA'!$B:$E,4,0))","v":{"$error":"#N/A"}},{"$f":"IF(CB22=\"\",\"\",VLOOKUP($B$27,'DADOS DE ENTRADA'!$B:$E,4,0))","v":{"$error":"#N/A"}},{"$f":"IF(CC22=\"\",\"\",VLOOKUP($B$27,'DADOS DE ENTRADA'!$B:$E,4,0))","v":{"$error":"#N/A"}},{"$f":"IF(CD22=\"\",\"\",VLOOKUP($B$27,'DADOS DE ENTRADA'!$B:$E,4,0))","v":""},{"$f":"IF(CE22=\"\",\"\",VLOOKUP($B$27,'DADOS DE ENTRADA'!$B:$E,4,0))","v":{"$error":"#N/A"}},{"$f":"IF(CF22=\"\",\"\",VLOOKUP($B$27,'DADOS DE ENTRADA'!$B:$E,4,0))","v":{"$error":"#N/A"}},{"$f":"IF(CG22=\"\",\"\",VLOOKUP($B$27,'DADOS DE ENTRADA'!$B:$E,4,0))","v":{"$error":"#N/A"}},{"$f":"IF(CH22=\"\",\"\",VLOOKUP($B$27,'DADOS DE ENTRADA'!$B:$E,4,0))","v":""},{"$f":"IF(CI22=\"\",\"\",VLOOKUP($B$27,'DADOS DE ENTRADA'!$B:$E,4,0))","v":{"$error":"#N/A"}},{"$f":"IF(CJ22=\"\",\"\",VLOOKUP($B$27,'DADOS DE ENTRADA'!$B:$E,4,0))","v":{"$error":"#N/A"}},{"$f":"IF(CK22=\"\",\"\",VLOOKUP($B$27,'DADOS DE ENTRADA'!$B:$E,4,0))","v":{"$error":"#N/A"}},{"$f":"IF(CL22=\"\",\"\",VLOOKUP($B$27,'DADOS DE ENTRADA'!$B:$E,4,0))","v":{"$error":"#N/A"}},{"$f":"IF(CM22=\"\",\"\",VLOOKUP($B$27,'DADOS DE ENTRADA'!$B:$E,4,0))","v":""}]
[null,"Recomposição de Berma c3:","c3 =","m",0,0,0,0,0,{"$f":"IF(J23=\"\",\"\",VLOOKUP($B$28,'DADOS DE ENTRADA'!$B:$E,4,0))","v":{"$error":"#N/A"}},{"$f":"IF(K23=\"\",\"\",VLOOKUP($B$28,'DADOS DE ENTRADA'!$B:$E,4,0))","v":{"$error":"#N/A"}},{"$f":"IF(L23=\"\",\"\",VLOOKUP($B$28,'DADOS DE ENTRADA'!$B:$E,4,0))","v":{"$error":"#N/A"}},{"$f":"IF(M23=\"\",\"\",VLOOKUP($B$28,'DADOS DE ENTRADA'!$B:$E,4,0))","v":{"$error":"#N/A"}},{"$f":"IF(N23=\"\",\"\",VLOOKUP($B$28,'DADOS DE ENTRADA'!$B:$E,4,0))","v":{"$error":"#N/A"}},{"$f":"IF(O23=\"\",\"\",VLOOKUP($B$28,'DADOS DE ENTRADA'!$B:$E,4,0))","v":""},{"$f":"IF(P23=\"\",\"\",VLOOKUP($B$28,'DADOS DE ENTRADA'!$B:$E,4,0))","v":""},{"$f":"IF(Q23=\"\",\"\",VLOOKUP($B$28,'DADOS DE ENTRADA'!$B:$E,4,0))","v":""},{"$f":"IF(R23=\"\",\"\",VLOOKUP($B$28,'DADOS DE ENTRADA'!$B:$E,4,0))","v":""},{"$f":"IF(S23=\"\",\"\",VLOOKUP($B$28,'DADOS DE ENTRADA'!$B:$E,4,0))","v":""},{"$f":"IF(T23=\"\",\"\",VLOOKUP($B$28,'DADOS DE ENTRADA'!$B:$E,4,0))","v":""},{"$f":"IF(U23=\"\",\"\",VLOOKUP($B$28,'DADOS DE ENTRADA'!$B:$E,4,0))","v":{"$error":"#N/A"}},{"$f":"IF(V23=\"\",\"\",VLOOKUP($B$28,'DADOS DE ENTRADA'!$B:$E,4,0))","v":{"$error":"#N/A"}},{"$f":"IF(W23=\"\",\"\",VLOOKUP($B$28,'DADOS DE ENTRADA'!$B:$E,4,0))","v":{"$error":"#N/A"}},{"$f":"IF(X23=\"\",\"\",VLOOKUP($B$28,'DADOS DE ENTRADA'!$B:$E,4,0))","v":""},{"$f":"IF(Y23=\"\",\"\",VLOOKUP($B$28,'DADOS DE ENTRADA'!$B:$E,4,0))","v":{"$error":"#N/A"}},{"$f":"IF(Z23=\"\",\"\",VLOOKUP($B$28,'DADOS DE ENTRADA'!$B:$E,4,0))","v":{"$error":"#N/A"}},{"$f":"IF(AA23=\"\",\"\",VLOOKUP($B$28,'DADOS DE ENTRADA'!$B:$E,4,0))","v":""},{"$f":"IF(AB23=\"\",\"\",VLOOKUP($B$28,'DADOS DE ENTRADA'!$B:$E,4,0))","v":""},{"$f":"IF(AC23=\"\",\"\",VLOOKUP($B$28,'DADOS DE ENTRADA'!$B:$E,4,0))","v":""},{"$f":"IF(AD23=\"\",\"\",VLOOKUP($B$28,'DADOS DE ENTRADA'!$B:$E,4,0))","v":""},{"$f":"IF(AE23=\"\",\"\",VLOOKUP($B$28,'DADOS DE ENTRADA'!$B:$E,4,0))","v":""},{"$f":"IF(AF23=\"\",\"\",VLOOKUP($B$28,'DADOS DE ENTRADA'!$B:$E,4,0))","v":{"$error":"#N/A"}},{"$f":"IF(AG23=\"\",\"\",VLOOKUP($B$28,'DADOS DE ENTRADA'!$B:$E,4,0))","v":""},{"$f":"IF(AH23=\"\",\"\",VLOOKUP($B$28,'DADOS DE ENTRADA'!$B:$E,4,0))","v":{"$error":"#N/A"}},{"$f":"IF(AI23=\"\",\"\",VLOOKUP($B$28,'DADOS DE ENTRADA'!$B:$E,4,0))","v":""},{"$f":"IF(AJ23=\"\",\"\",VLOOKUP($B$28,'DADOS DE ENTRADA'!$B:$E,4,0))","v":""},{"$f":"IF(AK23=\"\",\"\",VLOOKUP($B$28,'DADOS DE ENTRADA'!$B:$E,4,0))","v":""},{"$f":"IF(AL23=\"\",\"\",VLOOKUP($B$28,'DADOS DE ENTRADA'!$B:$E,4,0))","v":""},{"$f":"IF(AM23=\"\",\"\",VLOOKUP($B$28,'DADOS DE ENTRADA'!$B:$E,4,0))","v":{"$error":"#N/A"}},{"$f":"IF(AN23=\"\",\"\",VLOOKUP($B$28,'DADOS DE ENTRADA'!$B:$E,4,0))","v":{"$error":"#N/A"}},{"$f":"IF(AO23=\"\",\"\",VLOOKUP($B$28,'DADOS DE ENTRADA'!$B:$E,4,0))","v":""},{"$f":"IF(AP23=\"\",\"\",VLOOKUP($B$28,'DADOS DE ENTRADA'!$B:$E,4,0))","v":""},{"$f":"IF(AQ23=\"\",\"\",VLOOKUP($B$28,'DADOS DE ENTRADA'!$B:$E,4,0))","v":""},{"$f":"IF(AR23=\"\",\"\",VLOOKUP($B$28,'DADOS DE ENTRADA'!$B:$E,4,0))","v":""},{"$f":"IF(AS23=\"\",\"\",VLOOKUP($B$28,'DADOS DE ENTRADA'!$B:$E,4,0))","v":{"$error":"#N/A"}},{"$f":"IF(AT23=\"\",\"\",VLOOKUP($B$28,'DADOS DE ENTRADA'!$B:$E,4,0))","v":""},{"$f":"IF(AU23=\"\",\"\",VLOOKUP($B$28,'DADOS DE ENTRADA'!$B:$E,4,0))","v":""},{"$f":"IF(AV23=\"\",\"\",VLOOKUP($B$28,'DADOS DE ENTRADA'!$B:$E,4,0))","v":{"$error":"#N/A"}},{"$f":"IF(AW23=\"\",\"\",VLOOKUP($B$28,'DADOS DE ENTRADA'!$B:$E,4,0))","v":""},{"$f":"IF(AX23=\"\",\"\",VLOOKUP($B$28,'DADOS DE ENTRADA'!$B:$E,4,0))","v":""},{"$f":"IF(AY23=\"\",\"\",VLOOKUP($B$28,'DADOS DE ENTRADA'!$B:$E,4,0))","v":{"$error":"#N/A"}},{"$f":"IF(AZ23=\"\",\"\",VLOOKUP($B$28,'DADOS DE ENTRADA'!$B:$E,4,0))","v":{"$error":"#N/A"}},{"$f":"IF(BA23=\"\",\"\",VLOOKUP($B$28,'DADOS DE ENTRADA'!$B:$E,4,0))","v":""},{"$f":"IF(BB23=\"\",\"\",VLOOKUP($B$28,'DADOS DE ENTRADA'!$B:$E,4,0))","v":""},{"$f":"IF(BC23=\"\",\"\",VLOOKUP($B$28,'DADOS DE ENTRADA'!$B:$E,4,0))","v":""},{"$f":"IF(BD23=\"\",\"\",VLOOKUP($B$28,'DADOS DE ENTRADA'!$B:$E,4,0))","v":""},{"$f":"IF(BE23=\"\",\"\",VLOOKUP($B$28,'DADOS DE ENTRADA'!$B:$E,4,0))","v":{"$error":"#N/A"}},{"$f":"IF(BF23=\"\",\"\",VLOOKUP($B$28,'DADOS DE ENTRADA'!$B:$E,4,0))","v":""},{"$f":"IF(BG23=\"\",\"\",VLOOKUP($B$28,'DADOS DE ENTRADA'!$B:$E,4,0))","v":""},{"$f":"IF(BH23=\"\",\"\",VLOOKUP($B$28,'DADOS DE ENTRADA'!$B:$E,4,0))","v":""},{"$f":"IF(BI23=\"\",\"\",VLOOKUP($B$28,'DADOS DE ENTRADA'!$B:$E,4,0))","v":""},{"$f":"IF(BJ23=\"\",\"\",VLOOKUP($B$28,'DADOS DE ENTRADA'!$B:$E,4,0))","v":""},{"$f":"IF(BK23=\"\",\"\",VLOOKUP($B$28,'DADOS DE ENTRADA'!$B:$E,4,0))","v":""},{"$f":"IF(BL23=\"\",\"\",VLOOKUP($B$28,'DADOS DE ENTRADA'!$B:$E,4,0))","v":""},{"$f":"IF(BM23=\"\",\"\",VLOOKUP($B$28,'DADOS DE ENTRADA'!$B:$E,4,0))","v":{"$error":"#N/A"}},{"$f":"IF(BN23=\"\",\"\",VLOOKUP($B$28,'DADOS DE ENTRADA'!$B:$E,4,0))","v":{"$error":"#N/A"}},{"$f":"IF(BO23=\"\",\"\",VLOOKUP($B$28,'DADOS DE ENTRADA'!$B:$E,4,0))","v":{"$error":"#N/A"}},{"$f":"IF(BP23=\"\",\"\",VLOOKUP($B$28,'DADOS DE ENTRADA'!$B:$E,4,0))","v":{"$error":"#N/A"}},{"$f":"IF(BQ23=\"\",\"\",VLOOKUP($B$28,'DADOS DE ENTRADA'!$B:$E,4,0))","v":{"$error":"#N/A"}},{"$f":"IF(BR23=\"\",\"\",VLOOKUP($B$28,'DADOS DE ENTRADA'!$B:$E,4,0))","v":{"$error":"#N/A"}},{"$f":"IF(BS23=\"\",\"\",VLOOKUP($B$28,'DADOS DE ENTRADA'!$B:$E,4,0))","v":{"$error":"#N/A"}},{"$f":"IF(BT23=\"\",\"\",VLOOKUP($B$28,'DADOS DE ENTRADA'!$B:$E,4,0))","v":{"$error":"#N/A"}},{"$f":"IF(BU23=\"\",\"\",VLOOKUP($B$28,'DADOS DE ENTRADA'!$B:$E,4,0))","v":{"$error":"#N/A"}},{"$f":"IF(BV23=\"\",\"\",VLOOKUP($B$28,'DADOS DE ENTRADA'!$B:$E,4,0))","v":{"$error":"#N/A"}},{"$f":"IF(BW23=\"\",\"\",VLOOKUP($B$28,'DADOS DE ENTRADA'!$B:$E,4,0))","v":{"$error":"#N/A"}},{"$f":"IF(BX23=\"\",\"\",VLOOKUP($B$28,'DADOS DE ENTRADA'!$B:$E,4,0))","v":{"$error":"#N/A"}},{"$f":"IF(BY23=\"\",\"\",VLOOKUP($B$28,'DADOS DE ENTRADA'!$B:$E,4,0))","v":{"$error":"#N/A"}},{"$f":"IF(BZ23=\"\",\"\",VLOOKUP($B$28,'DADOS DE ENTRADA'!$B:$E,4,0))","v":{"$error":"#N/A"}},{"$f":"IF(CA23=\"\",\"\",VLOOKUP($B$28,'DADOS DE ENTRADA'!$B:$E,4,0))","v":{"$error":"#N/A"}},{"$f":"IF(CB23=\"\",\"\",VLOOKUP($B$28,'DADOS DE ENTRADA'!$B:$E,4,0))","v":{"$error":"#N/A"}},{"$f":"IF(CC23=\"\",\"\",VLOOKUP($B$28,'DADOS DE ENTRADA'!$B:$E,4,0))","v":{"$error":"#N/A"}},{"$f":"IF(CD23=\"\",\"\",VLOOKUP($B$28,'DADOS DE ENTRADA'!$B:$E,4,0))","v":""},{"$f":"IF(CE23=\"\",\"\",VLOOKUP($B$28,'DADOS DE ENTRADA'!$B:$E,4,0))","v":{"$error":"#N/A"}},{"$f":"IF(CF23=\"\",\"\",VLOOKUP($B$28,'DADOS DE ENTRADA'!$B:$E,4,0))","v":{"$error":"#N/A"}},{"$f":"IF(CG23=\"\",\"\",VLOOKUP($B$28,'DADOS DE ENTRADA'!$B:$E,4,0))","v":{"$error":"#N/A"}},{"$f":"IF(CH23=\"\",\"\",VLOOKUP($B$28,'DADOS DE ENTRADA'!$B:$E,4,0))","v":""},{"$f":"IF(CI23=\"\",\"\",VLOOKUP($B$28,'DADOS DE ENTRADA'!$B:$E,4,0))","v":{"$error":"#N/A"}},{"$f":"IF(CJ23=\"\",\"\",VLOOKUP($B$28,'DADOS DE ENTRADA'!$B:$E,4,0))","v":{"$error":"#N/A"}},{"$f":"IF(CK23=\"\",\"\",VLOOKUP($B$28,'DADOS DE ENTRADA'!$B:$E,4,0))","v":{"$error":"#N/A"}},{"$f":"IF(CL23=\"\",\"\",VLOOKUP($B$28,'DADOS DE ENTRADA'!$B:$E,4,0))","v":{"$error":"#N/A"}},{"$f":"IF(CM23=\"\",\"\",VLOOKUP($B$28,'DADOS DE ENTRADA'!$B:$E,4,0))","v":""}]
[null,null,"área =","m2",{"$f":"IF(E14=\"\",\"\",((E26+E27)/2)*E28)","v":0},{"$f":"IF(F14=\"\",\"\",((F26+F27)/2)*F28)","v":0},0,0,0,{"$error":"#N/A"},{"$error":"#N/A"},{"$error":"#N/A"},{"$error":"#N/A"},{"$error":"#N/A"},"","","","","","",{"$error":"#N/A"},{"$error":"#N/A"},{"$error":"#N/A"},"",{"$error":"#N/A"},{"$error":"#N/A"},"","","","","",{"$error":"#N/A"},"",{"$error":"#N/A"},"","","","",{"$error":"#N/A"},{"$error":"#N/A"},"","","","",{"$error":"#N/A"},"","",{"$error":"#N/A"},"","",{"$error":"#N/A"},{"$error":"#N/A"},"","","","",{"$error":"#N/A"},"","","","","","","",{"$error":"#N/A"},{"$error":"#N/A"},{"$error":"#N/A"},{"$error":"#N/A"},{"$error":"#N/A"},{"$f":"IF(BR14=\"\",\"\",((BR26+BR27)/2)*BR28)","v":{"$error":"#N/A"}},{"$error":"#N/A"},{"$error":"#N/A"},{"$error":"#N/A"},{"$error":"#N/A"},{"$error":"#N/A"},{"$error":"#N/A"},{"$error":"#N/A"},{"$error":"#N/A"},{"$error":"#N/A"},{"$error":"#N/A"},{"$error":"#N/A"},"",{"$error":"#N/A"},{"$error":"#N/A"},{"$error":"#N/A"},"",{"$error":"#N/A"},{"$error":"#N/A"},{"$error":"#N/A"},{"$error":"#N/A"},""]
[null,"Ancoragem (Largura):","a =","m",{"$f":"IF(E14=\"\",\"\",VLOOKUP($B$30,'DADOS DE ENTRADA'!$B:$E,4,0))","v":0.2},{"$f":"IF(F14=\"\",\"\",VLOOKUP($B$30,'DADOS DE ENTRADA'!$B:$E,4,0))","v":0.2},{"$f":"IF(G14=\"\",\"\",VLOOKUP($B$30,'DADOS DE ENTRADA'!$B:$E,4,0))","v":0.2},{"$f":"IF(H14=\"\",\"\",VLOOKUP($B$30,'DADOS DE ENTRADA'!$B:$E,4,0))","v":0.2},{"$f":"IF(I14=\"\",\"\",VLOOKUP($B$30,'DADOS DE ENTRADA'!$B:$E,4,0))","v":0.2},{"$f":"IF(J25=\"\",\"\",VLOOKUP($B$30,'DADOS DE ENTRADA'!$B:$E,4,0))","v":0.2},{"$f":"IF(K25=\"\",\"\",VLOOKUP($B$30,'DADOS DE ENTRADA'!$B:$E,4,0))","v":0.2},{"$f":"IF(L25=\"\",\"\",VLOOKUP($B$30,'DADOS DE ENTRADA'!$B:$E,4,0))","v":0.2},{"$f":"IF(M25=\"\",\"\",VLOOKUP($B$30,'DADOS DE ENTRADA'!$B:$E,4,0))","v":0.2},{"$f":"IF(N25=\"\",\"\",VLOOKUP($B$30,'DADOS DE ENTRADA'!$B:$E,4,0))","v":0.2},{"$f":"IF(O25=\"\",\"\",VLOOKUP($B$30,'DADOS DE ENTRADA'!$B:$E,4,0))","v":""},{"$f":"IF(P25=\"\",\"\",VLOOKUP($B$30,'DADOS DE ENTRADA'!$B:$E,4,0))","v":""},{"$f":"IF(Q25=\"\",\"\",VLOOKUP($B$30,'DADOS DE ENTRADA'!$B:$E,4,0))","v":""},{"$f":"IF(R25=\"\",\"\",VLOOKUP($B$30,'DADOS DE ENTRADA'!$B:$E,4,0))","v":""},{"$f":"IF(S25=\"\",\"\",VLOOKUP($B$30,'DADOS DE ENTRADA'!$B:$E,4,0))","v":""},{"$f":"IF(T25=\"\",\"\",VLOOKUP($B$30,'DADOS DE ENTRADA'!$B:$E,4,0))","v":""},{"$f":"IF(U25=\"\",\"\",VLOOKUP($B$30,'DADOS DE ENTRADA'!$B:$E,4,0))","v":0.2},{"$f":"IF(V25=\"\",\"\",VLOOKUP($B$30,'DADOS DE ENTRADA'!$B:$E,4,0))","v":0.2},{"$f":"IF(W25=\"\",\"\",VLOOKUP($B$30,'DADOS DE ENTRADA'!$B:$E,4,0))","v":0.2},{"$f":"IF(X25=\"\",\"\",VLOOKUP($B$30,'DADOS DE ENTRADA'!$B:$E,4,0))","v":""},{"$f":"IF(Y25=\"\",\"\",VLOOKUP($B$30,'DADOS DE ENTRADA'!$B:$E,4,0))","v":0.2},{"$f":"IF(Z25=\"\",\"\",VLOOKUP($B$30,'DADOS DE ENTRADA'!$B:$E,4,0))","v":0.2},{"$f":"IF(AA25=\"\",\"\",VLOOKUP($B$30,'DADOS DE ENTRADA'!$B:$E,4,0))","v":""},{"$f":"IF(AB25=\"\",\"\",VLOOKUP($B$30,'DADOS DE ENTRADA'!$B:$E,4,0))","v":""},{"$f":"IF(AC25=\"\",\"\",VLOOKUP($B$30,'DADOS DE ENTRADA'!$B:$E,4,0))","v":""},{"$f":"IF(AD25=\"\",\"\",VLOOKUP($B$30,'DADOS DE ENTRADA'!$B:$E,4,0))","v":""},{"$f":"IF(AE25=\"\",\"\",VLOOKUP($B$30,'DADOS DE ENTRADA'!$B:$E,4,0))","v":""},{"$f":"IF(AF25=\"\",\"\",VLOOKUP($B$30,'DADOS DE ENTRADA'!$B:$E,4,0))","v":0.2},{"$f":"IF(AG25=\"\",\"\",VLOOKUP($B$30,'DADOS DE ENTRADA'!$B:$E,4,0))","v":""},{"$f":"IF(AH25=\"\",\"\",VLOOKUP($B$30,'DADOS DE ENTRADA'!$B:$E,4,0))","v":0.2},{"$f":"IF(AI25=\"\",\"\",VLOOKUP($B$30,'DADOS DE ENTRADA'!$B:$E,4,0))","v":""},{"$f":"IF(AJ25=\"\",\"\",VLOOKUP($B$30,'DADOS DE ENTRADA'!$B:$E,4,0))","v":""},{"$f":"IF(AK25=\"\",\"\",VLOOKUP($B$30,'DADOS DE ENTRADA'!$B:$E,4,0))","v":""},{"$f":"IF(AL25=\"\",\"\",VLOOKUP($B$30,'DADOS DE ENTRADA'!$B:$E,4,0))","v":""},{"$f":"IF(AM25=\"\",\"\",VLOOKUP($B$30,'DADOS DE ENTRADA'!$B:$E,4,0))","v":0.2},{"$f":"IF(AN25=\"\",\"\",VLOOKUP($B$30,'DADOS DE ENTRADA'!$B:$E,4,0))","v":0.2},{"$f":"IF(AO25=\"\",\"\",VLOOKUP($B$30,'DADOS DE ENTRADA'!$B:$E,4,0))","v":""},{"$f":"IF(AP25=\"\",\"\",VLOOKUP($B$30,'DADOS DE ENTRADA'!$B:$E,4,0))","v":""},{"$f":"IF(AQ25=\"\",\"\",VLOOKUP($B$30,'DADOS DE ENTRADA'!$B:$E,4,0))","v":""},{"$f":"IF(AR25=\"\",\"\",VLOOKUP($B$30,'DADOS DE ENTRADA'!$B:$E,4,0))","v":""},{"$f":"IF(AS25=\"\",\"\",VLOOKUP($B$30,'DADOS DE ENTRADA'!$B:$E,4,0))","v":0.2},{"$f":"IF(AT25=\"\",\"\",VLOOKUP($B$30,'DADOS DE ENTRADA'!$B:$E,4,0))","v":""},{"$f":"IF(AU25=\"\",\"\",VLOOKUP($B$30,'DADOS DE ENTRADA'!$B:$E,4,0))","v":""},{"$f":"IF(AV25=\"\",\"\",VLOOKUP($B$30,'DADOS DE ENTRADA'!$B:$E,4,0))","v":0.2},{"$f":"IF(AW25=\"\",\"\",VLOOKUP($B$30,'DADOS DE ENTRADA'!$B:$E,4,0))","v":""},{"$f":"IF(AX25=\"\",\"\",VLOOKUP($B$30,'DADOS DE ENTRADA'!$B:$E,4,0))","v":""},{"$f":"IF(AY25=\"\",\"\",VLOOKUP($B$30,'DADOS DE ENTRADA'!$B:$E,4,0))","v":0.2},{"$f":"IF(AZ25=\"\",\"\",VLOOKUP($B$30,'DADOS DE ENTRADA'!$B:$E,4,0))","v":0.2},{"$f":"IF(BA25=\"\",\"\",VLOOKUP($B$30,'DADOS DE ENTRADA'!$B:$E,4,0))","v":""},{"$f":"IF(BB25=\"\",\"\",VLOOKUP($B$30,'DADOS DE ENTRADA'!$B:$E,4,0))","v":""},{"$f":"IF(BC25=\"\",\"\",VLOOKUP($B$30,'DADOS DE ENTRADA'!$B:$E,4,0))","v":""},{"$f":"IF(BD25=\"\",\"\",VLOOKUP($B$30,'DADOS DE ENTRADA'!$B:$E,4,0))","v":""},{"$f":"IF(BE25=\"\",\"\",VLOOKUP($B$30,'DADOS DE ENTRADA'!$B:$E,4,0))","v":0.2},{"$f":"IF(BF25=\"\",\"\",VLOOKUP($B$30,'DADOS DE ENTRADA'!$B:$E,4,0))","v":""},{"$f":"IF(BG25=\"\",\"\",VLOOKUP($B$30,'DADOS DE ENTRADA'!$B:$E,4,0))","v":""},{"$f":"IF(BH25=\"\",\"\",VLOOKUP($B$30,'DADOS DE ENTRADA'!$B:$E,4,0))","v":""},{"$f":"IF(BI25=\"\",\"\",VLOOKUP($B$30,'DADOS DE ENTRADA'!$B:$E,4,0))","v":""},{"$f":"IF(BJ25=\"\",\"\",VLOOKUP($B$30,'DADOS DE ENTRADA'!$B:$E,4,0))","v":""},{"$f":"IF(BK25=\"\",\"\",VLOOKUP($B$30,'DADOS DE ENTRADA'!$B:$E,4,0))","v":""},{"$f":"IF(BL25=\"\",\"\",VLOOKUP($B$30,'DADOS DE ENTRADA'!$B:$E,4,0))","v":""},{"$f":"IF(BM25=\"\",\"\",VLOOKUP($B$30,'DADOS DE ENTRADA'!$B:$E,4,0))","v":0.2},{"$f":"IF(BN25=\"\",\"\",VLOOKUP($B$30,'DADOS DE ENTRADA'!$B:$E,4,0))","v":0.2},{"$f":"IF(BO25=\"\",\"\",VLOOKUP($B$30,'DADOS DE ENTRADA'!$B:$E,4,0))","v":0.2},{"$f":"IF(BP25=\"\",\"\",VLOOKUP($B$30,'DADOS DE ENTRADA'!$B:$E,4,0))","v":0.2},{"$f":"IF(BQ25=\"\",\"\",VLOOKUP($B$30,'DADOS DE ENTRADA'!$B:$E,4,0))","v":0.2},{"$f":"IF(BR25=\"\",\"\",VLOOKUP($B$30,'DADOS DE ENTRADA'!$B:$E,4,0))","v":0.2},{"$f":"IF(BS25=\"\",\"\",VLOOKUP($B$30,'DADOS DE ENTRADA'!$B:$E,4,0))","v":0.2},{"$f":"IF(BT25=\"\",\"\",VLOOKUP($B$30,'DADOS DE ENTRADA'!$B:$E,4,0))","v":0.2},{"$f":"IF(BU25=\"\",\"\",VLOOKUP($B$30,'DADOS DE ENTRADA'!$B:$E,4,0))","v":0.2},{"$f":"IF(BV25=\"\",\"\",VLOOKUP($B$30,'DADOS DE ENTRADA'!$B:$E,4,0))","v":0.2},{"$f":"IF(BW25=\"\",\"\",VLOOKUP($B$30,'DADOS DE ENTRADA'!$B:$E,4,0))","v":0.2},{"$f":"IF(BX25=\"\",\"\",VLOOKUP($B$30,'DADOS DE ENTRADA'!$B:$E,4,0))","v":0.2},{"$f":"IF(BY25=\"\",\"\",VLOOKUP($B$30,'DADOS DE ENTRADA'!$B:$E,4,0))","v":0.2},{"$f":"IF(BZ25=\"\",\"\",VLOOKUP($B$30,'DADOS DE ENTRADA'!$B:$E,4,0))","v":0.2},{"$f":"IF(CA25=\"\",\"\",VLOOKUP($B$30,'DADOS DE ENTRADA'!$B:$E,4,0))","v":0.2},{"$f":"IF(CB25=\"\",\"\",VLOOKUP($B$30,'DADOS DE ENTRADA'!$B:$E,4,0))","v":0.2},{"$f":"IF(CC25=\"\",\"\",VLOOKUP($B$30,'DADOS DE ENTRADA'!$B:$E,4,0))","v":0.2},{"$f":"IF(CD25=\"\",\"\",VLOOKUP($B$30,'DADOS DE ENTRADA'!$B:$E,4,0))","v":""},{"$f":"IF(CE25=\"\",\"\",VLOOKUP($B$30,'DADOS DE ENTRADA'!$B:$E,4,0))","v":0.2},{"$f":"IF(CF25=\"\",\"\",VLOOKUP($B$30,'DADOS DE ENTRADA'!$B:$E,4,0))","v":0.2},{"$f":"IF(CG25=\"\",\"\",VLOOKUP($B$30,'DADOS DE ENTRADA'!$B:$E,4,0))","v":0.2},{"$f":"IF(CH25=\"\",\"\",VLOOKUP($B$30,'DADOS DE ENTRADA'!$B:$E,4,0))","v":""},{"$f":"IF(CI25=\"\",\"\",VLOOKUP($B$30,'DADOS DE ENTRADA'!$B:$E,4,0))","v":0.2},{"$f":"IF(CJ25=\"\",\"\",VLOOKUP($B$30,'DADOS DE ENTRADA'!$B:$E,4,0))","v":0.2},{"$f":"IF(CK25=\"\",\"\",VLOOKUP($B$30,'DADOS DE ENTRADA'!$B:$E,4,0))","v":0.2},{"$f":"IF(CL25=\"\",\"\",VLOOKUP($B$30,'DADOS DE ENTRADA'!$B:$E,4,0))","v":0.2},{"$f":"IF(CM25=\"\",\"\",VLOOKUP($B$30,'DADOS DE ENTRADA'!$B:$E,4,0))","v":""}]
[null,"Ancoragem (Altura):","b' =","m",{"$f":"IF(E14=\"\",\"\",VLOOKUP($B$31,'DADOS DE ENTRADA'!$B:$E,4,0))","v":0.2},{"$f":"IF(F14=\"\",\"\",VLOOKUP($B$31,'DADOS DE ENTRADA'!$B:$E,4,0))","v":0.2},{"$f":"IF(G14=\"\",\"\",VLOOKUP($B$31,'DADOS DE ENTRADA'!$B:$E,4,0))","v":0.2},{"$f":"IF(H14=\"\",\"\",VLOOKUP($B$31,'DADOS DE ENTRADA'!$B:$E,4,0))","v":0.2},{"$f":"IF(I14=\"\",\"\",VLOOKUP($B$31,'DADOS DE ENTRADA'!$B:$E,4,0))","v":0.2},{"$f":"IF(J26=\"\",\"\",VLOOKUP($B$31,'DADOS DE ENTRADA'!$B:$E,4,0))","v":{"$error":"#N/A"}},{"$f":"IF(K26=\"\",\"\",VLOOKUP($B$31,'DADOS DE ENTRADA'!$B:$E,4,0))","v":{"$error":"#N/A"}},{"$f":"IF(L26=\"\",\"\",VLOOKUP($B$31,'DADOS DE ENTRADA'!$B:$E,4,0))","v":{"$error":"#N/A"}},{"$f":"IF(M26=\"\",\"\",VLOOKUP($B$31,'DADOS DE ENTRADA'!$B:$E,4,0))","v":{"$error":"#N/A"}},{"$f":"IF(N26=\"\",\"\",VLOOKUP($B$31,'DADOS DE ENTRADA'!$B:$E,4,0))","v":{"$error":"#N/A"}},{"$f":"IF(O26=\"\",\"\",VLOOKUP($B$31,'DADOS DE ENTRADA'!$B:$E,4,0))","v":""},{"$f":"IF(P26=\"\",\"\",VLOOKUP($B$31,'DADOS DE ENTRADA'!$B:$E,4,0))","v":""},{"$f":"IF(Q26=\"\",\"\",VLOOKUP($B$31,'DADOS DE ENTRADA'!$B:$E,4,0))","v":""},{"$f":"IF(R26=\"\",\"\",VLOOKUP($B$31,'DADOS DE ENTRADA'!$B:$E,4,0))","v":""},{"$f":"IF(S26=\"\",\"\",VLOOKUP($B$31,'DADOS DE ENTRADA'!$B:$E,4,0))","v":""},{"$f":"IF(T26=\"\",\"\",VLOOKUP($B$31,'DADOS DE ENTRADA'!$B:$E,4,0))","v":""},{"$f":"IF(U26=\"\",\"\",VLOOKUP($B$31,'DADOS DE ENTRADA'!$B:$E,4,0))","v":{"$error":"#N/A"}},{"$f":"IF(V26=\"\",\"\",VLOOKUP($B$31,'DADOS DE ENTRADA'!$B:$E,4,0))","v":{"$error":"#N/A"}},{"$f":"IF(W26=\"\",\"\",VLOOKUP($B$31,'DADOS DE ENTRADA'!$B:$E,4,0))","v":{"$error":"#N/A"}},{"$f":"IF(X26=\"\",\"\",VLOOKUP($B$31,'DADOS DE ENTRADA'!$B:$E,4,0))","v":""},{"$f":"IF(Y26=\"\",\"\",VLOOKUP($B$31,'DADOS DE ENTRADA'!$B:$E,4,0))","v":{"$error":"#N/A"}},{"$f":"IF(Z26=\"\",\"\",VLOOKUP($B$31,'DADOS DE ENTRADA'!$B:$E,4,0))","v":{"$error":"#N/A"}},{"$f":"IF(AA26=\"\",\"\",VLOOKUP($B$31,'DADOS DE ENTRADA'!$B:$E,4,0))","v":""},{"$f":"IF(AB26=\"\",\"\",VLOOKUP($B$31,'DADOS DE ENTRADA'!$B:$E,4,0))","v":""},{"$f":"IF(AC26=\"\",\"\",VLOOKUP($B$31,'DADOS DE ENTRADA'!$B:$E,4,0))","v":""},{"$f":"IF(AD26=\"\",\"\",VLOOKUP($B$31,'DADOS DE ENTRADA'!$B:$E,4,0))","v":""},{"$f":"IF(AE26=\"\",\"\",VLOOKUP($B$31,'DADOS DE ENTRADA'!$B:$E,4,0))","v":""},{"$f":"IF(AF26=\"\",\"\",VLOOKUP($B$31,'DADOS DE ENTRADA'!$B:$E,4,0))","v":{"$error":"#N/A"}},{"$f":"IF(AG26=\"\",\"\",VLOOKUP($B$31,'DADOS DE ENTRADA'!$B:$E,4,0))","v":""},{"$f":"IF(AH26=\"\",\"\",VLOOKUP($B$31,'DADOS DE ENTRADA'!$B:$E,4,0))","v":{"$error":"#N/A"}},{"$f":"IF(AI26=\"\",\"\",VLOOKUP($B$31,'DADOS DE ENTRADA'!$B:$E,4,0))","v":""},{"$f":"IF(AJ26=\"\",\"\",VLOOKUP($B$31,'DADOS DE ENTRADA'!$B:$E,4,0))","v":""},{"$f":"IF(AK26=\"\",\"\",VLOOKUP($B$31,'DADOS DE ENTRADA'!$B:$E,4,0))","v":""},{"$f":"IF(AL26=\"\",\"\",VLOOKUP($B$31,'DADOS DE ENTRADA'!$B:$E,4,0))","v":""},{"$f":"IF(AM26=\"\",\"\",VLOOKUP($B$31,'DADOS DE ENTRADA'!$B:$E,4,0))","v":{"$error":"#N/A"}},{"$f":"IF(AN26=\"\",\"\",VLOOKUP($B$31,'DADOS DE ENTRADA'!$B:$E,4,0))","v":{"$error":"#N/A"}},{"$f":"IF(AO26=\"\",\"\",VLOOKUP($B$31,'DADOS DE ENTRADA'!$B:$E,4,0))","v":""},{"$f":"IF(AP26=\"\",\"\",VLOOKUP($B$31,'DADOS DE ENTRADA'!$B:$E,4,0))","v":""},{"$f":"IF(AQ26=\"\",\"\",VLOOKUP($B$31,'DADOS DE ENTRADA'!$B:$E,4,0))","v":""},{"$f":"IF(AR26=\"\",\"\",VLOOKUP($B$31,'DADOS DE ENTRADA'!$B:$E,4,0))","v":""},{"$f":"IF(AS26=\"\",\"\",VLOOKUP($B$31,'DADOS DE ENTRADA'!$B:$E,4,0))","v":{"$error":"#N/A"}},{"$f":"IF(AT26=\"\",\"\",VLOOKUP($B$31,'DADOS DE ENTRADA'!$B:$E,4,0))","v":""},{"$f":"IF(AU26=\"\",\"\",VLOOKUP($B$31,'DADOS DE ENTRADA'!$B:$E,4,0))","v":""},{"$f":"IF(AV26=\"\",\"\",VLOOKUP($B$31,'DADOS DE ENTRADA'!$B:$E,4,0))","v":{"$error":"#N/A"}},{"$f":"IF(AW26=\"\",\"\",VLOOKUP($B$31,'DADOS DE ENTRADA'!$B:$E,4,0))","v":""},{"$f":"IF(AX26=\"\",\"\",VLOOKUP($B$31,'DADOS DE ENTRADA'!$B:$E,4,0))","v":""},{"$f":"IF(AY26=\"\",\"\",VLOOKUP($B$31,'DADOS DE ENTRADA'!$B:$E,4,0))","v":{"$error":"#N/A"}},{"$f":"IF(AZ26=\"\",\"\",VLOOKUP($B$31,'DADOS DE ENTRADA'!$B:$E,4,0))","v":{"$error":"#N/A"}},{"$f":"IF(BA26=\"\",\"\",VLOOKUP($B$31,'DADOS DE ENTRADA'!$B:$E,4,0))","v":""},{"$f":"IF(BB26=\"\",\"\",VLOOKUP($B$31,'DADOS DE ENTRADA'!$B:$E,4,0))","v":""},{"$f":"IF(BC26=\"\",\"\",VLOOKUP($B$31,'DADOS DE ENTRADA'!$B:$E,4,0))","v":""},{"$f":"IF(BD26=\"\",\"\",VLOOKUP($B$31,'DADOS DE ENTRADA'!$B:$E,4,0))","v":""},{"$f":"IF(BE26=\"\",\"\",VLOOKUP($B$31,'DADOS DE ENTRADA'!$B:$E,4,0))","v":{"$error":"#N/A"}},{"$f":"IF(BF26=\"\",\"\",VLOOKUP($B$31,'DADOS DE ENTRADA'!$B:$E,4,0))","v":""},{"$f":"IF(BG26=\"\",\"\",VLOOKUP($B$31,'DADOS DE ENTRADA'!$B:$E,4,0))","v":""},{"$f":"IF(BH26=\"\",\"\",VLOOKUP($B$31,'DADOS DE ENTRADA'!$B:$E,4,0))","v":""},{"$f":"IF(BI26=\"\",\"\",VLOOKUP($B$31,'DADOS DE ENTRADA'!$B:$E,4,0))","v":""},{"$f":"IF(BJ26=\"\",\"\",VLOOKUP($B$31,'DADOS DE ENTRADA'!$B:$E,4,0))","v":""},{"$f":"IF(BK26=\"\",\"\",VLOOKUP($B$31,'DADOS DE ENTRADA'!$B:$E,4,0))","v":""},{"$f":"IF(BL26=\"\",\"\",VLOOKUP($B$31,'DADOS DE ENTRADA'!$B:$E,4,0))","v":""},{"$f":"IF(BM26=\"\",\"\",VLOOKUP($B$31,'DADOS DE ENTRADA'!$B:$E,4,0))","v":{"$error":"#N/A"}},{"$f":"IF(BN26=\"\",\"\",VLOOKUP($B$31,'DADOS DE ENTRADA'!$B:$E,4,0))","v":{"$error":"#N/A"}},{"$f":"IF(BO26=\"\",\"\",VLOOKUP($B$31,'DADOS DE ENTRADA'!$B:$E,4,0))","v":{"$error":"#N/A"}},{"$f":"IF(BP26=\"\",\"\",VLOOKUP($B$31,'DADOS DE ENTRADA'!$B:$E,4,0))","v":{"$error":"#N/A"}},{"$f":"IF(BQ26=\"\",\"\",VLOOKUP($B$31,'DADOS DE ENTRADA'!$B:$E,4,0))","v":{"$error":"#N/A"}},{"$f":"IF(BR26=\"\",\"\",VLOOKUP($B$31,'DADOS DE ENTRADA'!$B:$E,4,0))","v":{"$error":"#N/A"}},{"$f":"IF(BS26=\"\",\"\",VLOOKUP($B$31,'DADOS DE ENTRADA'!$B:$E,4,0))","v":{"$error":"#N/A"}},{"$f":"IF(BT26=\"\",\"\",VLOOKUP($B$31,'DADOS DE ENTRADA'!$B:$E,4,0))","v":{"$error":"#N/A"}},{"$f":"IF(BU26=\"\",\"\",VLOOKUP($B$31,'DADOS DE ENTRADA'!$B:$E,4,0))","v":{"$error":"#N/A"}},{"$f":"IF(BV26=\"\",\"\",VLOOKUP($B$31,'DADOS DE ENTRADA'!$B:$E,4,0))","v":{"$error":"#N/A"}},{"$f":"IF(BW26=\"\",\"\",VLOOKUP($B$31,'DADOS DE ENTRADA'!$B:$E,4,0))","v":{"$error":"#N/A"}},{"$f":"IF(BX26=\"\",\"\",VLOOKUP($B$31,'DADOS DE ENTRADA'!$B:$E,4,0))","v":{"$error":"#N/A"}},{"$f":"IF(BY26=\"\",\"\",VLOOKUP($B$31,'DADOS DE ENTRADA'!$B:$E,4,0))","v":{"$error":"#N/A"}},{"$f":"IF(BZ26=\"\",\"\",VLOOKUP($B$31,'DADOS DE ENTRADA'!$B:$E,4,0))","v":{"$error":"#N/A"}},{"$f":"IF(CA26=\"\",\"\",VLOOKUP($B$31,'DADOS DE ENTRADA'!$B:$E,4,0))","v":{"$error":"#N/A"}},{"$f":"IF(CB26=\"\",\"\",VLOOKUP($B$31,'DADOS DE ENTRADA'!$B:$E,4,0))","v":{"$error":"#N/A"}},{"$f":"IF(CC26=\"\",\"\",VLOOKUP($B$31,'DADOS DE ENTRADA'!$B:$E,4,0))","v":{"$error":"#N/A"}},{"$f":"IF(CD26=\"\",\"\",VLOOKUP($B$31,'DADOS DE ENTRADA'!$B:$E,4,0))","v":""},{"$f":"IF(CE26=\"\",\"\",VLOOKUP($B$31,'DADOS DE ENTRADA'!$B:$E,4,0))","v":{"$error":"#N/A"}},{"$f":"IF(CF26=\"\",\"\",VLOOKUP($B$31,'DADOS DE ENTRADA'!$B:$E,4,0))","v":{"$error":"#N/A"}},{"$f":"IF(CG26=\"\",\"\",VLOOKUP($B$31,'DADOS DE ENTRADA'!$B:$E,4,0))","v":{"$error":"#N/A"}},{"$f":"IF(CH26=\"\",\"\",VLOOKUP($B$31,'DADOS DE ENTRADA'!$B:$E,4,0))","v":""},{"$f":"IF(CI26=\"\",\"\",VLOOKUP($B$31,'DADOS DE ENTRADA'!$B:$E,4,0))","v":{"$error":"#N/A"}},{"$f":"IF(CJ26=\"\",\"\",VLOOKUP($B$31,'DADOS DE ENTRADA'!$B:$E,4,0))","v":{"$error":"#N/A"}},{"$f":"IF(CK26=\"\",\"\",VLOOKUP($B$31,'DADOS DE ENTRADA'!$B:$E,4,0))","v":{"$error":"#N/A"}},{"$f":"IF(CL26=\"\",\"\",VLOOKUP($B$31,'DADOS DE ENTRADA'!$B:$E,4,0))","v":{"$error":"#N/A"}},{"$f":"IF(CM26=\"\",\"\",VLOOKUP($B$31,'DADOS DE ENTRADA'!$B:$E,4,0))","v":""}]
[null,"Seção da Manta PEAD:","pm =","m",{"$f":"IF(E14=\"\",\"\",(E30+E31+E16+E18+E14+E18+E16+E31+E30))","v":6.4163665171395898},{"$f":"IF(F14=\"\",\"\",(F30+F31+F16+F18+F14+F18+F16+F31+F30))","v":6.3315137033972047},6.2466608896548195,6.2466608896548195,6.0335238046649717,{"$error":"#N/A"},{"$error":"#N/A"},{"$error":"#N/A"},{"$error":"#N/A"},{"$error":"#N/A"},"","","","","","",{"$error":"#N/A"},{"$error":"#N/A"},{"$error":"#N/A"},"",{"$error":"#N/A"},{"$error":"#N/A"},"","","","","",{"$error":"#N/A"},"",{"$error":"#N/A"},"","","","",{"$error":"#N/A"},{"$error":"#N/A"},"","","","",{"$error":"#N/A"},"","",{"$error":"#N/A"},"","",{"$error":"#N/A"},{"$error":"#N/A"},"","","","",{"$error":"#N/A"},"","","","","","","",{"$error":"#N/A"},{"$error":"#N/A"},{"$error":"#N/A"},{"$error":"#N/A"},{"$error":"#N/A"},{"$f":"IF(BR14=\"\",\"\",(BR30+BR31+BR16+BR18+BR14+BR18+BR16+BR31+BR30))","v":{"$error":"#N/A"}},{"$error":"#N/A"},{"$error":"#N/A"},{"$error":"#N/A"},{"$error":"#N/A"},{"$error":"#N/A"},{"$error":"#N/A"},{"$error":"#N/A"},{"$error":"#N/A"},{"$error":"#N/A"},{"$error":"#N/A"},{"$error":"#N/A"},"",{"$error":"#N/A"},{"$error":"#N/A"},{"$error":"#N/A"},"",{"$error":"#N/A"},{"$error":"#N/A"},{"$error":"#N/A"},{"$error":"#N/A"},""]
[null,"Perímetro Seção Canal:","p =","m",{"$f":"IF(E14=\"\",\"\",E16+E18+E14+E18+E16)","v":5.61636651713959},{"$f":"IF(F14=\"\",\"\",F16+F18+F14+F18+F16)","v":5.5315137033972039},5.4466608896548196,5.4466608896548196,5.2335238046649719,4.6526911934581188,2.9344574285494907,2.6798989873223333,2.4819090885901001,2.0859292911256335,"","","","","","",2.8298989873223332,2.8298989873223332,2.8298989873223332,"",2.5384776310850241,2.3122034611053284,"","","","","",3.3607315985291857,"",2.3142135623730953,"","","","",2.7384776310850238,2.3990663761154809,"","","","",2.1142135623730955,"","",2.6536248173426378,"","",3.0404877323527906,2.4819090885901001,"","","","",2.5167619023324859,"","","","","","","",5.2028095208240615,4.9738686835190329,4.9238686835190331,5.4244069222106566,5.32239682094289,{"$f":"IF(BR14=\"\",\"\",BR16+BR18+BR14+BR18+BR16)","v":5.32239682094289},5.32239682094289,5.350681092190352,5.32239682094289,5.32239682094289,5.32239682094289,4.3890158697766477,2.793036072312181,2.5101933598375621,2.1142135623730955,2.1142135623730955,2.1142135623730955,"",2.5970562748477142,2.4273506473629429,2.3773506473629431,"",2.0642135623730953,2.5970562748477142,2.1424978336205571,1.7813708498984762,""]
[null,"Perímetro Seção Canal (r+b+r):","psc =","m",{"$f":"IF(E14=\"\",\"\",E18+E14+E18)","v":5.2163665171395897},{"$f":"IF(F14=\"\",\"\",F18+F14+F18)","v":5.1315137033972036},5.0466608896548193,5.0466608896548193,4.8335238046649707,4.2526911934581184,2.5344574285494907,2.279898987322333,2.0819090885901002,1.6859292911256332,"","","","","","",2.4298989873223329,2.4298989873223329,2.4298989873223329,"",2.1384776310850238,1.9122034611053282,"","","","","",2.9607315985291853,"",1.9142135623730949,"","","","",2.3384776310850235,1.999066376115481,"","","","",1.7142135623730952,"","",2.2536248173426379,"","",2.6404877323527902,2.0819090885901002,"","","","",2.1167619023324855,"","","","","","","",4.8028095208240611,4.5738686835190325,4.5238686835190327,5.0244069222106562,4.9223968209428897,{"$f":"IF(BR14=\"\",\"\",BR18+BR14+BR18)","v":4.9223968209428897},4.9223968209428897,4.9506810921903517,4.9223968209428897,4.9223968209428897,4.9223968209428897,3.9890158697766473,2.3930360723121806,2.1101933598375617,1.7142135623730952,1.7142135623730952,1.7142135623730952,"",2.1970562748477143,2.027350647362943,1.9773506473629427,"",1.6642135623730951,2.1970562748477143,1.742497833620557,1.3813708498984762,""]
[null,"Largura de Limpeza Canal p/ cada lado:","L =","m",{"$f":"IF(E14=\"\",\"\",VLOOKUP($B$35,'DADOS DE ENTRADA'!$B:$E,4,0))","v":0.5},{"$f":"IF(F14=\"\",\"\",VLOOKUP($B$35,'DADOS DE ENTRADA'!$B:$E,4,0))","v":0.5},{"$f":"IF(G14=\"\",\"\",VLOOKUP($B$35,'DADOS DE ENTRADA'!$B:$E,4,0))","v":0.5},{"$f":"IF(H14=\"\",\"\",VLOOKUP($B$35,'DADOS DE ENTRADA'!$B:$E,4,0))","v":0.5},{"$f":"IF(I14=\"\",\"\",VLOOKUP($B$35,'DADOS DE ENTRADA'!$B:$E,4,0))","v":0.5},{"$f":"IF(J31=\"\",\"\",VLOOKUP($B$35,'DADOS DE ENTRADA'!$B:$E,4,0))","v":{"$error":"#N/A"}},{"$f":"IF(K31=\"\",\"\",VLOOKUP($B$35,'DADOS DE ENTRADA'!$B:$E,4,0))","v":{"$error":"#N/A"}},{"$f":"IF(L31=\"\",\"\",VLOOKUP($B$35,'DADOS DE ENTRADA'!$B:$E,4,0))","v":{"$error":"#N/A"}},{"$f":"IF(M31=\"\",\"\",VLOOKUP($B$35,'DADOS DE ENTRADA'!$B:$E,4,0))","v":{"$error":"#N/A"}},{"$f":"IF(N31=\"\",\"\",VLOOKUP($B$35,'DADOS DE ENTRADA'!$B:$E,4,0))","v":{"$error":"#N/A"}},{"$f":"IF(O31=\"\",\"\",VLOOKUP($B$35,'DADOS DE ENTRADA'!$B:$E,4,0))","v":""},{"$f":"IF(P31=\"\",\"\",VLOOKUP($B$35,'DADOS DE ENTRADA'!$B:$E,4,0))","v":""},{"$f":"IF(Q31=\"\",\"\",VLOOKUP($B$35,'DADOS DE ENTRADA'!$B:$E,4,0))","v":""},{"$f":"IF(R31=\"\",\"\",VLOOKUP($B$35,'DADOS DE ENTRADA'!$B:$E,4,0))","v":""},{"$f":"IF(S31=\"\",\"\",VLOOKUP($B$35,'DADOS DE ENTRADA'!$B:$E,4,0))","v":""},{"$f":"IF(T31=\"\",\"\",VLOOKUP($B$35,'DADOS DE ENTRADA'!$B:$E,4,0))","v":""},{"$f":"IF(U31=\"\",\"\",VLOOKUP($B$35,'DADOS DE ENTRADA'!$B:$E,4,0))","v":{"$error":"#N/A"}},{"$f":"IF(V31=\"\",\"\",VLOOKUP($B$35,'DADOS DE ENTRADA'!$B:$E,4,0))","v":{"$error":"#N/A"}},{"$f":"IF(W31=\"\",\"\",VLOOKUP($B$35,'DADOS DE ENTRADA'!$B:$E,4,0))","v":{"$error":"#N/A"}},{"$f":"IF(X31=\"\",\"\",VLOOKUP($B$35,'DADOS DE ENTRADA'!$B:$E,4,0))","v":""},{"$f":"IF(Y31=\"\",\"\",VLOOKUP($B$35,'DADOS DE ENTRADA'!$B:$E,4,0))","v":{"$error":"#N/A"}},{"$f":"IF(Z31=\"\",\"\",VLOOKUP($B$35,'DADOS DE ENTRADA'!$B:$E,4,0))","v":{"$error":"#N/A"}},{"$f":"IF(AA31=\"\",\"\",VLOOKUP($B$35,'DADOS DE ENTRADA'!$B:$E,4,0))","v":""},{"$f":"IF(AB31=\"\",\"\",VLOOKUP($B$35,'DADOS DE ENTRADA'!$B:$E,4,0))","v":""},{"$f":"IF(AC31=\"\",\"\",VLOOKUP($B$35,'DADOS DE ENTRADA'!$B:$E,4,0))","v":""},{"$f":"IF(AD31=\"\",\"\",VLOOKUP($B$35,'DADOS DE ENTRADA'!$B:$E,4,0))","v":""},{"$f":"IF(AE31=\"\",\"\",VLOOKUP($B$35,'DADOS DE ENTRADA'!$B:$E,4,0))","v":""},{"$f":"IF(AF31=\"\",\"\",VLOOKUP($B$35,'DADOS DE ENTRADA'!$B:$E,4,0))","v":{"$error":"#N/A"}},{"$f":"IF(AG31=\"\",\"\",VLOOKUP($B$35,'DADOS DE ENTRADA'!$B:$E,4,0))","v":""},{"$f":"IF(AH31=\"\",\"\",VLOOKUP($B$35,'DADOS DE ENTRADA'!$B:$E,4,0))","v":{"$error":"#N/A"}},{"$f":"IF(AI31=\"\",\"\",VLOOKUP($B$35,'DADOS DE ENTRADA'!$B:$E,4,0))","v":""},{"$f":"IF(AJ31=\"\",\"\",VLOOKUP($B$35,'DADOS DE ENTRADA'!$B:$E,4,0))","v":""},{"$f":"IF(AK31=\"\",\"\",VLOOKUP($B$35,'DADOS DE ENTRADA'!$B:$E,4,0))","v":""},{"$f":"IF(AL31=\"\",\"\",VLOOKUP($B$35,'DADOS DE ENTRADA'!$B:$E,4,0))","v":""},{"$f":"IF(AM31=\"\",\"\",VLOOKUP($B$35,'DADOS DE ENTRADA'!$B:$E,4,0))","v":{"$error":"#N/A"}},{"$f":"IF(AN31=\"\",\"\",VLOOKUP($B$35,'DADOS DE ENTRADA'!$B:$E,4,0))","v":{"$error":"#N/A"}},{"$f":"IF(AO31=\"\",\"\",VLOOKUP($B$35,'DADOS DE ENTRADA'!$B:$E,4,0))","v":""},{"$f":"IF(AP31=\"\",\"\",VLOOKUP($B$35,'DADOS DE ENTRADA'!$B:$E,4,0))","v":""},{"$f":"IF(AQ31=\"\",\"\",VLOOKUP($B$35,'DADOS DE ENTRADA'!$B:$E,4,0))","v":""},{"$f":"IF(AR31=\"\",\"\",VLOOKUP($B$35,'DADOS DE ENTRADA'!$B:$E,4,0))","v":""},{"$f":"IF(AS31=\"\",\"\",VLOOKUP($B$35,'DADOS DE ENTRADA'!$B:$E,4,0))","v":{"$error":"#N/A"}},{"$f":"IF(AT31=\"\",\"\",VLOOKUP($B$35,'DADOS DE ENTRADA'!$B:$E,4,0))","v":""},{"$f":"IF(AU31=\"\",\"\",VLOOKUP($B$35,'DADOS DE ENTRADA'!$B:$E,4,0))","v":""},{"$f":"IF(AV31=\"\",\"\",VLOOKUP($B$35,'DADOS DE ENTRADA'!$B:$E,4,0))","v":{"$error":"#N/A"}},{"$f":"IF(AW31=\"\",\"\",VLOOKUP($B$35,'DADOS DE ENTRADA'!$B:$E,4,0))","v":""},{"$f":"IF(AX31=\"\",\"\",VLOOKUP($B$35,'DADOS DE ENTRADA'!$B:$E,4,0))","v":""},{"$f":"IF(AY31=\"\",\"\",VLOOKUP($B$35,'DADOS DE ENTRADA'!$B:$E,4,0))","v":{"$error":"#N/A"}},{"$f":"IF(AZ31=\"\",\"\",VLOOKUP($B$35,'DADOS DE ENTRADA'!$B:$E,4,0))","v":{"$error":"#N/A"}},{"$f":"IF(BA31=\"\",\"\",VLOOKUP($B$35,'DADOS DE ENTRADA'!$B:$E,4,0))","v":""},{"$f":"IF(BB31=\"\",\"\",VLOOKUP($B$35,'DADOS DE ENTRADA'!$B:$E,4,0))","v":""},{"$f":"IF(BC31=\"\",\"\",VLOOKUP($B$35,'DADOS DE ENTRADA'!$B:$E,4,0))","v":""},{"$f":"IF(BD31=\"\",\"\",VLOOKUP($B$35,'DADOS DE ENTRADA'!$B:$E,4,0))","v":""},{"$f":"IF(BE31=\"\",\"\",VLOOKUP($B$35,'DADOS DE ENTRADA'!$B:$E,4,0))","v":{"$error":"#N/A"}},{"$f":"IF(BF31=\"\",\"\",VLOOKUP($B$35,'DADOS DE ENTRADA'!$B:$E,4,0))","v":""},{"$f":"IF(BG31=\"\",\"\",VLOOKUP($B$35,'DADOS DE ENTRADA'!$B:$E,4,0))","v":""},{"$f":"IF(BH31=\"\",\"\",VLOOKUP($B$35,'DADOS DE ENTRADA'!$B:$E,4,0))","v":""},{"$f":"IF(BI31=\"\",\"\",VLOOKUP($B$35,'DADOS DE ENTRADA'!$B:$E,4,0))","v":""},{"$f":"IF(BJ31=\"\",\"\",VLOOKUP($B$35,'DADOS DE ENTRADA'!$B:$E,4,0))","v":""},{"$f":"IF(BK31=\"\",\"\",VLOOKUP($B$35,'DADOS DE ENTRADA'!$B:$E,4,0))","v":""},{"$f":"IF(BL31=\"\",\"\",VLOOKUP($B$35,'DADOS DE ENTRADA'!$B:$E,4,0))","v":""},{"$f":"IF(BM31=\"\",\"\",VLOOKUP($B$35,'DADOS DE ENTRADA'!$B:$E,4,0))","v":{"$error":"#N/A"}},{"$f":"IF(BN31=\"\",\"\",VLOOKUP($B$35,'DADOS DE ENTRADA'!$B:$E,4,0))","v":{"$error":"#N/A"}},{"$f":"IF(BO31=\"\",\"\",VLOOKUP($B$35,'DADOS DE ENTRADA'!$B:$E,4,0))","v":{"$error":"#N/A"}},{"$f":"IF(BP31=\"\",\"\",VLOOKUP($B$35,'DADOS DE ENTRADA'!$B:$E,4,0))","v":{"$error":"#N/A"}},{"$f":"IF(BQ31=\"\",\"\",VLOOKUP($B$35,'DADOS DE ENTRADA'!$B:$E,4,0))","v":{"$error":"#N/A"}},{"$f":"IF(BR31=\"\",\"\",VLOOKUP($B$35,'DADOS DE ENTRADA'!$B:$E,4,0))","v":{"$error":"#N/A"}},{"$f":"IF(BS31=\"\",\"\",VLOOKUP($B$35,'DADOS DE ENTRADA'!$B:$E,4,0))","v":{"$error":"#N/A"}},{"$f":"IF(BT31=\"\",\"\",VLOOKUP($B$35,'DADOS DE ENTRADA'!$B:$E,4,0))","v":{"$error":"#N/A"}},{"$f":"IF(BU31=\"\",\"\",VLOOKUP($B$35,'DADOS DE ENTRADA'!$B:$E,4,0))","v":{"$error":"#N/A"}},{"$f":"IF(BV31=\"\",\"\",VLOOKUP($B$35,'DADOS DE ENTRADA'!$B:$E,4,0))","v":{"$error":"#N/A"}},{"$f":"IF(BW31=\"\",\"\",VLOOKUP($B$35,'DADOS DE ENTRADA'!$B:$E,4,0))","v":{"$error":"#N/A"}},{"$f":"IF(BX31=\"\",\"\",VLOOKUP($B$35,'DADOS DE ENTRADA'!$B:$E,4,0))","v":{"$error":"#N/A"}},{"$f":"IF(BY31=\"\",\"\",VLOOKUP($B$35,'DADOS DE ENTRADA'!$B:$E,4,0))","v":{"$error":"#N/A"}},{"$f":"IF(BZ31=\"\",\"\",VLOOKUP($B$35,'DADOS DE ENTRADA'!$B:$E,4,0))","v":{"$error":"#N/A"}},{"$f":"IF(CA31=\"\",\"\",VLOOKUP($B$35,'DADOS DE ENTRADA'!$B:$E,4,0))","v":{"$error":"#N/A"}},{"$f":"IF(CB31=\"\",\"\",VLOOKUP($B$35,'DADOS DE ENTRADA'!$B:$E,4,0))","v":{"$error":"#N/A"}},{"$f":"IF(CC31=\"\",\"\",VLOOKUP($B$35,'DADOS DE ENTRADA'!$B:$E,4,0))","v":{"$error":"#N/A"}},{"$f":"IF(CD31=\"\",\"\",VLOOKUP($B$35,'DADOS DE ENTRADA'!$B:$E,4,0))","v":""},{"$f":"IF(CE31=\"\",\"\",VLOOKUP($B$35,'DADOS DE ENTRADA'!$B:$E,4,0))","v":{"$error":"#N/A"}},{"$f":"IF(CF31=\"\",\"\",VLOOKUP($B$35,'DADOS DE ENTRADA'!$B:$E,4,0))","v":{"$error":"#N/A"}},{"$f":"IF(CG31=\"\",\"\",VLOOKUP($B$35,'DADOS DE ENTRADA'!$B:$E,4,0))","v":{"$error":"#N/A"}},{"$f":"IF(CH31=\"\",\"\",VLOOKUP($B$35,'DADOS DE ENTRADA'!$B:$E,4,0))","v":""},{"$f":"IF(CI31=\"\",\"\",VLOOKUP($B$35,'DADOS DE ENTRADA'!$B:$E,4,0))","v":{"$error":"#N/A"}},{"$f":"IF(CJ31=\"\",\"\",VLOOKUP($B$35,'DADOS DE ENTRADA'!$B:$E,4,0))","v":{"$error":"#N/A"}},{"$f":"IF(CK31=\"\",\"\",VLOOKUP($B$35,'DADOS DE ENTRADA'!$B:$E,4,0))","v":{"$error":"#N/A"}},{"$f":"IF(CL31=\"\",\"\",VLOOKUP($B$35,'DADOS DE ENTRADA'!$B:$E,4,0))","v":{"$error":"#N/A"}},{"$f":"IF(CM31=\"\",\"\",VLOOKUP($B$35,'DADOS DE ENTRADA'!$B:$E,4,0))","v":""}]
[null,"DMT (Importação):","DMT 1 =","km",{"$f":"IF(E14=\"\",\"\",VLOOKUP($B$36,'DADOS DE ENTRADA'!$B:$E,4,0))","v":10},{"$f":"IF(F14=\"\",\"\",VLOOKUP($B$36,'DADOS DE ENTRADA'!$B:$E,4,0))","v":10},{"$f":"IF(G14=\"\",\"\",VLOOKUP($B$36,'DADOS DE ENTRADA'!$B:$E,4,0))","v":10},{"$f":"IF(H14=\"\",\"\",VLOOKUP($B$36,'DADOS DE ENTRADA'!$B:$E,4,0))","v":10},{"$f":"IF(I14=\"\",\"\",VLOOKUP($B$36,'DADOS DE ENTRADA'!$B:$E,4,0))","v":10},{"$f":"IF(J32=\"\",\"\",VLOOKUP($B$36,'DADOS DE ENTRADA'!$B:$E,4,0))","v":{"$error":"#N/A"}},{"$f":"IF(K32=\"\",\"\",VLOOKUP($B$36,'DADOS DE ENTRADA'!$B:$E,4,0))","v":{"$error":"#N/A"}},{"$f":"IF(L32=\"\",\"\",VLOOKUP($B$36,'DADOS DE ENTRADA'!$B:$E,4,0))","v":{"$error":"#N/A"}},{"$f":"IF(M32=\"\",\"\",VLOOKUP($B$36,'DADOS DE ENTRADA'!$B:$E,4,0))","v":{"$error":"#N/A"}},{"$f":"IF(N32=\"\",\"\",VLOOKUP($B$36,'DADOS DE ENTRADA'!$B:$E,4,0))","v":{"$error":"#N/A"}},{"$f":"IF(O32=\"\",\"\",VLOOKUP($B$36,'DADOS DE ENTRADA'!$B:$E,4,0))","v":""},{"$f":"IF(P32=\"\",\"\",VLOOKUP($B$36,'DADOS DE ENTRADA'!$B:$E,4,0))","v":""},{"$f":"IF(Q32=\"\",\"\",VLOOKUP($B$36,'DADOS DE ENTRADA'!$B:$E,4,0))","v":""},{"$f":"IF(R32=\"\",\"\",VLOOKUP($B$36,'DADOS DE ENTRADA'!$B:$E,4,0))","v":""},{"$f":"IF(S32=\"\",\"\",VLOOKUP($B$36,'DADOS DE ENTRADA'!$B:$E,4,0))","v":""},{"$f":"IF(T32=\"\",\"\",VLOOKUP($B$36,'DADOS DE ENTRADA'!$B:$E,4,0))","v":""},{"$f":"IF(U32=\"\",\"\",VLOOKUP($B$36,'DADOS DE ENTRADA'!$B:$E,4,0))","v":{"$error":"#N/A"}},{"$f":"IF(V32=\"\",\"\",VLOOKUP($B$36,'DADOS DE ENTRADA'!$B:$E,4,0))","v":{"$error":"#N/A"}},{"$f":"IF(W32=\"\",\"\",VLOOKUP($B$36,'DADOS DE ENTRADA'!$B:$E,4,0))","v":{"$error":"#N/A"}},{"$f":"IF(X32=\"\",\"\",VLOOKUP($B$36,'DADOS DE ENTRADA'!$B:$E,4,0))","v":""},{"$f":"IF(Y32=\"\",\"\",VLOOKUP($B$36,'DADOS DE ENTRADA'!$B:$E,4,0))","v":{"$error":"#N/A"}},{"$f":"IF(Z32=\"\",\"\",VLOOKUP($B$36,'DADOS DE ENTRADA'!$B:$E,4,0))","v":{"$error":"#N/A"}},{"$f":"IF(AA32=\"\",\"\",VLOOKUP($B$36,'DADOS DE ENTRADA'!$B:$E,4,0))","v":""},{"$f":"IF(AB32=\"\",\"\",VLOOKUP($B$36,'DADOS DE ENTRADA'!$B:$E,4,0))","v":""},{"$f":"IF(AC32=\"\",\"\",VLOOKUP($B$36,'DADOS DE ENTRADA'!$B:$E,4,0))","v":""},{"$f":"IF(AD32=\"\",\"\",VLOOKUP($B$36,'DADOS DE ENTRADA'!$B:$E,4,0))","v":""},{"$f":"IF(AE32=\"\",\"\",VLOOKUP($B$36,'DADOS DE ENTRADA'!$B:$E,4,0))","v":""},{"$f":"IF(AF32=\"\",\"\",VLOOKUP($B$36,'DADOS DE ENTRADA'!$B:$E,4,0))","v":{"$error":"#N/A"}},{"$f":"IF(AG32=\"\",\"\",VLOOKUP($B$36,'DADOS DE ENTRADA'!$B:$E,4,0))","v":""},{"$f":"IF(AH32=\"\",\"\",VLOOKUP($B$36,'DADOS DE ENTRADA'!$B:$E,4,0))","v":{"$error":"#N/A"}},{"$f":"IF(AI32=\"\",\"\",VLOOKUP($B$36,'DADOS DE ENTRADA'!$B:$E,4,0))","v":""},{"$f":"IF(AJ32=\"\",\"\",VLOOKUP($B$36,'DADOS DE ENTRADA'!$B:$E,4,0))","v":""},{"$f":"IF(AK32=\"\",\"\",VLOOKUP($B$36,'DADOS DE ENTRADA'!$B:$E,4,0))","v":""},{"$f":"IF(AL32=\"\",\"\",VLOOKUP($B$36,'DADOS DE ENTRADA'!$B:$E,4,0))","v":""},{"$f":"IF(AM32=\"\",\"\",VLOOKUP($B$36,'DADOS DE ENTRADA'!$B:$E,4,0))","v":{"$error":"#N/A"}},{"$f":"IF(AN32=\"\",\"\",VLOOKUP($B$36,'DADOS DE ENTRADA'!$B:$E,4,0))","v":{"$error":"#N/A"}},{"$f":"IF(AO32=\"\",\"\",VLOOKUP($B$36,'DADOS DE ENTRADA'!$B:$E,4,0))","v":""},{"$f":"IF(AP32=\"\",\"\",VLOOKUP($B$36,'DADOS DE ENTRADA'!$B:$E,4,0))","v":""},{"$f":"IF(AQ32=\"\",\"\",VLOOKUP($B$36,'DADOS DE ENTRADA'!$B:$E,4,0))","v":""},{"$f":"IF(AR32=\"\",\"\",VLOOKUP($B$36,'DADOS DE ENTRADA'!$B:$E,4,0))","v":""},{"$f":"IF(AS32=\"\",\"\",VLOOKUP($B$36,'DADOS DE ENTRADA'!$B:$E,4,0))","v":{"$error":"#N/A"}},{"$f":"IF(AT32=\"\",\"\",VLOOKUP($B$36,'DADOS DE ENTRADA'!$B:$E,4,0))","v":""},{"$f":"IF(AU32=\"\",\"\",VLOOKUP($B$36,'DADOS DE ENTRADA'!$B:$E,4,0))","v":""},{"$f":"IF(AV32=\"\",\"\",VLOOKUP($B$36,'DADOS DE ENTRADA'!$B:$E,4,0))","v":{"$error":"#N/A"}},{"$f":"IF(AW32=\"\",\"\",VLOOKUP($B$36,'DADOS DE ENTRADA'!$B:$E,4,0))","v":""},{"$f":"IF(AX32=\"\",\"\",VLOOKUP($B$36,'DADOS DE ENTRADA'!$B:$E,4,0))","v":""},{"$f":"IF(AY32=\"\",\"\",VLOOKUP($B$36,'DADOS DE ENTRADA'!$B:$E,4,0))","v":{"$error":"#N/A"}},{"$f":"IF(AZ32=\"\",\"\",VLOOKUP($B$36,'DADOS DE ENTRADA'!$B:$E,4,0))","v":{"$error":"#N/A"}},{"$f":"IF(BA32=\"\",\"\",VLOOKUP($B$36,'DADOS DE ENTRADA'!$B:$E,4,0))","v":""},{"$f":"IF(BB32=\"\",\"\",VLOOKUP($B$36,'DADOS DE ENTRADA'!$B:$E,4,0))","v":""},{"$f":"IF(BC32=\"\",\"\",VLOOKUP($B$36,'DADOS DE ENTRADA'!$B:$E,4,0))","v":""},{"$f":"IF(BD32=\"\",\"\",VLOOKUP($B$36,'DADOS DE ENTRADA'!$B:$E,4,0))","v":""},{"$f":"IF(BE32=\"\",\"\",VLOOKUP($B$36,'DADOS DE ENTRADA'!$B:$E,4,0))","v":{"$error":"#N/A"}},{"$f":"IF(BF32=\"\",\"\",VLOOKUP($B$36,'DADOS DE ENTRADA'!$B:$E,4,0))","v":""},{"$f":"IF(BG32=\"\",\"\",VLOOKUP($B$36,'DADOS DE ENTRADA'!$B:$E,4,0))","v":""},{"$f":"IF(BH32=\"\",\"\",VLOOKUP($B$36,'DADOS DE ENTRADA'!$B:$E,4,0))","v":""},{"$f":"IF(BI32=\"\",\"\",VLOOKUP($B$36,'DADOS DE ENTRADA'!$B:$E,4,0))","v":""},{"$f":"IF(BJ32=\"\",\"\",VLOOKUP($B$36,'DADOS DE ENTRADA'!$B:$E,4,0))","v":""},{"$f":"IF(BK32=\"\",\"\",VLOOKUP($B$36,'DADOS DE ENTRADA'!$B:$E,4,0))","v":""},{"$f":"IF(BL32=\"\",\"\",VLOOKUP($B$36,'DADOS DE ENTRADA'!$B:$E,4,0))","v":""},{"$f":"IF(BM32=\"\",\"\",VLOOKUP($B$36,'DADOS DE ENTRADA'!$B:$E,4,0))","v":{"$error":"#N/A"}},{"$f":"IF(BN32=\"\",\"\",VLOOKUP($B$36,'DADOS DE ENTRADA'!$B:$E,4,0))","v":{"$error":"#N/A"}},{"$f":"IF(BO32=\"\",\"\",VLOOKUP($B$36,'DADOS DE ENTRADA'!$B:$E,4,0))","v":{"$error":"#N/A"}},{"$f":"IF(BP32=\"\",\"\",VLOOKUP($B$36,'DADOS DE ENTRADA'!$B:$E,4,0))","v":{"$error":"#N/A"}},{"$f":"IF(BQ32=\"\",\"\",VLOOKUP($B$36,'DADOS DE ENTRADA'!$B:$E,4,0))","v":{"$error":"#N/A"}},{"$f":"IF(BR32=\"\",\"\",VLOOKUP($B$36,'DADOS DE ENTRADA'!$B:$E,4,0))","v":{"$error":"#N/A"}},{"$f":"IF(BS32=\"\",\"\",VLOOKUP($B$36,'DADOS DE ENTRADA'!$B:$E,4,0))","v":{"$error":"#N/A"}},{"$f":"IF(BT32=\"\",\"\",VLOOKUP($B$36,'DADOS DE ENTRADA'!$B:$E,4,0))","v":{"$error":"#N/A"}},{"$f":"IF(BU32=\"\",\"\",VLOOKUP($B$36,'DADOS DE ENTRADA'!$B:$E,4,0))","v":{"$error":"#N/A"}},{"$f":"IF(BV32=\"\",\"\",VLOOKUP($B$36,'DADOS DE ENTRADA'!$B:$E,4,0))","v":{"$error":"#N/A"}},{"$f":"IF(BW32=\"\",\"\",VLOOKUP($B$36,'DADOS DE ENTRADA'!$B:$E,4,0))","v":{"$error":"#N/A"}},{"$f":"IF(BX32=\"\",\"\",VLOOKUP($B$36,'DADOS DE ENTRADA'!$B:$E,4,0))","v":{"$error":"#N/A"}},{"$f":"IF(BY32=\"\",\"\",VLOOKUP($B$36,'DADOS DE ENTRADA'!$B:$E,4,0))","v":{"$error":"#N/A"}},{"$f":"IF(BZ32=\"\",\"\",VLOOKUP($B$36,'DADOS DE ENTRADA'!$B:$E,4,0))","v":{"$error":"#N/A"}},{"$f":"IF(CA32=\"\",\"\",VLOOKUP($B$36,'DADOS DE ENTRADA'!$B:$E,4,0))","v":{"$error":"#N/A"}},{"$f":"IF(CB32=\"\",\"\",VLOOKUP($B$36,'DADOS DE ENTRADA'!$B:$E,4,0))","v":{"$error":"#N/A"}},{"$f":"IF(CC32=\"\",\"\",VLOOKUP($B$36,'DADOS DE ENTRADA'!$B:$E,4,0))","v":{"$error":"#N/A"}},{"$f":"IF(CD32=\"\",\"\",VLOOKUP($B$36,'DADOS DE ENTRADA'!$B:$E,4,0))","v":""},{"$f":"IF(CE32=\"\",\"\",VLOOKUP($B$36,'DADOS DE ENTRADA'!$B:$E,4,0))","v":{"$error":"#N/A"}},{"$f":"IF(CF32=\"\",\"\",VLOOKUP($B$36,'DADOS DE ENTRADA'!$B:$E,4,0))","v":{"$error":"#N/A"}},{"$f":"IF(CG32=\"\",\"\",VLOOKUP($B$36,'DADOS DE ENTRADA'!$B:$E,4,0))","v":{"$error":"#N/A"}},{"$f":"IF(CH32=\"\",\"\",VLOOKUP($B$36,'DADOS DE ENTRADA'!$B:$E,4,0))","v":""},{"$f":"IF(CI32=\"\",\"\",VLOOKUP($B$36,'DADOS DE ENTRADA'!$B:$E,4,0))","v":{"$error":"#N/A"}},{"$f":"IF(CJ32=\"\",\"\",VLOOKUP($B$36,'DADOS DE ENTRADA'!$B:$E,4,0))","v":{"$error":"#N/A"}},{"$f":"IF(CK32=\"\",\"\",VLOOKUP($B$36,'DADOS DE ENTRADA'!$B:$E,4,0))","v":{"$error":"#N/A"}},{"$f":"IF(CL32=\"\",\"\",VLOOKUP($B$36,'DADOS DE ENTRADA'!$B:$E,4,0))","v":{"$error":"#N/A"}},{"$f":"IF(CM32=\"\",\"\",VLOOKUP($B$36,'DADOS DE ENTRADA'!$B:$E,4,0))","v":""}]
[null,"DMT (Bota Fora):","DMT 2 =","km",{"$f":"IF(E14=\"\",\"\",VLOOKUP($B$37,'DADOS DE ENTRADA'!$B:$E,4,0))","v":10},{"$f":"IF(F14=\"\",\"\",VLOOKUP($B$37,'DADOS DE ENTRADA'!$B:$E,4,0))","v":10},{"$f":"IF(G14=\"\",\"\",VLOOKUP($B$37,'DADOS DE ENTRADA'!$B:$E,4,0))","v":10},{"$f":"IF(H14=\"\",\"\",VLOOKUP($B$37,'DADOS DE ENTRADA'!$B:$E,4,0))","v":10},{"$f":"IF(I14=\"\",\"\",VLOOKUP($B$37,'DADOS DE ENTRADA'!$B:$E,4,0))","v":10},{"$f":"IF(J33=\"\",\"\",VLOOKUP($B$37,'DADOS DE ENTRADA'!$B:$E,4,0))","v":10},{"$f":"IF(K33=\"\",\"\",VLOOKUP($B$37,'DADOS DE ENTRADA'!$B:$E,4,0))","v":10},{"$f":"IF(L33=\"\",\"\",VLOOKUP($B$37,'DADOS DE ENTRADA'!$B:$E,4,0))","v":10},{"$f":"IF(M33=\"\",\"\",VLOOKUP($B$37,'DADOS DE ENTRADA'!$B:$E,4,0))","v":10},{"$f":"IF(N33=\"\",\"\",VLOOKUP($B$37,'DADOS DE ENTRADA'!$B:$E,4,0))","v":10},{"$f":"IF(O33=\"\",\"\",VLOOKUP($B$37,'DADOS DE ENTRADA'!$B:$E,4,0))","v":""},{"$f":"IF(P33=\"\",\"\",VLOOKUP($B$37,'DADOS DE ENTRADA'!$B:$E,4,0))","v":""},{"$f":"IF(Q33=\"\",\"\",VLOOKUP($B$37,'DADOS DE ENTRADA'!$B:$E,4,0))","v":""},{"$f":"IF(R33=\"\",\"\",VLOOKUP($B$37,'DADOS DE ENTRADA'!$B:$E,4,0))","v":""},{"$f":"IF(S33=\"\",\"\",VLOOKUP($B$37,'DADOS DE ENTRADA'!$B:$E,4,0))","v":""},{"$f":"IF(T33=\"\",\"\",VLOOKUP($B$37,'DADOS DE ENTRADA'!$B:$E,4,0))","v":""},{"$f":"IF(U33=\"\",\"\",VLOOKUP($B$37,'DADOS DE ENTRADA'!$B:$E,4,0))","v":10},{"$f":"IF(V33=\"\",\"\",VLOOKUP($B$37,'DADOS DE ENTRADA'!$B:$E,4,0))","v":10},{"$f":"IF(W33=\"\",\"\",VLOOKUP($B$37,'DADOS DE ENTRADA'!$B:$E,4,0))","v":10},{"$f":"IF(X33=\"\",\"\",VLOOKUP($B$37,'DADOS DE ENTRADA'!$B:$E,4,0))","v":""},{"$f":"IF(Y33=\"\",\"\",VLOOKUP($B$37,'DADOS DE ENTRADA'!$B:$E,4,0))","v":10},{"$f":"IF(Z33=\"\",\"\",VLOOKUP($B$37,'DADOS DE ENTRADA'!$B:$E,4,0))","v":10},{"$f":"IF(AA33=\"\",\"\",VLOOKUP($B$37,'DADOS DE ENTRADA'!$B:$E,4,0))","v":""},{"$f":"IF(AB33=\"\",\"\",VLOOKUP($B$37,'DADOS DE ENTRADA'!$B:$E,4,0))","v":""},{"$f":"IF(AC33=\"\",\"\",VLOOKUP($B$37,'DADOS DE ENTRADA'!$B:$E,4,0))","v":""},{"$f":"IF(AD33=\"\",\"\",VLOOKUP($B$37,'DADOS DE ENTRADA'!$B:$E,4,0))","v":""},{"$f":"IF(AE33=\"\",\"\",VLOOKUP($B$37,'DADOS DE ENTRADA'!$B:$E,4,0))","v":""},{"$f":"IF(AF33=\"\",\"\",VLOOKUP($B$37,'DADOS DE ENTRADA'!$B:$E,4,0))","v":10},{"$f":"IF(AG33=\"\",\"\",VLOOKUP($B$37,'DADOS DE ENTRADA'!$B:$E,4,0))","v":""},{"$f":"IF(AH33=\"\",\"\",VLOOKUP($B$37,'DADOS DE ENTRADA'!$B:$E,4,0))","v":10},{"$f":"IF(AI33=\"\",\"\",VLOOKUP($B$37,'DADOS DE ENTRADA'!$B:$E,4,0))","v":""},{"$f":"IF(AJ33=\"\",\"\",VLOOKUP($B$37,'DADOS DE ENTRADA'!$B:$E,4,0))","v":""},{"$f":"IF(AK33=\"\",\"\",VLOOKUP($B$37,'DADOS DE ENTRADA'!$B:$E,4,0))","v":""},{"$f":"IF(AL33=\"\",\"\",VLOOKUP($B$37,'DADOS DE ENTRADA'!$B:$E,4,0))","v":""},{"$f":"IF(AM33=\"\",\"\",VLOOKUP($B$37,'DADOS DE ENTRADA'!$B:$E,4,0))","v":10},{"$f":"IF(AN33=\"\",\"\",VLOOKUP($B$37,'DADOS DE ENTRADA'!$B:$E,4,0))","v":10},{"$f":"IF(AO33=\"\",\"\",VLOOKUP($B$37,'DADOS DE ENTRADA'!$B:$E,4,0))","v":""},{"$f":"IF(AP33=\"\",\"\",VLOOKUP($B$37,'DADOS DE ENTRADA'!$B:$E,4,0))","v":""},{"$f":"IF(AQ33=\"\",\"\",VLOOKUP($B$37,'DADOS DE ENTRADA'!$B:$E,4,0))","v":""},{"$f":"IF(AR33=\"\",\"\",VLOOKUP($B$37,'DADOS DE ENTRADA'!$B:$E,4,0))","v":""},{"$f":"IF(AS33=\"\",\"\",VLOOKUP($B$37,'DADOS DE ENTRADA'!$B:$E,4,0))","v":10},{"$f":"IF(AT33=\"\",\"\",VLOOKUP($B$37,'DADOS DE ENTRADA'!$B:$E,4,0))","v":""},{"$f":"IF(AU33=\"\",\"\",VLOOKUP($B$37,'DADOS DE ENTRADA'!$B:$E,4,0))","v":""},{"$f":"IF(AV33=\"\",\"\",VLOOKUP($B$37,'DADOS DE ENTRADA'!$B:$E,4,0))","v":10},{"$f":"IF(AW33=\"\",\"\",VLOOKUP($B$37,'DADOS DE ENTRADA'!$B:$E,4,0))","v":""},{"$f":"IF(AX33=\"\",\"\",VLOOKUP($B$37,'DADOS DE ENTRADA'!$B:$E,4,0))","v":""},{"$f":"IF(AY33=\"\",\"\",VLOOKUP($B$37,'DADOS DE ENTRADA'!$B:$E,4,0))","v":10},{"$f":"IF(AZ33=\"\",\"\",VLOOKUP($B$37,'DADOS DE ENTRADA'!$B:$E,4,0))","v":10},{"$f":"IF(BA33=\"\",\"\",VLOOKUP($B$37,'DADOS DE ENTRADA'!$B:$E,4,0))","v":""},{"$f":"IF(BB33=\"\",\"\",VLOOKUP($B$37,'DADOS DE ENTRADA'!$B:$E,4,0))","v":""},{"$f":"IF(BC33=\"\",\"\",VLOOKUP($B$37,'DADOS DE ENTRADA'!$B:$E,4,0))","v":""},{"$f":"IF(BD33=\"\",\"\",VLOOKUP($B$37,'DADOS DE ENTRADA'!$B:$E,4,0))","v":""},{"$f":"IF(BE33=\"\",\"\",VLOOKUP($B$37,'DADOS DE ENTRADA'!$B:$E,4,0))","v":10},{"$f":"IF(BF33=\"\",\"\",VLOOKUP($B$37,'DADOS DE ENTRADA'!$B:$E,4,0))","v":""},{"$f":"IF(BG33=\"\",\"\",VLOOKUP($B$37,'DADOS DE ENTRADA'!$B:$E,4,0))","v":""},{"$f":"IF(BH33=\"\",\"\",VLOOKUP($B$37,'DADOS DE ENTRADA'!$B:$E,4,0))","v":""},{"$f":"IF(BI33=\"\",\"\",VLOOKUP($B$37,'DADOS DE ENTRADA'!$B:$E,4,0))","v":""},{"$f":"IF(BJ33=\"\",\"\",VLOOKUP($B$37,'DADOS DE ENTRADA'!$B:$E,4,0))","v":""},{"$f":"IF(BK33=\"\",\"\",VLOOKUP($B$37,'DADOS DE ENTRADA'!$B:$E,4,0))","v":""},{"$f":"IF(BL33=\"\",\"\",VLOOKUP($B$37,'DADOS DE ENTRADA'!$B:$E,4,0))","v":""},{"$f":"IF(BM33=\"\",\"\",VLOOKUP($B$37,'DADOS DE ENTRADA'!$B:$E,4,0))","v":10},{"$f":"IF(BN33=\"\",\"\",VLOOKUP($B$37,'DADOS DE ENTRADA'!$B:$E,4,0))","v":10},{"$f":"IF(BO33=\"\",\"\",VLOOKUP($B$37,'DADOS DE ENTRADA'!$B:$E,4,0))","v":10},{"$f":"IF(BP33=\"\",\"\",VLOOKUP($B$37,'DADOS DE ENTRADA'!$B:$E,4,0))","v":10},{"$f":"IF(BQ33=\"\",\"\",VLOOKUP($B$37,'DADOS DE ENTRADA'!$B:$E,4,0))","v":10},{"$f":"IF(BR33=\"\",\"\",VLOOKUP($B$37,'DADOS DE ENTRADA'!$B:$E,4,0))","v":10},{"$f":"IF(BS33=\"\",\"\",VLOOKUP($B$37,'DADOS DE ENTRADA'!$B:$E,4,0))","v":10},{"$f":"IF(BT33=\"\",\"\",VLOOKUP($B$37,'DADOS DE ENTRADA'!$B:$E,4,0))","v":10},{"$f":"IF(BU33=\"\",\"\",VLOOKUP($B$37,'DADOS DE ENTRADA'!$B:$E,4,0))","v":10},{"$f":"IF(BV33=\"\",\"\",VLOOKUP($B$37,'DADOS DE ENTRADA'!$B:$E,4,0))","v":10},{"$f":"IF(BW33=\"\",\"\",VLOOKUP($B$37,'DADOS DE ENTRADA'!$B:$E,4,0))","v":10},{"$f":"IF(BX33=\"\",\"\",VLOOKUP($B$37,'DADOS DE ENTRADA'!$B:$E,4,0))","v":10},{"$f":"IF(BY33=\"\",\"\",VLOOKUP($B$37,'DADOS DE ENTRADA'!$B:$E,4,0))","v":10},{"$f":"IF(BZ33=\"\",\"\",VLOOKUP($B$37,'DADOS DE ENTRADA'!$B:$E,4,0))","v":10},{"$f":"IF(CA33=\"\",\"\",VLOOKUP($B$37,'DADOS DE ENTRADA'!$B:$E,4,0))","v":10},{"$f":"IF(CB33=\"\",\"\",VLOOKUP($B$37,'DADOS DE ENTRADA'!$B:$E,4,0))","v":10},{"$f":"IF(CC33=\"\",\"\",VLOOKUP($B$37,'DADOS DE ENTRADA'!$B:$E,4,0))","v":10},{"$f":"IF(CD33=\"\",\"\",VLOOKUP($B$37,'DADOS DE ENTRADA'!$B:$E,4,0))","v":""},{"$f":"IF(CE33=\"\",\"\",VLOOKUP($B$37,'DADOS DE ENTRADA'!$B:$E,4,0))","v":10},{"$f":"IF(CF33=\"\",\"\",VLOOKUP($B$37,'DADOS DE ENTRADA'!$B:$E,4,0))","v":10},{"$f":"IF(CG33=\"\",\"\",VLOOKUP($B$37,'DADOS DE ENTRADA'!$B:$E,4,0))","v":10},{"$f":"IF(CH33=\"\",\"\",VLOOKUP($B$37,'DADOS DE ENTRADA'!$B:$E,4,0))","v":""},{"$f":"IF(CI33=\"\",\"\",VLOOKUP($B$37,'DADOS DE ENTRADA'!$B:$E,4,0))","v":10},{"$f":"IF(CJ33=\"\",\"\",VLOOKUP($B$37,'DADOS DE ENTRADA'!$B:$E,4,0))","v":10},{"$f":"IF(CK33=\"\",\"\",VLOOKUP($B$37,'DADOS DE ENTRADA'!$B:$E,4,0))","v":10},{"$f":"IF(CL33=\"\",\"\",VLOOKUP($B$37,'DADOS DE ENTRADA'!$B:$E,4,0))","v":10},{"$f":"IF(CM33=\"\",\"\",VLOOKUP($B$37,'DADOS DE ENTRADA'!$B:$E,4,0))","v":""}]
["CANAL TRAPEZOIDAL - QUANTITATIVOS","LOCACAO E NIVELAMENTO DE REDE DE CANAIS COLETORES DE IRRIGAÇÃO COM AUXILIO DE EQUIPAMENTO TOPOGRAFICO - CANAL TRECHO TRAPEZOIDAL",null,"m",{"$f":"IF(E13=\"\",\"\",E12)","v":1730.64},878.98,385.11,1565.27,373.41,0,74.58,364.11,1131.44,466.29,"","","","","","",34.11,19.52,29.21,"",236.58,681.9,"","","","","",247.88,"",209.22,"","",{"$f":"IF(AK13=\"\",\"\",AK12)","v":""},"",66.069999999999993,787.38,"","","","",418.7,"","",783.93,"","",530.92999999999995,647.5,"","","","",701.12,"","","","","","","",388.68,216.9,332.04,641.6,{"$f":"IF(BQ13=\"\",\"\",BQ12)","v":520.07000000000005},153.41999999999999,47.14,439.89,126.04,526.24,150.44,213.1,357.94,539.73,398.91,580,238.24,"",80,760,447.4,"",556.67999999999995,194.17,255.47,854.23,""]
[null,"LIMPEZA MANUAL DE VEGETAÇÃO EM TERRENO COM ENXADA",null,"m²",{"$f":"IF(E13=\"\",\"\",2*E35*E12)","v":1730.64},878.98,385.11,1565.27,373.41,{"$error":"#N/A"},{"$error":"#N/A"},{"$error":"#N/A"},{"$error":"#N/A"},{"$error":"#N/A"},"","","","","","",{"$error":"#N/A"},{"$error":"#N/A"},{"$error":"#N/A"},"",{"$error":"#N/A"},{"$error":"#N/A"},"","","","","",{"$error":"#N/A"},"",{"$error":"#N/A"},"","",{"$f":"IF(AK13=\"\",\"\",2*AK35*AK12)","v":""},"",{"$error":"#N/A"},{"$error":"#N/A"},"","","","",{"$error":"#N/A"},"","",{"$error":"#N/A"},"","",{"$error":"#N/A"},{"$error":"#N/A"},"","","","",{"$error":"#N/A"},"","","","","","","",{"$error":"#N/A"},{"$error":"#N/A"},{"$error":"#N/A"},{"$error":"#N/A"},{"$f":"IF(BQ13=\"\",\"\",2*BQ35*BQ12)","v":{"$error":"#N/A"}},{"$error":"#N/A"},{"$error":"#N/A"},{"$error":"#N/A"},{"$error":"#N/A"},{"$error":"#N/A"},{"$error":"#N/A"},{"$error":"#N/A"},{"$error":"#N/A"},{"$error":"#N/A"},{"$error":"#N/A"},{"$error":"#N/A"},{"$error":"#N/A"},"",{"$error":"#N/A"},{"$error":"#N/A"},{"$error":"#N/A"},"",{"$error":"#N/A"},{"$error":"#N/A"},{"$error":"#N/A"},{"$error":"#N/A"},""]
[null,"DEMOLIÇÃO  DE PLACAS EM CONCRETO",null,"m³",{"$f":"IF(E13=\"\",\"\",E12*E33*E21)","v":680.39359844557225},{"$f":"IF(F13=\"\",\"\",F12*F33*F21)","v":340.34629405084519},146.82945026504777,596.7846423525001,136.79750867299632,0,15.319628451485473,68.304461419175439,196.56918534360682,68.08535784112803,"","","","","","",6.7569498120295357,3.8667739762772362,5.7862944593779755,"",42.038712657346657,110.36840780894065,"","","","","",58.314070405039018,"",33.892583306378931,"","",{"$f":"IF(AK13=\"\",\"\",AK12*AK33*AK21)","v":""},"",12.665185196005126,132.22838182580654,"","","","",61.965485299593063,"","",145.61792721415898,"","",113.00003062166471,112.49252944034629,"","","","",123.51864734743469,"","","","","","","",141.55596031877275,75.518248221869484,114.44449503729621,243.62096369032506,{"$f":"IF(BQ13=\"\",\"\",BQ12*BQ33*BQ21)","v":193.76132402674384},57.159348418834078,17.562845029747351,164.75977739505299,46.958442671814936,196.06006721370906,56.049096441985391,65.470949729458269,69.981753220639547,94.83786634735894,59.036665251637615,85.83707063234769,35.258316736983645,"",14.543515139147202,129.13505443970857,74.45386757411265,"",80.437448413129815,35.298929182102647,38.314074508853061,106.51902947761428,""]
[null,"CARGA E DESCARGA MECANICA DE SOLO UTILIZANDO CAMINHAO BASCULANTE 6,0M3/16T E RETROESCAVADEIRA, CAÇAMBA RETRO CAP. 0,20 M3,PESO OPERACIONAL MÍN. 6.570 KG, INCLUSO ENTULHO",null,"m³",{"$f":"IF(E13=\"\",\"\",E40)","v":680.39359844557225},340.34629405084519,146.82945026504777,596.7846423525001,136.79750867299632,0,15.319628451485473,68.304461419175439,196.56918534360682,68.08535784112803,"","","","","","",6.7569498120295357,3.8667739762772362,5.7862944593779755,"",42.038712657346657,110.36840780894065,"","","","","",58.314070405039018,"",33.892583306378931,"","",{"$f":"IF(AK13=\"\",\"\",AK40)","v":""},"",12.665185196005126,132.22838182580654,"","","","",61.965485299593063,"","",145.61792721415898,"","",113.00003062166471,112.49252944034629,"","","","",123.51864734743469,"","","","","","","",141.55596031877275,75.518248221869484,114.44449503729621,243.62096369032506,{"$f":"IF(BQ13=\"\",\"\",BQ40)","v":193.76132402674384},57.159348418834078,17.562845029747351,164.75977739505299,46.958442671814936,196.06006721370906,56.049096441985391,65.470949729458269,69.981753220639547,94.83786634735894,59.036665251637615,85.83707063234769,35.258316736983645,"",14.543515139147202,129.13505443970857,74.45386757411265,"",80.437448413129815,35.298929182102647,38.314074508853061,106.51902947761428,""]
[null,"TRANSPORTE COMERCIAL COM CAMINHÃO BASCULANTE 6 M3, RODOVIA EM LEITO NATURAL",null,"m³xKm",{"$f":"IF(E13=\"\",\"\",E41*E37)","v":6803.9359844557221},{"$f":"IF(F13=\"\",\"\",F41*F37)","v":3403.462940508452},1468.2945026504776,5967.8464235250012,1367.9750867299631,0,153.19628451485474,683.04461419175436,1965.6918534360682,680.8535784112803,"","","","","","",67.56949812029535,38.667739762772364,57.862944593779758,"",420.38712657346656,1103.6840780894065,"","","","","",583.14070405039024,"",338.9258330637893,"","",{"$f":"IF(AK13=\"\",\"\",AK41*AK37)","v":""},"",126.65185196005126,1322.2838182580654,"","","","",619.65485299593058,"","",1456.1792721415898,"","",1130.000306216647,1124.9252944034629,"","","","",1235.1864734743469,"","","","","","","",1415.5596031877276,755.18248221869487,1144.444950372962,2436.2096369032506,{"$f":"IF(BQ13=\"\",\"\",BQ41*BQ37)","v":1937.6132402674384},571.59348418834077,175.62845029747351,1647.5977739505299,469.58442671814936,1960.6006721370907,560.49096441985387,654.70949729458266,699.81753220639553,948.37866347358943,590.36665251637612,858.37070632347695,352.58316736983647,"",145.435151391472,1291.3505443970857,744.53867574112655,"",804.37448413129812,352.98929182102648,383.14074508853059,1065.1902947761428,""]
[null,"ESCAVACAO MECANICA, A CEU ABERTO, EM MATERIAL DE 1A CATEGORIA, COM RETROESCAVADEIRA- SOLO IMPRÓPRIO",null,"m³",{"$f":"IF(E13=\"\",\"\",E12*E24)","v":3207.5698212434122},{"$f":"IF(F13=\"\",\"\",F12*F24)","v":1604.4896719539847},692.19597982093933,2813.4133139474998,644.90254088698259,0,72.221105557002943,322.00674669039853,926.68330233414645,320.97382982246069,"","","","","","",31.854191970996382,18.229077316735541,27.278245308496167,"",198.18250252749138,520.30820824214879,"","","","","",274.90918905232684,"",159.77932130150069,"","",{"$f":"IF(AK13=\"\",\"\",AK12*AK24)","v":""},"",59.707301638309879,623.36237146451651,"","","","",292.12300212665298,"","",686.48451400960664,"","",532.7144300735622,530.32192450448963,"","","","",582.30219463790627,"","","","","","","",667.33524150278572,356.01459876024182,539.52404803296781,1148.498828825818,{"$f":"IF(BQ13=\"\",\"\",BQ12*BQ24)","v":913.44624184036377},269.46549968878918,82.796269425951792,776.72466486239261,221.37551545284182,924.28317400748551,264.23145465507395,308.64876301030324,329.91397946872928,447.09279849469203,278.31570761486307,404.66047583821052,166.2177789029229,"",68.56228565597965,608.77954235862603,350.99680427795965,"",379.20511394761206,166.4092375727696,180.62349411316444,502.16113896589587,""]
[null,"CARGA E DESCARGA MECANICA DE SOLO UTILIZANDO CAMINHAO BASCULANTE 6,0M3/16T E RETROESCAVADEIRA, CAÇAMBA RETRO CAP. 0,20 M3,PESO OPERACIONAL MÍN. 6.570 KG, INCLUSO ENTULHO - SOLO IMPRÓPRIO",null,"m³",{"$f":"IF(E13=\"\",\"\",E43)","v":3207.5698212434122},1604.4896719539847,692.19597982093933,2813.4133139474998,644.90254088698259,0,72.221105557002943,322.00674669039853,926.68330233414645,320.97382982246069,"","","","","","",31.854191970996382,18.229077316735541,27.278245308496167,"",198.18250252749138,520.30820824214879,"","","","","",274.90918905232684,"",159.77932130150069,"","",{"$f":"IF(AK13=\"\",\"\",AK43)","v":""},"",59.707301638309879,623.36237146451651,"","","","",292.12300212665298,"","",686.48451400960664,"","",532.7144300735622,530.32192450448963,"","","","",582.30219463790627,"","","","","","","",667.33524150278572,356.01459876024182,539.52404803296781,1148.498828825818,{"$f":"IF(BQ13=\"\",\"\",BQ43)","v":913.44624184036377},269.46549968878918,82.796269425951792,776.72466486239261,221.37551545284182,924.28317400748551,264.23145465507395,308.64876301030324,329.91397946872928,447.09279849469203,278.31570761486307,404.66047583821052,166.2177789029229,"",68.56228565597965,608.77954235862603,350.99680427795965,"",379.20511394761206,166.4092375727696,180.62349411316444,502.16113896589587,""]
[null,"TRANSPORTE COMERCIAL COM CAMINHAO BASCULANTE 6 M3, RODOVIA EM LEITO NATURAL- SOLO IMPRÓPRIO",null,"m³xKm",{"$f":"IF(E13=\"\",\"\",E44*E37)","v":32075.698212434123},16044.896719539847,6921.9597982093928,28134.133139474998,6449.0254088698257,0,722.21105557002943,3220.0674669039854,9266.8330233414636,3209.7382982246068,"","","","","","",318.54191970996385,182.29077316735541,272.78245308496167,"",1981.8250252749137,5203.0820824214879,"","","","","",2749.0918905232684,"",1597.7932130150068,"","",{"$f":"IF(AK13=\"\",\"\",AK44*AK37)","v":""},"",597.07301638309877,6233.6237146451649,"","","","",2921.2300212665295,"","",6864.8451400960666,"","",5327.144300735622,5303.2192450448965,"","","","",5823.0219463790627,"","","","","","","",6673.3524150278572,3560.1459876024182,5395.2404803296777,11484.988288258181,{"$f":"IF(BQ13=\"\",\"\",BQ44*BQ37)","v":9134.4624184036384},2694.6549968878917,827.96269425951789,7767.2466486239264,2213.7551545284182,9242.8317400748547,2642.3145465507396,3086.4876301030326,3299.139794687293,4470.9279849469203,2783.1570761486309,4046.604758382105,1662.177789029229,"",685.62285655979645,6087.7954235862599,3509.9680427795965,"",3792.0511394761206,1664.092375727696,1806.2349411316445,5021.6113896589586,""]
[null,"PPREPARO E EXECUÇÃO DE SOLO-CIMENTO TRAÇO 1:12 EM VOLUME, (CIMENTO/ARENOSO), COM COMPACTAÇÃO E ESPALHAMENTO, PARA SUPORTE DE FUNDAÇÕES, INCLUSIVE CIMENTO E ARENOSO COMERCIAL ",null,"m³",{"$f":"IF(E13=\"\",\"\",E25*E12)","v":971.99085492224617},486.20899150120744,209.75635752149677,852.549489075,195.42501238999475,0,21.8851835021221,97.577802027393489,280.81312191943829,97.264796915897179,"","","","","","",9.6527854457564786,5.5239628232531945,8.2661349419685362,"",60.055303796209508,157.66915401277234,"","","","","",83.305814864341457,"",48.417976151969896,"","",{"$f":"IF(AK13=\"\",\"\",AK25*AK12)","v":""},"",18.093121708578753,188.89768832258073,"","","","",88.522121856561512,"","",208.0256103059414,"","",161.42861517380669,160.70361348620898,"","","","",176.45521049633527,"","","","","","","",202.22280045538966,107.88321174552783,163.492135767566,348.0299481290358,{"$f":"IF(BQ13=\"\",\"\",BQ25*BQ12)","v":276.80189146677696},81.65621202690582,25.089778613924786,235.3711105643614,67.083489531164204,280.08581030529871,80.07013777426485,93.52992818494036,99.973933172342214,135.48266621051275,84.338093216625168,122.62438661763954,50.369023909976633,"",20.776450198781717,184.47864919958366,106.36266796301808,"",114.91064059018547,50.42704168871807,54.734392155504374,152.17004211087755,""]
[null,"ATERRO MANUAL COM MATERIAL DE EMPRÉSTIMO, COMPACTAÇÃO MECANIZADA  E REGULARIZAÇÃO DO TALUDE",null,"m³",{"$f":"IF(E13=\"\",\"\",E34*0.25*E12)","v":2256.9131373056148},{"$f":"IF(F13=\"\",\"\",F34*0.25*F12)","v":1127.6244787530186},485.87989380374188,1974.8467226874998,451.22153097498671,{"$f":"IF(J13=\"\",\"\",J32*J12)","v":{"$error":"#N/A"}},{"$error":"#N/A"},{"$error":"#N/A"},{"$error":"#N/A"},{"$error":"#N/A"},"","","","","","",{"$error":"#N/A"},{"$error":"#N/A"},{"$error":"#N/A"},"",{"$error":"#N/A"},{"$error":"#N/A"},"","","","","",{"$error":"#N/A"},"",{"$error":"#N/A"},"","","","",{"$error":"#N/A"},{"$error":"#N/A"},"",{"$f":"IF(AP13=\"\",\"\",AP32*AP12)","v":""},"","",{"$error":"#N/A"},"","",{"$error":"#N/A"},"","",{"$error":"#N/A"},{"$error":"#N/A"},"","","","",{"$error":"#N/A"},"","","","","","","",{"$error":"#N/A"},{"$error":"#N/A"},{"$error":"#N/A"},{"$error":"#N/A"},{"$error":"#N/A"},{"$error":"#N/A"},{"$error":"#N/A"},{"$error":"#N/A"},{"$error":"#N/A"},{"$f":"IF(BV13=\"\",\"\",BV32*BV12)","v":{"$error":"#N/A"}},{"$error":"#N/A"},{"$error":"#N/A"},{"$error":"#N/A"},{"$error":"#N/A"},{"$error":"#N/A"},{"$error":"#N/A"},{"$error":"#N/A"},"",{"$error":"#N/A"},{"$error":"#N/A"},{"$error":"#N/A"},"",{"$error":"#N/A"},{"$error":"#N/A"},{"$error":"#N/A"},{"$error":"#N/A"},""]
[null,"ESCAVAÇÃO MANUAL DE VALAS PARA ANCORAGEM DA MANTA PEAD",null,"m³",{"$f":"IF(E13=\"\",\"\",(E30*E31)*E12*2)","v":138.45120000000003},70.318400000000011,30.808800000000009,125.22160000000002,29.872800000000009,{"$error":"#N/A"},{"$error":"#N/A"},{"$error":"#N/A"},{"$error":"#N/A"},{"$error":"#N/A"},"","","","","","",{"$error":"#N/A"},{"$error":"#N/A"},{"$error":"#N/A"},"",{"$error":"#N/A"},{"$error":"#N/A"},"","","","","",{"$error":"#N/A"},"",{"$error":"#N/A"},"","",{"$f":"IF(AK13=\"\",\"\",(AK30*AK31)*AK12*2)","v":""},"",{"$error":"#N/A"},{"$error":"#N/A"},"","","","",{"$error":"#N/A"},"","",{"$error":"#N/A"},"","",{"$error":"#N/A"},{"$error":"#N/A"},"","","","",{"$error":"#N/A"},"","","","","","","",{"$error":"#N/A"},{"$error":"#N/A"},{"$error":"#N/A"},{"$error":"#N/A"},{"$f":"IF(BQ13=\"\",\"\",(BQ30*BQ31)*BQ12*2)","v":{"$error":"#N/A"}},{"$error":"#N/A"},{"$error":"#N/A"},{"$error":"#N/A"},{"$error":"#N/A"},{"$error":"#N/A"},{"$error":"#N/A"},{"$error":"#N/A"},{"$error":"#N/A"},{"$error":"#N/A"},{"$error":"#N/A"},{"$error":"#N/A"},{"$error":"#N/A"},"",{"$error":"#N/A"},{"$error":"#N/A"},{"$error":"#N/A"},"",{"$error":"#N/A"},{"$error":"#N/A"},{"$error":"#N/A"},{"$error":"#N/A"},""]
[null,"FORNECIMENTO E INSTALAÇÃO DE GEOMEMBRANA , PEAD, ESP = 1MM",null,"m²",{"$f":"IF(E13=\"\",\"\",E32*E12)","v":11104.420549222461},{"$f":"IF(F13=\"\",\"\",F32*F12)","v":5565.2739150120751},2405.6515752149676,9777.7108907499987,2252.9781238999471,{"$f":"IF(J13=\"\",\"\",J47)","v":{"$error":"#N/A"}},{"$error":"#N/A"},{"$error":"#N/A"},{"$error":"#N/A"},{"$error":"#N/A"},"","","","","","",{"$error":"#N/A"},{"$error":"#N/A"},{"$error":"#N/A"},"",{"$error":"#N/A"},{"$error":"#N/A"},"","","","","",{"$error":"#N/A"},"",{"$error":"#N/A"},"","","","",{"$error":"#N/A"},{"$error":"#N/A"},"",{"$f":"IF(AP13=\"\",\"\",AP47)","v":""},"","",{"$error":"#N/A"},"","",{"$error":"#N/A"},"","",{"$error":"#N/A"},{"$error":"#N/A"},"","","","",{"$error":"#N/A"},"","","","","","","",{"$error":"#N/A"},{"$error":"#N/A"},{"$error":"#N/A"},{"$error":"#N/A"},{"$error":"#N/A"},{"$error":"#N/A"},{"$error":"#N/A"},{"$error":"#N/A"},{"$error":"#N/A"},{"$f":"IF(BV13=\"\",\"\",BV47)","v":{"$error":"#N/A"}},{"$error":"#N/A"},{"$error":"#N/A"},{"$error":"#N/A"},{"$error":"#N/A"},{"$error":"#N/A"},{"$error":"#N/A"},{"$error":"#N/A"},"",{"$error":"#N/A"},{"$error":"#N/A"},{"$error":"#N/A"},"",{"$error":"#N/A"},{"$error":"#N/A"},{"$error":"#N/A"},{"$error":"#N/A"},""]
[null,"REATERRO COM COMPACTACAO MECANIZADA DAS VALAS ( ANCORAGEM DA MANTA PEAD )",null,"m³",{"$f":"IF(E13=\"\",\"\",E48)","v":138.45120000000003},70.318400000000011,30.808800000000009,125.22160000000002,29.872800000000009,{"$error":"#N/A"},{"$error":"#N/A"},{"$error":"#N/A"},{"$error":"#N/A"},{"$error":"#N/A"},"","","","","","",{"$error":"#N/A"},{"$error":"#N/A"},{"$error":"#N/A"},"",{"$error":"#N/A"},{"$error":"#N/A"},"","","","","",{"$error":"#N/A"},"",{"$error":"#N/A"},"","",{"$f":"IF(AK13=\"\",\"\",AK48)","v":""},"",{"$error":"#N/A"},{"$error":"#N/A"},"","","","",{"$error":"#N/A"},"","",{"$error":"#N/A"},"","",{"$error":"#N/A"},{"$error":"#N/A"},"","","","",{"$error":"#N/A"},"","","","","","","",{"$error":"#N/A"},{"$error":"#N/A"},{"$error":"#N/A"},{"$error":"#N/A"},{"$f":"IF(BQ13=\"\",\"\",BQ48)","v":{"$error":"#N/A"}},{"$error":"#N/A"},{"$error":"#N/A"},{"$error":"#N/A"},{"$error":"#N/A"},{"$error":"#N/A"},{"$error":"#N/A"},{"$error":"#N/A"},{"$error":"#N/A"},{"$error":"#N/A"},{"$error":"#N/A"},{"$error":"#N/A"},{"$error":"#N/A"},"",{"$error":"#N/A"},{"$error":"#N/A"},{"$error":"#N/A"},"",{"$error":"#N/A"},{"$error":"#N/A"},{"$error":"#N/A"},{"$error":"#N/A"},""]
[null,"ARMACAO EM TELA DE ACO SOLDADA NERVURADA Q-138, ACO CA-60, 4,2MM, MALHA 15X15CM",null,"m²",{"$f":"IF(E13=\"\",\"\",E33*E12)","v":9719.9085492224604},{"$f":"IF(F13=\"\",\"\",F33*F12)","v":4862.089915012074},2097.5635752149678,8525.4948907500002,1954.2501238999473,{"$f":"IF(J13=\"\",\"\",#REF!*J12)","v":{"$error":"#REF!"}},{"$f":"IF(K13=\"\",\"\",#REF!*K12)","v":{"$error":"#REF!"}},{"$f":"IF(L13=\"\",\"\",#REF!*L12)","v":{"$error":"#REF!"}},{"$f":"IF(M13=\"\",\"\",#REF!*M12)","v":{"$error":"#REF!"}},{"$f":"IF(N13=\"\",\"\",#REF!*N12)","v":{"$error":"#REF!"}},{"$f":"IF(O13=\"\",\"\",#REF!*O12)","v":""},{"$f":"IF(P13=\"\",\"\",#REF!*P12)","v":""},{"$f":"IF(Q13=\"\",\"\",#REF!*Q12)","v":""},{"$f":"IF(R13=\"\",\"\",#REF!*R12)","v":""},{"$f":"IF(S13=\"\",\"\",#REF!*S12)","v":""},{"$f":"IF(T13=\"\",\"\",#REF!*T12)","v":""},{"$f":"IF(U13=\"\",\"\",#REF!*U12)","v":{"$error":"#REF!"}},{"$f":"IF(V13=\"\",\"\",#REF!*V12)","v":{"$error":"#REF!"}},{"$f":"IF(W13=\"\",\"\",#REF!*W12)","v":{"$error":"#REF!"}},{"$f":"IF(X13=\"\",\"\",#REF!*X12)","v":""},{"$f":"IF(Y13=\"\",\"\",#REF!*Y12)","v":{"$error":"#REF!"}},{"$f":"IF(Z13=\"\",\"\",#REF!*Z12)","v":{"$error":"#REF!"}},{"$f":"IF(AA13=\"\",\"\",#REF!*AA12)","v":""},{"$f":"IF(AB13=\"\",\"\",#REF!*AB12)","v":""},{"$f":"IF(AC13=\"\",\"\",#REF!*AC12)","v":""},{"$f":"IF(AD13=\"\",\"\",#REF!*AD12)","v":""},{"$f":"IF(AE13=\"\",\"\",#REF!*AE12)","v":""},{"$f":"IF(AF13=\"\",\"\",#REF!*AF12)","v":{"$error":"#REF!"}},{"$f":"IF(AG13=\"\",\"\",#REF!*AG12)","v":""},{"$f":"IF(AH13=\"\",\"\",#REF!*AH12)","v":{"$error":"#REF!"}},{"$f":"IF(AI13=\"\",\"\",#REF!*AI12)","v":""},{"$f":"IF(AJ13=\"\",\"\",#REF!*AJ12)","v":""},{"$f":"IF(AK13=\"\",\"\",#REF!*AK12)","v":""},{"$f":"IF(AL13=\"\",\"\",#REF!*AL12)","v":""},{"$f":"IF(AM13=\"\",\"\",#REF!*AM12)","v":{"$error":"#REF!"}},{"$f":"IF(AN13=\"\",\"\",#REF!*AN12)","v":{"$error":"#REF!"}},{"$f":"IF(AO13=\"\",\"\",#REF!*AO12)","v":""},{"$f":"IF(AP13=\"\",\"\",#REF!*AP12)","v":""},{"$f":"IF(AQ13=\"\",\"\",#REF!*AQ12)","v":""},{"$f":"IF(AR13=\"\",\"\",#REF!*AR12)","v":""},{"$f":"IF(AS13=\"\",\"\",#REF!*AS12)","v":{"$error":"#REF!"}},{"$f":"IF(AT13=\"\",\"\",#REF!*AT12)","v":""},{"$f":"IF(AU13=\"\",\"\",#REF!*AU12)","v":""},{"$f":"IF(AV13=\"\",\"\",#REF!*AV12)","v":{"$error":"#REF!"}},{"$f":"IF(AW13=\"\",\"\",#REF!*AW12)","v":""},{"$f":"IF(AX13=\"\",\"\",#REF!*AX12)","v":""},{"$f":"IF(AY13=\"\",\"\",#REF!*AY12)","v":{"$error":"#REF!"}},{"$f":"IF(AZ13=\"\",\"\",#REF!*AZ12)","v":{"$error":"#REF!"}},{"$f":"IF(BA13=\"\",\"\",#REF!*BA12)","v":""},{"$f":"IF(BB13=\"\",\"\",#REF!*BB12)","v":""},{"$f":"IF(BC13=\"\",\"\",#REF!*BC12)","v":""},{"$f":"IF(BD13=\"\",\"\",#REF!*BD12)","v":""},{"$f":"IF(BE13=\"\",\"\",#REF!*BE12)","v":{"$error":"#REF!"}},{"$f":"IF(BF13=\"\",\"\",#REF!*BF12)","v":""},{"$f":"IF(BG13=\"\",\"\",#REF!*BG12)","v":""},{"$f":"IF(BH13=\"\",\"\",#REF!*BH12)","v":""},{"$f":"IF(BI13=\"\",\"\",#REF!*BI12)","v":""},{"$f":"IF(BJ13=\"\",\"\",#REF!*BJ12)","v":""},{"$f":"IF(BK13=\"\",\"\",#REF!*BK12)","v":""},{"$f":"IF(BL13=\"\",\"\",#REF!*BL12)","v":""},{"$f":"IF(BM13=\"\",\"\",#REF!*BM12)","v":{"$error":"#REF!"}},{"$f":"IF(BN13=\"\",\"\",#REF!*BN12)","v":{"$error":"#REF!"}},{"$f":"IF(BO13=\"\",\"\",#REF!*BO12)","v":{"$error":"#REF!"}},{"$f":"IF(BP13=\"\",\"\",#REF!*BP12)","v":{"$error":"#REF!"}},{"$f":"IF(BQ13=\"\",\"\",#REF!*BQ12)","v":{"$error":"#REF!"}},{"$f":"IF(BR13=\"\",\"\",#REF!*BR12)","v":{"$error":"#REF!"}},{"$f":"IF(BS13=\"\",\"\",#REF!*BS12)","v":{"$error":"#REF!"}},{"$f":"IF(BT13=\"\",\"\",#REF!*BT12)","v":{"$error":"#REF!"}},{"$f":"IF(BU13=\"\",\"\",#REF!*BU12)","v":{"$error":"#REF!"}},{"$f":"IF(BV13=\"\",\"\",#REF!*BV12)","v":{"$error":"#REF!"}},{"$f":"IF(BW13=\"\",\"\",#REF!*BW12)","v":{"$error":"#REF!"}},{"$f":"IF(BX13=\"\",\"\",#REF!*BX12)","v":{"$error":"#REF!"}},{"$f":"IF(BY13=\"\",\"\",#REF!*BY12)","v":{"$error":"#REF!"}},{"$f":"IF(BZ13=\"\",\"\",#REF!*BZ12)","v":{"$error":"#REF!"}},{"$f":"IF(CA13=\"\",\"\",#REF!*CA12)","v":{"$error":"#REF!"}},{"$f":"IF(CB13=\"\",\"\",#REF!*CB12)","v":{"$error":"#REF!"}},{"$f":"IF(CC13=\"\",\"\",#REF!*CC12)","v":{"$error":"#REF!"}},{"$f":"IF(CD13=\"\",\"\",#REF!*CD12)","v":""},{"$f":"IF(CE13=\"\",\"\",#REF!*CE12)","v":{"$error":"#REF!"}},{"$f":"IF(CF13=\"\",\"\",#REF!*CF12)","v":{"$error":"#REF!"}},{"$f":"IF(CG13=\"\",\"\",#REF!*CG12)","v":{"$error":"#REF!"}},{"$f":"IF(CH13=\"\",\"\",#REF!*CH12)","v":""},{"$f":"IF(CI13=\"\",\"\",#REF!*CI12)","v":{"$error":"#REF!"}},{"$f":"IF(CJ13=\"\",\"\",#REF!*CJ12)","v":{"$error":"#REF!"}},{"$f":"IF(CK13=\"\",\"\",#REF!*CK12)","v":{"$error":"#REF!"}},{"$f":"IF(CL13=\"\",\"\",#REF!*CL12)","v":{"$error":"#REF!"}},{"$f":"IF(CM13=\"\",\"\",#REF!*CM12)","v":""}]
[null,"CONCRETO FCK=20MPA PARA ESTRUTURAS, INCLUINDO PREPARO MECANICO, LANCAMENTO E ADENSAMENTO",null,"m³",{"$f":"IF(E13=\"\",\"\",(E33*E19)*E12)","v":485.99542746112309},{"$f":"IF(F13=\"\",\"\",(F33*F19)*F12)","v":243.10449575060372},104.87817876074838,426.2747445375,97.712506194997374,{"$f":"IF(J13=\"\",\"\",(J34*J19)*J12)","v":0},9.4509917510610517,41.506701013696734,117.77776095971916,39.306598457948574,"","","","","","",4.1441927228782394,2.3715814116265972,3.5488674709842676,"",25.29605189810475,65.196577006386178,"","","","","",36.695307432170722,"",20.024588075984944,"","","","",7.725160854289375,78.701244161290376,"",{"$f":"IF(AP13=\"\",\"\",(AP34*AP19)*AP12)","v":""},"","",35.887060928280746,"","",88.334205152970696,"","",70.095707586903345,67.401806743104501,"","","","",74.205205248167616,"","","","","","","",93.337800227694814,49.603605872763914,75.105267883782986,161.18297406451788,127.99954573338844,37.759706013452906,11.602089306962391,108.88775528218069,31.020944765582094,{"$f":"IF(BV13=\"\",\"\",(BV34*BV19)*BV12)","v":129.51810515264933},37.026268887132417,42.502964092470179,42.828166586171101,56.946733105256364,34.190846608312576,49.712193308819764,20.419711954988312,"",8.7882250993908571,77.03932459979184,44.233333981509034,"",46.321720295092732,21.330120844359033,22.257796077752186,59.000421055438778,""]
["CANAL RETANGULAR - MEDIDAS","Canal Retangular (Largura Externa):","B=","m",{"$f":"IF(E55=\"\",\"\",E55+E56+E56)","v":""},{"$f":"IF(F55=\"\",\"\",F55+F56+F56)","v":""},"","","","","","","","",0.99,0.54,0.54,0.54,0.49,0.49,"","","",0.79,"","",0.74,0.74,0.59,0.64,0.54,"",0.59,"",0.84,0.79,0.54,0.79,"","",0.74,0.64,0.69000000000000006,0.74,"",0.64,0.89,"",0.74,0.64,"","",0.89,0.54,0.69000000000000006,0.64,"",0.64,0.64,0.64,0.54,0.64,0.54,0.59,"","","","","",{"$f":"IF(BR55=\"\",\"\",BR55+BR56+BR56)","v":""},"","","","","","","","","","","",0.59,"","","",0.59,"","","","",0.49]
[null,null,"d=","m",{"$f":"IF(E55=\"\",\"\",(E63-E53)/2)","v":""},{"$f":"IF(F55=\"\",\"\",(F63-F53)/2)","v":""},"","","","","","","","",0.10999999999999999,-7.0000000000000007E-2,-0.12000000000000002,-0.11000000000000001,-0.13,-0.10499999999999998,"","","",2.48,"","",-7.5000000000000011E-2,-0.14499999999999999,-0.06,-0.15,-0.1,"",5.0000000000000044E-3,"",0.22500000000000003,3.4999999999999976E-2,-0.10500000000000001,-0.12,"","",0.28000000000000003,-0.14000000000000001,0.59250000000000003,0.38,"",0.24000000000000005,-0.06,"",0.31500000000000006,-0.17,"","",0.22000000000000003,-8.0000000000000016E-2,-0.19500000000000003,-0.17,"",0.14999999999999997,-5.4999999999999993E-2,0.23500000000000004,0.12,-2.0000000000000018E-2,-9.0000000000000024E-2,-0.09,"","","","","",{"$f":"IF(BR55=\"\",\"\",(BR63-BR53)/2)","v":""},"","","","","","","","","","","",0.52,"","","",0.65999999999999992,"","","","",-6.5000000000000002E-2]
[null,"Canal retangular (Largura Interna):","b=","m",{"$nulls":10},0.75,0.3,0.3,0.3,0.25,0.25,null,null,null,0.55000000000000004,null,null,0.5,0.5,0.35,0.4,0.3,null,0.35,null,0.6,0.55000000000000004,0.3,0.55000000000000004,null,null,0.5,0.4,0.45,0.5,null,0.4,0.65,null,0.5,0.4,null,null,0.65,0.3,0.45,0.4,null,0.4,0.4,0.4,0.3,0.4,0.3,0.35,{"$nulls":17},0.35,null,null,null,0.35,{"$nulls":4},0.25]
[null,"Canal retangular (Espessura Parede):","c=","m",{"$f":"IF(E$55=\"\",\"\",VLOOKUP($B56,'DADOS DE ENTRADA'!$B:$E,4,0))","v":""},{"$f":"IF(F$55=\"\",\"\",VLOOKUP($B56,'DADOS DE ENTRADA'!$B:$E,4,0))","v":""},{"$f":"IF(G$55=\"\",\"\",VLOOKUP($B56,'DADOS DE ENTRADA'!$B:$E,4,0))","v":""},{"$f":"IF(H$55=\"\",\"\",VLOOKUP($B56,'DADOS DE ENTRADA'!$B:$E,4,0))","v":""},{"$f":"IF(I$55=\"\",\"\",VLOOKUP($B56,'DADOS DE ENTRADA'!$B:$E,4,0))","v":""},{"$f":"IF(J$55=\"\",\"\",VLOOKUP($B56,'DADOS DE ENTRADA'!$B:$E,4,0))","v":""},{"$f":"IF(K$55=\"\",\"\",VLOOKUP($B56,'DADOS DE ENTRADA'!$B:$E,4,0))","v":""},{"$f":"IF(L$55=\"\",\"\",VLOOKUP($B56,'DADOS DE ENTRADA'!$B:$E,4,0))","v":""},{"$f":"IF(M$55=\"\",\"\",VLOOKUP($B56,'DADOS DE ENTRADA'!$B:$E,4,0))","v":""},{"$f":"IF(N$55=\"\",\"\",VLOOKUP($B56,'DADOS DE ENTRADA'!$B:$E,4,0))","v":""},{"$f":"IF(O$55=\"\",\"\",VLOOKUP($B56,'DADOS DE ENTRADA'!$B:$E,4,0))","v":0.12},{"$f":"IF(P$55=\"\",\"\",VLOOKUP($B56,'DADOS DE ENTRADA'!$B:$E,4,0))","v":0.12},{"$f":"IF(Q$55=\"\",\"\",VLOOKUP($B56,'DADOS DE ENTRADA'!$B:$E,4,0))","v":0.12},{"$f":"IF(R$55=\"\",\"\",VLOOKUP($B56,'DADOS DE ENTRADA'!$B:$E,4,0))","v":0.12},{"$f":"IF(S$55=\"\",\"\",VLOOKUP($B56,'DADOS DE ENTRADA'!$B:$E,4,0))","v":0.12},{"$f":"IF(T$55=\"\",\"\",VLOOKUP($B56,'DADOS DE ENTRADA'!$B:$E,4,0))","v":0.12},{"$f":"IF(U$55=\"\",\"\",VLOOKUP($B56,'DADOS DE ENTRADA'!$B:$E,4,0))","v":""},{"$f":"IF(V$55=\"\",\"\",VLOOKUP($B56,'DADOS DE ENTRADA'!$B:$E,4,0))","v":""},{"$f":"IF(W$55=\"\",\"\",VLOOKUP($B56,'DADOS DE ENTRADA'!$B:$E,4,0))","v":""},{"$f":"IF(X$55=\"\",\"\",VLOOKUP($B56,'DADOS DE ENTRADA'!$B:$E,4,0))","v":0.12},{"$f":"IF(Y$55=\"\",\"\",VLOOKUP($B56,'DADOS DE ENTRADA'!$B:$E,4,0))","v":""},{"$f":"IF(Z$55=\"\",\"\",VLOOKUP($B56,'DADOS DE ENTRADA'!$B:$E,4,0))","v":""},{"$f":"IF(AA$55=\"\",\"\",VLOOKUP($B56,'DADOS DE ENTRADA'!$B:$E,4,0))","v":0.12},{"$f":"IF(AB$55=\"\",\"\",VLOOKUP($B56,'DADOS DE ENTRADA'!$B:$E,4,0))","v":0.12},{"$f":"IF(AC$55=\"\",\"\",VLOOKUP($B56,'DADOS DE ENTRADA'!$B:$E,4,0))","v":0.12},{"$f":"IF(AD$55=\"\",\"\",VLOOKUP($B56,'DADOS DE ENTRADA'!$B:$E,4,0))","v":0.12},{"$f":"IF(AE$55=\"\",\"\",VLOOKUP($B56,'DADOS DE ENTRADA'!$B:$E,4,0))","v":0.12},{"$f":"IF(AF$55=\"\",\"\",VLOOKUP($B56,'DADOS DE ENTRADA'!$B:$E,4,0))","v":""},{"$f":"IF(AG$55=\"\",\"\",VLOOKUP($B56,'DADOS DE ENTRADA'!$B:$E,4,0))","v":0.12},{"$f":"IF(AH$55=\"\",\"\",VLOOKUP($B56,'DADOS DE ENTRADA'!$B:$E,4,0))","v":""},{"$f":"IF(AI$55=\"\",\"\",VLOOKUP($B56,'DADOS DE ENTRADA'!$B:$E,4,0))","v":0.12},{"$f":"IF(AJ$55=\"\",\"\",VLOOKUP($B56,'DADOS DE ENTRADA'!$B:$E,4,0))","v":0.12},{"$f":"IF(AK$55=\"\",\"\",VLOOKUP($B56,'DADOS DE ENTRADA'!$B:$E,4,0))","v":0.12},{"$f":"IF(AL$55=\"\",\"\",VLOOKUP($B56,'DADOS DE ENTRADA'!$B:$E,4,0))","v":0.12},{"$f":"IF(AM$55=\"\",\"\",VLOOKUP($B56,'DADOS DE ENTRADA'!$B:$E,4,0))","v":""},{"$f":"IF(AN$55=\"\",\"\",VLOOKUP($B56,'DADOS DE ENTRADA'!$B:$E,4,0))","v":""},{"$f":"IF(AO$55=\"\",\"\",VLOOKUP($B56,'DADOS DE ENTRADA'!$B:$E,4,0))","v":0.12},{"$f":"IF(AP$55=\"\",\"\",VLOOKUP($B56,'DADOS DE ENTRADA'!$B:$E,4,0))","v":0.12},{"$f":"IF(AQ$55=\"\",\"\",VLOOKUP($B56,'DADOS DE ENTRADA'!$B:$E,4,0))","v":0.12},{"$f":"IF(AR$55=\"\",\"\",VLOOKUP($B56,'DADOS DE ENTRADA'!$B:$E,4,0))","v":0.12},{"$f":"IF(AS$55=\"\",\"\",VLOOKUP($B56,'DADOS DE ENTRADA'!$B:$E,4,0))","v":""},{"$f":"IF(AT$55=\"\",\"\",VLOOKUP($B56,'DADOS DE ENTRADA'!$B:$E,4,0))","v":0.12},{"$f":"IF(AU$55=\"\",\"\",VLOOKUP($B56,'DADOS DE ENTRADA'!$B:$E,4,0))","v":0.12},{"$f":"IF(AV$55=\"\",\"\",VLOOKUP($B56,'DADOS DE ENTRADA'!$B:$E,4,0))","v":""},{"$f":"IF(AW$55=\"\",\"\",VLOOKUP($B56,'DADOS DE ENTRADA'!$B:$E,4,0))","v":0.12},{"$f":"IF(AX$55=\"\",\"\",VLOOKUP($B56,'DADOS DE ENTRADA'!$B:$E,4,0))","v":0.12},{"$f":"IF(AY$55=\"\",\"\",VLOOKUP($B56,'DADOS DE ENTRADA'!$B:$E,4,0))","v":""},{"$f":"IF(AZ$55=\"\",\"\",VLOOKUP($B56,'DADOS DE ENTRADA'!$B:$E,4,0))","v":""},{"$f":"IF(BA$55=\"\",\"\",VLOOKUP($B56,'DADOS DE ENTRADA'!$B:$E,4,0))","v":0.12},{"$f":"IF(BB$55=\"\",\"\",VLOOKUP($B56,'DADOS DE ENTRADA'!$B:$E,4,0))","v":0.12},{"$f":"IF(BC$55=\"\",\"\",VLOOKUP($B56,'DADOS DE ENTRADA'!$B:$E,4,0))","v":0.12},{"$f":"IF(BD$55=\"\",\"\",VLOOKUP($B56,'DADOS DE ENTRADA'!$B:$E,4,0))","v":0.12},{"$f":"IF(BE$55=\"\",\"\",VLOOKUP($B56,'DADOS DE ENTRADA'!$B:$E,4,0))","v":""},{"$f":"IF(BF$55=\"\",\"\",VLOOKUP($B56,'DADOS DE ENTRADA'!$B:$E,4,0))","v":0.12},{"$f":"IF(BG$55=\"\",\"\",VLOOKUP($B56,'DADOS DE ENTRADA'!$B:$E,4,0))","v":0.12},{"$f":"IF(BH$55=\"\",\"\",VLOOKUP($B56,'DADOS DE ENTRADA'!$B:$E,4,0))","v":0.12},{"$f":"IF(BI$55=\"\",\"\",VLOOKUP($B56,'DADOS DE ENTRADA'!$B:$E,4,0))","v":0.12},{"$f":"IF(BJ$55=\"\",\"\",VLOOKUP($B56,'DADOS DE ENTRADA'!$B:$E,4,0))","v":0.12},{"$f":"IF(BK$55=\"\",\"\",VLOOKUP($B56,'DADOS DE ENTRADA'!$B:$E,4,0))","v":0.12},{"$f":"IF(BL$55=\"\",\"\",VLOOKUP($B56,'DADOS DE ENTRADA'!$B:$E,4,0))","v":0.12},{"$f":"IF(BM$55=\"\",\"\",VLOOKUP($B56,'DADOS DE ENTRADA'!$B:$E,4,0))","v":""},{"$f":"IF(BN$55=\"\",\"\",VLOOKUP($B56,'DADOS DE ENTRADA'!$B:$E,4,0))","v":""},{"$f":"IF(BO$55=\"\",\"\",VLOOKUP($B56,'DADOS DE ENTRADA'!$B:$E,4,0))","v":""},{"$f":"IF(BP$55=\"\",\"\",VLOOKUP($B56,'DADOS DE ENTRADA'!$B:$E,4,0))","v":""},{"$f":"IF(BQ$55=\"\",\"\",VLOOKUP($B56,'DADOS DE ENTRADA'!$B:$E,4,0))","v":""},{"$f":"IF(BR$55=\"\",\"\",VLOOKUP($B56,'DADOS DE ENTRADA'!$B:$E,4,0))","v":""},{"$f":"IF(BS$55=\"\",\"\",VLOOKUP($B56,'DADOS DE ENTRADA'!$B:$E,4,0))","v":""},{"$f":"IF(BT$55=\"\",\"\",VLOOKUP($B56,'DADOS DE ENTRADA'!$B:$E,4,0))","v":""},{"$f":"IF(BU$55=\"\",\"\",VLOOKUP($B56,'DADOS DE ENTRADA'!$B:$E,4,0))","v":""},{"$f":"IF(BV$55=\"\",\"\",VLOOKUP($B56,'DADOS DE ENTRADA'!$B:$E,4,0))","v":""},{"$f":"IF(BW$55=\"\",\"\",VLOOKUP($B56,'DADOS DE ENTRADA'!$B:$E,4,0))","v":""},{"$f":"IF(BX$55=\"\",\"\",VLOOKUP($B56,'DADOS DE ENTRADA'!$B:$E,4,0))","v":""},{"$f":"IF(BY$55=\"\",\"\",VLOOKUP($B56,'DADOS DE ENTRADA'!$B:$E,4,0))","v":""},{"$f":"IF(BZ$55=\"\",\"\",VLOOKUP($B56,'DADOS DE ENTRADA'!$B:$E,4,0))","v":""},{"$f":"IF(CA$55=\"\",\"\",VLOOKUP($B56,'DADOS DE ENTRADA'!$B:$E,4,0))","v":""},{"$f":"IF(CB$55=\"\",\"\",VLOOKUP($B56,'DADOS DE ENTRADA'!$B:$E,4,0))","v":""},{"$f":"IF(CC$55=\"\",\"\",VLOOKUP($B56,'DADOS DE ENTRADA'!$B:$E,4,0))","v":""},{"$f":"IF(CD$55=\"\",\"\",VLOOKUP($B56,'DADOS DE ENTRADA'!$B:$E,4,0))","v":0.12},{"$f":"IF(CE$55=\"\",\"\",VLOOKUP($B56,'DADOS DE ENTRADA'!$B:$E,4,0))","v":""},{"$f":"IF(CF$55=\"\",\"\",VLOOKUP($B56,'DADOS DE ENTRADA'!$B:$E,4,0))","v":""},{"$f":"IF(CG$55=\"\",\"\",VLOOKUP($B56,'DADOS DE ENTRADA'!$B:$E,4,0))","v":""},{"$f":"IF(CH$55=\"\",\"\",VLOOKUP($B56,'DADOS DE ENTRADA'!$B:$E,4,0))","v":0.12},{"$f":"IF(CI$55=\"\",\"\",VLOOKUP($B56,'DADOS DE ENTRADA'!$B:$E,4,0))","v":""},{"$f":"IF(CJ$55=\"\",\"\",VLOOKUP($B56,'DADOS DE ENTRADA'!$B:$E,4,0))","v":""},{"$f":"IF(CK$55=\"\",\"\",VLOOKUP($B56,'DADOS DE ENTRADA'!$B:$E,4,0))","v":""},{"$f":"IF(CL$55=\"\",\"\",VLOOKUP($B56,'DADOS DE ENTRADA'!$B:$E,4,0))","v":""},{"$f":"IF(CM$55=\"\",\"\",VLOOKUP($B56,'DADOS DE ENTRADA'!$B:$E,4,0))","v":0.12}]
[null,"Canal Retangular (Altura Interna):","H=","m",{"$nulls":10},0.45,0.4,0.37,0.5,0.4,0.4,null,null,null,0.56000000000000005,null,null,0.5,0.5,0.5,0.35,0.57999999999999996,null,0.45,null,0.5,0.57999999999999996,0.38,0.55000000000000004,null,null,0.57999999999999996,0.42,0.47,0.51,null,0.48,0.5,null,0.53,0.4,null,null,0.48,0.38,0.44,0.36,null,0.48,0.4,0.4,0.47,0.45,0.45,0.35,{"$nulls":17},0.5,null,null,null,0.54,{"$nulls":4},0.4]
[null,"Canal Retangular (Laje Base Espessura):","eb=","m",{"$f":"IF(E$55=\"\",\"\",VLOOKUP($B58,'DADOS DE ENTRADA'!$B:$E,4,0))","v":""},{"$f":"IF(F$55=\"\",\"\",VLOOKUP($B58,'DADOS DE ENTRADA'!$B:$E,4,0))","v":""},{"$f":"IF(G$55=\"\",\"\",VLOOKUP($B58,'DADOS DE ENTRADA'!$B:$E,4,0))","v":""},{"$f":"IF(H$55=\"\",\"\",VLOOKUP($B58,'DADOS DE ENTRADA'!$B:$E,4,0))","v":""},{"$f":"IF(I$55=\"\",\"\",VLOOKUP($B58,'DADOS DE ENTRADA'!$B:$E,4,0))","v":""},{"$f":"IF(J$55=\"\",\"\",VLOOKUP($B58,'DADOS DE ENTRADA'!$B:$E,4,0))","v":""},{"$f":"IF(K$55=\"\",\"\",VLOOKUP($B58,'DADOS DE ENTRADA'!$B:$E,4,0))","v":""},{"$f":"IF(L$55=\"\",\"\",VLOOKUP($B58,'DADOS DE ENTRADA'!$B:$E,4,0))","v":""},{"$f":"IF(M$55=\"\",\"\",VLOOKUP($B58,'DADOS DE ENTRADA'!$B:$E,4,0))","v":""},{"$f":"IF(N$55=\"\",\"\",VLOOKUP($B58,'DADOS DE ENTRADA'!$B:$E,4,0))","v":""},{"$f":"IF(O$55=\"\",\"\",VLOOKUP($B58,'DADOS DE ENTRADA'!$B:$E,4,0))","v":0.1},{"$f":"IF(P$55=\"\",\"\",VLOOKUP($B58,'DADOS DE ENTRADA'!$B:$E,4,0))","v":0.1},{"$f":"IF(Q$55=\"\",\"\",VLOOKUP($B58,'DADOS DE ENTRADA'!$B:$E,4,0))","v":0.1},{"$f":"IF(R$55=\"\",\"\",VLOOKUP($B58,'DADOS DE ENTRADA'!$B:$E,4,0))","v":0.1},{"$f":"IF(S$55=\"\",\"\",VLOOKUP($B58,'DADOS DE ENTRADA'!$B:$E,4,0))","v":0.1},{"$f":"IF(T$55=\"\",\"\",VLOOKUP($B58,'DADOS DE ENTRADA'!$B:$E,4,0))","v":0.1},{"$f":"IF(U$55=\"\",\"\",VLOOKUP($B58,'DADOS DE ENTRADA'!$B:$E,4,0))","v":""},{"$f":"IF(V$55=\"\",\"\",VLOOKUP($B58,'DADOS DE ENTRADA'!$B:$E,4,0))","v":""},{"$f":"IF(W$55=\"\",\"\",VLOOKUP($B58,'DADOS DE ENTRADA'!$B:$E,4,0))","v":""},{"$f":"IF(X$55=\"\",\"\",VLOOKUP($B58,'DADOS DE ENTRADA'!$B:$E,4,0))","v":0.1},{"$f":"IF(Y$55=\"\",\"\",VLOOKUP($B58,'DADOS DE ENTRADA'!$B:$E,4,0))","v":""},{"$f":"IF(Z$55=\"\",\"\",VLOOKUP($B58,'DADOS DE ENTRADA'!$B:$E,4,0))","v":""},{"$f":"IF(AA$55=\"\",\"\",VLOOKUP($B58,'DADOS DE ENTRADA'!$B:$E,4,0))","v":0.1},{"$f":"IF(AB$55=\"\",\"\",VLOOKUP($B58,'DADOS DE ENTRADA'!$B:$E,4,0))","v":0.1},{"$f":"IF(AC$55=\"\",\"\",VLOOKUP($B58,'DADOS DE ENTRADA'!$B:$E,4,0))","v":0.1},{"$f":"IF(AD$55=\"\",\"\",VLOOKUP($B58,'DADOS DE ENTRADA'!$B:$E,4,0))","v":0.1},{"$f":"IF(AE$55=\"\",\"\",VLOOKUP($B58,'DADOS DE ENTRADA'!$B:$E,4,0))","v":0.1},{"$f":"IF(AF$55=\"\",\"\",VLOOKUP($B58,'DADOS DE ENTRADA'!$B:$E,4,0))","v":""},{"$f":"IF(AG$55=\"\",\"\",VLOOKUP($B58,'DADOS DE ENTRADA'!$B:$E,4,0))","v":0.1},{"$f":"IF(AH$55=\"\",\"\",VLOOKUP($B58,'DADOS DE ENTRADA'!$B:$E,4,0))","v":""},{"$f":"IF(AI$55=\"\",\"\",VLOOKUP($B58,'DADOS DE ENTRADA'!$B:$E,4,0))","v":0.1},{"$f":"IF(AJ$55=\"\",\"\",VLOOKUP($B58,'DADOS DE ENTRADA'!$B:$E,4,0))","v":0.1},{"$f":"IF(AK$55=\"\",\"\",VLOOKUP($B58,'DADOS DE ENTRADA'!$B:$E,4,0))","v":0.1},{"$f":"IF(AL$55=\"\",\"\",VLOOKUP($B58,'DADOS DE ENTRADA'!$B:$E,4,0))","v":0.1},{"$f":"IF(AM$55=\"\",\"\",VLOOKUP($B58,'DADOS DE ENTRADA'!$B:$E,4,0))","v":""},{"$f":"IF(AN$55=\"\",\"\",VLOOKUP($B58,'DADOS DE ENTRADA'!$B:$E,4,0))","v":""},{"$f":"IF(AO$55=\"\",\"\",VLOOKUP($B58,'DADOS DE ENTRADA'!$B:$E,4,0))","v":0.1},{"$f":"IF(AP$55=\"\",\"\",VLOOKUP($B58,'DADOS DE ENTRADA'!$B:$E,4,0))","v":0.1},{"$f":"IF(AQ$55=\"\",\"\",VLOOKUP($B58,'DADOS DE ENTRADA'!$B:$E,4,0))","v":0.1},{"$f":"IF(AR$55=\"\",\"\",VLOOKUP($B58,'DADOS DE ENTRADA'!$B:$E,4,0))","v":0.1},{"$f":"IF(AS$55=\"\",\"\",VLOOKUP($B58,'DADOS DE ENTRADA'!$B:$E,4,0))","v":""},{"$f":"IF(AT$55=\"\",\"\",VLOOKUP($B58,'DADOS DE ENTRADA'!$B:$E,4,0))","v":0.1},{"$f":"IF(AU$55=\"\",\"\",VLOOKUP($B58,'DADOS DE ENTRADA'!$B:$E,4,0))","v":0.1},{"$f":"IF(AV$55=\"\",\"\",VLOOKUP($B58,'DADOS DE ENTRADA'!$B:$E,4,0))","v":""},{"$f":"IF(AW$55=\"\",\"\",VLOOKUP($B58,'DADOS DE ENTRADA'!$B:$E,4,0))","v":0.1},{"$f":"IF(AX$55=\"\",\"\",VLOOKUP($B58,'DADOS DE ENTRADA'!$B:$E,4,0))","v":0.1},{"$f":"IF(AY$55=\"\",\"\",VLOOKUP($B58,'DADOS DE ENTRADA'!$B:$E,4,0))","v":""},{"$f":"IF(AZ$55=\"\",\"\",VLOOKUP($B58,'DADOS DE ENTRADA'!$B:$E,4,0))","v":""},{"$f":"IF(BA$55=\"\",\"\",VLOOKUP($B58,'DADOS DE ENTRADA'!$B:$E,4,0))","v":0.1},{"$f":"IF(BB$55=\"\",\"\",VLOOKUP($B58,'DADOS DE ENTRADA'!$B:$E,4,0))","v":0.1},{"$f":"IF(BC$55=\"\",\"\",VLOOKUP($B58,'DADOS DE ENTRADA'!$B:$E,4,0))","v":0.1},{"$f":"IF(BD$55=\"\",\"\",VLOOKUP($B58,'DADOS DE ENTRADA'!$B:$E,4,0))","v":0.1},{"$f":"IF(BE$55=\"\",\"\",VLOOKUP($B58,'DADOS DE ENTRADA'!$B:$E,4,0))","v":""},{"$f":"IF(BF$55=\"\",\"\",VLOOKUP($B58,'DADOS DE ENTRADA'!$B:$E,4,0))","v":0.1},{"$f":"IF(BG$55=\"\",\"\",VLOOKUP($B58,'DADOS DE ENTRADA'!$B:$E,4,0))","v":0.1},{"$f":"IF(BH$55=\"\",\"\",VLOOKUP($B58,'DADOS DE ENTRADA'!$B:$E,4,0))","v":0.1},{"$f":"IF(BI$55=\"\",\"\",VLOOKUP($B58,'DADOS DE ENTRADA'!$B:$E,4,0))","v":0.1},{"$f":"IF(BJ$55=\"\",\"\",VLOOKUP($B58,'DADOS DE ENTRADA'!$B:$E,4,0))","v":0.1},{"$f":"IF(BK$55=\"\",\"\",VLOOKUP($B58,'DADOS DE ENTRADA'!$B:$E,4,0))","v":0.1},{"$f":"IF(BL$55=\"\",\"\",VLOOKUP($B58,'DADOS DE ENTRADA'!$B:$E,4,0))","v":0.1},{"$f":"IF(BM$55=\"\",\"\",VLOOKUP($B58,'DADOS DE ENTRADA'!$B:$E,4,0))","v":""},{"$f":"IF(BN$55=\"\",\"\",VLOOKUP($B58,'DADOS DE ENTRADA'!$B:$E,4,0))","v":""},{"$f":"IF(BO$55=\"\",\"\",VLOOKUP($B58,'DADOS DE ENTRADA'!$B:$E,4,0))","v":""},{"$f":"IF(BP$55=\"\",\"\",VLOOKUP($B58,'DADOS DE ENTRADA'!$B:$E,4,0))","v":""},{"$f":"IF(BQ$55=\"\",\"\",VLOOKUP($B58,'DADOS DE ENTRADA'!$B:$E,4,0))","v":""},{"$f":"IF(BR$55=\"\",\"\",VLOOKUP($B58,'DADOS DE ENTRADA'!$B:$E,4,0))","v":""},{"$f":"IF(BS$55=\"\",\"\",VLOOKUP($B58,'DADOS DE ENTRADA'!$B:$E,4,0))","v":""},{"$f":"IF(BT$55=\"\",\"\",VLOOKUP($B58,'DADOS DE ENTRADA'!$B:$E,4,0))","v":""},{"$f":"IF(BU$55=\"\",\"\",VLOOKUP($B58,'DADOS DE ENTRADA'!$B:$E,4,0))","v":""},{"$f":"IF(BV$55=\"\",\"\",VLOOKUP($B58,'DADOS DE ENTRADA'!$B:$E,4,0))","v":""},{"$f":"IF(BW$55=\"\",\"\",VLOOKUP($B58,'DADOS DE ENTRADA'!$B:$E,4,0))","v":""},{"$f":"IF(BX$55=\"\",\"\",VLOOKUP($B58,'DADOS DE ENTRADA'!$B:$E,4,0))","v":""},{"$f":"IF(BY$55=\"\",\"\",VLOOKUP($B58,'DADOS DE ENTRADA'!$B:$E,4,0))","v":""},{"$f":"IF(BZ$55=\"\",\"\",VLOOKUP($B58,'DADOS DE ENTRADA'!$B:$E,4,0))","v":""},{"$f":"IF(CA$55=\"\",\"\",VLOOKUP($B58,'DADOS DE ENTRADA'!$B:$E,4,0))","v":""},{"$f":"IF(CB$55=\"\",\"\",VLOOKUP($B58,'DADOS DE ENTRADA'!$B:$E,4,0))","v":""},{"$f":"IF(CC$55=\"\",\"\",VLOOKUP($B58,'DADOS DE ENTRADA'!$B:$E,4,0))","v":""},{"$f":"IF(CD$55=\"\",\"\",VLOOKUP($B58,'DADOS DE ENTRADA'!$B:$E,4,0))","v":0.1},{"$f":"IF(CE$55=\"\",\"\",VLOOKUP($B58,'DADOS DE ENTRADA'!$B:$E,4,0))","v":""},{"$f":"IF(CF$55=\"\",\"\",VLOOKUP($B58,'DADOS DE ENTRADA'!$B:$E,4,0))","v":""},{"$f":"IF(CG$55=\"\",\"\",VLOOKUP($B58,'DADOS DE ENTRADA'!$B:$E,4,0))","v":""},{"$f":"IF(CH$55=\"\",\"\",VLOOKUP($B58,'DADOS DE ENTRADA'!$B:$E,4,0))","v":0.1},{"$f":"IF(CI$55=\"\",\"\",VLOOKUP($B58,'DADOS DE ENTRADA'!$B:$E,4,0))","v":""},{"$f":"IF(CJ$55=\"\",\"\",VLOOKUP($B58,'DADOS DE ENTRADA'!$B:$E,4,0))","v":""},{"$f":"IF(CK$55=\"\",\"\",VLOOKUP($B58,'DADOS DE ENTRADA'!$B:$E,4,0))","v":""},{"$f":"IF(CL$55=\"\",\"\",VLOOKUP($B58,'DADOS DE ENTRADA'!$B:$E,4,0))","v":""},{"$f":"IF(CM$55=\"\",\"\",VLOOKUP($B58,'DADOS DE ENTRADA'!$B:$E,4,0))","v":0.1}]
[null,"Canal Retangular (Laje Base Largura):","Le=","m",{"$f":"IF(E55=\"\",\"\",E53+0.05+0.05)","v":""},{"$f":"IF(F55=\"\",\"\",F53+0.05+0.05)","v":""},"","","","","","","","",1.0900000000000001,0.64000000000000012,0.64000000000000012,0.64000000000000012,0.59000000000000008,0.59000000000000008,"","","",0.89000000000000012,"","",0.84000000000000008,0.84000000000000008,0.69000000000000006,0.7400000000000001,0.64000000000000012,"",0.69000000000000006,"",0.94000000000000006,0.89000000000000012,0.64000000000000012,0.89000000000000012,"","",0.84000000000000008,0.7400000000000001,0.79000000000000015,0.84000000000000008,"",0.7400000000000001,0.9900000000000001,"",0.84000000000000008,0.7400000000000001,"","",0.9900000000000001,0.64000000000000012,0.79000000000000015,0.7400000000000001,"",0.7400000000000001,0.7400000000000001,0.7400000000000001,0.64000000000000012,0.7400000000000001,0.64000000000000012,0.69000000000000006,"","","","","",{"$f":"IF(BR55=\"\",\"\",BR53+0.05+0.05)","v":""},"","","","","","","","","","","",0.69000000000000006,"","","",0.69000000000000006,"","","","",0.59000000000000008]
[null,"Canal retangular (Laje Base Espessura):","h=","m",{"$f":"IF(E$55=\"\",\"\",VLOOKUP($B60,'DADOS DE ENTRADA'!$B:$E,4,0))","v":""},{"$f":"IF(F$55=\"\",\"\",VLOOKUP($B60,'DADOS DE ENTRADA'!$B:$E,4,0))","v":""},{"$f":"IF(G$55=\"\",\"\",VLOOKUP($B60,'DADOS DE ENTRADA'!$B:$E,4,0))","v":""},{"$f":"IF(H$55=\"\",\"\",VLOOKUP($B60,'DADOS DE ENTRADA'!$B:$E,4,0))","v":""},{"$f":"IF(I$55=\"\",\"\",VLOOKUP($B60,'DADOS DE ENTRADA'!$B:$E,4,0))","v":""},{"$f":"IF(J$55=\"\",\"\",VLOOKUP($B60,'DADOS DE ENTRADA'!$B:$E,4,0))","v":""},{"$f":"IF(K$55=\"\",\"\",VLOOKUP($B60,'DADOS DE ENTRADA'!$B:$E,4,0))","v":""},{"$f":"IF(L$55=\"\",\"\",VLOOKUP($B60,'DADOS DE ENTRADA'!$B:$E,4,0))","v":""},{"$f":"IF(M$55=\"\",\"\",VLOOKUP($B60,'DADOS DE ENTRADA'!$B:$E,4,0))","v":""},{"$f":"IF(N$55=\"\",\"\",VLOOKUP($B60,'DADOS DE ENTRADA'!$B:$E,4,0))","v":""},{"$f":"IF(O$55=\"\",\"\",VLOOKUP($B60,'DADOS DE ENTRADA'!$B:$E,4,0))","v":0.1},{"$f":"IF(P$55=\"\",\"\",VLOOKUP($B60,'DADOS DE ENTRADA'!$B:$E,4,0))","v":0.1},{"$f":"IF(Q$55=\"\",\"\",VLOOKUP($B60,'DADOS DE ENTRADA'!$B:$E,4,0))","v":0.1},{"$f":"IF(R$55=\"\",\"\",VLOOKUP($B60,'DADOS DE ENTRADA'!$B:$E,4,0))","v":0.1},{"$f":"IF(S$55=\"\",\"\",VLOOKUP($B60,'DADOS DE ENTRADA'!$B:$E,4,0))","v":0.1},{"$f":"IF(T$55=\"\",\"\",VLOOKUP($B60,'DADOS DE ENTRADA'!$B:$E,4,0))","v":0.1},{"$f":"IF(U$55=\"\",\"\",VLOOKUP($B60,'DADOS DE ENTRADA'!$B:$E,4,0))","v":""},{"$f":"IF(V$55=\"\",\"\",VLOOKUP($B60,'DADOS DE ENTRADA'!$B:$E,4,0))","v":""},{"$f":"IF(W$55=\"\",\"\",VLOOKUP($B60,'DADOS DE ENTRADA'!$B:$E,4,0))","v":""},{"$f":"IF(X$55=\"\",\"\",VLOOKUP($B60,'DADOS DE ENTRADA'!$B:$E,4,0))","v":0.1},{"$f":"IF(Y$55=\"\",\"\",VLOOKUP($B60,'DADOS DE ENTRADA'!$B:$E,4,0))","v":""},{"$f":"IF(Z$55=\"\",\"\",VLOOKUP($B60,'DADOS DE ENTRADA'!$B:$E,4,0))","v":""},{"$f":"IF(AA$55=\"\",\"\",VLOOKUP($B60,'DADOS DE ENTRADA'!$B:$E,4,0))","v":0.1},{"$f":"IF(AB$55=\"\",\"\",VLOOKUP($B60,'DADOS DE ENTRADA'!$B:$E,4,0))","v":0.1},{"$f":"IF(AC$55=\"\",\"\",VLOOKUP($B60,'DADOS DE ENTRADA'!$B:$E,4,0))","v":0.1},{"$f":"IF(AD$55=\"\",\"\",VLOOKUP($B60,'DADOS DE ENTRADA'!$B:$E,4,0))","v":0.1},{"$f":"IF(AE$55=\"\",\"\",VLOOKUP($B60,'DADOS DE ENTRADA'!$B:$E,4,0))","v":0.1},{"$f":"IF(AF$55=\"\",\"\",VLOOKUP($B60,'DADOS DE ENTRADA'!$B:$E,4,0))","v":""},{"$f":"IF(AG$55=\"\",\"\",VLOOKUP($B60,'DADOS DE ENTRADA'!$B:$E,4,0))","v":0.1},{"$f":"IF(AH$55=\"\",\"\",VLOOKUP($B60,'DADOS DE ENTRADA'!$B:$E,4,0))","v":""},{"$f":"IF(AI$55=\"\",\"\",VLOOKUP($B60,'DADOS DE ENTRADA'!$B:$E,4,0))","v":0.1},{"$f":"IF(AJ$55=\"\",\"\",VLOOKUP($B60,'DADOS DE ENTRADA'!$B:$E,4,0))","v":0.1},{"$f":"IF(AK$55=\"\",\"\",VLOOKUP($B60,'DADOS DE ENTRADA'!$B:$E,4,0))","v":0.1},{"$f":"IF(AL$55=\"\",\"\",VLOOKUP($B60,'DADOS DE ENTRADA'!$B:$E,4,0))","v":0.1},{"$f":"IF(AM$55=\"\",\"\",VLOOKUP($B60,'DADOS DE ENTRADA'!$B:$E,4,0))","v":""},{"$f":"IF(AN$55=\"\",\"\",VLOOKUP($B60,'DADOS DE ENTRADA'!$B:$E,4,0))","v":""},{"$f":"IF(AO$55=\"\",\"\",VLOOKUP($B60,'DADOS DE ENTRADA'!$B:$E,4,0))","v":0.1},{"$f":"IF(AP$55=\"\",\"\",VLOOKUP($B60,'DADOS DE ENTRADA'!$B:$E,4,0))","v":0.1},{"$f":"IF(AQ$55=\"\",\"\",VLOOKUP($B60,'DADOS DE ENTRADA'!$B:$E,4,0))","v":0.1},{"$f":"IF(AR$55=\"\",\"\",VLOOKUP($B60,'DADOS DE ENTRADA'!$B:$E,4,0))","v":0.1},{"$f":"IF(AS$55=\"\",\"\",VLOOKUP($B60,'DADOS DE ENTRADA'!$B:$E,4,0))","v":""},{"$f":"IF(AT$55=\"\",\"\",VLOOKUP($B60,'DADOS DE ENTRADA'!$B:$E,4,0))","v":0.1},{"$f":"IF(AU$55=\"\",\"\",VLOOKUP($B60,'DADOS DE ENTRADA'!$B:$E,4,0))","v":0.1},{"$f":"IF(AV$55=\"\",\"\",VLOOKUP($B60,'DADOS DE ENTRADA'!$B:$E,4,0))","v":""},{"$f":"IF(AW$55=\"\",\"\",VLOOKUP($B60,'DADOS DE ENTRADA'!$B:$E,4,0))","v":0.1},{"$f":"IF(AX$55=\"\",\"\",VLOOKUP($B60,'DADOS DE ENTRADA'!$B:$E,4,0))","v":0.1},{"$f":"IF(AY$55=\"\",\"\",VLOOKUP($B60,'DADOS DE ENTRADA'!$B:$E,4,0))","v":""},{"$f":"IF(AZ$55=\"\",\"\",VLOOKUP($B60,'DADOS DE ENTRADA'!$B:$E,4,0))","v":""},{"$f":"IF(BA$55=\"\",\"\",VLOOKUP($B60,'DADOS DE ENTRADA'!$B:$E,4,0))","v":0.1},{"$f":"IF(BB$55=\"\",\"\",VLOOKUP($B60,'DADOS DE ENTRADA'!$B:$E,4,0))","v":0.1},{"$f":"IF(BC$55=\"\",\"\",VLOOKUP($B60,'DADOS DE ENTRADA'!$B:$E,4,0))","v":0.1},{"$f":"IF(BD$55=\"\",\"\",VLOOKUP($B60,'DADOS DE ENTRADA'!$B:$E,4,0))","v":0.1},{"$f":"IF(BE$55=\"\",\"\",VLOOKUP($B60,'DADOS DE ENTRADA'!$B:$E,4,0))","v":""},{"$f":"IF(BF$55=\"\",\"\",VLOOKUP($B60,'DADOS DE ENTRADA'!$B:$E,4,0))","v":0.1},{"$f":"IF(BG$55=\"\",\"\",VLOOKUP($B60,'DADOS DE ENTRADA'!$B:$E,4,0))","v":0.1},{"$f":"IF(BH$55=\"\",\"\",VLOOKUP($B60,'DADOS DE ENTRADA'!$B:$E,4,0))","v":0.1},{"$f":"IF(BI$55=\"\",\"\",VLOOKUP($B60,'DADOS DE ENTRADA'!$B:$E,4,0))","v":0.1},{"$f":"IF(BJ$55=\"\",\"\",VLOOKUP($B60,'DADOS DE ENTRADA'!$B:$E,4,0))","v":0.1},{"$f":"IF(BK$55=\"\",\"\",VLOOKUP($B60,'DADOS DE ENTRADA'!$B:$E,4,0))","v":0.1},{"$f":"IF(BL$55=\"\",\"\",VLOOKUP($B60,'DADOS DE ENTRADA'!$B:$E,4,0))","v":0.1},{"$f":"IF(BM$55=\"\",\"\",VLOOKUP($B60,'DADOS DE ENTRADA'!$B:$E,4,0))","v":""},{"$f":"IF(BN$55=\"\",\"\",VLOOKUP($B60,'DADOS DE ENTRADA'!$B:$E,4,0))","v":""},{"$f":"IF(BO$55=\"\",\"\",VLOOKUP($B60,'DADOS DE ENTRADA'!$B:$E,4,0))","v":""},{"$f":"IF(BP$55=\"\",\"\",VLOOKUP($B60,'DADOS DE ENTRADA'!$B:$E,4,0))","v":""},{"$f":"IF(BQ$55=\"\",\"\",VLOOKUP($B60,'DADOS DE ENTRADA'!$B:$E,4,0))","v":""},{"$f":"IF(BR$55=\"\",\"\",VLOOKUP($B60,'DADOS DE ENTRADA'!$B:$E,4,0))","v":""},{"$f":"IF(BS$55=\"\",\"\",VLOOKUP($B60,'DADOS DE ENTRADA'!$B:$E,4,0))","v":""},{"$f":"IF(BT$55=\"\",\"\",VLOOKUP($B60,'DADOS DE ENTRADA'!$B:$E,4,0))","v":""},{"$f":"IF(BU$55=\"\",\"\",VLOOKUP($B60,'DADOS DE ENTRADA'!$B:$E,4,0))","v":""},{"$f":"IF(BV$55=\"\",\"\",VLOOKUP($B60,'DADOS DE ENTRADA'!$B:$E,4,0))","v":""},{"$f":"IF(BW$55=\"\",\"\",VLOOKUP($B60,'DADOS DE ENTRADA'!$B:$E,4,0))","v":""},{"$f":"IF(BX$55=\"\",\"\",VLOOKUP($B60,'DADOS DE ENTRADA'!$B:$E,4,0))","v":""},{"$f":"IF(BY$55=\"\",\"\",VLOOKUP($B60,'DADOS DE ENTRADA'!$B:$E,4,0))","v":""},{"$f":"IF(BZ$55=\"\",\"\",VLOOKUP($B60,'DADOS DE ENTRADA'!$B:$E,4,0))","v":""},{"$f":"IF(CA$55=\"\",\"\",VLOOKUP($B60,'DADOS DE ENTRADA'!$B:$E,4,0))","v":""},{"$f":"IF(CB$55=\"\",\"\",VLOOKUP($B60,'DADOS DE ENTRADA'!$B:$E,4,0))","v":""},{"$f":"IF(CC$55=\"\",\"\",VLOOKUP($B60,'DADOS DE ENTRADA'!$B:$E,4,0))","v":""},{"$f":"IF(CD$55=\"\",\"\",VLOOKUP($B60,'DADOS DE ENTRADA'!$B:$E,4,0))","v":0.1},{"$f":"IF(CE$55=\"\",\"\",VLOOKUP($B60,'DADOS DE ENTRADA'!$B:$E,4,0))","v":""},{"$f":"IF(CF$55=\"\",\"\",VLOOKUP($B60,'DADOS DE ENTRADA'!$B:$E,4,0))","v":""},{"$f":"IF(CG$55=\"\",\"\",VLOOKUP($B60,'DADOS DE ENTRADA'!$B:$E,4,0))","v":""},{"$f":"IF(CH$55=\"\",\"\",VLOOKUP($B60,'DADOS DE ENTRADA'!$B:$E,4,0))","v":0.1},{"$f":"IF(CI$55=\"\",\"\",VLOOKUP($B60,'DADOS DE ENTRADA'!$B:$E,4,0))","v":""},{"$f":"IF(CJ$55=\"\",\"\",VLOOKUP($B60,'DADOS DE ENTRADA'!$B:$E,4,0))","v":""},{"$f":"IF(CK$55=\"\",\"\",VLOOKUP($B60,'DADOS DE ENTRADA'!$B:$E,4,0))","v":""},{"$f":"IF(CL$55=\"\",\"\",VLOOKUP($B60,'DADOS DE ENTRADA'!$B:$E,4,0))","v":""},{"$f":"IF(CM$55=\"\",\"\",VLOOKUP($B60,'DADOS DE ENTRADA'!$B:$E,4,0))","v":0.1}]
[null,"Canal Retangular (Viga Horizontal Superior Largura):","vs=","m",{"$f":"IF(E$55=\"\",\"\",VLOOKUP($B61,'DADOS DE ENTRADA'!$B:$E,4,0))","v":""},{"$f":"IF(F$55=\"\",\"\",VLOOKUP($B61,'DADOS DE ENTRADA'!$B:$E,4,0))","v":""},{"$f":"IF(G$55=\"\",\"\",VLOOKUP($B61,'DADOS DE ENTRADA'!$B:$E,4,0))","v":""},{"$f":"IF(H$55=\"\",\"\",VLOOKUP($B61,'DADOS DE ENTRADA'!$B:$E,4,0))","v":""},{"$f":"IF(I$55=\"\",\"\",VLOOKUP($B61,'DADOS DE ENTRADA'!$B:$E,4,0))","v":""},{"$f":"IF(J$55=\"\",\"\",VLOOKUP($B61,'DADOS DE ENTRADA'!$B:$E,4,0))","v":""},{"$f":"IF(K$55=\"\",\"\",VLOOKUP($B61,'DADOS DE ENTRADA'!$B:$E,4,0))","v":""},{"$f":"IF(L$55=\"\",\"\",VLOOKUP($B61,'DADOS DE ENTRADA'!$B:$E,4,0))","v":""},{"$f":"IF(M$55=\"\",\"\",VLOOKUP($B61,'DADOS DE ENTRADA'!$B:$E,4,0))","v":""},{"$f":"IF(N$55=\"\",\"\",VLOOKUP($B61,'DADOS DE ENTRADA'!$B:$E,4,0))","v":""},{"$f":"IF(O$55=\"\",\"\",VLOOKUP($B61,'DADOS DE ENTRADA'!$B:$E,4,0))","v":0.12},{"$f":"IF(P$55=\"\",\"\",VLOOKUP($B61,'DADOS DE ENTRADA'!$B:$E,4,0))","v":0.12},{"$f":"IF(Q$55=\"\",\"\",VLOOKUP($B61,'DADOS DE ENTRADA'!$B:$E,4,0))","v":0.12},{"$f":"IF(R$55=\"\",\"\",VLOOKUP($B61,'DADOS DE ENTRADA'!$B:$E,4,0))","v":0.12},{"$f":"IF(S$55=\"\",\"\",VLOOKUP($B61,'DADOS DE ENTRADA'!$B:$E,4,0))","v":0.12},{"$f":"IF(T$55=\"\",\"\",VLOOKUP($B61,'DADOS DE ENTRADA'!$B:$E,4,0))","v":0.12},{"$f":"IF(U$55=\"\",\"\",VLOOKUP($B61,'DADOS DE ENTRADA'!$B:$E,4,0))","v":""},{"$f":"IF(V$55=\"\",\"\",VLOOKUP($B61,'DADOS DE ENTRADA'!$B:$E,4,0))","v":""},{"$f":"IF(W$55=\"\",\"\",VLOOKUP($B61,'DADOS DE ENTRADA'!$B:$E,4,0))","v":""},{"$f":"IF(X$55=\"\",\"\",VLOOKUP($B61,'DADOS DE ENTRADA'!$B:$E,4,0))","v":0.12},{"$f":"IF(Y$55=\"\",\"\",VLOOKUP($B61,'DADOS DE ENTRADA'!$B:$E,4,0))","v":""},{"$f":"IF(Z$55=\"\",\"\",VLOOKUP($B61,'DADOS DE ENTRADA'!$B:$E,4,0))","v":""},{"$f":"IF(AA$55=\"\",\"\",VLOOKUP($B61,'DADOS DE ENTRADA'!$B:$E,4,0))","v":0.12},{"$f":"IF(AB$55=\"\",\"\",VLOOKUP($B61,'DADOS DE ENTRADA'!$B:$E,4,0))","v":0.12},{"$f":"IF(AC$55=\"\",\"\",VLOOKUP($B61,'DADOS DE ENTRADA'!$B:$E,4,0))","v":0.12},{"$f":"IF(AD$55=\"\",\"\",VLOOKUP($B61,'DADOS DE ENTRADA'!$B:$E,4,0))","v":0.12},{"$f":"IF(AE$55=\"\",\"\",VLOOKUP($B61,'DADOS DE ENTRADA'!$B:$E,4,0))","v":0.12},{"$f":"IF(AF$55=\"\",\"\",VLOOKUP($B61,'DADOS DE ENTRADA'!$B:$E,4,0))","v":""},{"$f":"IF(AG$55=\"\",\"\",VLOOKUP($B61,'DADOS DE ENTRADA'!$B:$E,4,0))","v":0.12},{"$f":"IF(AH$55=\"\",\"\",VLOOKUP($B61,'DADOS DE ENTRADA'!$B:$E,4,0))","v":""},{"$f":"IF(AI$55=\"\",\"\",VLOOKUP($B61,'DADOS DE ENTRADA'!$B:$E,4,0))","v":0.12},{"$f":"IF(AJ$55=\"\",\"\",VLOOKUP($B61,'DADOS DE ENTRADA'!$B:$E,4,0))","v":0.12},{"$f":"IF(AK$55=\"\",\"\",VLOOKUP($B61,'DADOS DE ENTRADA'!$B:$E,4,0))","v":0.12},{"$f":"IF(AL$55=\"\",\"\",VLOOKUP($B61,'DADOS DE ENTRADA'!$B:$E,4,0))","v":0.12},{"$f":"IF(AM$55=\"\",\"\",VLOOKUP($B61,'DADOS DE ENTRADA'!$B:$E,4,0))","v":""},{"$f":"IF(AN$55=\"\",\"\",VLOOKUP($B61,'DADOS DE ENTRADA'!$B:$E,4,0))","v":""},{"$f":"IF(AO$55=\"\",\"\",VLOOKUP($B61,'DADOS DE ENTRADA'!$B:$E,4,0))","v":0.12},{"$f":"IF(AP$55=\"\",\"\",VLOOKUP($B61,'DADOS DE ENTRADA'!$B:$E,4,0))","v":0.12},{"$f":"IF(AQ$55=\"\",\"\",VLOOKUP($B61,'DADOS DE ENTRADA'!$B:$E,4,0))","v":0.12},{"$f":"IF(AR$55=\"\",\"\",VLOOKUP($B61,'DADOS DE ENTRADA'!$B:$E,4,0))","v":0.12},{"$f":"IF(AS$55=\"\",\"\",VLOOKUP($B61,'DADOS DE ENTRADA'!$B:$E,4,0))","v":""},{"$f":"IF(AT$55=\"\",\"\",VLOOKUP($B61,'DADOS DE ENTRADA'!$B:$E,4,0))","v":0.12},{"$f":"IF(AU$55=\"\",\"\",VLOOKUP($B61,'DADOS DE ENTRADA'!$B:$E,4,0))","v":0.12},{"$f":"IF(AV$55=\"\",\"\",VLOOKUP($B61,'DADOS DE ENTRADA'!$B:$E,4,0))","v":""},{"$f":"IF(AW$55=\"\",\"\",VLOOKUP($B61,'DADOS DE ENTRADA'!$B:$E,4,0))","v":0.12},{"$f":"IF(AX$55=\"\",\"\",VLOOKUP($B61,'DADOS DE ENTRADA'!$B:$E,4,0))","v":0.12},{"$f":"IF(AY$55=\"\",\"\",VLOOKUP($B61,'DADOS DE ENTRADA'!$B:$E,4,0))","v":""},{"$f":"IF(AZ$55=\"\",\"\",VLOOKUP($B61,'DADOS DE ENTRADA'!$B:$E,4,0))","v":""},{"$f":"IF(BA$55=\"\",\"\",VLOOKUP($B61,'DADOS DE ENTRADA'!$B:$E,4,0))","v":0.12},{"$f":"IF(BB$55=\"\",\"\",VLOOKUP($B61,'DADOS DE ENTRADA'!$B:$E,4,0))","v":0.12},{"$f":"IF(BC$55=\"\",\"\",VLOOKUP($B61,'DADOS DE ENTRADA'!$B:$E,4,0))","v":0.12},{"$f":"IF(BD$55=\"\",\"\",VLOOKUP($B61,'DADOS DE ENTRADA'!$B:$E,4,0))","v":0.12},{"$f":"IF(BE$55=\"\",\"\",VLOOKUP($B61,'DADOS DE ENTRADA'!$B:$E,4,0))","v":""},{"$f":"IF(BF$55=\"\",\"\",VLOOKUP($B61,'DADOS DE ENTRADA'!$B:$E,4,0))","v":0.12},{"$f":"IF(BG$55=\"\",\"\",VLOOKUP($B61,'DADOS DE ENTRADA'!$B:$E,4,0))","v":0.12},{"$f":"IF(BH$55=\"\",\"\",VLOOKUP($B61,'DADOS DE ENTRADA'!$B:$E,4,0))","v":0.12},{"$f":"IF(BI$55=\"\",\"\",VLOOKUP($B61,'DADOS DE ENTRADA'!$B:$E,4,0))","v":0.12},{"$f":"IF(BJ$55=\"\",\"\",VLOOKUP($B61,'DADOS DE ENTRADA'!$B:$E,4,0))","v":0.12},{"$f":"IF(BK$55=\"\",\"\",VLOOKUP($B61,'DADOS DE ENTRADA'!$B:$E,4,0))","v":0.12},{"$f":"IF(BL$55=\"\",\"\",VLOOKUP($B61,'DADOS DE ENTRADA'!$B:$E,4,0))","v":0.12},{"$f":"IF(BM$55=\"\",\"\",VLOOKUP($B61,'DADOS DE ENTRADA'!$B:$E,4,0))","v":""},{"$f":"IF(BN$55=\"\",\"\",VLOOKUP($B61,'DADOS DE ENTRADA'!$B:$E,4,0))","v":""},{"$f":"IF(BO$55=\"\",\"\",VLOOKUP($B61,'DADOS DE ENTRADA'!$B:$E,4,0))","v":""},{"$f":"IF(BP$55=\"\",\"\",VLOOKUP($B61,'DADOS DE ENTRADA'!$B:$E,4,0))","v":""},{"$f":"IF(BQ$55=\"\",\"\",VLOOKUP($B61,'DADOS DE ENTRADA'!$B:$E,4,0))","v":""},{"$f":"IF(BR$55=\"\",\"\",VLOOKUP($B61,'DADOS DE ENTRADA'!$B:$E,4,0))","v":""},{"$f":"IF(BS$55=\"\",\"\",VLOOKUP($B61,'DADOS DE ENTRADA'!$B:$E,4,0))","v":""},{"$f":"IF(BT$55=\"\",\"\",VLOOKUP($B61,'DADOS DE ENTRADA'!$B:$E,4,0))","v":""},{"$f":"IF(BU$55=\"\",\"\",VLOOKUP($B61,'DADOS DE ENTRADA'!$B:$E,4,0))","v":""},{"$f":"IF(BV$55=\"\",\"\",VLOOKUP($B61,'DADOS DE ENTRADA'!$B:$E,4,0))","v":""},{"$f":"IF(BW$55=\"\",\"\",VLOOKUP($B61,'DADOS DE ENTRADA'!$B:$E,4,0))","v":""},{"$f":"IF(BX$55=\"\",\"\",VLOOKUP($B61,'DADOS DE ENTRADA'!$B:$E,4,0))","v":""},{"$f":"IF(BY$55=\"\",\"\",VLOOKUP($B61,'DADOS DE ENTRADA'!$B:$E,4,0))","v":""},{"$f":"IF(BZ$55=\"\",\"\",VLOOKUP($B61,'DADOS DE ENTRADA'!$B:$E,4,0))","v":""},{"$f":"IF(CA$55=\"\",\"\",VLOOKUP($B61,'DADOS DE ENTRADA'!$B:$E,4,0))","v":""},{"$f":"IF(CB$55=\"\",\"\",VLOOKUP($B61,'DADOS DE ENTRADA'!$B:$E,4,0))","v":""},{"$f":"IF(CC$55=\"\",\"\",VLOOKUP($B61,'DADOS DE ENTRADA'!$B:$E,4,0))","v":""},{"$f":"IF(CD$55=\"\",\"\",VLOOKUP($B61,'DADOS DE ENTRADA'!$B:$E,4,0))","v":0.12},{"$f":"IF(CE$55=\"\",\"\",VLOOKUP($B61,'DADOS DE ENTRADA'!$B:$E,4,0))","v":""},{"$f":"IF(CF$55=\"\",\"\",VLOOKUP($B61,'DADOS DE ENTRADA'!$B:$E,4,0))","v":""},{"$f":"IF(CG$55=\"\",\"\",VLOOKUP($B61,'DADOS DE ENTRADA'!$B:$E,4,0))","v":""},{"$f":"IF(CH$55=\"\",\"\",VLOOKUP($B61,'DADOS DE ENTRADA'!$B:$E,4,0))","v":0.12},{"$f":"IF(CI$55=\"\",\"\",VLOOKUP($B61,'DADOS DE ENTRADA'!$B:$E,4,0))","v":""},{"$f":"IF(CJ$55=\"\",\"\",VLOOKUP($B61,'DADOS DE ENTRADA'!$B:$E,4,0))","v":""},{"$f":"IF(CK$55=\"\",\"\",VLOOKUP($B61,'DADOS DE ENTRADA'!$B:$E,4,0))","v":""},{"$f":"IF(CL$55=\"\",\"\",VLOOKUP($B61,'DADOS DE ENTRADA'!$B:$E,4,0))","v":""},{"$f":"IF(CM$55=\"\",\"\",VLOOKUP($B61,'DADOS DE ENTRADA'!$B:$E,4,0))","v":0.12}]
[null,"Canal retangular (Viga Horizontal Superior Altura):","hs=","m",{"$f":"IF(E$55=\"\",\"\",VLOOKUP($B62,'DADOS DE ENTRADA'!$B:$E,4,0))","v":""},{"$f":"IF(F$55=\"\",\"\",VLOOKUP($B62,'DADOS DE ENTRADA'!$B:$E,4,0))","v":""},{"$f":"IF(G$55=\"\",\"\",VLOOKUP($B62,'DADOS DE ENTRADA'!$B:$E,4,0))","v":""},{"$f":"IF(H$55=\"\",\"\",VLOOKUP($B62,'DADOS DE ENTRADA'!$B:$E,4,0))","v":""},{"$f":"IF(I$55=\"\",\"\",VLOOKUP($B62,'DADOS DE ENTRADA'!$B:$E,4,0))","v":""},{"$f":"IF(J$55=\"\",\"\",VLOOKUP($B62,'DADOS DE ENTRADA'!$B:$E,4,0))","v":""},{"$f":"IF(K$55=\"\",\"\",VLOOKUP($B62,'DADOS DE ENTRADA'!$B:$E,4,0))","v":""},{"$f":"IF(L$55=\"\",\"\",VLOOKUP($B62,'DADOS DE ENTRADA'!$B:$E,4,0))","v":""},{"$f":"IF(M$55=\"\",\"\",VLOOKUP($B62,'DADOS DE ENTRADA'!$B:$E,4,0))","v":""},{"$f":"IF(N$55=\"\",\"\",VLOOKUP($B62,'DADOS DE ENTRADA'!$B:$E,4,0))","v":""},{"$f":"IF(O$55=\"\",\"\",VLOOKUP($B62,'DADOS DE ENTRADA'!$B:$E,4,0))","v":0.12},{"$f":"IF(P$55=\"\",\"\",VLOOKUP($B62,'DADOS DE ENTRADA'!$B:$E,4,0))","v":0.12},{"$f":"IF(Q$55=\"\",\"\",VLOOKUP($B62,'DADOS DE ENTRADA'!$B:$E,4,0))","v":0.12},{"$f":"IF(R$55=\"\",\"\",VLOOKUP($B62,'DADOS DE ENTRADA'!$B:$E,4,0))","v":0.12},{"$f":"IF(S$55=\"\",\"\",VLOOKUP($B62,'DADOS DE ENTRADA'!$B:$E,4,0))","v":0.12},{"$f":"IF(T$55=\"\",\"\",VLOOKUP($B62,'DADOS DE ENTRADA'!$B:$E,4,0))","v":0.12},{"$f":"IF(U$55=\"\",\"\",VLOOKUP($B62,'DADOS DE ENTRADA'!$B:$E,4,0))","v":""},{"$f":"IF(V$55=\"\",\"\",VLOOKUP($B62,'DADOS DE ENTRADA'!$B:$E,4,0))","v":""},{"$f":"IF(W$55=\"\",\"\",VLOOKUP($B62,'DADOS DE ENTRADA'!$B:$E,4,0))","v":""},{"$f":"IF(X$55=\"\",\"\",VLOOKUP($B62,'DADOS DE ENTRADA'!$B:$E,4,0))","v":0.12},{"$f":"IF(Y$55=\"\",\"\",VLOOKUP($B62,'DADOS DE ENTRADA'!$B:$E,4,0))","v":""},{"$f":"IF(Z$55=\"\",\"\",VLOOKUP($B62,'DADOS DE ENTRADA'!$B:$E,4,0))","v":""},{"$f":"IF(AA$55=\"\",\"\",VLOOKUP($B62,'DADOS DE ENTRADA'!$B:$E,4,0))","v":0.12},{"$f":"IF(AB$55=\"\",\"\",VLOOKUP($B62,'DADOS DE ENTRADA'!$B:$E,4,0))","v":0.12},{"$f":"IF(AC$55=\"\",\"\",VLOOKUP($B62,'DADOS DE ENTRADA'!$B:$E,4,0))","v":0.12},{"$f":"IF(AD$55=\"\",\"\",VLOOKUP($B62,'DADOS DE ENTRADA'!$B:$E,4,0))","v":0.12},{"$f":"IF(AE$55=\"\",\"\",VLOOKUP($B62,'DADOS DE ENTRADA'!$B:$E,4,0))","v":0.12},{"$f":"IF(AF$55=\"\",\"\",VLOOKUP($B62,'DADOS DE ENTRADA'!$B:$E,4,0))","v":""},{"$f":"IF(AG$55=\"\",\"\",VLOOKUP($B62,'DADOS DE ENTRADA'!$B:$E,4,0))","v":0.12},{"$f":"IF(AH$55=\"\",\"\",VLOOKUP($B62,'DADOS DE ENTRADA'!$B:$E,4,0))","v":""},{"$f":"IF(AI$55=\"\",\"\",VLOOKUP($B62,'DADOS DE ENTRADA'!$B:$E,4,0))","v":0.12},{"$f":"IF(AJ$55=\"\",\"\",VLOOKUP($B62,'DADOS DE ENTRADA'!$B:$E,4,0))","v":0.12},{"$f":"IF(AK$55=\"\",\"\",VLOOKUP($B62,'DADOS DE ENTRADA'!$B:$E,4,0))","v":0.12},{"$f":"IF(AL$55=\"\",\"\",VLOOKUP($B62,'DADOS DE ENTRADA'!$B:$E,4,0))","v":0.12},{"$f":"IF(AM$55=\"\",\"\",VLOOKUP($B62,'DADOS DE ENTRADA'!$B:$E,4,0))","v":""},{"$f":"IF(AN$55=\"\",\"\",VLOOKUP($B62,'DADOS DE ENTRADA'!$B:$E,4,0))","v":""},{"$f":"IF(AO$55=\"\",\"\",VLOOKUP($B62,'DADOS DE ENTRADA'!$B:$E,4,0))","v":0.12},{"$f":"IF(AP$55=\"\",\"\",VLOOKUP($B62,'DADOS DE ENTRADA'!$B:$E,4,0))","v":0.12},{"$f":"IF(AQ$55=\"\",\"\",VLOOKUP($B62,'DADOS DE ENTRADA'!$B:$E,4,0))","v":0.12},{"$f":"IF(AR$55=\"\",\"\",VLOOKUP($B62,'DADOS DE ENTRADA'!$B:$E,4,0))","v":0.12},{"$f":"IF(AS$55=\"\",\"\",VLOOKUP($B62,'DADOS DE ENTRADA'!$B:$E,4,0))","v":""},{"$f":"IF(AT$55=\"\",\"\",VLOOKUP($B62,'DADOS DE ENTRADA'!$B:$E,4,0))","v":0.12},{"$f":"IF(AU$55=\"\",\"\",VLOOKUP($B62,'DADOS DE ENTRADA'!$B:$E,4,0))","v":0.12},{"$f":"IF(AV$55=\"\",\"\",VLOOKUP($B62,'DADOS DE ENTRADA'!$B:$E,4,0))","v":""},{"$f":"IF(AW$55=\"\",\"\",VLOOKUP($B62,'DADOS DE ENTRADA'!$B:$E,4,0))","v":0.12},{"$f":"IF(AX$55=\"\",\"\",VLOOKUP($B62,'DADOS DE ENTRADA'!$B:$E,4,0))","v":0.12},{"$f":"IF(AY$55=\"\",\"\",VLOOKUP($B62,'DADOS DE ENTRADA'!$B:$E,4,0))","v":""},{"$f":"IF(AZ$55=\"\",\"\",VLOOKUP($B62,'DADOS DE ENTRADA'!$B:$E,4,0))","v":""},{"$f":"IF(BA$55=\"\",\"\",VLOOKUP($B62,'DADOS DE ENTRADA'!$B:$E,4,0))","v":0.12},{"$f":"IF(BB$55=\"\",\"\",VLOOKUP($B62,'DADOS DE ENTRADA'!$B:$E,4,0))","v":0.12},{"$f":"IF(BC$55=\"\",\"\",VLOOKUP($B62,'DADOS DE ENTRADA'!$B:$E,4,0))","v":0.12},{"$f":"IF(BD$55=\"\",\"\",VLOOKUP($B62,'DADOS DE ENTRADA'!$B:$E,4,0))","v":0.12},{"$f":"IF(BE$55=\"\",\"\",VLOOKUP($B62,'DADOS DE ENTRADA'!$B:$E,4,0))","v":""},{"$f":"IF(BF$55=\"\",\"\",VLOOKUP($B62,'DADOS DE ENTRADA'!$B:$E,4,0))","v":0.12},{"$f":"IF(BG$55=\"\",\"\",VLOOKUP($B62,'DADOS DE ENTRADA'!$B:$E,4,0))","v":0.12},{"$f":"IF(BH$55=\"\",\"\",VLOOKUP($B62,'DADOS DE ENTRADA'!$B:$E,4,0))","v":0.12},{"$f":"IF(BI$55=\"\",\"\",VLOOKUP($B62,'DADOS DE ENTRADA'!$B:$E,4,0))","v":0.12},{"$f":"IF(BJ$55=\"\",\"\",VLOOKUP($B62,'DADOS DE ENTRADA'!$B:$E,4,0))","v":0.12},{"$f":"IF(BK$55=\"\",\"\",VLOOKUP($B62,'DADOS DE ENTRADA'!$B:$E,4,0))","v":0.12},{"$f":"IF(BL$55=\"\",\"\",VLOOKUP($B62,'DADOS DE ENTRADA'!$B:$E,4,0))","v":0.12},{"$f":"IF(BM$55=\"\",\"\",VLOOKUP($B62,'DADOS DE ENTRADA'!$B:$E,4,0))","v":""},{"$f":"IF(BN$55=\"\",\"\",VLOOKUP($B62,'DADOS DE ENTRADA'!$B:$E,4,0))","v":""},{"$f":"IF(BO$55=\"\",\"\",VLOOKUP($B62,'DADOS DE ENTRADA'!$B:$E,4,0))","v":""},{"$f":"IF(BP$55=\"\",\"\",VLOOKUP($B62,'DADOS DE ENTRADA'!$B:$E,4,0))","v":""},{"$f":"IF(BQ$55=\"\",\"\",VLOOKUP($B62,'DADOS DE ENTRADA'!$B:$E,4,0))","v":""},{"$f":"IF(BR$55=\"\",\"\",VLOOKUP($B62,'DADOS DE ENTRADA'!$B:$E,4,0))","v":""},{"$f":"IF(BS$55=\"\",\"\",VLOOKUP($B62,'DADOS DE ENTRADA'!$B:$E,4,0))","v":""},{"$f":"IF(BT$55=\"\",\"\",VLOOKUP($B62,'DADOS DE ENTRADA'!$B:$E,4,0))","v":""},{"$f":"IF(BU$55=\"\",\"\",VLOOKUP($B62,'DADOS DE ENTRADA'!$B:$E,4,0))","v":""},{"$f":"IF(BV$55=\"\",\"\",VLOOKUP($B62,'DADOS DE ENTRADA'!$B:$E,4,0))","v":""},{"$f":"IF(BW$55=\"\",\"\",VLOOKUP($B62,'DADOS DE ENTRADA'!$B:$E,4,0))","v":""},{"$f":"IF(BX$55=\"\",\"\",VLOOKUP($B62,'DADOS DE ENTRADA'!$B:$E,4,0))","v":""},{"$f":"IF(BY$55=\"\",\"\",VLOOKUP($B62,'DADOS DE ENTRADA'!$B:$E,4,0))","v":""},{"$f":"IF(BZ$55=\"\",\"\",VLOOKUP($B62,'DADOS DE ENTRADA'!$B:$E,4,0))","v":""},{"$f":"IF(CA$55=\"\",\"\",VLOOKUP($B62,'DADOS DE ENTRADA'!$B:$E,4,0))","v":""},{"$f":"IF(CB$55=\"\",\"\",VLOOKUP($B62,'DADOS DE ENTRADA'!$B:$E,4,0))","v":""},{"$f":"IF(CC$55=\"\",\"\",VLOOKUP($B62,'DADOS DE ENTRADA'!$B:$E,4,0))","v":""},{"$f":"IF(CD$55=\"\",\"\",VLOOKUP($B62,'DADOS DE ENTRADA'!$B:$E,4,0))","v":0.12},{"$f":"IF(CE$55=\"\",\"\",VLOOKUP($B62,'DADOS DE ENTRADA'!$B:$E,4,0))","v":""},{"$f":"IF(CF$55=\"\",\"\",VLOOKUP($B62,'DADOS DE ENTRADA'!$B:$E,4,0))","v":""},{"$f":"IF(CG$55=\"\",\"\",VLOOKUP($B62,'DADOS DE ENTRADA'!$B:$E,4,0))","v":""},{"$f":"IF(CH$55=\"\",\"\",VLOOKUP($B62,'DADOS DE ENTRADA'!$B:$E,4,0))","v":0.12},{"$f":"IF(CI$55=\"\",\"\",VLOOKUP($B62,'DADOS DE ENTRADA'!$B:$E,4,0))","v":""},{"$f":"IF(CJ$55=\"\",\"\",VLOOKUP($B62,'DADOS DE ENTRADA'!$B:$E,4,0))","v":""},{"$f":"IF(CK$55=\"\",\"\",VLOOKUP($B62,'DADOS DE ENTRADA'!$B:$E,4,0))","v":""},{"$f":"IF(CL$55=\"\",\"\",VLOOKUP($B62,'DADOS DE ENTRADA'!$B:$E,4,0))","v":""},{"$f":"IF(CM$55=\"\",\"\",VLOOKUP($B62,'DADOS DE ENTRADA'!$B:$E,4,0))","v":0.12}]
[null,"Canal Existente (Largura Base Maior):","B+2d=","m",{"$nulls":10},1.21,0.4,0.3,0.32,0.23,0.28000000000000003,null,null,null,5.75,null,null,0.59,0.45,0.47,0.34,0.34,null,0.6,null,1.29,0.86,0.33,0.55000000000000004,null,null,1.3,0.36,1.875,1.5,null,1.1200000000000001,0.77,null,1.37,0.3,null,null,1.33,0.38,0.3,0.3,null,0.94,0.53,1.1100000000000001,0.78,0.6,0.36,0.41,{"$nulls":17},1.63,null,null,null,1.91,{"$nulls":4},0.36]
[null,"Canal Existente (Largura Base Menor):","bc=","m",{"$nulls":10},1.08,0.39,0.27,0.26,0.2,0.2,null,null,null,0.49,null,null,0.46,0.44,0.37,0.33,0.28999999999999998,null,0.56000000000000005,null,0.5,0.63,0.2,0.46,null,null,0.36,0.34,0.45,0.39,null,0.3,0.43,null,0.17,0.28999999999999998,null,null,0.38,0.31,0.28999999999999998,0.28999999999999998,null,0.22,0.5,0.26,0.55000000000000004,0.5,0.26,0.36,{"$nulls":17},0.45,null,null,null,0.52,{"$nulls":4},0.28000000000000003]
[null,"Canal Existente (Espessura Placa):","ep=","m",{"$f":"IF(E$55=\"\",\"\",VLOOKUP($B65,'DADOS DE ENTRADA'!$B:$E,4,0))","v":""},{"$f":"IF(F$55=\"\",\"\",VLOOKUP($B65,'DADOS DE ENTRADA'!$B:$E,4,0))","v":""},{"$f":"IF(G$55=\"\",\"\",VLOOKUP($B65,'DADOS DE ENTRADA'!$B:$E,4,0))","v":""},{"$f":"IF(H$55=\"\",\"\",VLOOKUP($B65,'DADOS DE ENTRADA'!$B:$E,4,0))","v":""},{"$f":"IF(I$55=\"\",\"\",VLOOKUP($B65,'DADOS DE ENTRADA'!$B:$E,4,0))","v":""},{"$f":"IF(J$55=\"\",\"\",VLOOKUP($B65,'DADOS DE ENTRADA'!$B:$E,4,0))","v":""},{"$f":"IF(K$55=\"\",\"\",VLOOKUP($B65,'DADOS DE ENTRADA'!$B:$E,4,0))","v":""},{"$f":"IF(L$55=\"\",\"\",VLOOKUP($B65,'DADOS DE ENTRADA'!$B:$E,4,0))","v":""},{"$f":"IF(M$55=\"\",\"\",VLOOKUP($B65,'DADOS DE ENTRADA'!$B:$E,4,0))","v":""},{"$f":"IF(N$55=\"\",\"\",VLOOKUP($B65,'DADOS DE ENTRADA'!$B:$E,4,0))","v":""},{"$f":"IF(O$55=\"\",\"\",VLOOKUP($B65,'DADOS DE ENTRADA'!$B:$E,4,0))","v":7.0000000000000007E-2},{"$f":"IF(P$55=\"\",\"\",VLOOKUP($B65,'DADOS DE ENTRADA'!$B:$E,4,0))","v":7.0000000000000007E-2},{"$f":"IF(Q$55=\"\",\"\",VLOOKUP($B65,'DADOS DE ENTRADA'!$B:$E,4,0))","v":7.0000000000000007E-2},{"$f":"IF(R$55=\"\",\"\",VLOOKUP($B65,'DADOS DE ENTRADA'!$B:$E,4,0))","v":7.0000000000000007E-2},{"$f":"IF(S$55=\"\",\"\",VLOOKUP($B65,'DADOS DE ENTRADA'!$B:$E,4,0))","v":7.0000000000000007E-2},{"$f":"IF(T$55=\"\",\"\",VLOOKUP($B65,'DADOS DE ENTRADA'!$B:$E,4,0))","v":7.0000000000000007E-2},{"$f":"IF(U$55=\"\",\"\",VLOOKUP($B65,'DADOS DE ENTRADA'!$B:$E,4,0))","v":""},{"$f":"IF(V$55=\"\",\"\",VLOOKUP($B65,'DADOS DE ENTRADA'!$B:$E,4,0))","v":""},{"$f":"IF(W$55=\"\",\"\",VLOOKUP($B65,'DADOS DE ENTRADA'!$B:$E,4,0))","v":""},{"$f":"IF(X$55=\"\",\"\",VLOOKUP($B65,'DADOS DE ENTRADA'!$B:$E,4,0))","v":7.0000000000000007E-2},{"$f":"IF(Y$55=\"\",\"\",VLOOKUP($B65,'DADOS DE ENTRADA'!$B:$E,4,0))","v":""},{"$f":"IF(Z$55=\"\",\"\",VLOOKUP($B65,'DADOS DE ENTRADA'!$B:$E,4,0))","v":""},{"$f":"IF(AA$55=\"\",\"\",VLOOKUP($B65,'DADOS DE ENTRADA'!$B:$E,4,0))","v":7.0000000000000007E-2},{"$f":"IF(AB$55=\"\",\"\",VLOOKUP($B65,'DADOS DE ENTRADA'!$B:$E,4,0))","v":7.0000000000000007E-2},{"$f":"IF(AC$55=\"\",\"\",VLOOKUP($B65,'DADOS DE ENTRADA'!$B:$E,4,0))","v":7.0000000000000007E-2},{"$f":"IF(AD$55=\"\",\"\",VLOOKUP($B65,'DADOS DE ENTRADA'!$B:$E,4,0))","v":7.0000000000000007E-2},{"$f":"IF(AE$55=\"\",\"\",VLOOKUP($B65,'DADOS DE ENTRADA'!$B:$E,4,0))","v":7.0000000000000007E-2},{"$f":"IF(AF$55=\"\",\"\",VLOOKUP($B65,'DADOS DE ENTRADA'!$B:$E,4,0))","v":""},{"$f":"IF(AG$55=\"\",\"\",VLOOKUP($B65,'DADOS DE ENTRADA'!$B:$E,4,0))","v":7.0000000000000007E-2},{"$f":"IF(AH$55=\"\",\"\",VLOOKUP($B65,'DADOS DE ENTRADA'!$B:$E,4,0))","v":""},{"$f":"IF(AI$55=\"\",\"\",VLOOKUP($B65,'DADOS DE ENTRADA'!$B:$E,4,0))","v":7.0000000000000007E-2},{"$f":"IF(AJ$55=\"\",\"\",VLOOKUP($B65,'DADOS DE ENTRADA'!$B:$E,4,0))","v":7.0000000000000007E-2},{"$f":"IF(AK$55=\"\",\"\",VLOOKUP($B65,'DADOS DE ENTRADA'!$B:$E,4,0))","v":7.0000000000000007E-2},{"$f":"IF(AL$55=\"\",\"\",VLOOKUP($B65,'DADOS DE ENTRADA'!$B:$E,4,0))","v":7.0000000000000007E-2},{"$f":"IF(AM$55=\"\",\"\",VLOOKUP($B65,'DADOS DE ENTRADA'!$B:$E,4,0))","v":""},{"$f":"IF(AN$55=\"\",\"\",VLOOKUP($B65,'DADOS DE ENTRADA'!$B:$E,4,0))","v":""},{"$f":"IF(AO$55=\"\",\"\",VLOOKUP($B65,'DADOS DE ENTRADA'!$B:$E,4,0))","v":7.0000000000000007E-2},{"$f":"IF(AP$55=\"\",\"\",VLOOKUP($B65,'DADOS DE ENTRADA'!$B:$E,4,0))","v":7.0000000000000007E-2},{"$f":"IF(AQ$55=\"\",\"\",VLOOKUP($B65,'DADOS DE ENTRADA'!$B:$E,4,0))","v":7.0000000000000007E-2},{"$f":"IF(AR$55=\"\",\"\",VLOOKUP($B65,'DADOS DE ENTRADA'!$B:$E,4,0))","v":7.0000000000000007E-2},{"$f":"IF(AS$55=\"\",\"\",VLOOKUP($B65,'DADOS DE ENTRADA'!$B:$E,4,0))","v":""},{"$f":"IF(AT$55=\"\",\"\",VLOOKUP($B65,'DADOS DE ENTRADA'!$B:$E,4,0))","v":7.0000000000000007E-2},{"$f":"IF(AU$55=\"\",\"\",VLOOKUP($B65,'DADOS DE ENTRADA'!$B:$E,4,0))","v":7.0000000000000007E-2},{"$f":"IF(AV$55=\"\",\"\",VLOOKUP($B65,'DADOS DE ENTRADA'!$B:$E,4,0))","v":""},{"$f":"IF(AW$55=\"\",\"\",VLOOKUP($B65,'DADOS DE ENTRADA'!$B:$E,4,0))","v":7.0000000000000007E-2},{"$f":"IF(AX$55=\"\",\"\",VLOOKUP($B65,'DADOS DE ENTRADA'!$B:$E,4,0))","v":7.0000000000000007E-2},{"$f":"IF(AY$55=\"\",\"\",VLOOKUP($B65,'DADOS DE ENTRADA'!$B:$E,4,0))","v":""},{"$f":"IF(AZ$55=\"\",\"\",VLOOKUP($B65,'DADOS DE ENTRADA'!$B:$E,4,0))","v":""},{"$f":"IF(BA$55=\"\",\"\",VLOOKUP($B65,'DADOS DE ENTRADA'!$B:$E,4,0))","v":7.0000000000000007E-2},{"$f":"IF(BB$55=\"\",\"\",VLOOKUP($B65,'DADOS DE ENTRADA'!$B:$E,4,0))","v":7.0000000000000007E-2},{"$f":"IF(BC$55=\"\",\"\",VLOOKUP($B65,'DADOS DE ENTRADA'!$B:$E,4,0))","v":7.0000000000000007E-2},{"$f":"IF(BD$55=\"\",\"\",VLOOKUP($B65,'DADOS DE ENTRADA'!$B:$E,4,0))","v":7.0000000000000007E-2},{"$f":"IF(BE$55=\"\",\"\",VLOOKUP($B65,'DADOS DE ENTRADA'!$B:$E,4,0))","v":""},{"$f":"IF(BF$55=\"\",\"\",VLOOKUP($B65,'DADOS DE ENTRADA'!$B:$E,4,0))","v":7.0000000000000007E-2},{"$f":"IF(BG$55=\"\",\"\",VLOOKUP($B65,'DADOS DE ENTRADA'!$B:$E,4,0))","v":7.0000000000000007E-2},{"$f":"IF(BH$55=\"\",\"\",VLOOKUP($B65,'DADOS DE ENTRADA'!$B:$E,4,0))","v":7.0000000000000007E-2},{"$f":"IF(BI$55=\"\",\"\",VLOOKUP($B65,'DADOS DE ENTRADA'!$B:$E,4,0))","v":7.0000000000000007E-2},{"$f":"IF(BJ$55=\"\",\"\",VLOOKUP($B65,'DADOS DE ENTRADA'!$B:$E,4,0))","v":7.0000000000000007E-2},{"$f":"IF(BK$55=\"\",\"\",VLOOKUP($B65,'DADOS DE ENTRADA'!$B:$E,4,0))","v":7.0000000000000007E-2},{"$f":"IF(BL$55=\"\",\"\",VLOOKUP($B65,'DADOS DE ENTRADA'!$B:$E,4,0))","v":7.0000000000000007E-2},{"$f":"IF(BM$55=\"\",\"\",VLOOKUP($B65,'DADOS DE ENTRADA'!$B:$E,4,0))","v":""},{"$f":"IF(BN$55=\"\",\"\",VLOOKUP($B65,'DADOS DE ENTRADA'!$B:$E,4,0))","v":""},{"$f":"IF(BO$55=\"\",\"\",VLOOKUP($B65,'DADOS DE ENTRADA'!$B:$E,4,0))","v":""},{"$f":"IF(BP$55=\"\",\"\",VLOOKUP($B65,'DADOS DE ENTRADA'!$B:$E,4,0))","v":""},{"$f":"IF(BQ$55=\"\",\"\",VLOOKUP($B65,'DADOS DE ENTRADA'!$B:$E,4,0))","v":""},{"$f":"IF(BR$55=\"\",\"\",VLOOKUP($B65,'DADOS DE ENTRADA'!$B:$E,4,0))","v":""},{"$f":"IF(BS$55=\"\",\"\",VLOOKUP($B65,'DADOS DE ENTRADA'!$B:$E,4,0))","v":""},{"$f":"IF(BT$55=\"\",\"\",VLOOKUP($B65,'DADOS DE ENTRADA'!$B:$E,4,0))","v":""},{"$f":"IF(BU$55=\"\",\"\",VLOOKUP($B65,'DADOS DE ENTRADA'!$B:$E,4,0))","v":""},{"$f":"IF(BV$55=\"\",\"\",VLOOKUP($B65,'DADOS DE ENTRADA'!$B:$E,4,0))","v":""},{"$f":"IF(BW$55=\"\",\"\",VLOOKUP($B65,'DADOS DE ENTRADA'!$B:$E,4,0))","v":""},{"$f":"IF(BX$55=\"\",\"\",VLOOKUP($B65,'DADOS DE ENTRADA'!$B:$E,4,0))","v":""},{"$f":"IF(BY$55=\"\",\"\",VLOOKUP($B65,'DADOS DE ENTRADA'!$B:$E,4,0))","v":""},{"$f":"IF(BZ$55=\"\",\"\",VLOOKUP($B65,'DADOS DE ENTRADA'!$B:$E,4,0))","v":""},{"$f":"IF(CA$55=\"\",\"\",VLOOKUP($B65,'DADOS DE ENTRADA'!$B:$E,4,0))","v":""},{"$f":"IF(CB$55=\"\",\"\",VLOOKUP($B65,'DADOS DE ENTRADA'!$B:$E,4,0))","v":""},{"$f":"IF(CC$55=\"\",\"\",VLOOKUP($B65,'DADOS DE ENTRADA'!$B:$E,4,0))","v":""},{"$f":"IF(CD$55=\"\",\"\",VLOOKUP($B65,'DADOS DE ENTRADA'!$B:$E,4,0))","v":7.0000000000000007E-2},{"$f":"IF(CE$55=\"\",\"\",VLOOKUP($B65,'DADOS DE ENTRADA'!$B:$E,4,0))","v":""},{"$f":"IF(CF$55=\"\",\"\",VLOOKUP($B65,'DADOS DE ENTRADA'!$B:$E,4,0))","v":""},{"$f":"IF(CG$55=\"\",\"\",VLOOKUP($B65,'DADOS DE ENTRADA'!$B:$E,4,0))","v":""},{"$f":"IF(CH$55=\"\",\"\",VLOOKUP($B65,'DADOS DE ENTRADA'!$B:$E,4,0))","v":7.0000000000000007E-2},{"$f":"IF(CI$55=\"\",\"\",VLOOKUP($B65,'DADOS DE ENTRADA'!$B:$E,4,0))","v":""},{"$f":"IF(CJ$55=\"\",\"\",VLOOKUP($B65,'DADOS DE ENTRADA'!$B:$E,4,0))","v":""},{"$f":"IF(CK$55=\"\",\"\",VLOOKUP($B65,'DADOS DE ENTRADA'!$B:$E,4,0))","v":""},{"$f":"IF(CL$55=\"\",\"\",VLOOKUP($B65,'DADOS DE ENTRADA'!$B:$E,4,0))","v":""},{"$f":"IF(CM$55=\"\",\"\",VLOOKUP($B65,'DADOS DE ENTRADA'!$B:$E,4,0))","v":7.0000000000000007E-2}]
[null,"Canal Existente (Altura Interna):","He=","m",{"$nulls":10},0.41,0.41,0.41,0.54,0.4,0.59,null,null,null,0.56000000000000005,null,null,0.49,0.48,0.54,0.48,0.62,null,0.36,null,0.51,0.55000000000000004,0.34,0.47,null,null,0.48,0.37,0.51,0.47,null,0.54,0.64,null,0.48,0.4,null,null,0.57999999999999996,0.43,0.86,0.55000000000000004,null,0.35,0.5,0.35,1.1000000000000001,0.5,0.57999999999999996,0.36,{"$nulls":17},0.59,null,null,null,0.63,{"$nulls":4},0.4]
[null,"Canal Existente (Inclinação 1:m):","m =",null,{"$f":"IF(E55=\"\",\"\",((E63/2)-(E64/2))/E66)","v":""},{"$f":"IF(F55=\"\",\"\",((F63/2)-(F64/2))/F66)","v":""},"","","","","","","","",0.15853658536585355,1.2195121951219523E-2,3.6585365853658507E-2,5.5555555555555552E-2,3.7499999999999999E-2,6.7796610169491539E-2,"","","",4.6964285714285712,"","",0.13265306122448975,1.0416666666666676E-2,9.259259259259256E-2,1.0416666666666676E-2,4.0322580645161324E-2,"",5.5555555555555455E-2,"",0.77450980392156865,0.20909090909090905,0.19117647058823528,9.5744680851063857E-2,"","",0.97916666666666674,2.7027027027026976E-2,1.3970588235294117,1.1808510638297871,"",0.7592592592592593,0.265625,"",1.2500000000000002,1.2500000000000011E-2,"","",0.81896551724137945,8.1395348837209308E-2,5.8139534883720981E-3,9.0909090909090974E-3,"",1.0285714285714287,3.0000000000000027E-2,1.2142857142857144,0.10454545454545452,9.9999999999999978E-2,8.620689655172413E-2,6.9444444444444434E-2,"","","","","",{"$f":"IF(BR55=\"\",\"\",((BR63/2)-(BR64/2))/BR66)","v":""},"","","","","","","","","","","",1,"","","",1.103174603174603,"","","","",9.999999999999995E-2]
[null,null,"b2=","m",{"$f":"IF(E55=\"\",\"\",((E59)-E64)/2)","v":""},{"$f":"IF(F55=\"\",\"\",((F59)-F64)/2)","v":""},"","","","","","","","",5.0000000000000044E-3,0.12500000000000006,0.18500000000000005,0.19000000000000006,0.19500000000000003,0.19500000000000003,"","","",0.20000000000000007,"","",0.19000000000000003,0.20000000000000004,0.16000000000000003,0.20500000000000004,0.17500000000000007,"",6.5000000000000002E-2,"",0.22000000000000003,0.13000000000000006,0.22000000000000006,0.21500000000000005,"","",0.24000000000000005,0.20000000000000004,0.17000000000000007,0.22500000000000003,"",0.22000000000000006,0.28000000000000003,"",0.33500000000000002,0.22500000000000006,"","",0.30500000000000005,0.16500000000000006,0.25000000000000011,0.22500000000000006,"",0.26000000000000006,0.12000000000000005,0.24000000000000005,4.500000000000004E-2,0.12000000000000005,0.19000000000000006,0.16500000000000004,"","","","","",{"$f":"IF(BR55=\"\",\"\",((BR59)-BR64)/2)","v":""},"","","","","","","","","","","",0.12000000000000002,"","","",8.500000000000002E-2,"","","","",0.15500000000000003]
[null,"Concreto Magro (Espessura):","em=","m",{"$f":"IF(E$55=\"\",\"\",VLOOKUP($B69,'DADOS DE ENTRADA'!$B:$E,4,0))","v":""},{"$f":"IF(F$55=\"\",\"\",VLOOKUP($B69,'DADOS DE ENTRADA'!$B:$E,4,0))","v":""},{"$f":"IF(G$55=\"\",\"\",VLOOKUP($B69,'DADOS DE ENTRADA'!$B:$E,4,0))","v":""},{"$f":"IF(H$55=\"\",\"\",VLOOKUP($B69,'DADOS DE ENTRADA'!$B:$E,4,0))","v":""},{"$f":"IF(I$55=\"\",\"\",VLOOKUP($B69,'DADOS DE ENTRADA'!$B:$E,4,0))","v":""},{"$f":"IF(J$55=\"\",\"\",VLOOKUP($B69,'DADOS DE ENTRADA'!$B:$E,4,0))","v":""},{"$f":"IF(K$55=\"\",\"\",VLOOKUP($B69,'DADOS DE ENTRADA'!$B:$E,4,0))","v":""},{"$f":"IF(L$55=\"\",\"\",VLOOKUP($B69,'DADOS DE ENTRADA'!$B:$E,4,0))","v":""},{"$f":"IF(M$55=\"\",\"\",VLOOKUP($B69,'DADOS DE ENTRADA'!$B:$E,4,0))","v":""},{"$f":"IF(N$55=\"\",\"\",VLOOKUP($B69,'DADOS DE ENTRADA'!$B:$E,4,0))","v":""},{"$f":"IF(O$55=\"\",\"\",VLOOKUP($B69,'DADOS DE ENTRADA'!$B:$E,4,0))","v":0.05},{"$f":"IF(P$55=\"\",\"\",VLOOKUP($B69,'DADOS DE ENTRADA'!$B:$E,4,0))","v":0.05},{"$f":"IF(Q$55=\"\",\"\",VLOOKUP($B69,'DADOS DE ENTRADA'!$B:$E,4,0))","v":0.05},{"$f":"IF(R$55=\"\",\"\",VLOOKUP($B69,'DADOS DE ENTRADA'!$B:$E,4,0))","v":0.05},{"$f":"IF(S$55=\"\",\"\",VLOOKUP($B69,'DADOS DE ENTRADA'!$B:$E,4,0))","v":0.05},{"$f":"IF(T$55=\"\",\"\",VLOOKUP($B69,'DADOS DE ENTRADA'!$B:$E,4,0))","v":0.05},{"$f":"IF(U$55=\"\",\"\",VLOOKUP($B69,'DADOS DE ENTRADA'!$B:$E,4,0))","v":""},{"$f":"IF(V$55=\"\",\"\",VLOOKUP($B69,'DADOS DE ENTRADA'!$B:$E,4,0))","v":""},{"$f":"IF(W$55=\"\",\"\",VLOOKUP($B69,'DADOS DE ENTRADA'!$B:$E,4,0))","v":""},{"$f":"IF(X$55=\"\",\"\",VLOOKUP($B69,'DADOS DE ENTRADA'!$B:$E,4,0))","v":0.05},{"$f":"IF(Y$55=\"\",\"\",VLOOKUP($B69,'DADOS DE ENTRADA'!$B:$E,4,0))","v":""},{"$f":"IF(Z$55=\"\",\"\",VLOOKUP($B69,'DADOS DE ENTRADA'!$B:$E,4,0))","v":""},{"$f":"IF(AA$55=\"\",\"\",VLOOKUP($B69,'DADOS DE ENTRADA'!$B:$E,4,0))","v":0.05},{"$f":"IF(AB$55=\"\",\"\",VLOOKUP($B69,'DADOS DE ENTRADA'!$B:$E,4,0))","v":0.05},{"$f":"IF(AC$55=\"\",\"\",VLOOKUP($B69,'DADOS DE ENTRADA'!$B:$E,4,0))","v":0.05},{"$f":"IF(AD$55=\"\",\"\",VLOOKUP($B69,'DADOS DE ENTRADA'!$B:$E,4,0))","v":0.05},{"$f":"IF(AE$55=\"\",\"\",VLOOKUP($B69,'DADOS DE ENTRADA'!$B:$E,4,0))","v":0.05},{"$f":"IF(AF$55=\"\",\"\",VLOOKUP($B69,'DADOS DE ENTRADA'!$B:$E,4,0))","v":""},{"$f":"IF(AG$55=\"\",\"\",VLOOKUP($B69,'DADOS DE ENTRADA'!$B:$E,4,0))","v":0.05},{"$f":"IF(AH$55=\"\",\"\",VLOOKUP($B69,'DADOS DE ENTRADA'!$B:$E,4,0))","v":""},{"$f":"IF(AI$55=\"\",\"\",VLOOKUP($B69,'DADOS DE ENTRADA'!$B:$E,4,0))","v":0.05},{"$f":"IF(AJ$55=\"\",\"\",VLOOKUP($B69,'DADOS DE ENTRADA'!$B:$E,4,0))","v":0.05},{"$f":"IF(AK$55=\"\",\"\",VLOOKUP($B69,'DADOS DE ENTRADA'!$B:$E,4,0))","v":0.05},{"$f":"IF(AL$55=\"\",\"\",VLOOKUP($B69,'DADOS DE ENTRADA'!$B:$E,4,0))","v":0.05},{"$f":"IF(AM$55=\"\",\"\",VLOOKUP($B69,'DADOS DE ENTRADA'!$B:$E,4,0))","v":""},{"$f":"IF(AN$55=\"\",\"\",VLOOKUP($B69,'DADOS DE ENTRADA'!$B:$E,4,0))","v":""},{"$f":"IF(AO$55=\"\",\"\",VLOOKUP($B69,'DADOS DE ENTRADA'!$B:$E,4,0))","v":0.05},{"$f":"IF(AP$55=\"\",\"\",VLOOKUP($B69,'DADOS DE ENTRADA'!$B:$E,4,0))","v":0.05},{"$f":"IF(AQ$55=\"\",\"\",VLOOKUP($B69,'DADOS DE ENTRADA'!$B:$E,4,0))","v":0.05},{"$f":"IF(AR$55=\"\",\"\",VLOOKUP($B69,'DADOS DE ENTRADA'!$B:$E,4,0))","v":0.05},{"$f":"IF(AS$55=\"\",\"\",VLOOKUP($B69,'DADOS DE ENTRADA'!$B:$E,4,0))","v":""},{"$f":"IF(AT$55=\"\",\"\",VLOOKUP($B69,'DADOS DE ENTRADA'!$B:$E,4,0))","v":0.05},{"$f":"IF(AU$55=\"\",\"\",VLOOKUP($B69,'DADOS DE ENTRADA'!$B:$E,4,0))","v":0.05},{"$f":"IF(AV$55=\"\",\"\",VLOOKUP($B69,'DADOS DE ENTRADA'!$B:$E,4,0))","v":""},{"$f":"IF(AW$55=\"\",\"\",VLOOKUP($B69,'DADOS DE ENTRADA'!$B:$E,4,0))","v":0.05},{"$f":"IF(AX$55=\"\",\"\",VLOOKUP($B69,'DADOS DE ENTRADA'!$B:$E,4,0))","v":0.05},{"$f":"IF(AY$55=\"\",\"\",VLOOKUP($B69,'DADOS DE ENTRADA'!$B:$E,4,0))","v":""},{"$f":"IF(AZ$55=\"\",\"\",VLOOKUP($B69,'DADOS DE ENTRADA'!$B:$E,4,0))","v":""},{"$f":"IF(BA$55=\"\",\"\",VLOOKUP($B69,'DADOS DE ENTRADA'!$B:$E,4,0))","v":0.05},{"$f":"IF(BB$55=\"\",\"\",VLOOKUP($B69,'DADOS DE ENTRADA'!$B:$E,4,0))","v":0.05},{"$f":"IF(BC$55=\"\",\"\",VLOOKUP($B69,'DADOS DE ENTRADA'!$B:$E,4,0))","v":0.05},{"$f":"IF(BD$55=\"\",\"\",VLOOKUP($B69,'DADOS DE ENTRADA'!$B:$E,4,0))","v":0.05},{"$f":"IF(BE$55=\"\",\"\",VLOOKUP($B69,'DADOS DE ENTRADA'!$B:$E,4,0))","v":""},{"$f":"IF(BF$55=\"\",\"\",VLOOKUP($B69,'DADOS DE ENTRADA'!$B:$E,4,0))","v":0.05},{"$f":"IF(BG$55=\"\",\"\",VLOOKUP($B69,'DADOS DE ENTRADA'!$B:$E,4,0))","v":0.05},{"$f":"IF(BH$55=\"\",\"\",VLOOKUP($B69,'DADOS DE ENTRADA'!$B:$E,4,0))","v":0.05},{"$f":"IF(BI$55=\"\",\"\",VLOOKUP($B69,'DADOS DE ENTRADA'!$B:$E,4,0))","v":0.05},{"$f":"IF(BJ$55=\"\",\"\",VLOOKUP($B69,'DADOS DE ENTRADA'!$B:$E,4,0))","v":0.05},{"$f":"IF(BK$55=\"\",\"\",VLOOKUP($B69,'DADOS DE ENTRADA'!$B:$E,4,0))","v":0.05},{"$f":"IF(BL$55=\"\",\"\",VLOOKUP($B69,'DADOS DE ENTRADA'!$B:$E,4,0))","v":0.05},{"$f":"IF(BM$55=\"\",\"\",VLOOKUP($B69,'DADOS DE ENTRADA'!$B:$E,4,0))","v":""},{"$f":"IF(BN$55=\"\",\"\",VLOOKUP($B69,'DADOS DE ENTRADA'!$B:$E,4,0))","v":""},{"$f":"IF(BO$55=\"\",\"\",VLOOKUP($B69,'DADOS DE ENTRADA'!$B:$E,4,0))","v":""},{"$f":"IF(BP$55=\"\",\"\",VLOOKUP($B69,'DADOS DE ENTRADA'!$B:$E,4,0))","v":""},{"$f":"IF(BQ$55=\"\",\"\",VLOOKUP($B69,'DADOS DE ENTRADA'!$B:$E,4,0))","v":""},{"$f":"IF(BR$55=\"\",\"\",VLOOKUP($B69,'DADOS DE ENTRADA'!$B:$E,4,0))","v":""},{"$f":"IF(BS$55=\"\",\"\",VLOOKUP($B69,'DADOS DE ENTRADA'!$B:$E,4,0))","v":""},{"$f":"IF(BT$55=\"\",\"\",VLOOKUP($B69,'DADOS DE ENTRADA'!$B:$E,4,0))","v":""},{"$f":"IF(BU$55=\"\",\"\",VLOOKUP($B69,'DADOS DE ENTRADA'!$B:$E,4,0))","v":""},{"$f":"IF(BV$55=\"\",\"\",VLOOKUP($B69,'DADOS DE ENTRADA'!$B:$E,4,0))","v":""},{"$f":"IF(BW$55=\"\",\"\",VLOOKUP($B69,'DADOS DE ENTRADA'!$B:$E,4,0))","v":""},{"$f":"IF(BX$55=\"\",\"\",VLOOKUP($B69,'DADOS DE ENTRADA'!$B:$E,4,0))","v":""},{"$f":"IF(BY$55=\"\",\"\",VLOOKUP($B69,'DADOS DE ENTRADA'!$B:$E,4,0))","v":""},{"$f":"IF(BZ$55=\"\",\"\",VLOOKUP($B69,'DADOS DE ENTRADA'!$B:$E,4,0))","v":""},{"$f":"IF(CA$55=\"\",\"\",VLOOKUP($B69,'DADOS DE ENTRADA'!$B:$E,4,0))","v":""},{"$f":"IF(CB$55=\"\",\"\",VLOOKUP($B69,'DADOS DE ENTRADA'!$B:$E,4,0))","v":""},{"$f":"IF(CC$55=\"\",\"\",VLOOKUP($B69,'DADOS DE ENTRADA'!$B:$E,4,0))","v":""},{"$f":"IF(CD$55=\"\",\"\",VLOOKUP($B69,'DADOS DE ENTRADA'!$B:$E,4,0))","v":0.05},{"$f":"IF(CE$55=\"\",\"\",VLOOKUP($B69,'DADOS DE ENTRADA'!$B:$E,4,0))","v":""},{"$f":"IF(CF$55=\"\",\"\",VLOOKUP($B69,'DADOS DE ENTRADA'!$B:$E,4,0))","v":""},{"$f":"IF(CG$55=\"\",\"\",VLOOKUP($B69,'DADOS DE ENTRADA'!$B:$E,4,0))","v":""},{"$f":"IF(CH$55=\"\",\"\",VLOOKUP($B69,'DADOS DE ENTRADA'!$B:$E,4,0))","v":0.05},{"$f":"IF(CI$55=\"\",\"\",VLOOKUP($B69,'DADOS DE ENTRADA'!$B:$E,4,0))","v":""},{"$f":"IF(CJ$55=\"\",\"\",VLOOKUP($B69,'DADOS DE ENTRADA'!$B:$E,4,0))","v":""},{"$f":"IF(CK$55=\"\",\"\",VLOOKUP($B69,'DADOS DE ENTRADA'!$B:$E,4,0))","v":""},{"$f":"IF(CL$55=\"\",\"\",VLOOKUP($B69,'DADOS DE ENTRADA'!$B:$E,4,0))","v":""},{"$f":"IF(CM$55=\"\",\"\",VLOOKUP($B69,'DADOS DE ENTRADA'!$B:$E,4,0))","v":0.05}]
[null,null,"h1=","m",{"$f":"IF(E55=\"\",\"\",E71+E72)","v":""},{"$f":"IF(F55=\"\",\"\",F71+F72)","v":""},"","","","","","","","",0.18153846153846162,10.399999999999995,5.2066666666666723,3.5700000000000012,5.3500000000000014,3.0262499999999997,"","","",0.19258555133079852,"","",1.5823076923076931,19.349999999999984,1.878000000000001,19.829999999999984,4.4899999999999984,"",1.3200000000000021,"",0.43405063291139245,0.77173913043478304,1.3007692307692311,2.3955555555555552,"","",0.39510638297872347,7.5500000000000158,0.27168421052631586,0.34054054054054061,"",0.43975609756097567,1.2041176470588235,"",0.41799999999999998,18.149999999999988,"","",0.5224210526315789,2.1771428571428575,43.149999999999977,24.899999999999988,"",0.40277777777777785,4.1499999999999986,0.34764705882352942,0.58043478260869619,1.350000000000001,2.354000000000001,2.5260000000000007,"","","","","",{"$f":"IF(BR55=\"\",\"\",BR71+BR72)","v":""},"","","","","","","","","","","",0.27,"","","",0.22705035971223025,"","","","",1.7000000000000011]
[null,null,"h2=","m",{"$f":"IF(E55=\"\",\"\",E68/E67)","v":""},{"$f":"IF(F55=\"\",\"\",F68/F67)","v":""},"","","","","","","","",3.1538461538461592E-2,10.249999999999995,5.056666666666672,3.4200000000000013,5.2000000000000011,2.8762499999999998,"","","",4.2585551330798499E-2,"","",1.4323076923076929,19.199999999999985,1.7280000000000009,19.679999999999986,4.3399999999999981,"",1.1700000000000021,"",0.28405063291139243,0.62173913043478302,1.1507692307692312,2.2455555555555553,"","",0.24510638297872345,7.4000000000000155,0.12168421052631584,0.19054054054054059,"",0.28975609756097565,1.0541176470588236,"",0.26799999999999996,17.999999999999989,"","",0.37242105263157893,2.0271428571428576,42.999999999999979,24.749999999999989,"",0.25277777777777782,3.9999999999999982,0.19764705882352943,0.43043478260869611,1.2000000000000008,2.2040000000000011,2.3760000000000008,"","","","","",{"$f":"IF(BR55=\"\",\"\",BR68/BR67)","v":""},"","","","","","","","","","","",0.12000000000000002,"","","",7.7050359712230246E-2,"","","","",1.5500000000000009]
[null,null,"h3=","m",{"$f":"IF(E55=\"\",\"\",E58+E69)","v":""},{"$f":"IF(F55=\"\",\"\",F58+F69)","v":""},"","","","","","","","",0.15000000000000002,0.15000000000000002,0.15000000000000002,0.15000000000000002,0.15000000000000002,0.15000000000000002,"","","",0.15000000000000002,"","",0.15000000000000002,0.15000000000000002,0.15000000000000002,0.15000000000000002,0.15000000000000002,"",0.15000000000000002,"",0.15000000000000002,0.15000000000000002,0.15000000000000002,0.15000000000000002,"","",0.15000000000000002,0.15000000000000002,0.15000000000000002,0.15000000000000002,"",0.15000000000000002,0.15000000000000002,"",0.15000000000000002,0.15000000000000002,"","",0.15000000000000002,0.15000000000000002,0.15000000000000002,0.15000000000000002,"",0.15000000000000002,0.15000000000000002,0.15000000000000002,0.15000000000000002,0.15000000000000002,0.15000000000000002,0.15000000000000002,"","","","","",{"$f":"IF(BR55=\"\",\"\",BR58+BR69)","v":""},"","","","","","","","","","","",0.15000000000000002,"","","",0.15000000000000002,"","","","",0.15000000000000002]
[null,null,"h4=","m",{"$f":"IF(E55=\"\",\"\",E66+E58+E69-E70)","v":""},{"$f":"IF(F55=\"\",\"\",F66+F58+F69-F70)","v":""},"","","","","","","","",0.3784615384615384,-9.8399999999999945,-4.6466666666666718,-2.8800000000000012,-4.8000000000000016,-2.2862499999999999,"","","",0.51741444866920161,"","",-0.94230769230769307,-18.719999999999985,-1.1880000000000011,-19.199999999999985,-3.7199999999999984,"",-0.81000000000000205,"",0.22594936708860758,-7.1739130434782972E-2,-0.81076923076923113,-1.7755555555555551,"","",0.23489361702127654,-7.0300000000000153,0.38831578947368417,0.27945945945945938,"",0.25024390243902439,-0.41411764705882348,"",0.21200000000000002,-17.599999999999987,"","",0.20757894736842109,-1.5971428571428574,-42.139999999999979,-24.199999999999989,"",9.7222222222222099E-2,-3.4999999999999987,0.15235294117647052,0.66956521739130404,-0.70000000000000095,-1.624000000000001,-2.0160000000000009,"","","","","",{"$f":"IF(BR55=\"\",\"\",BR66+BR58+BR69-BR70)","v":""},"","","","","","","","","","","",0.47,"","","",0.55294964028776983,"","","","",-1.150000000000001]
[null,"Rampa:","r=","m",{"$f":"IF(E55=\"\",\"\",SQRT((E66*E66)+((E66*E67)^2)))","v":""},{"$f":"IF(F55=\"\",\"\",SQRT((F66*F66)+((F66*F67)^2)))","v":""},"","","","","","","","",0.41512046444375633,0.41003048667141812,0.41027429848821872,0.54083269131959844,0.40028115119250873,0.59135437767890076,"","","",2.6889589063427501,"","",0.49429242357131065,0.48002604096027957,0.54230987451824997,0.48002604096027957,0.62050382754661559,"",0.36055512754639896,"",0.64507751472206809,0.56189411813970791,0.34615747861341956,0.47214934078107107,"","",0.6717886572427374,0.37013511046643494,0.87621701079127656,0.72727230113623875,"",0.67801179930735722,0.66219332524573216,"",0.7683749084919419,0.40003124877939228,"","",0.74968326645324024,0.43142206712220921,0.86001453476089573,0.55002272680317499,"",0.50209560842532763,0.5002249493977684,0.55056788863863104,1.1059950271135943,0.50249378105604448,0.58215118311311542,0.36086701151532263,"","","","","",{"$f":"IF(BR55=\"\",\"\",SQRT((BR66*BR66)+((BR66*BR67)^2)))","v":""},"","","","","","","","","","","",0.83438600180012601,"","","",0.93804317597858999,"","","","",0.40199502484483562]
[null,"Concreto Demolição:","Vdc=","m3",{"$f":"IF(E55=\"\",\"\",(E74+E64+E74)*E65)","v":""},{"$f":"IF(F55=\"\",\"\",(F74+F64+F74)*F65)","v":""},"","","","","","","","",0.1337168650221259,8.4704268133998548E-2,7.6338401788350635E-2,9.3916576784743785E-2,7.0039361166951225E-2,9.6789612875046116E-2,"","","",0.41075424688798501,"","",0.10140093929998349,9.8003645734439163E-2,0.10182338243255501,9.0303645734439136E-2,0.10717053585652618,"",8.9677717856495864E-2,"",0.12531085206108955,0.12276517653955911,6.2462047005878749E-2,9.8300907709349961E-2,"","",0.11925041201398323,7.561891546530089E-2,0.15417038151077872,0.12911812215907345,"",0.11592165190303003,0.12280706553440252,"",0.11947248718887189,7.6304374829114924E-2,"","",0.13155565730345364,8.209908939710929E-2,0.14070203486652541,9.7303181752444512E-2,"",8.5693385179545875E-2,0.10503149291568759,9.5279504409408355E-2,0.19333930379590325,0.10534912934784625,9.970116563583617E-2,7.5721381612145186E-2,"","","","","",{"$f":"IF(BR55=\"\",\"\",(BR74+BR64+BR74)*BR65)","v":""},"","","","","","","","","","","",0.14831404025201766,"","","",0.16772604463700261,"","","","",7.5879303478276997E-2]
[null,"Escavação (m3):","Ve=","m3",{"$f":"IF(E55=\"\",\"\",(E59*E70)-((E59+E64)/2*E71))","v":""},{"$f":"IF(F55=\"\",\"\",(F59*F70)-((F59+F64)/2*F71))","v":""},"","","","","","","","",0.16365769230769234,1.3772499999999992,1.0314833333333349,0.74580000000000024,1.1025000000000005,0.64936875000000027,"","","",0.14201711026615974,"","",0.39813846153846177,3.9659999999999958,0.37998000000000032,4.1453999999999969,0.85550000000000015,"",0.17955000000000021,"",0.20349113924050635,0.21432608695652194,0.34916923076923095,0.61629444444444448,"","",0.18482553191489365,1.5910000000000037,0.13918631578947374,0.16887162162162167,"",0.17474634146341472,0.44365294117647058,"",0.21578000000000006,4.1609999999999978,"","",0.26208842105263158,0.4304785714285716,10.868499999999997,5.6797500000000003,"",0.17672222222222228,0.59099999999999975,0.15843529411764712,0.11536956521739145,0.25500000000000023,0.51476000000000033,0.49554000000000009,"","","","","",{"$f":"IF(BR55=\"\",\"\",(BR59*BR70)-((BR59+BR64)/2*BR71))","v":""},"","","","","","","","","","","",0.1179,"","","",0.11004928057553959,"","","","",0.32875000000000032]
[null,"DMT (Importação):","DMT 1 =","km",{"$f":"IF(E$55=\"\",\"\",VLOOKUP($B77,'DADOS DE ENTRADA'!$B:$E,4,0))","v":""},{"$f":"IF(F$55=\"\",\"\",VLOOKUP($B77,'DADOS DE ENTRADA'!$B:$E,4,0))","v":""},{"$f":"IF(G$55=\"\",\"\",VLOOKUP($B77,'DADOS DE ENTRADA'!$B:$E,4,0))","v":""},{"$f":"IF(H$55=\"\",\"\",VLOOKUP($B77,'DADOS DE ENTRADA'!$B:$E,4,0))","v":""},{"$f":"IF(I$55=\"\",\"\",VLOOKUP($B77,'DADOS DE ENTRADA'!$B:$E,4,0))","v":""},{"$f":"IF(J$55=\"\",\"\",VLOOKUP($B77,'DADOS DE ENTRADA'!$B:$E,4,0))","v":""},{"$f":"IF(K$55=\"\",\"\",VLOOKUP($B77,'DADOS DE ENTRADA'!$B:$E,4,0))","v":""},{"$f":"IF(L$55=\"\",\"\",VLOOKUP($B77,'DADOS DE ENTRADA'!$B:$E,4,0))","v":""},{"$f":"IF(M$55=\"\",\"\",VLOOKUP($B77,'DADOS DE ENTRADA'!$B:$E,4,0))","v":""},{"$f":"IF(N$55=\"\",\"\",VLOOKUP($B77,'DADOS DE ENTRADA'!$B:$E,4,0))","v":""},{"$f":"IF(O$55=\"\",\"\",VLOOKUP($B77,'DADOS DE ENTRADA'!$B:$E,4,0))","v":10},{"$f":"IF(P$55=\"\",\"\",VLOOKUP($B77,'DADOS DE ENTRADA'!$B:$E,4,0))","v":10},{"$f":"IF(Q$55=\"\",\"\",VLOOKUP($B77,'DADOS DE ENTRADA'!$B:$E,4,0))","v":10},{"$f":"IF(R$55=\"\",\"\",VLOOKUP($B77,'DADOS DE ENTRADA'!$B:$E,4,0))","v":10},{"$f":"IF(S$55=\"\",\"\",VLOOKUP($B77,'DADOS DE ENTRADA'!$B:$E,4,0))","v":10},{"$f":"IF(T$55=\"\",\"\",VLOOKUP($B77,'DADOS DE ENTRADA'!$B:$E,4,0))","v":10},{"$f":"IF(U$55=\"\",\"\",VLOOKUP($B77,'DADOS DE ENTRADA'!$B:$E,4,0))","v":""},{"$f":"IF(V$55=\"\",\"\",VLOOKUP($B77,'DADOS DE ENTRADA'!$B:$E,4,0))","v":""},{"$f":"IF(W$55=\"\",\"\",VLOOKUP($B77,'DADOS DE ENTRADA'!$B:$E,4,0))","v":""},{"$f":"IF(X$55=\"\",\"\",VLOOKUP($B77,'DADOS DE ENTRADA'!$B:$E,4,0))","v":10},{"$f":"IF(Y$55=\"\",\"\",VLOOKUP($B77,'DADOS DE ENTRADA'!$B:$E,4,0))","v":""},{"$f":"IF(Z$55=\"\",\"\",VLOOKUP($B77,'DADOS DE ENTRADA'!$B:$E,4,0))","v":""},{"$f":"IF(AA$55=\"\",\"\",VLOOKUP($B77,'DADOS DE ENTRADA'!$B:$E,4,0))","v":10},{"$f":"IF(AB$55=\"\",\"\",VLOOKUP($B77,'DADOS DE ENTRADA'!$B:$E,4,0))","v":10},{"$f":"IF(AC$55=\"\",\"\",VLOOKUP($B77,'DADOS DE ENTRADA'!$B:$E,4,0))","v":10},{"$f":"IF(AD$55=\"\",\"\",VLOOKUP($B77,'DADOS DE ENTRADA'!$B:$E,4,0))","v":10},{"$f":"IF(AE$55=\"\",\"\",VLOOKUP($B77,'DADOS DE ENTRADA'!$B:$E,4,0))","v":10},{"$f":"IF(AF$55=\"\",\"\",VLOOKUP($B77,'DADOS DE ENTRADA'!$B:$E,4,0))","v":""},{"$f":"IF(AG$55=\"\",\"\",VLOOKUP($B77,'DADOS DE ENTRADA'!$B:$E,4,0))","v":10},{"$f":"IF(AH$55=\"\",\"\",VLOOKUP($B77,'DADOS DE ENTRADA'!$B:$E,4,0))","v":""},{"$f":"IF(AI$55=\"\",\"\",VLOOKUP($B77,'DADOS DE ENTRADA'!$B:$E,4,0))","v":10},{"$f":"IF(AJ$55=\"\",\"\",VLOOKUP($B77,'DADOS DE ENTRADA'!$B:$E,4,0))","v":10},{"$f":"IF(AK$55=\"\",\"\",VLOOKUP($B77,'DADOS DE ENTRADA'!$B:$E,4,0))","v":10},{"$f":"IF(AL$55=\"\",\"\",VLOOKUP($B77,'DADOS DE ENTRADA'!$B:$E,4,0))","v":10},{"$f":"IF(AM$55=\"\",\"\",VLOOKUP($B77,'DADOS DE ENTRADA'!$B:$E,4,0))","v":""},{"$f":"IF(AN$55=\"\",\"\",VLOOKUP($B77,'DADOS DE ENTRADA'!$B:$E,4,0))","v":""},{"$f":"IF(AO$55=\"\",\"\",VLOOKUP($B77,'DADOS DE ENTRADA'!$B:$E,4,0))","v":10},{"$f":"IF(AP$55=\"\",\"\",VLOOKUP($B77,'DADOS DE ENTRADA'!$B:$E,4,0))","v":10},{"$f":"IF(AQ$55=\"\",\"\",VLOOKUP($B77,'DADOS DE ENTRADA'!$B:$E,4,0))","v":10},{"$f":"IF(AR$55=\"\",\"\",VLOOKUP($B77,'DADOS DE ENTRADA'!$B:$E,4,0))","v":10},{"$f":"IF(AS$55=\"\",\"\",VLOOKUP($B77,'DADOS DE ENTRADA'!$B:$E,4,0))","v":""},{"$f":"IF(AT$55=\"\",\"\",VLOOKUP($B77,'DADOS DE ENTRADA'!$B:$E,4,0))","v":10},{"$f":"IF(AU$55=\"\",\"\",VLOOKUP($B77,'DADOS DE ENTRADA'!$B:$E,4,0))","v":10},{"$f":"IF(AV$55=\"\",\"\",VLOOKUP($B77,'DADOS DE ENTRADA'!$B:$E,4,0))","v":""},{"$f":"IF(AW$55=\"\",\"\",VLOOKUP($B77,'DADOS DE ENTRADA'!$B:$E,4,0))","v":10},{"$f":"IF(AX$55=\"\",\"\",VLOOKUP($B77,'DADOS DE ENTRADA'!$B:$E,4,0))","v":10},{"$f":"IF(AY$55=\"\",\"\",VLOOKUP($B77,'DADOS DE ENTRADA'!$B:$E,4,0))","v":""},{"$f":"IF(AZ$55=\"\",\"\",VLOOKUP($B77,'DADOS DE ENTRADA'!$B:$E,4,0))","v":""},{"$f":"IF(BA$55=\"\",\"\",VLOOKUP($B77,'DADOS DE ENTRADA'!$B:$E,4,0))","v":10},{"$f":"IF(BB$55=\"\",\"\",VLOOKUP($B77,'DADOS DE ENTRADA'!$B:$E,4,0))","v":10},{"$f":"IF(BC$55=\"\",\"\",VLOOKUP($B77,'DADOS DE ENTRADA'!$B:$E,4,0))","v":10},{"$f":"IF(BD$55=\"\",\"\",VLOOKUP($B77,'DADOS DE ENTRADA'!$B:$E,4,0))","v":10},{"$f":"IF(BE$55=\"\",\"\",VLOOKUP($B77,'DADOS DE ENTRADA'!$B:$E,4,0))","v":""},{"$f":"IF(BF$55=\"\",\"\",VLOOKUP($B77,'DADOS DE ENTRADA'!$B:$E,4,0))","v":10},{"$f":"IF(BG$55=\"\",\"\",VLOOKUP($B77,'DADOS DE ENTRADA'!$B:$E,4,0))","v":10},{"$f":"IF(BH$55=\"\",\"\",VLOOKUP($B77,'DADOS DE ENTRADA'!$B:$E,4,0))","v":10},{"$f":"IF(BI$55=\"\",\"\",VLOOKUP($B77,'DADOS DE ENTRADA'!$B:$E,4,0))","v":10},{"$f":"IF(BJ$55=\"\",\"\",VLOOKUP($B77,'DADOS DE ENTRADA'!$B:$E,4,0))","v":10},{"$f":"IF(BK$55=\"\",\"\",VLOOKUP($B77,'DADOS DE ENTRADA'!$B:$E,4,0))","v":10},{"$f":"IF(BL$55=\"\",\"\",VLOOKUP($B77,'DADOS DE ENTRADA'!$B:$E,4,0))","v":10},{"$f":"IF(BM$55=\"\",\"\",VLOOKUP($B77,'DADOS DE ENTRADA'!$B:$E,4,0))","v":""},{"$f":"IF(BN$55=\"\",\"\",VLOOKUP($B77,'DADOS DE ENTRADA'!$B:$E,4,0))","v":""},{"$f":"IF(BO$55=\"\",\"\",VLOOKUP($B77,'DADOS DE ENTRADA'!$B:$E,4,0))","v":""},{"$f":"IF(BP$55=\"\",\"\",VLOOKUP($B77,'DADOS DE ENTRADA'!$B:$E,4,0))","v":""},{"$f":"IF(BQ$55=\"\",\"\",VLOOKUP($B77,'DADOS DE ENTRADA'!$B:$E,4,0))","v":""},{"$f":"IF(BR$55=\"\",\"\",VLOOKUP($B77,'DADOS DE ENTRADA'!$B:$E,4,0))","v":""},{"$f":"IF(BS$55=\"\",\"\",VLOOKUP($B77,'DADOS DE ENTRADA'!$B:$E,4,0))","v":""},{"$f":"IF(BT$55=\"\",\"\",VLOOKUP($B77,'DADOS DE ENTRADA'!$B:$E,4,0))","v":""},{"$f":"IF(BU$55=\"\",\"\",VLOOKUP($B77,'DADOS DE ENTRADA'!$B:$E,4,0))","v":""},{"$f":"IF(BV$55=\"\",\"\",VLOOKUP($B77,'DADOS DE ENTRADA'!$B:$E,4,0))","v":""},{"$f":"IF(BW$55=\"\",\"\",VLOOKUP($B77,'DADOS DE ENTRADA'!$B:$E,4,0))","v":""},{"$f":"IF(BX$55=\"\",\"\",VLOOKUP($B77,'DADOS DE ENTRADA'!$B:$E,4,0))","v":""},{"$f":"IF(BY$55=\"\",\"\",VLOOKUP($B77,'DADOS DE ENTRADA'!$B:$E,4,0))","v":""},{"$f":"IF(BZ$55=\"\",\"\",VLOOKUP($B77,'DADOS DE ENTRADA'!$B:$E,4,0))","v":""},{"$f":"IF(CA$55=\"\",\"\",VLOOKUP($B77,'DADOS DE ENTRADA'!$B:$E,4,0))","v":""},{"$f":"IF(CB$55=\"\",\"\",VLOOKUP($B77,'DADOS DE ENTRADA'!$B:$E,4,0))","v":""},{"$f":"IF(CC$55=\"\",\"\",VLOOKUP($B77,'DADOS DE ENTRADA'!$B:$E,4,0))","v":""},{"$f":"IF(CD$55=\"\",\"\",VLOOKUP($B77,'DADOS DE ENTRADA'!$B:$E,4,0))","v":10},{"$f":"IF(CE$55=\"\",\"\",VLOOKUP($B77,'DADOS DE ENTRADA'!$B:$E,4,0))","v":""},{"$f":"IF(CF$55=\"\",\"\",VLOOKUP($B77,'DADOS DE ENTRADA'!$B:$E,4,0))","v":""},{"$f":"IF(CG$55=\"\",\"\",VLOOKUP($B77,'DADOS DE ENTRADA'!$B:$E,4,0))","v":""},{"$f":"IF(CH$55=\"\",\"\",VLOOKUP($B77,'DADOS DE ENTRADA'!$B:$E,4,0))","v":10},{"$f":"IF(CI$55=\"\",\"\",VLOOKUP($B77,'DADOS DE ENTRADA'!$B:$E,4,0))","v":""},{"$f":"IF(CJ$55=\"\",\"\",VLOOKUP($B77,'DADOS DE ENTRADA'!$B:$E,4,0))","v":""},{"$f":"IF(CK$55=\"\",\"\",VLOOKUP($B77,'DADOS DE ENTRADA'!$B:$E,4,0))","v":""},{"$f":"IF(CL$55=\"\",\"\",VLOOKUP($B77,'DADOS DE ENTRADA'!$B:$E,4,0))","v":""},{"$f":"IF(CM$55=\"\",\"\",VLOOKUP($B77,'DADOS DE ENTRADA'!$B:$E,4,0))","v":10}]
[null,"DMT (Bota Fora):","DMT 2 =","km",{"$f":"IF(E$55=\"\",\"\",VLOOKUP($B78,'DADOS DE ENTRADA'!$B:$E,4,0))","v":""},{"$f":"IF(F$55=\"\",\"\",VLOOKUP($B78,'DADOS DE ENTRADA'!$B:$E,4,0))","v":""},{"$f":"IF(G$55=\"\",\"\",VLOOKUP($B78,'DADOS DE ENTRADA'!$B:$E,4,0))","v":""},{"$f":"IF(H$55=\"\",\"\",VLOOKUP($B78,'DADOS DE ENTRADA'!$B:$E,4,0))","v":""},{"$f":"IF(I$55=\"\",\"\",VLOOKUP($B78,'DADOS DE ENTRADA'!$B:$E,4,0))","v":""},{"$f":"IF(J$55=\"\",\"\",VLOOKUP($B78,'DADOS DE ENTRADA'!$B:$E,4,0))","v":""},{"$f":"IF(K$55=\"\",\"\",VLOOKUP($B78,'DADOS DE ENTRADA'!$B:$E,4,0))","v":""},{"$f":"IF(L$55=\"\",\"\",VLOOKUP($B78,'DADOS DE ENTRADA'!$B:$E,4,0))","v":""},{"$f":"IF(M$55=\"\",\"\",VLOOKUP($B78,'DADOS DE ENTRADA'!$B:$E,4,0))","v":""},{"$f":"IF(N$55=\"\",\"\",VLOOKUP($B78,'DADOS DE ENTRADA'!$B:$E,4,0))","v":""},{"$f":"IF(O$55=\"\",\"\",VLOOKUP($B78,'DADOS DE ENTRADA'!$B:$E,4,0))","v":10},{"$f":"IF(P$55=\"\",\"\",VLOOKUP($B78,'DADOS DE ENTRADA'!$B:$E,4,0))","v":10},{"$f":"IF(Q$55=\"\",\"\",VLOOKUP($B78,'DADOS DE ENTRADA'!$B:$E,4,0))","v":10},{"$f":"IF(R$55=\"\",\"\",VLOOKUP($B78,'DADOS DE ENTRADA'!$B:$E,4,0))","v":10},{"$f":"IF(S$55=\"\",\"\",VLOOKUP($B78,'DADOS DE ENTRADA'!$B:$E,4,0))","v":10},{"$f":"IF(T$55=\"\",\"\",VLOOKUP($B78,'DADOS DE ENTRADA'!$B:$E,4,0))","v":10},{"$f":"IF(U$55=\"\",\"\",VLOOKUP($B78,'DADOS DE ENTRADA'!$B:$E,4,0))","v":""},{"$f":"IF(V$55=\"\",\"\",VLOOKUP($B78,'DADOS DE ENTRADA'!$B:$E,4,0))","v":""},{"$f":"IF(W$55=\"\",\"\",VLOOKUP($B78,'DADOS DE ENTRADA'!$B:$E,4,0))","v":""},{"$f":"IF(X$55=\"\",\"\",VLOOKUP($B78,'DADOS DE ENTRADA'!$B:$E,4,0))","v":10},{"$f":"IF(Y$55=\"\",\"\",VLOOKUP($B78,'DADOS DE ENTRADA'!$B:$E,4,0))","v":""},{"$f":"IF(Z$55=\"\",\"\",VLOOKUP($B78,'DADOS DE ENTRADA'!$B:$E,4,0))","v":""},{"$f":"IF(AA$55=\"\",\"\",VLOOKUP($B78,'DADOS DE ENTRADA'!$B:$E,4,0))","v":10},{"$f":"IF(AB$55=\"\",\"\",VLOOKUP($B78,'DADOS DE ENTRADA'!$B:$E,4,0))","v":10},{"$f":"IF(AC$55=\"\",\"\",VLOOKUP($B78,'DADOS DE ENTRADA'!$B:$E,4,0))","v":10},{"$f":"IF(AD$55=\"\",\"\",VLOOKUP($B78,'DADOS DE ENTRADA'!$B:$E,4,0))","v":10},{"$f":"IF(AE$55=\"\",\"\",VLOOKUP($B78,'DADOS DE ENTRADA'!$B:$E,4,0))","v":10},{"$f":"IF(AF$55=\"\",\"\",VLOOKUP($B78,'DADOS DE ENTRADA'!$B:$E,4,0))","v":""},{"$f":"IF(AG$55=\"\",\"\",VLOOKUP($B78,'DADOS DE ENTRADA'!$B:$E,4,0))","v":10},{"$f":"IF(AH$55=\"\",\"\",VLOOKUP($B78,'DADOS DE ENTRADA'!$B:$E,4,0))","v":""},{"$f":"IF(AI$55=\"\",\"\",VLOOKUP($B78,'DADOS DE ENTRADA'!$B:$E,4,0))","v":10},{"$f":"IF(AJ$55=\"\",\"\",VLOOKUP($B78,'DADOS DE ENTRADA'!$B:$E,4,0))","v":10},{"$f":"IF(AK$55=\"\",\"\",VLOOKUP($B78,'DADOS DE ENTRADA'!$B:$E,4,0))","v":10},{"$f":"IF(AL$55=\"\",\"\",VLOOKUP($B78,'DADOS DE ENTRADA'!$B:$E,4,0))","v":10},{"$f":"IF(AM$55=\"\",\"\",VLOOKUP($B78,'DADOS DE ENTRADA'!$B:$E,4,0))","v":""},{"$f":"IF(AN$55=\"\",\"\",VLOOKUP($B78,'DADOS DE ENTRADA'!$B:$E,4,0))","v":""},{"$f":"IF(AO$55=\"\",\"\",VLOOKUP($B78,'DADOS DE ENTRADA'!$B:$E,4,0))","v":10},{"$f":"IF(AP$55=\"\",\"\",VLOOKUP($B78,'DADOS DE ENTRADA'!$B:$E,4,0))","v":10},{"$f":"IF(AQ$55=\"\",\"\",VLOOKUP($B78,'DADOS DE ENTRADA'!$B:$E,4,0))","v":10},{"$f":"IF(AR$55=\"\",\"\",VLOOKUP($B78,'DADOS DE ENTRADA'!$B:$E,4,0))","v":10},{"$f":"IF(AS$55=\"\",\"\",VLOOKUP($B78,'DADOS DE ENTRADA'!$B:$E,4,0))","v":""},{"$f":"IF(AT$55=\"\",\"\",VLOOKUP($B78,'DADOS DE ENTRADA'!$B:$E,4,0))","v":10},{"$f":"IF(AU$55=\"\",\"\",VLOOKUP($B78,'DADOS DE ENTRADA'!$B:$E,4,0))","v":10},{"$f":"IF(AV$55=\"\",\"\",VLOOKUP($B78,'DADOS DE ENTRADA'!$B:$E,4,0))","v":""},{"$f":"IF(AW$55=\"\",\"\",VLOOKUP($B78,'DADOS DE ENTRADA'!$B:$E,4,0))","v":10},{"$f":"IF(AX$55=\"\",\"\",VLOOKUP($B78,'DADOS DE ENTRADA'!$B:$E,4,0))","v":10},{"$f":"IF(AY$55=\"\",\"\",VLOOKUP($B78,'DADOS DE ENTRADA'!$B:$E,4,0))","v":""},{"$f":"IF(AZ$55=\"\",\"\",VLOOKUP($B78,'DADOS DE ENTRADA'!$B:$E,4,0))","v":""},{"$f":"IF(BA$55=\"\",\"\",VLOOKUP($B78,'DADOS DE ENTRADA'!$B:$E,4,0))","v":10},{"$f":"IF(BB$55=\"\",\"\",VLOOKUP($B78,'DADOS DE ENTRADA'!$B:$E,4,0))","v":10},{"$f":"IF(BC$55=\"\",\"\",VLOOKUP($B78,'DADOS DE ENTRADA'!$B:$E,4,0))","v":10},{"$f":"IF(BD$55=\"\",\"\",VLOOKUP($B78,'DADOS DE ENTRADA'!$B:$E,4,0))","v":10},{"$f":"IF(BE$55=\"\",\"\",VLOOKUP($B78,'DADOS DE ENTRADA'!$B:$E,4,0))","v":""},{"$f":"IF(BF$55=\"\",\"\",VLOOKUP($B78,'DADOS DE ENTRADA'!$B:$E,4,0))","v":10},{"$f":"IF(BG$55=\"\",\"\",VLOOKUP($B78,'DADOS DE ENTRADA'!$B:$E,4,0))","v":10},{"$f":"IF(BH$55=\"\",\"\",VLOOKUP($B78,'DADOS DE ENTRADA'!$B:$E,4,0))","v":10},{"$f":"IF(BI$55=\"\",\"\",VLOOKUP($B78,'DADOS DE ENTRADA'!$B:$E,4,0))","v":10},{"$f":"IF(BJ$55=\"\",\"\",VLOOKUP($B78,'DADOS DE ENTRADA'!$B:$E,4,0))","v":10},{"$f":"IF(BK$55=\"\",\"\",VLOOKUP($B78,'DADOS DE ENTRADA'!$B:$E,4,0))","v":10},{"$f":"IF(BL$55=\"\",\"\",VLOOKUP($B78,'DADOS DE ENTRADA'!$B:$E,4,0))","v":10},{"$f":"IF(BM$55=\"\",\"\",VLOOKUP($B78,'DADOS DE ENTRADA'!$B:$E,4,0))","v":""},{"$f":"IF(BN$55=\"\",\"\",VLOOKUP($B78,'DADOS DE ENTRADA'!$B:$E,4,0))","v":""},{"$f":"IF(BO$55=\"\",\"\",VLOOKUP($B78,'DADOS DE ENTRADA'!$B:$E,4,0))","v":""},{"$f":"IF(BP$55=\"\",\"\",VLOOKUP($B78,'DADOS DE ENTRADA'!$B:$E,4,0))","v":""},{"$f":"IF(BQ$55=\"\",\"\",VLOOKUP($B78,'DADOS DE ENTRADA'!$B:$E,4,0))","v":""},{"$f":"IF(BR$55=\"\",\"\",VLOOKUP($B78,'DADOS DE ENTRADA'!$B:$E,4,0))","v":""},{"$f":"IF(BS$55=\"\",\"\",VLOOKUP($B78,'DADOS DE ENTRADA'!$B:$E,4,0))","v":""},{"$f":"IF(BT$55=\"\",\"\",VLOOKUP($B78,'DADOS DE ENTRADA'!$B:$E,4,0))","v":""},{"$f":"IF(BU$55=\"\",\"\",VLOOKUP($B78,'DADOS DE ENTRADA'!$B:$E,4,0))","v":""},{"$f":"IF(BV$55=\"\",\"\",VLOOKUP($B78,'DADOS DE ENTRADA'!$B:$E,4,0))","v":""},{"$f":"IF(BW$55=\"\",\"\",VLOOKUP($B78,'DADOS DE ENTRADA'!$B:$E,4,0))","v":""},{"$f":"IF(BX$55=\"\",\"\",VLOOKUP($B78,'DADOS DE ENTRADA'!$B:$E,4,0))","v":""},{"$f":"IF(BY$55=\"\",\"\",VLOOKUP($B78,'DADOS DE ENTRADA'!$B:$E,4,0))","v":""},{"$f":"IF(BZ$55=\"\",\"\",VLOOKUP($B78,'DADOS DE ENTRADA'!$B:$E,4,0))","v":""},{"$f":"IF(CA$55=\"\",\"\",VLOOKUP($B78,'DADOS DE ENTRADA'!$B:$E,4,0))","v":""},{"$f":"IF(CB$55=\"\",\"\",VLOOKUP($B78,'DADOS DE ENTRADA'!$B:$E,4,0))","v":""},{"$f":"IF(CC$55=\"\",\"\",VLOOKUP($B78,'DADOS DE ENTRADA'!$B:$E,4,0))","v":""},{"$f":"IF(CD$55=\"\",\"\",VLOOKUP($B78,'DADOS DE ENTRADA'!$B:$E,4,0))","v":10},{"$f":"IF(CE$55=\"\",\"\",VLOOKUP($B78,'DADOS DE ENTRADA'!$B:$E,4,0))","v":""},{"$f":"IF(CF$55=\"\",\"\",VLOOKUP($B78,'DADOS DE ENTRADA'!$B:$E,4,0))","v":""},{"$f":"IF(CG$55=\"\",\"\",VLOOKUP($B78,'DADOS DE ENTRADA'!$B:$E,4,0))","v":""},{"$f":"IF(CH$55=\"\",\"\",VLOOKUP($B78,'DADOS DE ENTRADA'!$B:$E,4,0))","v":10},{"$f":"IF(CI$55=\"\",\"\",VLOOKUP($B78,'DADOS DE ENTRADA'!$B:$E,4,0))","v":""},{"$f":"IF(CJ$55=\"\",\"\",VLOOKUP($B78,'DADOS DE ENTRADA'!$B:$E,4,0))","v":""},{"$f":"IF(CK$55=\"\",\"\",VLOOKUP($B78,'DADOS DE ENTRADA'!$B:$E,4,0))","v":""},{"$f":"IF(CL$55=\"\",\"\",VLOOKUP($B78,'DADOS DE ENTRADA'!$B:$E,4,0))","v":""},{"$f":"IF(CM$55=\"\",\"\",VLOOKUP($B78,'DADOS DE ENTRADA'!$B:$E,4,0))","v":10}]
[null,"Concreto Magro:","Vcm=","m3",{"$f":"IF(E55=\"\",\"\",E59*E69)","v":""},{"$f":"IF(F55=\"\",\"\",F59*F69)","v":""},"","","","","","","","",5.4500000000000007E-2,3.2000000000000008E-2,3.2000000000000008E-2,3.2000000000000008E-2,2.9500000000000005E-2,2.9500000000000005E-2,"","","",4.4500000000000012E-2,"","",4.200000000000001E-2,4.200000000000001E-2,3.4500000000000003E-2,3.7000000000000005E-2,3.2000000000000008E-2,"",3.4500000000000003E-2,"",4.7000000000000007E-2,4.4500000000000012E-2,3.2000000000000008E-2,4.4500000000000012E-2,"","",4.200000000000001E-2,3.7000000000000005E-2,3.9500000000000007E-2,4.200000000000001E-2,"",3.7000000000000005E-2,4.9500000000000009E-2,"",4.200000000000001E-2,3.7000000000000005E-2,"","",4.9500000000000009E-2,3.2000000000000008E-2,3.9500000000000007E-2,3.7000000000000005E-2,"",3.7000000000000005E-2,3.7000000000000005E-2,3.7000000000000005E-2,3.2000000000000008E-2,3.7000000000000005E-2,3.2000000000000008E-2,3.4500000000000003E-2,"","","","","",{"$f":"IF(BR55=\"\",\"\",BR59*BR69)","v":""},"","","","","","","","","","","",3.4500000000000003E-2,"","","",3.4500000000000003E-2,"","","","",2.9500000000000005E-2]
[null,"Forma:","A=","m2",{"$f":"IF(E55=\"\",\"\",E66*4)","v":""},{"$f":"IF(F55=\"\",\"\",F66*4)","v":""},"","","","","","","","",1.64,1.64,1.64,2.16,1.6,2.36,"","","",2.2400000000000002,"","",1.96,1.92,2.16,1.92,2.48,"",1.44,"",2.04,2.2000000000000002,1.36,1.88,"","",1.92,1.48,2.04,1.88,"",2.16,2.56,"",1.92,1.6,"","",2.3199999999999998,1.72,3.44,2.2000000000000002,"",1.4,2,1.4,4.4000000000000004,2,2.3199999999999998,1.44,"","","","","",{"$f":"IF(BR55=\"\",\"\",BR66*4)","v":""},"","","","","","","","","","","",2.36,"","","",2.52,"","","","",1.6]
[null,"Junta Transversal:","Jt=","m",{"$f":"IF(E55=\"\",\"\",(E55+E66+E66)/12)","v":""},{"$f":"IF(F55=\"\",\"\",(F55+F66+F66)/12)","v":""},"","","","","","","","",0.13083333333333333,9.3333333333333324E-2,9.3333333333333324E-2,0.115,8.7500000000000008E-2,0.11916666666666666,"","","",0.13916666666666669,"","",0.12333333333333334,0.12166666666666666,0.11916666666666668,0.11333333333333333,0.12833333333333333,"",8.9166666666666658E-2,"",0.13499999999999998,0.13750000000000001,8.1666666666666665E-2,0.12416666666666666,"","",0.12166666666666666,9.5000000000000015E-2,0.1225,0.12,"",0.12333333333333334,0.16083333333333336,"",0.12166666666666666,0.10000000000000002,"","",0.15083333333333335,9.6666666666666665E-2,0.18083333333333332,0.125,"",9.1666666666666674E-2,0.11666666666666665,9.1666666666666674E-2,0.20833333333333334,0.11666666666666665,0.12166666666666666,8.9166666666666658E-2,"","","","","",{"$f":"IF(BR55=\"\",\"\",(BR55+BR66+BR66)/12)","v":""},"","","","","","","","","","","",0.12749999999999997,{"$f":"IF(CE55=\"\",\"\",(CE55+CE66+CE66)/12)","v":""},"","",0.13416666666666666,"","","","",8.7500000000000008E-2]
[null,"Treliça Vertical (Metro por metro linear de canal):","Tv=","m",{"$f":"IF(E55=\"\",\"\",((E66+E58)*2)/(11/2))","v":""},{"$f":"IF(F55=\"\",\"\",((F66+F58)*2)/(11/2))","v":""},"","","","","","","","",0.18545454545454546,0.18545454545454546,0.18545454545454546,0.23272727272727273,0.18181818181818182,0.25090909090909091,"","","",0.24000000000000002,"","",0.21454545454545454,0.21090909090909091,0.23272727272727273,0.21090909090909091,0.26181818181818178,"",0.16727272727272727,"",0.2218181818181818,0.23636363636363636,0.16000000000000003,0.20727272727272725,"","",0.21090909090909091,0.1709090909090909,0.2218181818181818,0.20727272727272725,"",0.23272727272727273,0.2690909090909091,"",0.21090909090909091,0.18181818181818182,"","",0.24727272727272726,0.19272727272727275,0.34909090909090906,0.23636363636363636,"",0.16363636363636361,0.21818181818181817,0.16363636363636361,0.43636363636363645,0.21818181818181817,0.24727272727272726,0.16727272727272727,"","","","","",{"$f":"IF(BR55=\"\",\"\",((BR66+BR58)*2)/(11/2))","v":""},"","","","","","","","","","","",0.25090909090909091,"","","",0.26545454545454544,"","","","",0.18181818181818182]
[null,"Volume Concreto Laje Base:","Vclb=","m3",{"$f":"IF(E55=\"\",\"\",E59*E58)","v":""},{"$f":"IF(F55=\"\",\"\",F59*F58)","v":""},"","","","","","","","",0.10900000000000001,6.4000000000000015E-2,6.4000000000000015E-2,6.4000000000000015E-2,5.9000000000000011E-2,5.9000000000000011E-2,"","","",8.9000000000000024E-2,"","",8.4000000000000019E-2,8.4000000000000019E-2,6.9000000000000006E-2,7.400000000000001E-2,6.4000000000000015E-2,"",6.9000000000000006E-2,"",9.4000000000000014E-2,8.9000000000000024E-2,6.4000000000000015E-2,8.9000000000000024E-2,"","",8.4000000000000019E-2,7.400000000000001E-2,7.9000000000000015E-2,8.4000000000000019E-2,"",7.400000000000001E-2,9.9000000000000019E-2,"",8.4000000000000019E-2,7.400000000000001E-2,"","",9.9000000000000019E-2,6.4000000000000015E-2,7.9000000000000015E-2,7.400000000000001E-2,"",7.400000000000001E-2,7.400000000000001E-2,7.400000000000001E-2,6.4000000000000015E-2,7.400000000000001E-2,6.4000000000000015E-2,6.9000000000000006E-2,"","","","","",{"$f":"IF(BR55=\"\",\"\",BR59*BR58)","v":""},"","","","","","","","","","","",6.9000000000000006E-2,"","","",6.9000000000000006E-2,"","","","",5.9000000000000011E-2]
[null,"Volume Concreto Paredes:","Vcp=","m3",{"$f":"IF(E55=\"\",\"\",E56*E57*2)","v":""},{"$f":"IF(F55=\"\",\"\",F56*F57*2)","v":""},"","","","","","","","",0.108,9.6000000000000002E-2,8.879999999999999E-2,0.12,9.6000000000000002E-2,9.6000000000000002E-2,"","","",0.13440000000000002,"","",0.12,0.12,0.12,8.3999999999999991E-2,0.13919999999999999,"",0.108,"",0.12,0.13919999999999999,9.1200000000000003E-2,0.13200000000000001,"","",0.13919999999999999,0.10079999999999999,0.11279999999999998,0.12239999999999999,"",0.1152,0.12,"",0.12720000000000001,9.6000000000000002E-2,"","",0.1152,9.1200000000000003E-2,0.1056,8.6399999999999991E-2,"",0.1152,9.6000000000000002E-2,9.6000000000000002E-2,0.11279999999999998,0.108,0.108,8.3999999999999991E-2,"","","","","",{"$f":"IF(BR55=\"\",\"\",BR56*BR57*2)","v":""},"","","","","","","","","","","",0.12,"","","",0.12959999999999999,"","","","",9.6000000000000002E-2]
[null,"Volume Concreto Vigas 2por modulo (Volume / metro canal):","Vcv=","m3",{"$f":"IF(E55=\"\",\"\",((E61*E62*E55)*2)/11)","v":""},{"$f":"IF(F55=\"\",\"\",((F61*F62*F55)*2)/11)","v":""},"","","","","","","","",1.9636363636363636E-3,7.8545454545454545E-4,7.8545454545454545E-4,7.8545454545454545E-4,6.5454545454545453E-4,6.5454545454545453E-4,"","","",1.4400000000000001E-3,"","",1.3090909090909091E-3,1.3090909090909091E-3,9.1636363636363627E-4,1.0472727272727274E-3,7.8545454545454545E-4,"",9.1636363636363627E-4,"",1.5709090909090909E-3,1.4400000000000001E-3,7.8545454545454545E-4,1.4400000000000001E-3,"","",1.3090909090909091E-3,1.0472727272727274E-3,1.178181818181818E-3,1.3090909090909091E-3,"",1.0472727272727274E-3,1.7018181818181819E-3,"",1.3090909090909091E-3,1.0472727272727274E-3,"","",1.7018181818181819E-3,7.8545454545454545E-4,1.178181818181818E-3,1.0472727272727274E-3,"",1.0472727272727274E-3,1.0472727272727274E-3,1.0472727272727274E-3,7.8545454545454545E-4,1.0472727272727274E-3,7.8545454545454545E-4,9.1636363636363627E-4,"","","","","",{"$f":"IF(BR55=\"\",\"\",((BR61*BR62*BR55)*2)/11)","v":""},"","","","","","","","","","","",9.1636363636363627E-4,"","","",9.1636363636363627E-4,"","","","",6.5454545454545453E-4]
[null,"Volume Concreto (Laje Base+Paredes+Vigas):","Vc=","m3",{"$f":"IF(E55=\"\",\"\",E83+E84+E85)","v":""},{"$f":"IF(F55=\"\",\"\",F83+F84+F85)","v":""},"","","","","","","","",0.21896363636363639,0.16078545454545456,0.15358545454545453,0.18478545454545453,0.15565454545454549,0.15565454545454549,"","","",0.22484000000000004,"","",0.20530909090909091,0.20530909090909091,0.18991636363636363,0.15904727272727273,0.20398545454545453,"",0.17791636363636362,"",0.21557090909090912,0.22964000000000001,0.15598545454545454,0.22244000000000003,"","",0.22450909090909091,0.17584727272727274,0.19297818181818183,0.20770909090909093,"",0.19024727272727274,0.22070181818181822,"",0.21250909090909093,0.17104727272727274,"","",0.21590181818181819,0.15598545454545454,0.18577818181818184,0.16144727272727272,"",0.19024727272727274,0.17104727272727274,0.17104727272727274,0.17758545454545455,0.18304727272727273,0.17278545454545455,0.15391636363636363,"","","","","",{"$f":"IF(BR55=\"\",\"\",BR83+BR84+BR85)","v":""},"","","","","","","","","","","",0.18991636363636363,"","","",0.19951636363636363,"","","","",0.15565454545454549]
[null,"Reaterro:","Vr=","m3",{"$f":"IF(E55=\"\",\"\",(E54*E73/2*2)+(0.05*E71))","v":""},{"$f":"IF(F55=\"\",\"\",(F54*F73/2*2)+(0.05*F71))","v":""},"","","","","","","","",4.3207692307692301E-2,1.2012999999999994,0.81043333333333445,0.48780000000000023,0.88400000000000034,0.38386874999999993,"","","",1.28531711026616,"","",0.14228846153846164,3.6743999999999968,0.1576800000000001,3.8639999999999972,0.58899999999999975,"",5.4450000000000096E-2,"",6.5041139240506335E-2,2.8576086956521748E-2,0.14266923076923083,0.32534444444444438,"","",7.8025531914893601E-2,1.3542000000000032,0.23616131578947369,0.1157216216216216,"",7.4546341463414642E-2,7.7552941176470588E-2,"",8.0180000000000015E-2,3.8919999999999977,"","",6.4288421052631592E-2,0.22912857142857151,10.367299999999997,5.3514999999999979,"",2.7222222222222203E-2,0.39249999999999985,4.5685294117647053E-2,0.10186956521739129,7.400000000000008E-2,0.2563600000000002,0.30024000000000012,"","","","","",{"$f":"IF(BR55=\"\",\"\",(BR54*BR73/2*2)+(0.05*BR71))","v":""},"","","","","","","","","","","",0.25040000000000001,"","","",0.36879928057553957,"","","","",0.15225000000000011]
["CANAL RETANGULAR - QUANTITATIVOS","LOCACAO E NIVELAMENTO DE REDE DE CANAIS COLETORES DE IRRIGAÇÃO COM AUXILIO DE EQUIPAMENTO TOPOGRAFICO",null,"m",{"$f":"IF(E55=\"\",\"\",E12)","v":""},{"$f":"IF(F$55=\"\",\"\",F$12)","v":""},"","","","","","","","",420.96,335.88,372.04,306.83999999999997,112.09,135.13,"","","",786.65,"","",84.03,361.89,72.91,65.69,219.75,"",477.11,"",314.42,338.93,192.77,{"$f":"IF(AL$55=\"\",\"\",AL$12)","v":783.55},"","",803.89,662.45,237.59,890.01,"",302.14,120.8,"",257.58,248.47,"","",451.36,99.24,260.61,434.9,"",813.3,685.17,423.84,252.71,355.34,181.66,384.59,"","","","","",{"$f":"IF(BR$55=\"\",\"\",BR$12)","v":""},"","","","","","","","","","","",562.54999999999995,"","","",452.29,"","","","",290.92]
[null,"LIMPEZA DO TERRENO - ROÇADA",null,"m²",{"$f":"IF(E55=\"\",\"\",(2*3)*E12)","v":""},{"$f":"IF(F$55=\"\",\"\",(2*3)*F$12)","v":""},"","","","","","","","",2525.7599999999998,2015.28,2232.2400000000002,1841.04,672.54,810.78,"","","",4719.8999999999996,"","",504.18,2171.34,437.46,394.14,1318.5,"",2862.66,"",1886.52,2033.58,1156.6200000000001,{"$f":"IF(AL$55=\"\",\"\",(2*3)*AL$12)","v":4701.2999999999993},"","",4823.34,3974.7000000000003,1425.54,5340.0599999999995,"",1812.84,724.8,"",1545.48,1490.82,"","",2708.16,595.43999999999994,1563.66,2609.3999999999996,"",4879.7999999999993,4111.0199999999995,2543.04,1516.26,2132.04,1089.96,2307.54,"","","","","",{"$f":"IF(BR$55=\"\",\"\",(2*3)*BR$12)","v":""},"","","","","","","","","","","",3375.2999999999997,"","","",2713.7400000000002,"","","","",1745.52]
[null,"DEMOLIÇÃO E RETIRADA DE PLACAS EM CONCRETO SIMPLES",null,"m³",{"$f":"IF(E55=\"\",\"\",E12*E75)","v":""},{"$f":"IF(F$55=\"\",\"\",F$12*F$75)","v":""},"","","","","","","","",56.289451499714119,28.450469580847432,28.400939001337971,28.817362420630779,7.8507119932035634,13.079180387804982,"","","",323.11982831443339,"","",8.5207209293776121,35.466539354836186,7.4239428131575851,5.932046488295307,23.550725254471629,"",42.786135966512745,"",39.400238105047777,41.608801284552769,12.040808801323246,{"$f":"IF(AL$55=\"\",\"\",AL$12*AL$75)","v":77.023676235661156},"","",95.864213713920975,50.093750549988577,36.62934094314592,114.91641990279696,"",35.024567905981492,14.835093516555823,"",30.773723250109619,18.959348013790184,"","",59.378961480486836,8.1475136317691259,36.668357306565191,42.317153744138118,"",69.694430166524654,71.964428001041654,40.383265148883638,48.858775462262713,37.434759622463687,18.111713749405997,29.121686154214917,"","","","","",{"$f":"IF(BR$55=\"\",\"\",BR$12*BR$75)","v":""},"","","","","","","","","","","",83.434063343772536,"","","",75.860812728869917,"","","","",22.074806967900344]
[null,"CARGA, TRANSPORTE ATÉ 1 KM E DESCARGA DE ENTULHO DE CONCRETO SIMPLES",null,"m³",{"$f":"IF(E55=\"\",\"\",E90+E93)","v":""},{"$f":"IF(F$55=\"\",\"\",F$90+F$93)","v":""},"","","","","","","","",125.18279365356028,491.04119958084715,412.15399833467188,257.65863442063085,131.42993699320363,100.82837957530502,"","","",434.83758810530793,"","",41.976295852454555,1470.7222793548347,35.128284613157611,278.24337248829511,211.54685025447168,"",128.45123646651285,"",103.38192210504778,114.25034193672676,79.350161416707905,559.92118818010556,"","",244.44361056498482,1104.051700549991,69.698617711566982,265.21385186225643,"",87.822427515737616,68.428368810673476,"",86.354335650109633,1052.8430180137896,"","",{"$f":"IF(BA$55=\"\",\"\",BA$90+BA$93)","v":177.67519120680265},{"$f":"IF(BB$55=\"\",\"\",BB$90+BB$93)","v":50.868207060340566},2869.1081423065648,2512.440428744138,"",213.42261349985802,476.89989800104144,107.53448020770719,78.013818288349711,128.04645962246377,111.62301534940605,219.70141475421494,"","","","","","","","","","","","","","","","","",149.75870834377253,"","","",125.63500184038071,"","","","",117.71475696790044]
[null,"TRANSPORTE COMERCIAL COM CAMINHAO BASCULANTE 6 M3, RODOVIA EM LEITO NATURAL",null,"m³xKm",{"$f":"IF(E55=\"\",\"\",E91*E78)","v":""},{"$f":"IF(F$55=\"\",\"\",F$91*F$78)","v":""},"","","","","","","","",1251.8279365356029,4910.4119958084711,4121.5399833467191,2576.5863442063082,1314.2993699320364,1008.2837957530502,"","","",4348.375881053079,"","",419.76295852454552,14707.222793548346,351.28284613157609,2782.4337248829511,2115.468502544717,"",1284.5123646651286,"",1033.8192210504778,1142.5034193672675,793.50161416707908,5599.2118818010558,"","",2444.4361056498483,11040.517005499911,696.98617711566976,2652.1385186225643,"",878.22427515737616,684.28368810673476,"",863.54335650109635,10528.430180137895,"","",{"$f":"IF(BA$55=\"\",\"\",BA$91*BA$78)","v":1776.7519120680265},{"$f":"IF(BB$55=\"\",\"\",BB$91*BB$78)","v":508.68207060340569},28691.081423065647,25124.404287441379,"",2134.2261349985802,4768.998980010414,1075.344802077072,780.13818288349717,1280.4645962246377,1116.2301534940605,2197.0141475421492,"","","","","","","","","","","","","","","","","",1497.5870834377251,"","","",1256.3500184038071,"","","","",1177.1475696790044]
[null,"ESCAVAÇÃO MANUAL DE VALAS.",null,"m³",{"$f":"IF(E55=\"\",\"\",E12*E76)","v":""},{"$f":"IF(F$55=\"\",\"\",F$12*F$76)","v":""},"","","","","","","","",68.893342153846163,462.59072999999972,383.75305933333391,228.84127200000006,123.57922500000005,87.749199187500039,"","","",111.71775979087455,"","",33.455574923076945,1435.2557399999985,27.704341800000023,272.31132599999978,187.99612500000003,"",85.665100500000108,"",63.981684000000008,72.641540652173987,67.309352615384654,{"$f":"IF(AL$55=\"\",\"\",AL$12*AL$76)","v":482.89751194444443},"","",148.57939685106385,1053.9579500000025,33.069276768421069,150.29743195945949,"",52.797859609756124,53.593275294117646,"",55.580612400000014,1033.8836699999995,"","",118.2962297263158,42.720693428571444,2832.4397849999996,2470.1232749999999,"",143.72818333333336,404.93546999999978,67.151215058823553,29.155042826086994,90.61170000000007,93.511301600000053,190.57972860000001,"","","","","",{"$f":"IF(BR$55=\"\",\"\",BR$12*BR$76)","v":""},"","","","","","","","","","","",66.324645000000004,"","","",49.7741891115108,"","","","",95.639950000000098]
[null,"REGULARIZACAO MANUAL",null,"m²",{"$f":"IF(E55=\"\",\"\",E12*E59)","v":""},{"$f":"IF(F$55=\"\",\"\",F$12*F$59)","v":""},"","","","","","","","",458.84640000000002,214.96320000000003,238.10560000000007,196.37760000000003,66.133100000000013,79.726700000000008,"","","",700.11850000000004,"","",70.585200000000015,303.98760000000004,50.307900000000004,48.610600000000005,140.64000000000001,"",329.20590000000004,"",295.55480000000006,301.64770000000004,123.37280000000003,{"$f":"IF(AL$55=\"\",\"\",AL$12*AL$59)","v":697.35950000000003},"","",675.26760000000002,490.21300000000008,187.69610000000003,747.60840000000007,"",223.58360000000002,119.59200000000001,"",216.3672,183.86780000000002,"","",446.84640000000007,63.513600000000011,205.88190000000006,321.82600000000002,"",601.8420000000001,507.02580000000006,313.64160000000004,161.73440000000005,262.95160000000004,116.26240000000001,265.36709999999999,"","","","","",{"$f":"IF(BR$55=\"\",\"\",BR$12*BR$59)","v":""},"","","","","","","","","","","",388.15949999999998,"","","",312.08010000000002,"","","","",171.64280000000002]
[null,"EXECUÇÃO DE LASTRO EM CONCRETO (1:2,5:6), PREPARO MANUAL",null,"m³",{"$f":"IF(E55=\"\",\"\",E12*E79)","v":""},{"$f":"IF(F$55=\"\",\"\",F$12*F$79)","v":""},"","","","","","","","",22.942320000000002,10.748160000000002,11.905280000000003,9.8188800000000018,3.3066550000000006,3.9863350000000004,"","","",35.005925000000005,"","",3.5292600000000007,15.199380000000003,2.5153950000000003,2.4305300000000001,7.0320000000000018,"",16.460295000000002,"",14.777740000000003,15.082385000000004,6.1686400000000017,{"$f":"IF(AL$55=\"\",\"\",AL$12*AL$79)","v":34.867975000000008},"","",33.763380000000005,24.510650000000005,9.3848050000000018,37.380420000000008,"",11.179180000000001,5.9796000000000014,"",10.818360000000002,9.1933900000000008,"","",22.342320000000004,3.1756800000000007,10.294095000000002,16.0913,"",30.092100000000002,25.351290000000002,15.682080000000001,8.0867200000000015,13.147580000000001,5.8131200000000014,13.268355,"","","","","",{"$f":"IF(BR$55=\"\",\"\",BR$12*BR$79)","v":""},"","","","","","","","","","","",19.407975,"","","",15.604005000000003,"","","","",8.5821400000000025]
[null,"FORMA PLANA METALICA PARA MURETA, UTILIZAÇÃO 20X",null,"m²",{"$f":"IF(E55=\"\",\"\",E12*E80)","v":""},{"$f":"IF(F$55=\"\",\"\",F$12*F$80)","v":""},"","","","","","","","",690.37439999999992,550.84319999999991,610.14559999999994,662.77440000000001,179.34400000000002,318.90679999999998,"","","",1762.096,"","",164.69880000000001,694.8288,157.48560000000001,126.12479999999999,544.98,"",687.03840000000002,"",641.41680000000008,745.64600000000007,262.16720000000004,{"$f":"IF(AL$55=\"\",\"\",AL$12*AL$80)","v":1473.0739999999998},"","",1543.4687999999999,980.42600000000004,484.68360000000001,1673.2187999999999,"",652.62239999999997,309.24799999999999,"",494.55359999999996,397.55200000000002,"","",1047.1551999999999,170.69279999999998,896.49840000000006,956.78,"",1138.6199999999999,1370.34,593.37599999999998,1111.9240000000002,710.68,421.45119999999997,553.80959999999993,"","","","","",{"$f":"IF(BR$55=\"\",\"\",BR$12*BR$80)","v":""},"","","","","","","","","","","",1327.6179999999997,"","","",1139.7708,"","","","",465.47200000000004]
[null,"JUNTA DE DILATAÇÃO EM MASTIQUE ELÁSTICO",null,"m",{"$f":"IF(E55=\"\",\"\",E12*E81)","v":""},{"$f":"IF(F$55=\"\",\"\",F$12*F$81)","v":""},"","","","","","","","",55.075599999999994,31.348799999999997,34.723733333333328,35.2866,9.807875000000001,16.102991666666664,"","","",109.47545833333335,"","",10.3637,44.029949999999992,8.6884416666666677,7.4448666666666661,28.201249999999998,"",42.542308333333331,"",42.446699999999993,46.602875000000004,15.742883333333333,{"$f":"IF(AL$55=\"\",\"\",AL$12*AL$81)","v":97.290791666666664},"","",97.806616666666656,62.932750000000013,29.104775,106.80119999999999,"",37.263933333333334,19.428666666666668,"",31.338899999999995,24.847000000000005,"","",68.080133333333336,9.5931999999999995,47.126975000000002,54.362499999999997,"",74.552499999999995,79.936499999999981,38.852000000000004,52.647916666666667,41.456333333333326,22.101966666666666,34.292608333333327,"","","","","",{"$f":"IF(BR$55=\"\",\"\",BR$12*BR$81)","v":""},"","","","","","","","","","","",71.725124999999977,"","","",60.682241666666663,"","","","",25.455500000000004]
[null,"ARMAÇÃO DE AÇO CA-60 DIAM. 3,4 A 6,0 MM - FORNECIMENTO / CORTE (C/ PERDA DE 10%) / DOBRA / COLOCAÇÃO",null,"Kg",{"$f":"IF(E55=\"\",\"\",E12*E86*'DADOS DE ENTRADA'!$E$36)","v":""},{"$f":"IF(F$55=\"\",\"\",F$12*F$86*'DADOS DE ENTRADA'!$E$36)","v":""},{"$f":"IF(G$55=\"\",\"\",G$12*G$86*'DADOS DE ENTRADA'!$E$36)","v":""},{"$f":"IF(H$55=\"\",\"\",H$12*H$86*'DADOS DE ENTRADA'!$E$36)","v":""},{"$f":"IF(I$55=\"\",\"\",I$12*I$86*'DADOS DE ENTRADA'!$E$36)","v":""},{"$f":"IF(J$55=\"\",\"\",J$12*J$86*'DADOS DE ENTRADA'!$E$36)","v":""},{"$f":"IF(K$55=\"\",\"\",K$12*K$86*'DADOS DE ENTRADA'!$E$36)","v":""},{"$f":"IF(L$55=\"\",\"\",L$12*L$86*'DADOS DE ENTRADA'!$E$36)","v":""},{"$f":"IF(M$55=\"\",\"\",M$12*M$86*'DADOS DE ENTRADA'!$E$36)","v":""},{"$f":"IF(N$55=\"\",\"\",N$12*N$86*'DADOS DE ENTRADA'!$E$36)","v":""},{"$f":"IF(O$55=\"\",\"\",O$12*O$86*'DADOS DE ENTRADA'!$E$36)","v":5530.4959418181825},{"$f":"IF(P$55=\"\",\"\",P$12*P$86*'DADOS DE ENTRADA'!$E$36)","v":3240.2771083636367},{"$f":"IF(Q$55=\"\",\"\",Q$12*Q$86*'DADOS DE ENTRADA'!$E$36)","v":3428.3959505454541},{"$f":"IF(R$55=\"\",\"\",R$12*R$86*'DADOS DE ENTRADA'!$E$36)","v":3401.9741323636358},{"$f":"IF(S$55=\"\",\"\",S$12*S$86*'DADOS DE ENTRADA'!$E$36)","v":1046.8390800000002},{"$f":"IF(T$55=\"\",\"\",T$12*T$86*'DADOS DE ENTRADA'!$E$36)","v":1262.0159236363638},{"$f":"IF(U$55=\"\",\"\",U$12*U$86*'DADOS DE ENTRADA'!$E$36)","v":""},{"$f":"IF(V$55=\"\",\"\",V$12*V$86*'DADOS DE ENTRADA'!$E$36)","v":""},{"$f":"IF(W$55=\"\",\"\",W$12*W$86*'DADOS DE ENTRADA'!$E$36)","v":""},{"$f":"IF(X$55=\"\",\"\",X$12*X$86*'DADOS DE ENTRADA'!$E$36)","v":10612.223160000001},{"$f":"IF(Y$55=\"\",\"\",Y$12*Y$86*'DADOS DE ENTRADA'!$E$36)","v":""},{"$f":"IF(Z$55=\"\",\"\",Z$12*Z$86*'DADOS DE ENTRADA'!$E$36)","v":""},{"$f":"IF(AA$55=\"\",\"\",AA$12*AA$86*'DADOS DE ENTRADA'!$E$36)","v":1035.1273745454546},{"$f":"IF(AB$55=\"\",\"\",AB$12*AB$86*'DADOS DE ENTRADA'!$E$36)","v":4457.9584145454537},{"$f":"IF(AC$55=\"\",\"\",AC$12*AC$86*'DADOS DE ENTRADA'!$E$36)","v":830.80812436363635},{"$f":"IF(AD$55=\"\",\"\",AD$12*AD$86*'DADOS DE ENTRADA'!$E$36)","v":626.86892072727267},{"$f":"IF(AE$55=\"\",\"\",AE$12*AE$86*'DADOS DE ENTRADA'!$E$36)","v":2689.5482181818179},{"$f":"IF(AF$55=\"\",\"\",AF$12*AF$86*'DADOS DE ENTRADA'!$E$36)","v":""},{"$f":"IF(AG$55=\"\",\"\",AG$12*AG$86*'DADOS DE ENTRADA'!$E$36)","v":5093.1405752727269},{"$f":"IF(AH$55=\"\",\"\",AH$12*AH$86*'DADOS DE ENTRADA'!$E$36)","v":""},{"$f":"IF(AI$55=\"\",\"\",AI$12*AI$86*'DADOS DE ENTRADA'!$E$36)","v":4066.7883141818184},{"$f":"IF(AJ$55=\"\",\"\",AJ$12*AJ$86*'DADOS DE ENTRADA'!$E$36)","v":4669.9131120000002},{"$f":"IF(AK$55=\"\",\"\",AK$12*AK$86*'DADOS DE ENTRADA'!$E$36)","v":1804.1589643636364},{"$f":"IF(AL$55=\"\",\"\",AL$12*AL$86*'DADOS DE ENTRADA'!$E$36)","v":10457.57172},{"$f":"IF(AM$55=\"\",\"\",AM$12*AM$86*'DADOS DE ENTRADA'!$E$36)","v":""},{"$f":"IF(AN$55=\"\",\"\",AN$12*AN$86*'DADOS DE ENTRADA'!$E$36)","v":""},{"$f":"IF(AO$55=\"\",\"\",AO$12*AO$86*'DADOS DE ENTRADA'!$E$36)","v":10828.836785454545},{"$f":"IF(AP$55=\"\",\"\",AP$12*AP$86*'DADOS DE ENTRADA'!$E$36)","v":6989.4015490909096},{"$f":"IF(AQ$55=\"\",\"\",AQ$12*AQ$86*'DADOS DE ENTRADA'!$E$36)","v":2750.9811730909096},{"$f":"IF(AR$55=\"\",\"\",AR$12*AR$86*'DADOS DE ENTRADA'!$E$36)","v":11091.790080000001},{"$f":"IF(AS$55=\"\",\"\",AS$12*AS$86*'DADOS DE ENTRADA'!$E$36)","v":""},{"$f":"IF(AT$55=\"\",\"\",AT$12*AT$86*'DADOS DE ENTRADA'!$E$36)","v":3448.878658909091},{"$f":"IF(AU$55=\"\",\"\",AU$12*AU$86*'DADOS DE ENTRADA'!$E$36)","v":1599.6467781818183},{"$f":"IF(AV$55=\"\",\"\",AV$12*AV$86*'DADOS DE ENTRADA'!$E$36)","v":""},{"$f":"IF(AW$55=\"\",\"\",AW$12*AW$86*'DADOS DE ENTRADA'!$E$36)","v":3284.2854981818182},{"$f":"IF(AX$55=\"\",\"\",AX$12*AX$86*'DADOS DE ENTRADA'!$E$36)","v":2550.0069512727273},{"$f":"IF(AY$55=\"\",\"\",AY$12*AY$86*'DADOS DE ENTRADA'!$E$36)","v":""},{"$f":"IF(AZ$55=\"\",\"\",AZ$12*AZ$86*'DADOS DE ENTRADA'!$E$36)","v":""},{"$f":"IF(BA$55=\"\",\"\",BA$12*BA$86*'DADOS DE ENTRADA'!$E$36)","v":5846.9666792727276},{"$f":"IF(BB$55=\"\",\"\",BB$12*BB$86*'DADOS DE ENTRADA'!$E$36)","v":928.79979054545447},{"$f":"IF(BC$55=\"\",\"\",BC$12*BC$86*'DADOS DE ENTRADA'!$E$36)","v":2904.9391178181822},{"$f":"IF(BD$55=\"\",\"\",BD$12*BD$86*'DADOS DE ENTRADA'!$E$36)","v":4212.8051345454542},{"$f":"IF(BE$55=\"\",\"\",BE$12*BE$86*'DADOS DE ENTRADA'!$E$36)","v":""},{"$f":"IF(BF$55=\"\",\"\",BF$12*BF$86*'DADOS DE ENTRADA'!$E$36)","v":9283.6864145454547},{"$f":"IF(BG$55=\"\",\"\",BG$12*BG$86*'DADOS DE ENTRADA'!$E$36)","v":7031.7875912727268},{"$f":"IF(BH$55=\"\",\"\",BH$12*BH$86*'DADOS DE ENTRADA'!$E$36)","v":4349.8005643636361},{"$f":"IF(BI$55=\"\",\"\",BI$12*BI$86*'DADOS DE ENTRADA'!$E$36)","v":2692.657213090909},{"$f":"IF(BJ$55=\"\",\"\",BJ$12*BJ$86*'DADOS DE ENTRADA'!$E$36)","v":3902.6410734545452},{"$f":"IF(BK$55=\"\",\"\",BK$12*BK$86*'DADOS DE ENTRADA'!$E$36)","v":1883.2923403636364},{"$f":"IF(BL$55=\"\",\"\",BL$12*BL$86*'DADOS DE ENTRADA'!$E$36)","v":3551.6816574545451},{"$f":"IF(BM$55=\"\",\"\",BM$12*BM$86*'DADOS DE ENTRADA'!$E$36)","v":""},{"$f":"IF(BN$55=\"\",\"\",BN$12*BN$86*'DADOS DE ENTRADA'!$E$36)","v":""},{"$f":"IF(BO$55=\"\",\"\",BO$12*BO$86*'DADOS DE ENTRADA'!$E$36)","v":""},{"$f":"IF(BP$55=\"\",\"\",BP$12*BP$86*'DADOS DE ENTRADA'!$E$36)","v":""},{"$f":"IF(BQ$55=\"\",\"\",BQ$12*BQ$86*'DADOS DE ENTRADA'!$E$36)","v":""},{"$f":"IF(BR$55=\"\",\"\",BR$12*BR$86*'DADOS DE ENTRADA'!$E$36)","v":""},{"$f":"IF(BS$55=\"\",\"\",BS$12*BS$86*'DADOS DE ENTRADA'!$E$36)","v":""},{"$f":"IF(BT$55=\"\",\"\",BT$12*BT$86*'DADOS DE ENTRADA'!$E$36)","v":""},{"$f":"IF(BU$55=\"\",\"\",BU$12*BU$86*'DADOS DE ENTRADA'!$E$36)","v":""},{"$f":"IF(BV$55=\"\",\"\",BV$12*BV$86*'DADOS DE ENTRADA'!$E$36)","v":""},{"$f":"IF(BW$55=\"\",\"\",BW$12*BW$86*'DADOS DE ENTRADA'!$E$36)","v":""},{"$f":"IF(BX$55=\"\",\"\",BX$12*BX$86*'DADOS DE ENTRADA'!$E$36)","v":""},{"$f":"IF(BY$55=\"\",\"\",BY$12*BY$86*'DADOS DE ENTRADA'!$E$36)","v":""},{"$f":"IF(BZ$55=\"\",\"\",BZ$12*BZ$86*'DADOS DE ENTRADA'!$E$36)","v":""},{"$f":"IF(CA$55=\"\",\"\",CA$12*CA$86*'DADOS DE ENTRADA'!$E$36)","v":""},{"$f":"IF(CB$55=\"\",\"\",CB$12*CB$86*'DADOS DE ENTRADA'!$E$36)","v":""},{"$f":"IF(CC$55=\"\",\"\",CC$12*CC$86*'DADOS DE ENTRADA'!$E$36)","v":""},{"$f":"IF(CD$55=\"\",\"\",CD$12*CD$86*'DADOS DE ENTRADA'!$E$36)","v":6410.2470218181807},{"$f":"IF(CE$55=\"\",\"\",CE$12*CE$86*'DADOS DE ENTRADA'!$E$36)","v":""},{"$f":"IF(CF$55=\"\",\"\",CF$12*CF$86*'DADOS DE ENTRADA'!$E$36)","v":""},{"$f":"IF(CG$55=\"\",\"\",CG$12*CG$86*'DADOS DE ENTRADA'!$E$36)","v":""},{"$f":"IF(CH$55=\"\",\"\",CH$12*CH$86*'DADOS DE ENTRADA'!$E$36)","v":5414.3553665454547},{"$f":"IF(CI$55=\"\",\"\",CI$12*CI$86*'DADOS DE ENTRADA'!$E$36)","v":""},{"$f":"IF(CJ$55=\"\",\"\",CJ$12*CJ$86*'DADOS DE ENTRADA'!$E$36)","v":""},{"$f":"IF(CK$55=\"\",\"\",CK$12*CK$86*'DADOS DE ENTRADA'!$E$36)","v":""},{"$f":"IF(CL$55=\"\",\"\",CL$12*CL$86*'DADOS DE ENTRADA'!$E$36)","v":""},{"$f":"IF(CM$55=\"\",\"\",CM$12*CM$86*'DADOS DE ENTRADA'!$E$36)","v":2716.9812218181823}]
[null,"CONCRETO FCK=20MPA PARA REVESTIMENTO DE CANAIS, INCLUINDO PREPARO MECANICO, LANCAMENTO E ADENSAMENTO (INCLUSIVE INSTALAÇÃO DE GABARITOS)",null,"m³",{"$f":"IF(E55=\"\",\"\",E12*E86)","v":""},{"$f":"IF(F$55=\"\",\"\",F$12*F$86)","v":""},"","","","","","","","",92.174932363636373,54.00461847272728,57.139932509090904,56.699568872727262,17.447318000000003,21.033598727272732,"","","",176.87038600000002,"","",17.252122909090911,74.299306909090902,13.846802072727272,10.447815345454545,44.825803636363631,"",84.885676254545444,"",67.779805236363643,77.831885200000002,30.069316072727272,{"$f":"IF(AL$55=\"\",\"\",AL$12*AL$86)","v":174.29286200000001},"","",180.48061309090909,116.49002581818183,45.849686218181823,184.863168,"",57.481310981818183,26.660779636363639,"",54.738091636363635,42.500115854545456,"","",97.449444654545459,15.479996509090908,48.415651963636371,70.213418909090905,"",154.72810690909091,117.19645985454545,72.496676072727269,44.877620218181818,65.044017890909089,31.388205672727274,59.194694290909084,"","","","","",{"$f":"IF(BR$55=\"\",\"\",BR$12*BR$86)","v":""},"","","","","","","","","","","",106.83745036363635,"","","",90.239256109090917,"","","","",45.283020363636375]
[null,"TRELIÇA DE SUSTENTAÇÃO VERTICAL COM ESPAÇAMENTO 5,50 M",null,"m",{"$f":"IF(E55=\"\",\"\",E12*E82)","v":""},{"$f":"IF(F$55=\"\",\"\",F$12*F$82)","v":""},"","","","","","","","",78.068945454545457,62.290472727272729,68.9965090909091,71.410036363636351,20.380000000000003,33.905345454545454,"","","",188.79600000000002,"","",18.028254545454544,76.325890909090901,16.968145454545454,13.85461818181818,57.534545454545444,"",79.807490909090916,"",69.744072727272723,80.110727272727274,30.843200000000007,{"$f":"IF(AL$55=\"\",\"\",AL$12*AL$82)","v":162.40854545454542},"","",169.54770909090908,113.21872727272728,52.701781818181814,184.47479999999999,"",70.316218181818172,32.506181818181815,"",54.325963636363632,45.176363636363639,"","",111.60901818181817,19.126254545454547,90.976581818181813,102.79454545454544,"",133.08545454545452,149.49163636363636,69.35563636363635,110.27345454545457,77.528727272727266,44.919563636363634,64.331418181818179,"","","","","",{"$f":"IF(BR$55=\"\",\"\",BR$12*BR$82)","v":""},"","","","","","","","","","","",141.14890909090909,"","","",120.06243636363637,"","","","",52.894545454545458]
[null,"REATERRO COM COMPACTACAO MECANIZADA",null,"m³",{"$f":"IF(E55=\"\",\"\",E12*E87)","v":""},{"$f":"IF(F$55=\"\",\"\",F$12*F$87)","v":""},"","","","","","","","",18.188710153846149,403.49264399999976,301.51361733333374,149.67655200000007,99.087560000000039,51.87218418749999,"","","",1011.0947047908747,"","",11.956499423076933,1329.7286159999987,11.496448800000007,253.82615999999982,129.43274999999994,"",25.978639500000046,"",20.450235000000003,9.6852931521739158,27.502347615384629,{"$f":"IF(AL$55=\"\",\"\",AL$12*AL$87)","v":254.92363944444438},"","",62.723944851063813,897.08979000000215,56.109567018421053,102.99340045945944,"",22.523431609756098,9.3683952941176472,"",20.652764400000002,967.04523999999947,"","",29.017221726315796,22.738719428571436,2701.8220529999994,2327.3673499999991,"",22.139833333333318,268.92922499999986,19.363255058823526,25.743457826086956,26.295160000000028,46.570357600000037,115.46930160000004,"","","","","",{"$f":"IF(BR$55=\"\",\"\",BR$12*BR$87)","v":""},"","","","","","","","","","","",140.86251999999999,"","","",166.80422661151079,"","","","",44.292570000000033]

{"sheet":"M, CÁL. DIQUE ITIUBA","index":10,"n_rows":679,"n_cols":23,"rows_kept":679,"cut":false,"hidden":false,"merged":[[0,2,3,13],[4,2,4,13],[13,5,13,6],[13,7,13,8],[13,9,13,10],[13,11,13,12],[14,3,15,3],[14,4,15,4],[14,5,14,6],[14,7,14,8],[14,9,14,10],[14,11,14,12],[18,3,19,3],[18,4,19,4],[19,5,20,6],[19,7,20,8],[19,9,20,10],[19,11,20,12],[20,3,21,3],[20,4,21,4],[21,5,22,6],[21,7,22,8],[15,5,16,6],[15,7,16,8],[15,9,16,10],[15,11,16,12],[16,3,17,3],[16,4,17,4],[17,5,18,6],[17,7,18,8],[17,9,18,10],[17,11,18,12],[29,5,30,6],[29,7,30,8],[29,9,30,10],[29,11,30,12],[30,3,31,3],[30,4,31,4],[31,5,32,6],[31,7,32,8],[25,5,26,6],[25,7,26,8],[25,9,26,10],[25,11,26,12],[26,3,27,3],[26,4,27,4],[27,5,28,6],[27,7,28,8],[27,9,28,10],[27,11,28,12],[21,9,22,10],[21,11,22,12],[22,3,23,3],[22,4,23,4],[23,5,24,6],[23,7,24,8],[23,9,24,10],[23,11,24,12],[24,3,25,3],[24,4,25,4],[35,5,36,6],[35,7,36,8],[35,9,36,10],[35,11,36,12],[36,3,37,3],[36,4,37,4],[37,5,38,6],[37,7,38,8],[37,9,38,10],[37,11,38,12],[31,9,32,10],[31,11,32,12],[32,3,33,3],[32,4,33,4],[33,5,34,6],[33,7,34,8],[33,9,34,10],[33,11,34,12],[34,3,35,3],[34,4,35,4],[28,3,29,3],[28,4,29,4],[41,9,42,10],[41,11,42,12],[42,3,43,3],[42,4,43,4],[43,5,44,6],[43,7,44,8],[43,9,44,10],[43,11,44,12],[44,3,45,3],[44,4,45,4],[38,3,39,3],[38,4,39,4],[39,5,40,6],[39,7,40,8],[39,9,40,10],[39,11,40,12],[40,3,41,3],[40,4,41,4],[41,5,42,6],[41,7,42,8],[53,3,54,3],[53,4,54,4],[53,5,53,6],[53,7,53,8],[53,9,53,10],[53,11,53,12],[54,5,55,6],[54,7,55,8],[54,9,55,10],[54,11,55,12],[48,3,48,10],[52,5,52,6],[52,7,52,8],[52,9,52,10],[52,11,52,12],[45,5,46,6],[45,7,46,8],[45,9,46,10],[45,11,46,12],[46,3,47,3],[46,4,47,4],[47,5,47,6],[47,7,47,8],[47,9,47,10],[47,11,47,12],[58,9,59,10],[58,11,59,12],[59,3,60,3],[59,4,60,4],[60,5,61,6],[60,7,61,8],[60,9,61,10],[60,11,61,12],[61,3,62,3],[61,4,62,4],[55,3,56,3],[55,4,56,4],[56,5,57,6],[56,7,57,8],[56,9,57,10],[56,11,57,12],[57,3,58,3],[57,4,58,4],[58,5,59,6],[58,7,59,8],[65,3,66,3],[65,4,66,4],[66,5,67,6],[66,7,67,8],[66,9,67,10],[66,11,67,12],[67,3,68,3],[67,4,68,4],[68,5,69,6],[68,7,69,8],[62,5,63,6],[62,7,63,8],[62,9,63,10],[62,11,63,12],[63,3,64,3],[63,4,64,4],[64,5,65,6],[64,7,65,8],[64,9,65,10],[64,11,65,12],[72,5,73,6],[72,7,73,8],[72,9,73,10],[72,11,73,12],[73,3,74,3],[73,4,74,4],[74,5,75,6],[74,7,75,8],[74,9,75,10],[74,11,75,12],[68,9,69,10],[68,11,69,12],[69,3,70,3],[69,4,70,4],[70,5,71,6],[70,7,71,8],[70,9,71,10],[70,11,71,12],[71,3,72,3],[71,4,72,4],[78,9,79,10],[78,11,79,12],[79,3,80,3],[79,4,80,4],[80,5,81,6],[80,7,81,8],[80,9,81,10],[80,11,81,12],[81,3,82,3],[81,4,82,4],[75,3,76,3],[75,4,76,4],[76,5,77,6],[76,7,77,8],[76,9,77,10],[76,11,77,12],[77,3,78,3],[77,4,78,4],[78,5,79,6],[78,7,79,8],[87,3,87,10],[153,5,153,6],[153,7,153,8],[153,9,153,10],[153,11,153,12],[85,3,86,3],[85,4,86,4],[86,5,86,6],[86,7,86,8],[86,9,86,10],[86,11,86,12],[82,5,83,6],[82,7,83,8],[82,9,83,10],[82,11,83,12],[83,3,84,3],[83,4,84,4],[84,5,85,6],[84,7,85,8],[84,9,85,10],[84,11,85,12],[156,3,157,3],[156,4,157,4],[157,5,158,6],[157,7,158,8],[157,9,158,10],[157,11,158,12],[158,3,159,3],[158,4,159,4],[159,5,160,6],[159,7,160,8],[154,3,155,3],[154,4,155,4],[154,5,154,6],[154,7,154,8],[154,9,154,10],[154,11,154,12],[155,5,156,6],[155,7,156,8],[155,9,156,10],[155,11,156,12],[163,5,164,6],[163,7,164,8],[163,9,164,10],[163,11,164,12],[164,3,165,3],[164,4,165,4],[165,5,166,6],[165,7,166,8],[165,9,166,10],[165,11,166,12],[159,9,160,10],[159,11,160,12],[160,3,161,3],[160,4,161,4],[161,5,162,6],[161,7,162,8],[161,9,162,10],[161,11,162,12],[162,3,163,3],[162,4,163,4],[169,9,170,10],[169,11,170,12],[170,3,171,3],[170,4,171,4],[171,5,172,6],[171,7,172,8],[171,9,172,10],[171,11,172,12],[172,3,173,3],[172,4,173,4],[166,3,167,3],[166,4,167,4],[167,5,168,6],[167,7,168,8],[167,9,168,10],[167,11,168,12],[168,3,169,3],[168,4,169,4],[169,5,170,6],[169,7,170,8],[176,3,177,3],[176,4,177,4],[177,5,178,6],[177,7,178,8],[177,9,178,10],[177,11,178,12],[178,3,179,3],[178,4,179,4],[179,5,180,6],[179,7,180,8],[173,5,174,6],[173,7,174,8],[173,9,174,10],[173,11,174,12],[174,3,175,3],[174,4,175,4],[175,5,176,6],[175,7,176,8],[175,9,176,10],[175,11,176,12],[183,5,184,6],[183,7,184,8],[183,9,184,10],[183,11,184,12],[184,3,185,3],[184,4,185,4],[185,5,186,6],[185,7,186,8],[185,9,186,10],[185,11,186,12],[179,9,180,10],[179,11,180,12],[180,3,181,3],[180,4,181,4],[181,5,182,6],[181,7,182,8],[181,9,182,10],[181,11,182,12],[182,3,183,3],[182,4,183,4],[204,3,205,3],[204,4,205,4],[204,5,204,6],[204,7,204,8],[204,9,204,10],[204,11,204,12],[205,5,206,6],[205,7,206,8],[205,9,206,10],[205,11,206,12],[188,3,188,10],[188,11,188,12],[203,5,203,6],[203,7,203,8],[203,9,203,10],[203,11,203,12],[186,3,187,3],[186,4,187,4],[187,5,187,6],[187,7,187,8],[187,9,187,10],[187,11,187,12],[209,9,210,10],[209,11,210,12],[210,3,211,3],[210,4,211,4],[211,5,212,6],[211,7,212,8],[211,9,212,10],[211,11,212,12],[212,3,213,3],[212,4,213,4],[206,3,207,3],[206,4,207,4],[207,5,208,6],[207,7,208,8],[207,9,208,10],[207,11,208,12],[208,3,209,3],[208,4,209,4],[209,5,210,6],[209,7,210,8],[216,3,217,3],[216,4,217,4],[217,5,218,6],[217,7,218,8],[217,9,218,10],[217,11,218,12],[218,3,219,3],[218,4,219,4],[219,5,220,6],[219,7,220,8],[213,5,214,6],[213,7,214,8],[213,9,214,10],[213,11,214,12],[214,3,215,3],[214,4,215,4],[215,5,216,6],[215,7,216,8],[215,9,216,10],[215,11,216,12],[223,5,224,6],[223,7,224,8],[223,9,224,10],[223,11,224,12],[224,3,225,3],[224,4,225,4],[225,5,226,6],[225,7,226,8],[225,9,226,10],[225,11,226,12],[219,9,220,10],[219,11,220,12],[220,3,221,3],[220,4,221,4],[221,5,222,6],[221,7,222,8],[221,9,222,10],[221,11,222,12],[222,3,223,3],[222,4,223,4],[229,9,230,10],[229,11,230,12],[230,3,231,3],[230,4,231,4],[231,5,232,6],[231,7,232,8],[231,9,232,10],[231,11,232,12],[232,3,233,3],[232,4,233,4],[226,3,227,3],[226,4,227,4],[227,5,228,6],[227,7,228,8],[227,9,228,10],[227,11,228,12],[228,3,229,3],[228,4,229,4],[229,5,230,6],[229,7,230,8],[238,3,238,10],[238,11,238,12],[315,5,315,6],[315,7,315,8],[315,9,315,10],[315,11,315,12],[236,3,237,3],[236,4,237,4],[237,5,237,6],[237,7,237,8],[237,9,237,10],[237,11,237,12],[233,5,234,6],[233,7,234,8],[233,9,234,10],[233,11,234,12],[234,3,235,3],[234,4,235,4],[235,5,236,6],[235,7,236,8],[235,9,236,10],[235,11,236,12],[318,3,319,3],[318,4,319,4],[319,5,320,6],[319,7,320,8],[319,9,320,10],[319,11,320,12],[320,3,321,3],[320,4,321,4],[321,5,322,6],[321,7,322,8],[316,3,317,3],[316,4,317,4],[316,5,316,6],[316,7,316,8],[316,9,316,10],[316,11,316,12],[317,5,318,6],[317,7,318,8],[317,9,318,10],[317,11,318,12],[325,5,326,6],[325,7,326,8],[325,9,326,10],[325,11,326,12],[326,3,327,3],[326,4,327,4],[327,5,328,6],[327,7,328,8],[327,9,328,10],[327,11,328,12],[321,9,322,10],[321,11,322,12],[322,3,323,3],[322,4,323,4],[323,5,324,6],[323,7,324,8],[323,9,324,10],[323,11,324,12],[324,3,325,3],[324,4,325,4],[331,9,332,10],[331,11,332,12],[332,3,333,3],[332,4,333,4],[333,5,334,6],[333,7,334,8],[333,9,334,10],[333,11,334,12],[334,3,335,3],[334,4,335,4],[328,3,329,3],[328,4,329,4],[329,5,330,6],[329,7,330,8],[329,9,330,10],[329,11,330,12],[330,3,331,3],[330,4,331,4],[331,5,332,6],[331,7,332,8],[338,3,339,3],[338,4,339,4],[339,5,340,6],[339,7,340,8],[339,9,340,10],[339,11,340,12],[340,3,341,3],[340,4,341,4],[341,5,342,6],[341,7,342,8],[335,5,336,6],[335,7,336,8],[335,9,336,10],[335,11,336,12],[336,3,337,3],[336,4,337,4],[337,5,338,6],[337,7,338,8],[337,9,338,10],[337,11,338,12],[345,5,346,6],[345,7,346,8],[345,9,346,10],[345,11,346,12],[346,3,347,3],[346,4,347,4],[347,5,348,6],[347,7,348,8],[347,9,348,10],[347,11,348,12],[341,9,342,10],[341,11,342,12],[342,3,343,3],[342,4,343,4],[343,5,344,6],[343,7,344,8],[343,9,344,10],[343,11,344,12],[344,3,345,3],[344,4,345,4],[351,9,352,10],[351,11,352,12],[352,3,353,3],[352,4,353,4],[353,5,354,6],[353,7,354,8],[353,9,354,10],[353,11,354,12],[354,3,355,3],[354,4,355,4],[348,3,349,3],[348,4,349,4],[349,5,350,6],[349,7,350,8],[349,9,350,10],[349,11,350,12],[350,3,351,3],[350,4,351,4],[351,5,352,6],[351,7,352,8],[358,3,359,3],[358,4,359,4],[359,5,360,6],[359,7,360,8],[359,9,360,10],[359,11,360,12],[360,3,361,3],[360,4,361,4],[361,5,362,6],[361,7,362,8],[355,5,356,6],[355,7,356,8],[355,9,356,10],[355,11,356,12],[356,3,357,3],[356,4,357,4],[357,5,358,6],[357,7,358,8],[357,9,358,10],[357,11,358,12],[365,5,366,6],[365,7,366,8],[365,9,366,10],[365,11,366,12],[366,3,367,3],[366,4,367,4],[367,5,368,6],[367,7,368,8],[367,9,368,10],[367,11,368,12],[361,9,362,10],[361,11,362,12],[362,3,363,3],[362,4,363,4],[363,5,364,6],[363,7,364,8],[363,9,364,10],[363,11,364,12],[364,3,365,3],[364,4,365,4],[376,3,376,10],[376,11,376,12],[380,5,380,6],[380,7,380,8],[380,9,380,10],[380,11,380,12],[371,9,372,10],[371,11,372,12],[372,3,373,3],[372,4,373,4],[373,5,374,6],[373,7,374,8],[373,9,374,10],[373,11,374,12],[374,3,375,3],[374,4,375,4],[368,3,369,3],[368,4,369,4],[369,5,370,6],[369,7,370,8],[369,9,370,10],[369,11,370,12],[370,3,371,3],[370,4,371,4],[371,5,372,6],[371,7,372,8],[383,3,384,3],[383,4,384,4],[384,5,385,6],[384,7,385,8],[384,9,385,10],[384,11,385,12],[385,3,386,3],[385,4,386,4],[386,5,387,6],[386,7,387,8],[381,3,382,3],[381,4,382,4],[381,5,381,6],[381,7,381,8],[381,9,381,10],[381,11,381,12],[382,5,383,6],[382,7,383,8],[382,9,383,10],[382,11,383,12],[390,5,391,6],[390,7,391,8],[390,9,391,10],[390,11,391,12],[391,3,392,3],[391,4,392,4],[392,5,393,6],[392,7,393,8],[392,9,393,10],[392,11,393,12],[386,9,387,10],[386,11,387,12],[387,3,388,3],[387,4,388,4],[388,5,389,6],[388,7,389,8],[388,9,389,10],[388,11,389,12],[389,3,390,3],[389,4,390,4],[396,9,397,10],[396,11,397,12],[397,3,398,3],[397,4,398,4],[398,5,399,6],[398,7,399,8],[398,9,399,10],[398,11,399,12],[399,3,400,3],[399,4,400,4],[393,3,394,3],[393,4,394,4],[394,5,395,6],[394,7,395,8],[394,9,395,10],[394,11,395,12],[395,3,396,3],[395,4,396,4],[396,5,397,6],[396,7,397,8],[403,3,404,3],[403,4,404,4],[404,5,405,6],[404,7,405,8],[404,9,405,10],[404,11,405,12],[405,3,406,3],[405,4,406,4],[406,5,407,6],[406,7,407,8],[400,5,401,6],[400,7,401,8],[400,9,401,10],[400,11,401,12],[401,3,402,3],[401,4,402,4],[402,5,403,6],[402,7,403,8],[402,9,403,10],[402,11,403,12],[410,5,411,6],[410,7,411,8],[410,9,411,10],[410,11,411,12],[411,3,412,3],[411,4,412,4],[412,5,413,6],[412,7,413,8],[412,9,413,10],[412,11,413,12],[406,9,407,10],[406,11,407,12],[407,3,408,3],[407,4,408,4],[408,5,409,6],[408,7,409,8],[408,9,409,10],[408,11,409,12],[409,3,410,3],[409,4,410,4],[416,9,417,10],[416,11,417,12],[417,3,418,3],[417,4,418,4],[418,5,419,6],[418,7,419,8],[418,9,419,10],[418,11,419,12],[419,3,420,3],[419,4,420,4],[413,3,414,3],[413,4,414,4],[414,5,415,6],[414,7,415,8],[414,9,415,10],[414,11,415,12],[415,3,416,3],[415,4,416,4],[416,5,417,6],[416,7,417,8],[423,3,424,3],[423,4,424,4],[424,5,425,6],[424,7,425,8],[424,9,425,10],[424,11,425,12],[425,3,426,3],[425,4,426,4],[426,5,427,6],[426,7,427,8],[420,5,421,6],[420,7,421,8],[420,9,421,10],[420,11,421,12],[421,3,422,3],[421,4,422,4],[422,5,423,6],[422,7,423,8],[422,9,423,10],[422,11,423,12],[430,5,431,6],[430,7,431,8],[430,9,431,10],[430,11,431,12],[431,3,432,3],[431,4,432,4],[432,5,433,6],[432,7,433,8],[432,9,433,10],[432,11,433,12],[426,9,427,10],[426,11,427,12],[427,3,428,3],[427,4,428,4],[428,5,429,6],[428,7,429,8],[428,9,429,10],[428,11,429,12],[429,3,430,3],[429,4,430,4],[441,3,441,10],[441,11,441,12],[503,5,503,6],[503,7,503,8],[503,9,503,10],[503,11,503,12],[436,9,437,10],[436,11,437,12],[437,3,438,3],[437,4,438,4],[438,5,439,6],[438,7,439,8],[438,9,439,10],[438,11,439,12],[439,3,440,3],[439,4,440,4],[433,3,434,3],[433,4,434,4],[434,5,435,6],[434,7,435,8],[434,9,435,10],[434,11,435,12],[435,3,436,3],[435,4,436,4],[436,5,437,6],[436,7,437,8],[506,3,507,3],[506,4,507,4],[507,5,508,6],[507,7,508,8],[507,9,508,10],[507,11,508,12],[508,3,509,3],[508,4,509,4],[509,5,510,6],[509,7,510,8],[504,3,505,3],[504,4,505,4],[504,5,504,6],[504,7,504,8],[504,9,504,10],[504,11,504,12],[505,5,506,6],[505,7,506,8],[505,9,506,10],[505,11,506,12],[513,5,514,6],[513,7,514,8],[513,9,514,10],[513,11,514,12],[514,3,515,3],[514,4,515,4],[515,5,516,6],[515,7,516,8],[515,9,516,10],[515,11,516,12],[509,9,510,10],[509,11,510,12],[510,3,511,3],[510,4,511,4],[511,5,512,6],[511,7,512,8],[511,9,512,10],[511,11,512,12],[512,3,513,3],[512,4,513,4],[519,9,520,10],[519,11,520,12],[520,3,521,3],[520,4,521,4],[521,5,522,6],[521,7,522,8],[521,9,522,10],[521,11,522,12],[522,3,523,3],[522,4,523,4],[516,3,517,3],[516,4,517,4],[517,5,518,6],[517,7,518,8],[517,9,518,10],[517,11,518,12],[518,3,519,3],[518,4,519,4],[519,5,520,6],[519,7,520,8],[526,3,527,3],[526,4,527,4],[527,5,528,6],[527,7,528,8],[527,9,528,10],[527,11,528,12],[528,3,529,3],[528,4,529,4],[529,5,530,6],[529,7,530,8],[523,5,524,6],[523,7,524,8],[523,9,524,10],[523,11,524,12],[524,3,525,3],[524,4,525,4],[525,5,526,6],[525,7,526,8],[525,9,526,10],[525,11,526,12],[533,5,534,6],[533,7,534,8],[533,9,534,10],[533,11,534,12],[534,3,535,3],[534,4,535,4],[535,5,536,6],[535,7,536,8],[535,9,536,10],[535,11,536,12],[529,9,530,10],[529,11,530,12],[530,3,531,3],[530,4,531,4],[531,5,532,6],[531,7,532,8],[531,9,532,10],[531,11,532,12],[532,3,533,3],[532,4,533,4],[539,9,540,10],[539,11,540,12],[540,3,541,3],[540,4,541,4],[541,5,542,6],[541,7,542,8],[541,9,542,10],[541,11,542,12],[542,3,543,3],[542,4,543,4],[536,3,537,3],[536,4,537,4],[537,5,538,6],[537,7,538,8],[537,9,538,10],[537,11,538,12],[538,3,539,3],[538,4,539,4],[539,5,540,6],[539,7,540,8],[546,3,547,3],[546,4,547,4],[547,5,548,6],[547,7,548,8],[547,9,548,10],[547,11,548,12],[548,3,549,3],[548,4,549,4],[549,5,550,6],[549,7,550,8],[543,5,544,6],[543,7,544,8],[543,9,544,10],[543,11,544,12],[544,3,545,3],[544,4,545,4],[545,5,546,6],[545,7,546,8],[545,9,546,10],[545,11,546,12],[553,5,554,6],[553,7,554,8],[553,9,554,10],[553,11,554,12],[554,3,555,3],[554,4,555,4],[555,5,556,6],[555,7,556,8],[555,9,556,10],[555,11,556,12],[549,9,550,10],[549,11,550,12],[550,3,551,3],[550,4,551,4],[551,5,552,6],[551,7,552,8],[551,9,552,10],[551,11,552,12],[552,3,553,3],[552,4,553,4],[564,3,564,10],[564,11,564,12],[572,5,572,6],[572,7,572,8],[572,9,572,10],[572,11,572,12],[559,9,560,10],[559,11,560,12],[560,3,561,3],[560,4,561,4],[561,5,562,6],[561,7,562,8],[561,9,562,10],[561,11,562,12],[562,3,563,3],[562,4,563,4]],"merged_total":1192,"flags":["merged_cut"]}
[null,null,"MINISTÉRIO DA INTEGRAÇÃO NACIONAL - MI\nCOMPANHIA DE DESENVOLVIMENTO DOS VALES DO SÃO FRANCISCO E DO PARNAÍBA\n5ª Superintendência Regional"]
[]
[]
[]
[null,null,{"$f":"'ORÇ. GERAL'!B4","v":"EXECUÇÃO DE OBRAS E SERVIÇOS DE RECUPERAÇÃO PARCIAL DO DIQUE DE PROTEÇÃO E RECUPERAÇÃO DOS CANAIS DE IRRIGAÇÃO DO PERÍMETRO IRRIGADO DO ITIÚBA (canal adutor leste, P12, S1P12 e S2P12) E DOS CANAIS DE IRRIGAÇÃO (CLI e CLII) DO PERÍMETRO IRRIGADO DO BOACICA."}]
[]
[null,null,null,2,"MOVIMENTO DE TERRA"]
[null,null,null,"2.1. LIMPEZA MECANIZADA DO TERRENO COM REMOÇÃO DE CAMADA VEGETAL"]
[]
[{"$nulls":4},"Área =",6250,"m²","* Para áreas verificar os desenhos em AutoCad."]
[]
[null,null,null,"2.2. ESCAVAÇÃO CARGA E TRANSPORTE DE MATERIAL DE 1ª CATEGORIA"]
[]
[null,null,null,"ESTACA","ÁREA             (m²)","ÁREA MÉDIA                     (m²)",null,"DISTÂNCIA                 (m)",null,"VOLUME                       (m³)",null,"VOLUME ACUMULADO              (m³)"]
[null,null,null,"E-0",0]
[{"$nulls":5},{"$f":"(E15+E17)/2","v":15.154999999999999},null,20,null,{"$f":"F16*H16","v":303.09999999999997},null,{"$f":"J16","v":303.09999999999997}]
[null,null,null,"E-1",30.31]
[{"$nulls":5},{"$f":"(E17+E19)/2","v":30.14},null,20,null,{"$f":"F18*H18","v":602.79999999999995},null,{"$f":"L16+J18","v":905.89999999999986}]
[null,null,null,"E-2",29.97]
[{"$nulls":5},{"$f":"(E19+E21)/2","v":26.994999999999997},null,20,null,{"$f":"F20*H20","v":539.9},null,{"$f":"L18+J20","v":1445.7999999999997}]
[null,null,null,"E-3",24.02]
[{"$nulls":5},{"$f":"(E21+E23)/2","v":23.64},null,20,null,{"$f":"F22*H22","v":472.8},null,{"$f":"L20+J22","v":1918.5999999999997}]
[null,null,null,"E-4",23.26]
[{"$nulls":5},{"$f":"(E23+E25)/2","v":17.055},null,20,null,{"$f":"F24*H24","v":341.1},null,{"$f":"L22+J24","v":2259.6999999999998}]
[null,null,null,"E-5",10.85]
[{"$nulls":5},{"$f":"(E25+E27)/2","v":11.379999999999999},null,20,null,{"$f":"F26*H26","v":227.59999999999997},null,{"$f":"L24+J26","v":2487.2999999999997}]
[null,null,null,"E-6",11.91]
[{"$nulls":5},{"$f":"(E27+E29)/2","v":11.71},null,20,null,{"$f":"F28*H28","v":234.20000000000002},null,{"$f":"L26+J28","v":2721.4999999999995}]
[null,null,null,"E-7",11.51]
[{"$nulls":5},{"$f":"(E29+E31)/2","v":11.67},null,20,null,{"$f":"F30*H30","v":233.4},null,{"$f":"L28+J30","v":2954.8999999999996}]
[null,null,null,"E-8",11.83]
[{"$nulls":5},{"$f":"(E31+E33)/2","v":10.425000000000001},null,20,null,{"$f":"F32*H32","v":208.5},null,{"$f":"L30+J32","v":3163.3999999999996}]
[null,null,null,"E-9",9.02]
[{"$nulls":5},{"$f":"(E33+E35)/2","v":11.74},null,20,null,{"$f":"F34*H34","v":234.8},null,{"$f":"L32+J34","v":3398.2}]
[null,null,null,"E-10",14.46]
[{"$nulls":5},{"$f":"(E35+E37)/2","v":19.274999999999999},null,20,null,{"$f":"F36*H36","v":385.5},null,{"$f":"L34+J36","v":3783.7}]
[null,null,null,"E-11",24.09]
[{"$nulls":5},{"$f":"(E37+E39)/2","v":23.07},null,20,null,{"$f":"F38*H38","v":461.4},null,{"$f":"L36+J38","v":4245.0999999999995}]
[null,null,null,"E-12",22.05]
[{"$nulls":5},{"$f":"(E39+E41)/2","v":19.855},null,20,null,{"$f":"F40*H40","v":397.1},null,{"$f":"L38+J40","v":4642.2}]
[null,null,null,"E-13",17.66]
[{"$nulls":5},{"$f":"(E41+E43)/2","v":18.935000000000002},null,20,null,{"$f":"F42*H42","v":378.70000000000005},null,{"$f":"L40+J42","v":5020.8999999999996}]
[null,null,null,"E-14",20.21]
[{"$nulls":5},{"$f":"(E43+E45)/2","v":25.954999999999998},null,20,null,{"$f":"F44*H44","v":519.09999999999991},null,{"$f":"L42+J44","v":5540}]
[null,null,null,"E-15",31.7]
[{"$nulls":5},{"$f":"(E45+E47)/2","v":15.85},null,20,null,{"$f":"F46*H46","v":317},null,{"$f":"L44+J46","v":5857}]
[null,null,null,"E-FIN",0]
[]
[null,null,null,"VOLUME TOTAL (m³)",{"$nulls":7},{"$f":"L46","v":5857}]
[]
[null,null,null,"2.3. EXECUÇÃO E COMPACTAÇÃO DE ATERRO COM SOLO PREDOMINANTEMENTE ARGILOSO"]
[]
[null,null,null,"ESTACA","ÁREA             (m²)","ÁREA MÉDIA                        (m²)",null,"DISTÂNCIA                 (m)",null,"VOLUME                       (m³)",null,"VOLUME ACUMULADO              (m³)"]
[null,null,null,"E-0",0]
[{"$nulls":5},{"$f":"(E54+E56)/2","v":11.86},null,20,null,{"$f":"F55*H55","v":237.2},null,{"$f":"J55","v":237.2}]
[null,null,null,"E-1",23.72]
[{"$nulls":5},{"$f":"(E56+E58)/2","v":23.84},null,20,null,{"$f":"F57*H57","v":476.8},null,{"$f":"L55+J57","v":714}]
[null,null,null,"E-2",23.96]
[{"$nulls":5},{"$f":"(E58+E60)/2","v":24.18},null,20,null,{"$f":"F59*H59","v":483.6},null,{"$f":"L57+J59","v":1197.5999999999999}]
[null,null,null,"E-3",24.4]
[{"$nulls":5},{"$f":"(E60+E62)/2","v":24.41},null,20,null,{"$f":"F61*H61","v":488.2},null,{"$f":"L59+J61","v":1685.8}]
[null,null,null,"E-4",24.42]
[{"$nulls":5},{"$f":"(E62+E64)/2","v":25.36},null,20,null,{"$f":"F63*H63","v":507.2},null,{"$f":"L61+J63","v":2193}]
[null,null,null,"E-5",26.3]
[{"$nulls":5},{"$f":"(E64+E66)/2","v":28.92},null,20,null,{"$f":"F65*H65","v":578.40000000000009},null,{"$f":"L63+J65","v":2771.4}]
[null,null,null,"E-6",31.54]
[{"$nulls":5},{"$f":"(E66+E68)/2","v":29.865000000000002},null,20,null,{"$f":"F67*H67","v":597.30000000000007},null,{"$f":"L65+J67","v":3368.7000000000003}]
[null,null,null,"E-7",28.19]
[{"$nulls":5},{"$f":"(E68+E70)/2","v":25.865000000000002},null,20,null,{"$f":"F69*H69","v":517.30000000000007},null,{"$f":"L67+J69","v":3886.0000000000005}]
[null,null,null,"E-8",23.54]
[{"$nulls":5},{"$f":"(E70+E72)/2","v":26.074999999999999},null,20,null,{"$f":"F71*H71","v":521.5},null,{"$f":"L69+J71","v":4407.5}]
[null,null,null,"E-9",28.61]
[{"$nulls":5},{"$f":"(E72+E74)/2","v":26.655000000000001},null,20,null,{"$f":"F73*H73","v":533.1},null,{"$f":"L71+J73","v":4940.6000000000004}]
[null,null,null,"E-10",24.7]
[{"$nulls":5},{"$f":"(E74+E76)/2","v":25.545000000000002},null,20,null,{"$f":"F75*H75","v":510.90000000000003},null,{"$f":"L73+J75","v":5451.5}]
[null,null,null,"E-11",26.39]
[{"$nulls":5},{"$f":"(E76+E78)/2","v":26.015000000000001},null,20,null,{"$f":"F77*H77","v":520.29999999999995},null,{"$f":"L75+J77","v":5971.8}]
[null,null,null,"E-12",25.64]
[{"$nulls":5},{"$f":"(E78+E80)/2","v":25.734999999999999},null,20,null,{"$f":"F79*H79","v":514.70000000000005},null,{"$f":"L77+J79","v":6486.5}]
[null,null,null,"E-13",25.83]
[{"$nulls":5},{"$f":"(E80+E82)/2","v":26.015000000000001},null,20,null,{"$f":"F81*H81","v":520.29999999999995},null,{"$f":"L79+J81","v":7006.8}]
[null,null,null,"E-14",26.2]
[{"$nulls":5},{"$f":"(E82+E84)/2","v":27.674999999999997},null,20,null,{"$f":"F83*H83","v":553.5},null,{"$f":"L81+J83","v":7560.3}]
[null,null,null,"E-15",29.15]
[{"$nulls":5},{"$f":"(E84+E86)/2","v":14.574999999999999},null,20,null,{"$f":"F85*H85","v":291.5},null,{"$f":"L83+J85","v":7851.8}]
[null,null,null,"E-FIN",0]
[]
[null,null,null,"VOLUME TOTAL (m³)",{"$nulls":7},{"$f":"L85","v":7851.8}]
[]
[null,null,null,"2.4. EXECUÇÃO DE DRENO FRANCÊS  COM AREIA MÉDIA - EROSÕES"]
[]
[{"$nulls":5},"Comprimento = ",160,"m",null,"Área Média =",2.5,"m²"]
[]
[{"$nulls":5},"Total = ",{"$f":"G92*K92","v":400},"m³"]
[]
[]
[]
[]
[]
[null,null,null,3,"CARGA E TRANSPORTE"]
[null,null,null,"3.1. TRANSPORTE COMERCIAL EM RODOVIA COM REVESTIMENTO NATURAL"]
[]
[null,null,null,"* Para este item foram considerados os materias para bota fora (Limpeza + 40% do corte - 2km), material utilizado para o aterro "]
[null,null,null,"  (Jazida - 2km) e o material proveniente do corte reaproveitados para os aterros (1km). Considerado empolamento de 25%."]
[]
[{"$nulls":5},"Área de Limpeza =",6250,"m²"]
[{"$nulls":5},"Volume de Escavação =",5857,"m³"]
[{"$nulls":5},"Volume de Aterro =",7851.8,"m³"]
[]
[{"$nulls":5},"Total =",{"$f":"(((G106*J106+G107*0.4)*2)+(G107*0.6)*1+(G108-G107*0.6)*2)*(1+J107)","v":16875},"m³ x km"]
[]
[null,null,null,"3.2. TRANSPORTE COMERCIAL EM RODOVIA EM RODOVIA PAVIMENTADA"]
[]
[null,null,null,"* Para este item foram consideradas as distâncias de 30km para o transporte de areia e 85km para transporte de pedra e brita."]
[]
[]
[{"$nulls":5},"Volume de Areia =",400,"m³",{"$f":"G117*30","v":12000},"m³ x km"]
[{"$nulls":5},"Volume de Pedra =",{"$f":"1381.5+630*0.17+66","v":1554.6},"m³",{"$f":"G118*85","v":132141},"m³ x km"]
[{"$nulls":5},"Volume de Brita =",34,"m³",{"$f":"G119*85","v":2890},"m³ x km"]
[]
[{"$nulls":5},"Total =",{"$f":"(G117*30+(G118+G119)*80)","v":139088},"m³ x km"]
[]
[null,null,null,"3.3. CARGA E DESCARGA MECANIZADA"]
[]
[null,null,null,"* Para esse item foram considerados os materiais necessários para realização do aterro. Considerado empolamento de 25%."]
[]
[{"$nulls":5},"Total =",{"$f":"7851.8*(1+J127)","v":9814.75},"m³","Emp =",0.25]
[]
[null,null,null,"3.4. ESPALHAMENTO DE MATERIAL EM BOTA FORA"]
[]
[null,null,null,"* Para esse item foram considerados os materiais resultantes da limpeza e dos materiais provenientes do corte não utilizados"]
[null,null,null,"  no aterro. Considerado empolamento de 25%."]
[]
[{"$nulls":5},"Área de Limpeza =",6250,"m²","e = ",0.3,"m"]
[{"$nulls":5},"Volume de Escavação =",5857,"m³"]
[]
[{"$nulls":5},"Total =",{"$f":"((G134*J134)+(G135*0.4))*(1+J135)","v":4217.8},"m³"]
[]
[null,null,null,4,"CONTENÇÃO E PROTEÇÃO DE ENCOSTA"]
[null,null,null,"4.1. MURO DE GABIÃO COM GAIOLAS DE COMPRIMENTO IGUAL A 5m E ALTURA INFERIOR A 4m"]
[]
[{"$nulls":5},"Seção Típica 1 =",4.5,"m²",null,"Comprimento =",302,"m"]
[{"$nulls":5},"Seção Típica 2 =",2.5,"m²",null,"Comprimento =",9,"m"]
[]
[{"$nulls":5},"Total =",{"$f":"G142*K142+G143*K143","v":1381.5},"m³"]
[null,null,null,"4.2. PROTEÇÃO SUPERFICIAL DE CANAL EM GABIÃO COLCHÃO COM ESPESSURA DE 17cm"]
[]
[{"$nulls":5},"Comprimento =",320,"m",null,"Largura Média =",2,"m"]
[]
[{"$nulls":5},"Total =",{"$f":"G148*K148","v":640},"m²"]
[]
[null,null,null,"4.3 E 4.4. ENROCAMENTO MANUAL E BRITA NÚMERO 3 (66% PEDRA, 34% BRITA)"]
[]
[null,null,null,"ESTACA","ÁREA             (m²)","ÁREA MÉDIA                      (m²)",null,"DISTÂNCIA                 (m)",null,"VOLUME                       (m³)",null,"VOLUME ACUMULADO              (m³)"]
[null,null,null,"E-0",0]
[{"$nulls":5},{"$f":"(E155+E157)/2","v":0.09},null,20,null,{"$f":"F156*H156","v":1.7999999999999998},null,{"$f":"J156","v":1.7999999999999998}]
[null,null,null,"E-1",0.18]
[{"$nulls":5},{"$f":"(E157+E159)/2","v":0.16999999999999998},null,20,null,{"$f":"F158*H158","v":3.3999999999999995},null,{"$f":"L156+J158","v":5.1999999999999993}]
[null,null,null,"E-2",0.16]
[{"$nulls":5},{"$f":"(E159+E161)/2","v":0.21000000000000002},null,20,null,{"$f":"F160*H160","v":4.2},null,{"$f":"L158+J160","v":9.3999999999999986}]
[null,null,null,"E-3",0.26]
[{"$nulls":5},{"$f":"(E161+E163)/2","v":0.21000000000000002},null,20,null,{"$f":"F162*H162","v":4.2},null,{"$f":"L160+J162","v":13.599999999999998}]
[null,null,null,"E-4",0.16]
[{"$nulls":5},{"$f":"(E163+E165)/2","v":0.19500000000000001},null,20,null,{"$f":"F164*H164","v":3.9000000000000004},null,{"$f":"L162+J164","v":17.5}]
[null,null,null,"E-5",0.23]
[{"$nulls":5},{"$f":"(E165+E167)/2","v":0.435},null,20,null,{"$f":"F166*H166","v":8.6999999999999993},null,{"$f":"L164+J166","v":26.2}]
[null,null,null,"E-6",0.64]
[{"$nulls":5},{"$f":"(E167+E169)/2","v":0.41000000000000003},null,20,null,{"$f":"F168*H168","v":8.2000000000000011},null,{"$f":"L166+J168","v":34.4}]
[null,null,null,"E-7",0.18]
[{"$nulls":5},{"$f":"(E169+E171)/2","v":0.36},null,20,null,{"$f":"F170*H170","v":7.1999999999999993},null,{"$f":"L168+J170","v":41.599999999999994}]
[null,null,null,"E-8",0.54]
[{"$nulls":5},{"$f":"(E171+E173)/2","v":0.56499999999999995},null,20,null,{"$f":"F172*H172","v":11.299999999999999},null,{"$f":"L170+J172","v":52.899999999999991}]
[null,null,null,"E-9",0.59]
[{"$nulls":5},{"$f":"(E173+E175)/2","v":0.52500000000000002},null,20,null,{"$f":"F174*H174","v":10.5},null,{"$f":"L172+J174","v":63.399999999999991}]
[null,null,null,"E-10",0.46]
[{"$nulls":5},{"$f":"(E175+E177)/2","v":0.49},null,20,null,{"$f":"F176*H176","v":9.8000000000000007},null,{"$f":"L174+J176","v":73.199999999999989}]
[null,null,null,"E-11",0.52]
[{"$nulls":5},{"$f":"(E177+E179)/2","v":0.34},null,20,null,{"$f":"F178*H178","v":6.8000000000000007},null,{"$f":"L176+J178","v":79.999999999999986}]
[null,null,null,"E-12",0.16]
[{"$nulls":5},{"$f":"(E179+E181)/2","v":0.22000000000000003},null,20,null,{"$f":"F180*H180","v":4.4000000000000004},null,{"$f":"L178+J180","v":84.399999999999991}]
[null,null,null,"E-13",0.28000000000000003]
[{"$nulls":5},{"$f":"(E181+E183)/2","v":0.28000000000000003},null,20,null,{"$f":"F182*H182","v":5.6000000000000005},null,{"$f":"L180+J182","v":89.999999999999986}]
[null,null,null,"E-14",0.28000000000000003]
[{"$nulls":5},{"$f":"(E183+E185)/2","v":0.32},null,20,null,{"$f":"F184*H184","v":6.4},null,{"$f":"L182+J184","v":96.399999999999991}]
[null,null,null,"E-15",0.36]
[{"$nulls":5},{"$f":"(E185+E187)/2","v":0.18},null,20,null,{"$f":"F186*H186","v":3.5999999999999996},null,{"$f":"L184+J186","v":99.999999999999986}]
[null,null,null,"E-FIN",0]
[]
[null,null,null,"VOLUME TOTAL (m³)",{"$nulls":7},{"$f":"L186","v":99.999999999999986}]
[null,null,null,"* Esse item corresponde aos serviços necessários para o enrocamento. Foi considerado 66% do voluma como pedra de mão "]
[null,null,null,"  e 34% como brita."]
[]
[{"$nulls":5},"Total =",{"$f":"100*0.66","v":66},"m2","Pedra de Mão Item 4.3"]
[{"$nulls":5},"Total =",{"$f":"100*0.34","v":34},"m2","Brita nº 3 Item 4.4"]
{"$rows_empty":7}
[null,null,null,"4.5. PLANTIO DE GRAMAS BATATAIS EM PLACAS"]
[]
[null,null,null,"ESTACA","COMPRI.             (m)","COMPRIMENTO MÉDIO                      (m)",null,"DISTÂNCIA                 (m)",null,"ÁREA                          (m²)",null,"ÁREA ACUMULADA              (m²)"]
[null,null,null,"E-0",0]
[{"$nulls":5},{"$f":"(E205+E207)/2","v":8},null,20,null,{"$f":"F206*H206","v":160},null,{"$f":"J206","v":160}]
[null,null,null,"E-1",16]
[{"$nulls":5},{"$f":"(E207+E209)/2","v":15.95},null,20,null,{"$f":"F208*H208","v":319},null,{"$f":"L206+J208","v":479}]
[null,null,null,"E-2",15.9]
[{"$nulls":5},{"$f":"(E209+E211)/2","v":15.850000000000001},null,20,null,{"$f":"F210*H210","v":317},null,{"$f":"L208+J210","v":796}]
[null,null,null,"E-3",15.8]
[{"$nulls":5},{"$f":"(E211+E213)/2","v":15.75},null,20,null,{"$f":"F212*H212","v":315},null,{"$f":"L210+J212","v":1111}]
[null,null,null,"E-4",15.7]
[{"$nulls":5},{"$f":"(E213+E215)/2","v":15.85},null,20,null,{"$f":"F214*H214","v":317},null,{"$f":"L212+J214","v":1428}]
[null,null,null,"E-5",16]
[{"$nulls":5},{"$f":"(E215+E217)/2","v":15.9},null,20,null,{"$f":"F216*H216","v":318},null,{"$f":"L214+J216","v":1746}]
[null,null,null,"E-6",15.8]
[{"$nulls":5},{"$f":"(E217+E219)/2","v":15.850000000000001},null,20,null,{"$f":"F218*H218","v":317},null,{"$f":"L216+J218","v":2063}]
[null,null,null,"E-7",15.9]
[{"$nulls":5},{"$f":"(E219+E221)/2","v":16.100000000000001},null,20,null,{"$f":"F220*H220","v":322},null,{"$f":"L218+J220","v":2385}]
[null,null,null,"E-8",16.3]
[{"$nulls":5},{"$f":"(E221+E223)/2","v":16.200000000000003},null,20,null,{"$f":"F222*H222","v":324.00000000000006},null,{"$f":"L220+J222","v":2709}]
[null,null,null,"E-9",16.100000000000001]
[{"$nulls":5},{"$f":"(E223+E225)/2","v":16},null,20,null,{"$f":"F224*H224","v":320},null,{"$f":"L222+J224","v":3029}]
[null,null,null,"E-10",15.9]
[{"$nulls":5},{"$f":"(E225+E227)/2","v":15.65},null,20,null,{"$f":"F226*H226","v":313},null,{"$f":"L224+J226","v":3342}]
[null,null,null,"E-11",15.4]
[{"$nulls":5},{"$f":"(E227+E229)/2","v":15.5},null,20,null,{"$f":"F228*H228","v":310},null,{"$f":"L226+J228","v":3652}]
[null,null,null,"E-12",15.6]
[{"$nulls":5},{"$f":"(E229+E231)/2","v":15.6},null,20,null,{"$f":"F230*H230","v":312},null,{"$f":"L228+J230","v":3964}]
[null,null,null,"E-13",15.6]
[{"$nulls":5},{"$f":"(E231+E233)/2","v":15.55},null,20,null,{"$f":"F232*H232","v":311},null,{"$f":"L230+J232","v":4275}]
[null,null,null,"E-14",15.5]
[{"$nulls":5},{"$f":"(E233+E235)/2","v":15.9},null,20,null,{"$f":"F234*H234","v":318},null,{"$f":"L232+J234","v":4593}]
[null,null,null,"E-15",16.3]
[{"$nulls":5},{"$f":"(E235+E237)/2","v":8.15},null,20,null,{"$f":"F236*H236","v":163},null,{"$f":"L234+J236","v":4756}]
[null,null,null,"E-FIN",0]
[]
[null,null,null,"ÁREA TOTAL (m²)",{"$nulls":7},{"$f":"L236","v":4756}]
[]
[null,null,null,"4.6. EXECUÇÃO DE DRENO COM MANTA GEOTÊXTIL"]
[]
[null,null,null,"* Para este item foi considerado um fator de multiplicação de 10% para compensar o transpasse e possíveis perdas. Esse"]
[null,null,null,"   serviço corresponde ao geotêxtil utilizado à tardoz do gabião."]
[]
[{"$nulls":5},"Geotêxtil Seção Típica 1 =",6,"m²/m",null,"Comprimento =",302,"m"]
[{"$nulls":5},"Geotêxtil Seção Típica 2 =",4.5,"m²",null,"Comprimento =",9,"m"]
[]
[]
[{"$nulls":5},"Total =",{"$f":"(G246*K246+G247*K247)*(1+K248)","v":1852.5},"m³"]
[]
[null,null,null,5,"DRENAGEM"]
[]
[null,null,null,"5.1. INSTALAÇÃO E FORNECIMENTO DE CANALETA DN=300mm"]
[]
[{"$nulls":5},"Total =",320,"m"]
[]
[null,null,null,"5.2. INSTALAÇÃO E FORNECIMENTO DE TUBO DE PVC DN=200mm"]
[]
[null,null,null,"* Foi considerado um tubo de aproximadamente 7,00m para retirar a àgua coletada por cada caixa de passagem."]
[]
[{"$nulls":5},"Número de Tubos =",7,"Unid.",null,"Comprimento =",7,"m"]
[]
[{"$nulls":5},"Total =",{"$f":"G262*K262","v":49},"m"]
[]
[null,null,null,"5.3. FORNECIMENTO E INSTALAÇÃO DE TUBO DE PEAD CORRUGADO DN=100mm"]
[]
[null,null,null,"* Foi considerado um tubo de 6,50m a cada 2,00m ao longo de todo o dreno de areia. Comprimento de 160,00m."]
[]
[{"$nulls":5},"Número de Tubos =",{"$f":"ROUNDUP(160/2,0)","v":80},"Unid.",null,"Comprimento =",6.5,"m"]
[]
[{"$nulls":5},"Total =",{"$f":"G270*K270","v":520},"m"]
[]
[null,null,null,"5.4. CAIXA DE PASSAGEM 60 x 60 x 70 FUNDO DE BRITA E COM TAMPA"]
[]
[null,null,null,"* Foi considerado uma caixa de passagem a cada 50,00m."]
[]
[{"$nulls":5},"Distâcia entre Caixas =",50,"m",null,"Comprimento =",320,"m"]
[]
[{"$nulls":5},"Total =",{"$f":"ROUNDUP(K278/G278,0)","v":7},"Unidades"]
[]
[null,null,null,6,"MOVIMENTO DE TERRA"]
[]
[null,null,null,"6.1. LIMPEZA MECANIZADA DO TERRENO COM REMOÇÃO DE CAMADA VEGETAL"]
[]
[{"$nulls":4},"Área =",12010,"m²","* Para áreas verificar os desenhos em AutoCad."]
{"$rows_empty":27}
[null,null,null,"6.2. ESCAVAÇÃO CARGA E TRANSPORTE DE MATERIAL DE 1ª CATEGORIA"]
[]
[null,null,null,"ESTACA","ÁREA             (m²)","ÁREA MÉDIA                     (m²)",null,"DISTÂNCIA                 (m)",null,"VOLUME                       (m³)",null,"VOLUME ACUMULADO              (m³)"]
[null,null,null,"E-18",0]
[{"$nulls":5},{"$f":"(E317+E319)/2","v":11.295},null,20,null,{"$f":"F318*H318","v":225.9},null,{"$f":"J318","v":225.9}]
[null,null,null,"E-19",22.59]
[{"$nulls":5},{"$f":"(E319+E321)/2","v":19.225000000000001},null,20,null,{"$f":"F320*H320","v":384.5},null,{"$f":"L318+J320","v":610.4}]
[null,null,null,"E-20",15.86]
[{"$nulls":5},{"$f":"(E321+E323)/2","v":15.125},null,20,null,{"$f":"F322*H322","v":302.5},null,{"$f":"L320+J322","v":912.9}]
[null,null,null,"E-21",14.39]
[{"$nulls":5},{"$f":"(E323+E325)/2","v":17.875},null,20,null,{"$f":"F324*H324","v":357.5},null,{"$f":"L322+J324","v":1270.4000000000001}]
[null,null,null,"E-22",21.36]
[{"$nulls":5},{"$f":"(E325+E327)/2","v":22.734999999999999},null,20,null,{"$f":"F326*H326","v":454.7},null,{"$f":"L324+J326","v":1725.1000000000001}]
[null,null,null,"E-23",24.11]
[{"$nulls":5},{"$f":"(E327+E329)/2","v":24.509999999999998},null,20,null,{"$f":"F328*H328","v":490.19999999999993},null,{"$f":"L326+J328","v":2215.3000000000002}]
[null,null,null,"E-24",24.91]
[{"$nulls":5},{"$f":"(E329+E331)/2","v":25.005000000000003},null,20,null,{"$f":"F330*H330","v":500.1},null,{"$f":"L328+J330","v":2715.4}]
[null,null,null,"E-25",25.1]
[{"$nulls":5},{"$f":"(E331+E333)/2","v":24.29},null,20,null,{"$f":"F332*H332","v":485.79999999999995},null,{"$f":"L330+J332","v":3201.2}]
[null,null,null,"E-26",23.48]
[{"$nulls":5},{"$f":"(E333+E335)/2","v":23.185000000000002},null,20,null,{"$f":"F334*H334","v":463.70000000000005},null,{"$f":"L332+J334","v":3664.8999999999996}]
[null,null,null,"E-27",22.89]
[{"$nulls":5},{"$f":"(E335+E337)/2","v":23.005000000000003},null,20,null,{"$f":"F336*H336","v":460.1},null,{"$f":"L334+J336","v":4125}]
[null,null,null,"E-28",23.12]
[{"$nulls":5},{"$f":"(E337+E339)/2","v":20.565000000000001},null,20,null,{"$f":"F338*H338","v":411.3},null,{"$f":"L336+J338","v":4536.3}]
[null,null,null,"E-29",18.010000000000002]
[{"$nulls":5},{"$f":"(E339+E341)/2","v":17.635000000000002},null,20,null,{"$f":"F340*H340","v":352.70000000000005},null,{"$f":"L338+J340","v":4889}]
[null,null,null,"E-30",17.260000000000002]
[{"$nulls":5},{"$f":"(E341+E343)/2","v":20.895000000000003},null,20,null,{"$f":"F342*H342","v":417.90000000000009},null,{"$f":"L340+J342","v":5306.9}]
[null,null,null,"E-31",24.53]
[{"$nulls":5},{"$f":"(E343+E345)/2","v":19.490000000000002},null,20,null,{"$f":"F344*H344","v":389.80000000000007},null,{"$f":"L342+J344","v":5696.7}]
[null,null,null,"E-32",14.45]
[{"$nulls":5},{"$f":"(E345+E347)/2","v":12.69},null,20,null,{"$f":"F346*H346","v":253.79999999999998},null,{"$f":"L344+J346","v":5950.5}]
[null,null,null,"E-33",10.93]
[{"$nulls":5},{"$f":"(E347+E349)/2","v":19.625},null,20,null,{"$f":"F348*H348","v":392.5},null,{"$f":"L346+J348","v":6343}]
[null,null,null,"E-34",28.32]
[{"$nulls":5},{"$f":"(E349+E351)/2","v":23.935000000000002},null,20,null,{"$f":"F350*H350","v":478.70000000000005},null,{"$f":"L348+J350","v":6821.7}]
[null,null,null,"E-35",19.55]
[{"$nulls":5},{"$f":"(E351+E353)/2","v":23.450000000000003},null,20,null,{"$f":"F352*H352","v":469.00000000000006},null,{"$f":"L350+J352","v":7290.7}]
[null,null,null,"E-36",27.35]
[{"$nulls":5},{"$f":"(E353+E355)/2","v":25.984999999999999},null,20,null,{"$f":"F354*H354","v":519.70000000000005},null,{"$f":"L352+J354","v":7810.4}]
[null,null,null,"E-37",24.62]
[{"$nulls":5},{"$f":"(E355+E357)/2","v":27.12},null,20,null,{"$f":"F356*H356","v":542.4},null,{"$f":"L354+J356","v":8352.7999999999993}]
[null,null,null,"E-38",29.62]
[{"$nulls":5},{"$f":"(E357+E359)/2","v":29.48},null,20,null,{"$f":"F358*H358","v":589.6},null,{"$f":"L356+J358","v":8942.4}]
[null,null,null,"E-39",29.34]
[{"$nulls":5},{"$f":"(E359+E361)/2","v":28.465},null,20,null,{"$f":"F360*H360","v":569.29999999999995},null,{"$f":"L358+J360","v":9511.6999999999989}]
[null,null,null,"E-40",27.59]
[{"$nulls":5},{"$f":"(E361+E363)/2","v":19.515000000000001},null,20,null,{"$f":"F362*H362","v":390.3},null,{"$f":"L360+J362","v":9901.9999999999982}]
[null,null,null,"E-41",11.44]
[{"$nulls":5},{"$f":"(E363+E365)/2","v":10.25},null,20,null,{"$f":"F364*H364","v":205},null,{"$f":"L362+J364","v":10106.999999999998}]
[null,null,null,"E-42",9.06]
[{"$nulls":5},{"$f":"(E365+E367)/2","v":12.780000000000001},null,20,null,{"$f":"F366*H366","v":255.60000000000002},null,{"$f":"L364+J366","v":10362.599999999999}]
[null,null,null,"E-43",16.5]
[{"$nulls":5},{"$f":"(E367+E369)/2","v":22.98},null,20,null,{"$f":"F368*H368","v":459.6},null,{"$f":"L366+J368","v":10822.199999999999}]
[null,null,null,"E-44",29.46]
[{"$nulls":5},{"$f":"(E369+E371)/2","v":31.835000000000001},null,20,null,{"$f":"F370*H370","v":636.70000000000005},null,{"$f":"L368+J370","v":11458.9}]
[null,null,null,"E-45",34.21]
[{"$nulls":5},{"$f":"(E371+E373)/2","v":27.35},null,20,null,{"$f":"F372*H372","v":547},null,{"$f":"L370+J372","v":12005.9}]
[null,null,null,"E-46",20.49]
[{"$nulls":5},{"$f":"(E373+E375)/2","v":10.244999999999999},null,20,null,{"$f":"F374*H374","v":204.89999999999998},null,{"$f":"L372+J374","v":12210.8}]
[null,null,null,"E-FIN",0]
[]
[null,null,null,"VOLUME TOTAL (m³)",{"$nulls":7},{"$f":"L374","v":12210.8}]
[]
[null,null,null,"6.3. EXECUÇÃO E COMPACTAÇÃO DE ATERRO COM SOLO PREDOMINANTEMENTE ARGILOSO"]
[]
[null,null,null,"ESTACA","ÁREA             (m²)","ÁREA MÉDIA                     (m²)",null,"DISTÂNCIA                 (m)",null,"VOLUME                       (m³)",null,"VOLUME ACUMULADO              (m³)"]
[null,null,null,"E-18",0]
[{"$nulls":5},{"$f":"(E382+E384)/2","v":8.7850000000000001},null,20,null,{"$f":"F383*H383","v":175.7},null,{"$f":"J383","v":175.7}]
[null,null,null,"E-19",17.57]
[{"$nulls":5},{"$f":"(E384+E386)/2","v":16.45},null,20,null,{"$f":"F385*H385","v":329},null,{"$f":"L383+J385","v":504.7}]
[null,null,null,"E-20",15.33]
[{"$nulls":5},{"$f":"(E386+E388)/2","v":16.440000000000001},null,20,null,{"$f":"F387*H387","v":328.8},null,{"$f":"L385+J387","v":833.5}]
[null,null,null,"E-21",17.55]
[{"$nulls":5},{"$f":"(E388+E390)/2","v":21.045000000000002},null,20,null,{"$f":"F389*H389","v":420.90000000000003},null,{"$f":"L387+J389","v":1254.4000000000001}]
[null,null,null,"E-22",24.54]
[{"$nulls":5},{"$f":"(E390+E392)/2","v":24.695},null,20,null,{"$f":"F391*H391","v":493.9},null,{"$f":"L389+J391","v":1748.3000000000002}]
[null,null,null,"E-23",24.85]
[{"$nulls":5},{"$f":"(E392+E394)/2","v":25.234999999999999},null,20,null,{"$f":"F393*H393","v":504.7},null,{"$f":"L391+J393","v":2253}]
[null,null,null,"E-24",25.62]
[{"$nulls":5},{"$f":"(E394+E396)/2","v":26.195},null,20,null,{"$f":"F395*H395","v":523.9},null,{"$f":"L393+J395","v":2776.9}]
[null,null,null,"E-25",26.77]
[{"$nulls":5},{"$f":"(E396+E398)/2","v":26.77},null,20,null,{"$f":"F397*H397","v":535.4},null,{"$f":"L395+J397","v":3312.3}]
[null,null,null,"E-26",26.77]
[{"$nulls":5},{"$f":"(E398+E400)/2","v":26.049999999999997},null,20,null,{"$f":"F399*H399","v":521},null,{"$f":"L397+J399","v":3833.3}]
[null,null,null,"E-27",25.33]
[{"$nulls":5},{"$f":"(E400+E402)/2","v":25.049999999999997},null,20,null,{"$f":"F401*H401","v":500.99999999999994},null,{"$f":"L399+J401","v":4334.3}]
[null,null,null,"E-28",24.77]
[{"$nulls":5},{"$f":"(E402+E404)/2","v":24.9},null,20,null,{"$f":"F403*H403","v":498},null,{"$f":"L401+J403","v":4832.3}]
[null,null,null,"E-29",25.03]
[{"$nulls":5},{"$f":"(E404+E406)/2","v":25.05},null,20,null,{"$f":"F405*H405","v":501},null,{"$f":"L403+J405","v":5333.3}]
[null,null,null,"E-30",25.07]
[{"$nulls":5},{"$f":"(E406+E408)/2","v":25.664999999999999},null,20,null,{"$f":"F407*H407","v":513.29999999999995},null,{"$f":"L405+J407","v":5846.6}]
[null,null,null,"E-31",26.26]
[{"$nulls":5},{"$f":"(E408+E410)/2","v":19.97},null,20,null,{"$f":"F409*H409","v":399.4},null,{"$f":"L407+J409","v":6246}]
[null,null,null,"E-32",13.68]
[{"$nulls":5},{"$f":"(E410+E412)/2","v":12.965},null,20,null,{"$f":"F411*H411","v":259.3},null,{"$f":"L409+J411","v":6505.3}]
[null,null,null,"E-33",12.25]
[{"$nulls":5},{"$f":"(E412+E414)/2","v":18.55},null,20,null,{"$f":"F413*H413","v":371},null,{"$f":"L411+J413","v":6876.3}]
[null,null,null,"E-34",24.85]
[{"$nulls":5},{"$f":"(E414+E416)/2","v":24.785},null,20,null,{"$f":"F415*H415","v":495.7},null,{"$f":"L413+J415","v":7372}]
[null,null,null,"E-35",24.72]
[{"$nulls":5},{"$f":"(E416+E418)/2","v":24.990000000000002},null,20,null,{"$f":"F417*H417","v":499.80000000000007},null,{"$f":"L415+J417","v":7871.8}]
[null,null,null,"E-36",25.26]
[{"$nulls":5},{"$f":"(E418+E420)/2","v":25.18},null,20,null,{"$f":"F419*H419","v":503.6},null,{"$f":"L417+J419","v":8375.4}]
[null,null,null,"E-37",25.1]
[{"$nulls":5},{"$f":"(E420+E422)/2","v":25.29},null,20,null,{"$f":"F421*H421","v":505.79999999999995},null,{"$f":"L419+J421","v":8881.1999999999989}]
[null,null,null,"E-38",25.48]
[{"$nulls":5},{"$f":"(E422+E424)/2","v":25.545000000000002},null,20,null,{"$f":"F423*H423","v":510.90000000000003},null,{"$f":"L421+J423","v":9392.0999999999985}]
[null,null,null,"E-39",25.61]
[{"$nulls":5},{"$f":"(E424+E426)/2","v":25.765000000000001},null,20,null,{"$f":"F425*H425","v":515.29999999999995},null,{"$f":"L423+J425","v":9907.3999999999978}]
[null,null,null,"E-40",25.92]
[{"$nulls":5},{"$f":"(E426+E428)/2","v":22.72},null,20,null,{"$f":"F427*H427","v":454.4},null,{"$f":"L425+J427","v":10361.799999999997}]
[null,null,null,"E-41",19.52]
[{"$nulls":5},{"$f":"(E428+E430)/2","v":20.155000000000001},null,20,null,{"$f":"F429*H429","v":403.1},null,{"$f":"L427+J429","v":10764.899999999998}]
[null,null,null,"E-42",20.79]
[{"$nulls":5},{"$f":"(E430+E432)/2","v":20.085000000000001},null,20,null,{"$f":"F431*H431","v":401.70000000000005},null,{"$f":"L429+J431","v":11166.599999999999}]
[null,null,null,"E-43",19.38]
[{"$nulls":5},{"$f":"(E432+E434)/2","v":19.43},null,20,null,{"$f":"F433*H433","v":388.6},null,{"$f":"L431+J433","v":11555.199999999999}]
[null,null,null,"E-44",19.48]
[{"$nulls":5},{"$f":"(E434+E436)/2","v":19.28},null,20,null,{"$f":"F435*H435","v":385.6},null,{"$f":"L433+J435","v":11940.8}]
[null,null,null,"E-45",19.079999999999998]
[{"$nulls":5},{"$f":"(E436+E438)/2","v":18.96},null,20,null,{"$f":"F437*H437","v":379.20000000000005},null,{"$f":"L435+J437","v":12320}]
[null,null,null,"E-46",18.84]
[{"$nulls":5},{"$f":"(E438+E440)/2","v":9.42},null,20,null,{"$f":"F439*H439","v":188.4},null,{"$f":"L437+J439","v":12508.4}]
[null,null,null,"E-FIN",0]
[]
[null,null,null,"VOLUME TOTAL (m³)",{"$nulls":7},{"$f":"L439","v":12508.4}]
[]
[null,null,null,"6.4. EXECUÇÃO DE DRENO FRANCÊS  COM AREIA MÉDIA - EROSÕES"]
[]
[{"$nulls":5},"Comprimento = ",160,"m",null,"Área Média =",2.5,"m²"]
[]
[{"$nulls":5},"Total = ",{"$f":"G446*K446","v":400},"m³"]
[]
[null,null,null,7,"CARGA E TRANSPORTE"]
[null,null,null,"7.1. TRANSPORTE COMERCIAL EM RODOVIA COM REVESTIMENTO NATURAL"]
[]
[null,null,null,"* Para este item foram considerados os materias para bota fora (Limpeza + 40% do corte - 2km), material utilizado para o aterro "]
[null,null,null,"  (Jazida - 2km) e o material proveniente do corte reaproveitados para os aterros (1km). "]
[{"$nulls":22},1.6078749999999999]
[{"$nulls":5},"Área de Limpeza =",12010,"m²"]
[{"$nulls":5},"Volume de Escavação =",12210.8,"m³",{"$nulls":14},1.3377520000000001]
[{"$nulls":5},"Volume de Aterro =",12508.4,"m³"]
[{"$nulls":22},1.993765]
[{"$nulls":5},"Total =",{"$f":"(((G456*J456+G457*0.4)*2)+(G457*0.6)*1+(G458-G457*0.6)*2)*(1+J457)","v":27458.959999999999},"m³ x km"]
[{"$nulls":22},1.041903]
[null,null,null,"7.2. TRANSPORTE COMERCIAL EM RODOVIA EM RODOVIA PAVIMENTADA"]
[]
[null,null,null,"* Para este item foram consideradas as distâncias de 30km para o transporte de areia e 85km para transporte de pedra e brita."]
[null,null,null,"  Considerado 20% de empolamento."]
[]
[{"$nulls":5},"Volume de Areia =",400,"m³",{"$f":"G467*30","v":12000},"m3 x Km"]
[{"$nulls":5},"Volume de Pedra =",{"$f":"2184.75+1126*0.17+231","v":2607.17},"m³",{"$f":"G468*85","v":221609.45},"m3 x Km"]
[{"$nulls":5},"Volume de Brita =",119,"m³",{"$f":"G469*85","v":10115},"m3 x Km"]
[]
[{"$nulls":5},"Total =",{"$f":"(G467*30+(G468+G469)*80)","v":230093.6},"m³ x km"]
[]
[null,null,null,"7.3. CARGA E DESCARGA MECANIZADA"]
[]
[null,null,null,"* Para esse item foram considerados os materiais necessários para realização do aterro. Considerado empolamento de 25%."]
[]
[{"$nulls":5},"Total =",{"$f":"12508.4*(1+J477)","v":15635.5},"m³","Emp =",0.25]
[]
[null,null,null,"7.4. ESPALHAMENTO DE MATERIAL EM BOTA FORA"]
[]
[null,null,null,"* Para esse item foram considerados os materiais resultantes da limpeza e dos materiais provenientes do corte não utilizados"]
[null,null,null,"  no aterro. "]
[]
[{"$nulls":5},"Área de Limpeza =",12010,"m²"]
[{"$nulls":5},"Volume de Escavação =",{"$f":"12508.4","v":12508.4},"m³"]
[]
[{"$nulls":5},"Total =",{"$f":"((G484*J484)+(G485*0.4))*(1+J485)","v":5003.3600000000006},"m³"]
[]
[null,null,null,8,"CONTENÇÃO E PROTEÇÃO DE ENCOSTA"]
[null,null,null,"8.1. MURO DE GABIÃO COM GAIOLAS DE COMPRIMENTO IGUAL A 5m E ALTURA INFERIOR A 4m"]
[]
[{"$nulls":5},"Seção Típica 1 =",4.5,"m²",null,"Comprimento =",390.5,"m"]
[{"$nulls":5},"Seção Típica 2 =",2.5,"m²",null,"Comprimento =",171,"m"]
[]
[{"$nulls":5},"Total =",{"$f":"G492*K492+G493*K493","v":2184.75},"m³"]
[]
[null,null,null,"8.2. PROTEÇÃO SUPERFICIAL DE CANAL EM GABIÃO COLCHÃO COM ESPESSURA DE 17cm"]
[]
[{"$nulls":5},"Comprimento =",563,"m",null,"Largura Média =",2,"m"]
[]
[{"$nulls":5},"Total =",{"$f":"G499*K499","v":1126},"m²"]
[null,null,null,"8.3 E 8.4. ENROCAMENTO MANUAL E BRITA NÚMERO 3 (66% PEDRA, 34% BRITA)"]
[]
[null,null,null,"ESTACA","ÁREA             (m²)","ÁREA MÉDIA                     (m²)",null,"DISTÂNCIA                 (m)",null,"VOLUME                       (m³)",null,"VOLUME ACUMULADO              (m³)"]
[null,null,null,"E-18",0]
[{"$nulls":5},{"$f":"(E505+E507)/2","v":0.97},null,20,null,{"$f":"F506*H506","v":19.399999999999999},null,{"$f":"J506","v":19.399999999999999}]
[null,null,null,"E-19",1.94]
[{"$nulls":5},{"$f":"(E507+E509)/2","v":1.385},null,20,null,{"$f":"F508*H508","v":27.7},null,{"$f":"L506+J508","v":47.099999999999994}]
[null,null,null,"E-20",0.83]
[{"$nulls":5},{"$f":"(E509+E511)/2","v":0.80499999999999994},null,20,null,{"$f":"F510*H510","v":16.099999999999998},null,{"$f":"L508+J510","v":63.199999999999989}]
[null,null,null,"E-21",0.78]
[{"$nulls":5},{"$f":"(E511+E513)/2","v":0.64},null,20,null,{"$f":"F512*H512","v":12.8},null,{"$f":"L510+J512","v":75.999999999999986}]
[null,null,null,"E-22",0.5]
[{"$nulls":5},{"$f":"(E513+E515)/2","v":0.59499999999999997},null,20,null,{"$f":"F514*H514","v":11.899999999999999},null,{"$f":"L512+J514","v":87.899999999999977}]
[null,null,null,"E-23",0.69]
[{"$nulls":5},{"$f":"(E515+E517)/2","v":0.64500000000000002},null,20,null,{"$f":"F516*H516","v":12.9},null,{"$f":"L514+J516","v":100.79999999999998}]
[null,null,null,"E-24",0.6]
[{"$nulls":5},{"$f":"(E517+E519)/2","v":1.2350000000000001},null,20,null,{"$f":"F518*H518","v":24.700000000000003},null,{"$f":"L516+J518","v":125.49999999999999}]
[null,null,null,"E-25",1.87]
[{"$nulls":5},{"$f":"(E519+E521)/2","v":1.5350000000000001},null,20,null,{"$f":"F520*H520","v":30.700000000000003},null,{"$f":"L518+J520","v":156.19999999999999}]
[null,null,null,"E-26",1.2]
[{"$nulls":5},{"$f":"(E521+E523)/2","v":0.96},null,20,null,{"$f":"F522*H522","v":19.2},null,{"$f":"L520+J522","v":175.39999999999998}]
[null,null,null,"E-27",0.72]
[{"$nulls":5},{"$f":"(E523+E525)/2","v":0.39500000000000002},null,20,null,{"$f":"F524*H524","v":7.9},null,{"$f":"L522+J524","v":183.29999999999998}]
[null,null,null,"E-28",7.0000000000000007E-2]
[{"$nulls":5},{"$f":"(E525+E527)/2","v":0.14500000000000002},null,20,null,{"$f":"F526*H526","v":2.9000000000000004},null,{"$f":"L524+J526","v":186.2}]
[null,null,null,"E-29",0.22]
[{"$nulls":5},{"$f":"(E527+E529)/2","v":0.185},null,20,null,{"$f":"F528*H528","v":3.7},null,{"$f":"L526+J528","v":189.89999999999998}]
[null,null,null,"E-30",0.15]
[{"$nulls":5},{"$f":"(E529+E531)/2","v":0.17499999999999999},null,20,null,{"$f":"F530*H530","v":3.5},null,{"$f":"L528+J530","v":193.39999999999998}]
[null,null,null,"E-31",0.2]
[{"$nulls":5},{"$f":"(E531+E533)/2","v":0.49},null,20,null,{"$f":"F532*H532","v":9.8000000000000007},null,{"$f":"L530+J532","v":203.2}]
[null,null,null,"E-32",0.78]
[{"$nulls":5},{"$f":"(E533+E535)/2","v":0.51},null,20,null,{"$f":"F534*H534","v":10.199999999999999},null,{"$f":"L532+J534","v":213.39999999999998}]
[null,null,null,"E-33",0.24]
[{"$nulls":5},{"$f":"(E535+E537)/2","v":0.16},null,20,null,{"$f":"F536*H536","v":3.2},null,{"$f":"L534+J536","v":216.59999999999997}]
[null,null,null,"E-34",0.08]
[{"$nulls":5},{"$f":"(E537+E539)/2","v":0.36499999999999999},null,20,null,{"$f":"F538*H538","v":7.3},null,{"$f":"L536+J538","v":223.89999999999998}]
[null,null,null,"E-35",0.65]
[{"$nulls":5},{"$f":"(E539+E541)/2","v":0.42500000000000004},null,20,null,{"$f":"F540*H540","v":8.5},null,{"$f":"L538+J540","v":232.39999999999998}]
[null,null,null,"E-36",0.2]
[{"$nulls":5},{"$f":"(E541+E543)/2","v":0.25},null,20,null,{"$f":"F542*H542","v":5},null,{"$f":"L540+J542","v":237.39999999999998}]
[null,null,null,"E-37",0.3]
[{"$nulls":5},{"$f":"(E543+E545)/2","v":0.45999999999999996},null,20,null,{"$f":"F544*H544","v":9.1999999999999993},null,{"$f":"L542+J544","v":246.59999999999997}]
[null,null,null,"E-38",0.62]
[{"$nulls":5},{"$f":"(E545+E547)/2","v":0.57000000000000006},null,20,null,{"$f":"F546*H546","v":11.400000000000002},null,{"$f":"L544+J546","v":257.99999999999994}]
[null,null,null,"E-39",0.52]
[{"$nulls":5},{"$f":"(E547+E549)/2","v":0.38},null,20,null,{"$f":"F548*H548","v":7.6},null,{"$f":"L546+J548","v":265.59999999999997}]
[null,null,null,"E-40",0.24]
[{"$nulls":5},{"$f":"(E549+E551)/2","v":0.505},null,20,null,{"$f":"F550*H550","v":10.1},null,{"$f":"L548+J550","v":275.7}]
[null,null,null,"E-41",0.77]
[{"$nulls":5},{"$f":"(E551+E553)/2","v":0.56499999999999995},null,20,null,{"$f":"F552*H552","v":11.299999999999999},null,{"$f":"L550+J552","v":287}]
[null,null,null,"E-42",0.36]
[{"$nulls":5},{"$f":"(E553+E555)/2","v":0.28499999999999998},null,20,null,{"$f":"F554*H554","v":5.6999999999999993},null,{"$f":"L552+J554","v":292.7}]
[null,null,null,"E-43",0.21]
[{"$nulls":5},{"$f":"(E555+E557)/2","v":0.66999999999999993},null,20,null,{"$f":"F556*H556","v":13.399999999999999},null,{"$f":"L554+J556","v":306.09999999999997}]
[null,null,null,"E-44",1.1299999999999999]
[{"$nulls":5},{"$f":"(E557+E559)/2","v":1.115},null,20,null,{"$f":"F558*H558","v":22.3},null,{"$f":"L556+J558","v":328.4}]
[null,null,null,"E-45",1.1000000000000001]
[{"$nulls":5},{"$f":"(E559+E561)/2","v":0.81500000000000006},null,20,null,{"$f":"F560*H560","v":16.3},null,{"$f":"L558+J560","v":344.7}]
[null,null,null,"E-46",0.53]
[{"$nulls":5},{"$f":"(E561+E563)/2","v":0.26500000000000001},null,20,null,{"$f":"F562*H562","v":5.3000000000000007},null,{"$f":"L560+J562","v":350}]
[null,null,null,"E-FIN",0]
[]
[null,null,null,"VOLUME TOTAL (m³)",{"$nulls":7},{"$f":"L562","v":350}]
[null,null,null,"* Esse item corresponde aos serviços necessários para o enrocamento. Foi considerado 66% do voluma como pedra de mão "]
[null,null,null,"  e 34% como brita."]
[]
[{"$nulls":5},"Total =",{"$f":"350*0.66","v":231},"m2","Pedra de Mão Item 8.3"]
[{"$nulls":5},"Total =",{"$f":"350*0.34","v":119.00000000000001},"m2","Brita nº 3 Item 8.4"]
[null,null,null,"8.5. PLANTIO DE GRAMA EM PLACAS"]
[]
[null,null,null,"ESTACA","COMPRI.             (m)","COMPRIMENTO MÉDIO                      (m)",null,"DISTÂNCIA                 (m)",null,"ÁREA                          (m²)",null,"ÁREA ACUMULADA              (m²)"]
[null,null,null,"E-18",0]
[{"$nulls":5},{"$f":"(E574+E576)/2","v":6.77},null,20,null,{"$f":"F575*H575","v":135.39999999999998},null,{"$f":"J575","v":135.39999999999998}]
[null,null,null,"E-19",13.54]
[{"$nulls":5},{"$f":"(E576+E578)/2","v":13.954999999999998},null,20,null,{"$f":"F577*H577","v":279.09999999999997},null,{"$f":"L575+J577","v":414.49999999999994}]
[null,null,null,"E-20",14.37]
[{"$nulls":5},{"$f":"(E578+E580)/2","v":14.03},null,20,null,{"$f":"F579*H579","v":280.59999999999997},null,{"$f":"L577+J579","v":695.09999999999991}]
[null,null,null,"E-21",13.69]
[{"$nulls":5},{"$f":"(E580+E582)/2","v":13.649999999999999},null,20,null,{"$f":"F581*H581","v":273},null,{"$f":"L579+J581","v":968.09999999999991}]
[null,null,null,"E-22",13.61]
[{"$nulls":5},{"$f":"(E582+E584)/2","v":13.57},null,20,null,{"$f":"F583*H583","v":271.39999999999998},null,{"$f":"L581+J583","v":1239.5}]
[null,null,null,"E-23",13.53]
[{"$nulls":5},{"$f":"(E584+E586)/2","v":13.434999999999999},null,20,null,{"$f":"F585*H585","v":268.7},null,{"$f":"L583+J585","v":1508.2}]
[null,null,null,"E-24",13.34]
[{"$nulls":5},{"$f":"(E586+E588)/2","v":13.39},null,20,null,{"$f":"F587*H587","v":267.8},null,{"$f":"L585+J587","v":1776}]
[null,null,null,"E-25",13.44]
[{"$nulls":5},{"$f":"(E588+E590)/2","v":13.54},null,20,null,{"$f":"F589*H589","v":270.79999999999995},null,{"$f":"L587+J589","v":2046.8}]
[null,null,null,"E-26",13.64]
[{"$nulls":5},{"$f":"(E590+E592)/2","v":13.620000000000001},null,20,null,{"$f":"F591*H591","v":272.40000000000003},null,{"$f":"L589+J591","v":2319.1999999999998}]
[null,null,null,"E-27",13.6]
[{"$nulls":5},{"$f":"(E592+E594)/2","v":13.64},null,20,null,{"$f":"F593*H593","v":272.8},null,{"$f":"L591+J593","v":2592}]
[null,null,null,"E-28",13.68]
[{"$nulls":5},{"$f":"(E594+E596)/2","v":13.69},null,20,null,{"$f":"F595*H595","v":273.8},null,{"$f":"L593+J595","v":2865.8}]
[null,null,null,"E-29",13.7]
[{"$nulls":5},{"$f":"(E596+E598)/2","v":13.675000000000001},null,20,null,{"$f":"F597*H597","v":273.5},null,{"$f":"L595+J597","v":3139.3}]
[null,null,null,"E-30",13.65]
[{"$nulls":5},{"$f":"(E598+E600)/2","v":13.65},null,20,null,{"$f":"F599*H599","v":273},null,{"$f":"L597+J599","v":3412.3}]
[null,null,null,"E-31",13.65]
[{"$nulls":5},{"$f":"(E600+E602)/2","v":15.71},null,20,null,{"$f":"F601*H601","v":314.20000000000005},null,{"$f":"L599+J601","v":3726.5}]
[null,null,null,"E-32",17.77]
[{"$nulls":5},{"$f":"(E602+E604)/2","v":15.725},null,20,null,{"$f":"F603*H603","v":314.5},null,{"$f":"L601+J603","v":4041}]
[null,null,null,"E-33",13.68]
[{"$nulls":5},{"$f":"(E604+E606)/2","v":14.8},null,20,null,{"$f":"F605*H605","v":296},null,{"$f":"L603+J605","v":4337}]
[null,null,null,"E-34",15.92]
[{"$nulls":5},{"$f":"(E606+E608)/2","v":14.940000000000001},null,20,null,{"$f":"F607*H607","v":298.8},null,{"$f":"L605+J607","v":4635.8}]
[null,null,null,"E-35",13.96]
[{"$nulls":5},{"$f":"(E608+E610)/2","v":13.805},null,20,null,{"$f":"F609*H609","v":276.10000000000002},null,{"$f":"L607+J609","v":4911.9000000000005}]
[null,null,null,"E-36",13.65]
[{"$nulls":5},{"$f":"(E610+E612)/2","v":13.690000000000001},null,20,null,{"$f":"F611*H611","v":273.8},null,{"$f":"L609+J611","v":5185.7000000000007}]
[null,null,null,"E-37",13.73]
[{"$nulls":5},{"$f":"(E612+E614)/2","v":13.725000000000001},null,20,null,{"$f":"F613*H613","v":274.5},null,{"$f":"L611+J613","v":5460.2000000000007}]
[null,null,null,"E-38",13.72]
[{"$nulls":5},{"$f":"(E614+E616)/2","v":13.68},null,20,null,{"$f":"F615*H615","v":273.60000000000002},null,{"$f":"L613+J615","v":5733.8000000000011}]
[null,null,null,"E-39",13.64]
[{"$nulls":5},{"$f":"(E616+E618)/2","v":13.58},null,20,null,{"$f":"F617*H617","v":271.60000000000002},null,{"$f":"L615+J617","v":6005.4000000000015}]
[null,null,null,"E-40",13.52]
[{"$nulls":5},{"$f":"(E618+E620)/2","v":13.55},null,20,null,{"$f":"F619*H619","v":271},null,{"$f":"L617+J619","v":6276.4000000000015}]
[null,null,null,"E-41",13.58]
[{"$nulls":5},{"$f":"(E620+E622)/2","v":13.385},null,20,null,{"$f":"F621*H621","v":267.7},null,{"$f":"L619+J621","v":6544.1000000000013}]
[null,null,null,"E-42",13.19]
[{"$nulls":5},{"$f":"(E622+E624)/2","v":13.324999999999999},null,20,null,{"$f":"F623*H623","v":266.5},null,{"$f":"L621+J623","v":6810.6000000000013}]
[null,null,null,"E-43",13.46]
[{"$nulls":5},{"$f":"(E624+E626)/2","v":13.4},null,20,null,{"$f":"F625*H625","v":268},null,{"$f":"L623+J625","v":7078.6000000000013}]
[null,null,null,"E-44",13.34]
[{"$nulls":5},{"$f":"(E626+E628)/2","v":13.425000000000001},null,20,null,{"$f":"F627*H627","v":268.5},null,{"$f":"L625+J627","v":7347.1000000000013}]
[null,null,null,"E-45",13.51]
[{"$nulls":5},{"$f":"(E628+E630)/2","v":13.574999999999999},null,20,null,{"$f":"F629*H629","v":271.5},null,{"$f":"L627+J629","v":7618.6000000000013}]
[null,null,null,"E-46",13.64]
[{"$nulls":5},{"$f":"(E630+E632)/2","v":6.82},null,20,null,{"$f":"F631*H631","v":136.4},null,{"$f":"L629+J631","v":7755.0000000000009}]
[null,null,null,"E-FIN",0]
[]
[null,null,null,"ÁREA TOTAL (m²)",{"$nulls":7},{"$f":"L631","v":7755.0000000000009}]
[]
[]
[]
[]
[]
[null,null,null,"8.6. EXECUÇÃO DE DRENO COM MANTA GEOTÊXTIL"]
[]
[null,null,null,"* Para este item foi considerado um fator de multiplicação de 10% para compensar o transpasse e possíveis perdas. Esse"]
[null,null,null,"   serviço corresponde ao geotêxtil utilizado à tardoz do gabião."]
[]
[{"$nulls":5},"Geotêxtil Seção Típica 1 =",6,"m²/m",null,"Comprimento =",390.5,"m"]
[{"$nulls":5},"Geotêxtil Seção Típica 2 =",4.5,"m²",null,"Comprimento =",171,"m"]
[]
[]
[{"$nulls":5},"Total =",{"$f":"(G645*K645+G646*K646)*(1+K647)","v":3112.5},"m³"]
[]
[null,null,null,9,"DRENAGEM"]
[]
[null,null,null,"9.1. INSTALAÇÃO E FORNECIMENTO DE CANALETA DN=300mm"]
[]
[{"$nulls":5},"Total =",566.5,"m"]
[]
[null,null,null,"9.2. INSTALAÇÃO E FORNECIMENTO DE  TUBO DE PVC DN=200mm"]
[]
[null,null,null,"* Foi considerado um tubo de aproximadamente 7,00m para retirar a àgua coletada por cada caixa de passagem."]
[]
[{"$nulls":5},"Número de Tubos =",12,"Unid.",null,"Comprimento =",8,"m"]
[]
[{"$nulls":5},"Total =",{"$f":"G661*K661","v":96},"m"]
[]
[null,null,null,"9.3. INSTALAÇÃO E FORNECIMENTO DE TUBO DE PEAD CORRUGADO DN=100mm"]
[]
[null,null,null,"* Foi considerado um tubo de 6,50m a cada 2,00m ao longo de todo o dreno de areia. Comprimento de 160,00m."]
[]
[{"$nulls":5},"Número de Tubos =",{"$f":"ROUNDUP(160/2,0)","v":80},"Unid.",null,"Comprimento =",7.5,"m"]
[]
[{"$nulls":5},"Total =",{"$f":"G669*K669","v":600},"m"]
[]
[null,null,null,"9.4. CAIXA DE PASSAGEM 60 x 60 x 70 FUNDO DE BRITA E COM TAMPA"]
[]
[null,null,null,"* Foi considerado uma caixa de passagem a cada 50,00m."]
[]
[{"$nulls":5},"Distâcia entre Caixas =",50,"m",null,"Comprimento =",566.5,"m"]
[]
[{"$nulls":5},"Total =",{"$f":"ROUNDUP(K677/G677,0)","v":12},"Unidades"]

{"sheet":"M. CÁL. P12 E TRIB.","index":11,"n_rows":101,"n_cols":20,"rows_kept":101,"cut":false,"hidden":false,"merged":[[0,0,5,19],[37,0,51,0],[52,0,86,0],[87,0,100,0],[6,0,6,3],[7,0,7,3],[8,0,11,0],[9,1,9,3],[10,1,10,3],[12,0,36,0]]}
["MEMÓRIA DE CÁLCULO CANAIS P12, S1P12 E S2P12"]
[]
[]
[]
[]
[]
["CANAIS PRINCIPAIS",null,null,null,"CANAL P12 e DERIVADOS","CANAL P12 e DERIVADOS","CANAL P12 e DERIVADOS","CANAL P12 e DERIVADOS","CANAL P12 e DERIVADOS","CANAL P12 e DERIVADOS","CANAL P12 e DERIVADOS","CANAL P12 e DERIVADOS","CANAL P12 e DERIVADOS","CANAL P12 e DERIVADOS","CANAL P12 e DERIVADOS","CANAL P12 e DERIVADOS","CANAL P12 e DERIVADOS","CANAL P12 e DERIVADOS","CANAL P12 e DERIVADOS","CANAL P12 e DERIVADOS"]
["CANAL / TRECHO",null,null,null,"P12 trecho4","P12 trecho5","P12 trecho6","P12 trecho7","P12 trecho8","P12 trecho9","P12 trecho10","P12 trecho12","S1 P12 trecho1","S1 P12 trecho2","S1 P12 trecho3","S2 P12 trecho1","S2 P12 trecho2","S2 P12 trecho3","S2 P12 trecho4","S3 P12"]
["LOCAÇÃO","COMPRIMENTO ACUMULADO POR CANAL","Lcum=","m",641.6,{"$f":"E9+F12","v":1161.67},1315.0900000000001,1362.2300000000002,1802.1200000000003,1928.1600000000003,2454.4000000000005,{"$f":"K9+L12","v":2589.4000000000005},580,818.24,1380.79,80,840,1287.4000000000001,1739.69,556.67999999999995]
[null,"ESTACA - TÉRMINO",null,null,"78+19,22","104+19,29","112+12,71","114+19,85","136+19,74","143+5,78","169+12,02","187+15,56","29+0","40+18,24","69+0,79","4+0","42+0","64+7,4","86+19,69","27+16,68"]
[null,"ESTACA - INÍCIO",null,null,"46+17,62","78+19,22","104+19,29","112+12,71","114+19,85","136+19,74","143+5,78",181,0,"29+0","40+18,24",0,"4+0","42+0","64+7,4",0]
[null,"COMPRIMENTO DO TRECHO:","L=","m",641.6,520.07000000000005,153.41999999999999,47.14,439.89,126.04,526.24,135,580,238.24,562.54999999999995,80,760,447.4,452.29,556.67999999999995]
["CANAL TRAPEZOIDAL - MEDIDAS","Base Maior do Canal:","B =","m",{"$f":"IF(E14=\"\",\"\",E15*E17*2+E14)","v":4.08},{"$f":"IF(F14=\"\",\"\",F15*F17*2+F14)","v":3.92},{"$f":"IF(G14=\"\",\"\",G15*G17*2+G14)","v":3.92},3.92,3.94,3.92,3.92,3.26,1.3,1.3,"",1.7,1.58,1.53,"",1.25]
[null,"Base Menor do Canal:","b =","m",1.8,1.5,1.5,1.5,1.5,1.5,1.5,1.5,0.3,0.3,null,0.5,0.5,0.45,null,0.25]
[null,"Altura do Canal:","H =","m",1.1399999999999999,1.21,1.21,1.21,1.22,1.21,1.21,0.88,0.5,0.5,null,0.6,0.54,0.54,null,0.5]
[null,"Gola do Canal:","G =","m",0.2,0.2,0.2,0.2,0.2,0.2,0.2,0.2,0.2,0.2,null,0.2,0.2,0.2,null,0.2]
[null,"Inclinação 1:m","m =",null,1,1,1,1,1,1,1,1,1,1,null,1,1,1,null,1]
[null,"Rampa:","r =","m",{"$f":"IF(E14=\"\",\"\",SQRT(((E15*E17)^2)+((E15)^2)))","v":1.6122034611053282},{"$f":"IF(F14=\"\",\"\",SQRT(((F15*F17)^2)+((F15)^2)))","v":1.7111984104714451},{"$f":"IF(G14=\"\",\"\",SQRT(((G15*G17)^2)+((G15)^2)))","v":1.7111984104714451},1.7111984104714451,1.7253405460951758,1.7111984104714451,1.7111984104714451,1.2445079348883237,0.70710678118654757,0.70710678118654757,"",0.84852813742385702,0.7636753236814714,0.7636753236814714,"",0.70710678118654757]
[null,"Espessura Placa Revestimento Canal:","e =","m",{"$f":"IF(E14=\"\",\"\",VLOOKUP($B$19,'DADOS DE ENTRADA'!$B:$E,4,0))","v":0.05},{"$f":"IF(F14=\"\",\"\",VLOOKUP($B$19,'DADOS DE ENTRADA'!$B:$E,4,0))","v":0.05},{"$f":"IF(G14=\"\",\"\",VLOOKUP($B$19,'DADOS DE ENTRADA'!$B:$E,4,0))","v":0.05},{"$f":"IF(H14=\"\",\"\",VLOOKUP($B$19,'DADOS DE ENTRADA'!$B:$E,4,0))","v":0.05},{"$f":"IF(I14=\"\",\"\",VLOOKUP($B$19,'DADOS DE ENTRADA'!$B:$E,4,0))","v":0.05},{"$f":"IF(J14=\"\",\"\",VLOOKUP($B$19,'DADOS DE ENTRADA'!$B:$E,4,0))","v":0.05},{"$f":"IF(K14=\"\",\"\",VLOOKUP($B$19,'DADOS DE ENTRADA'!$B:$E,4,0))","v":0.05},{"$f":"IF(L14=\"\",\"\",VLOOKUP($B$19,'DADOS DE ENTRADA'!$B:$E,4,0))","v":0.05},{"$f":"IF(M14=\"\",\"\",VLOOKUP($B$19,'DADOS DE ENTRADA'!$B:$E,4,0))","v":0.05},{"$f":"IF(N14=\"\",\"\",VLOOKUP($B$19,'DADOS DE ENTRADA'!$B:$E,4,0))","v":0.05},{"$f":"IF(O14=\"\",\"\",VLOOKUP($B$19,'DADOS DE ENTRADA'!$B:$E,4,0))","v":""},{"$f":"IF(P14=\"\",\"\",VLOOKUP($B$19,'DADOS DE ENTRADA'!$B:$E,4,0))","v":0.05},{"$f":"IF(Q14=\"\",\"\",VLOOKUP($B$19,'DADOS DE ENTRADA'!$B:$E,4,0))","v":0.05},{"$f":"IF(R14=\"\",\"\",VLOOKUP($B$19,'DADOS DE ENTRADA'!$B:$E,4,0))","v":0.05},{"$f":"IF(S14=\"\",\"\",VLOOKUP($B$19,'DADOS DE ENTRADA'!$B:$E,4,0))","v":""},{"$f":"IF(T14=\"\",\"\",VLOOKUP($B$19,'DADOS DE ENTRADA'!$B:$E,4,0))","v":0.05}]
[null,"Área Seção Concreto Revestimento:","acr =","m2",{"$f":"IF(E14=\"\",\"\",E33*E19)","v":0.27122034611053286},{"$f":"IF(F14=\"\",\"\",F33*F19)","v":0.26611984104714453},{"$f":"IF(G14=\"\",\"\",G33*G19)","v":0.26611984104714453},0.26611984104714453,0.26753405460951762,0.26611984104714453,0.26611984104714453,0.2194507934888324,0.10571067811865478,0.10571067811865478,"",0.12985281374238572,0.12136753236814715,0.11886753236814716,"",0.10321067811865477]
[null,"Espessura Placa Revestimento Canal Existente (Demolição):","ed =","m",{"$f":"IF(E14=\"\",\"\",VLOOKUP($B$21,'DADOS DE ENTRADA'!$B:$E,4,0))","v":7.0000000000000007E-2},{"$f":"IF(F14=\"\",\"\",VLOOKUP($B$21,'DADOS DE ENTRADA'!$B:$E,4,0))","v":7.0000000000000007E-2},{"$f":"IF(G14=\"\",\"\",VLOOKUP($B$21,'DADOS DE ENTRADA'!$B:$E,4,0))","v":7.0000000000000007E-2},{"$f":"IF(H14=\"\",\"\",VLOOKUP($B$21,'DADOS DE ENTRADA'!$B:$E,4,0))","v":7.0000000000000007E-2},{"$f":"IF(I14=\"\",\"\",VLOOKUP($B$21,'DADOS DE ENTRADA'!$B:$E,4,0))","v":7.0000000000000007E-2},{"$f":"IF(J14=\"\",\"\",VLOOKUP($B$21,'DADOS DE ENTRADA'!$B:$E,4,0))","v":7.0000000000000007E-2},{"$f":"IF(K14=\"\",\"\",VLOOKUP($B$21,'DADOS DE ENTRADA'!$B:$E,4,0))","v":7.0000000000000007E-2},{"$f":"IF(L14=\"\",\"\",VLOOKUP($B$21,'DADOS DE ENTRADA'!$B:$E,4,0))","v":7.0000000000000007E-2},{"$f":"IF(M14=\"\",\"\",VLOOKUP($B$21,'DADOS DE ENTRADA'!$B:$E,4,0))","v":7.0000000000000007E-2},{"$f":"IF(N14=\"\",\"\",VLOOKUP($B$21,'DADOS DE ENTRADA'!$B:$E,4,0))","v":7.0000000000000007E-2},{"$f":"IF(O14=\"\",\"\",VLOOKUP($B$21,'DADOS DE ENTRADA'!$B:$E,4,0))","v":""},{"$f":"IF(P14=\"\",\"\",VLOOKUP($B$21,'DADOS DE ENTRADA'!$B:$E,4,0))","v":7.0000000000000007E-2},{"$f":"IF(Q14=\"\",\"\",VLOOKUP($B$21,'DADOS DE ENTRADA'!$B:$E,4,0))","v":7.0000000000000007E-2},{"$f":"IF(R14=\"\",\"\",VLOOKUP($B$21,'DADOS DE ENTRADA'!$B:$E,4,0))","v":7.0000000000000007E-2},{"$f":"IF(S14=\"\",\"\",VLOOKUP($B$21,'DADOS DE ENTRADA'!$B:$E,4,0))","v":""},{"$f":"IF(T14=\"\",\"\",VLOOKUP($B$21,'DADOS DE ENTRADA'!$B:$E,4,0))","v":7.0000000000000007E-2}]
[null,"Espessura Camada Solo a Retirar (Solo Impróprio):","ecsi =","m",{"$f":"IF(E14=\"\",\"\",VLOOKUP($B$22,'DADOS DE ENTRADA'!$B:$E,4,0))","v":0.33},{"$f":"IF(F14=\"\",\"\",VLOOKUP($B$22,'DADOS DE ENTRADA'!$B:$E,4,0))","v":0.33},{"$f":"IF(G14=\"\",\"\",VLOOKUP($B$22,'DADOS DE ENTRADA'!$B:$E,4,0))","v":0.33},{"$f":"IF(H14=\"\",\"\",VLOOKUP($B$22,'DADOS DE ENTRADA'!$B:$E,4,0))","v":0.33},{"$f":"IF(I14=\"\",\"\",VLOOKUP($B$22,'DADOS DE ENTRADA'!$B:$E,4,0))","v":0.33},{"$f":"IF(J14=\"\",\"\",VLOOKUP($B$22,'DADOS DE ENTRADA'!$B:$E,4,0))","v":0.33},{"$f":"IF(K14=\"\",\"\",VLOOKUP($B$22,'DADOS DE ENTRADA'!$B:$E,4,0))","v":0.33},{"$f":"IF(L14=\"\",\"\",VLOOKUP($B$22,'DADOS DE ENTRADA'!$B:$E,4,0))","v":0.33},{"$f":"IF(M14=\"\",\"\",VLOOKUP($B$22,'DADOS DE ENTRADA'!$B:$E,4,0))","v":0.33},{"$f":"IF(N14=\"\",\"\",VLOOKUP($B$22,'DADOS DE ENTRADA'!$B:$E,4,0))","v":0.33},{"$f":"IF(O14=\"\",\"\",VLOOKUP($B$22,'DADOS DE ENTRADA'!$B:$E,4,0))","v":""},{"$f":"IF(P14=\"\",\"\",VLOOKUP($B$22,'DADOS DE ENTRADA'!$B:$E,4,0))","v":0.33},{"$f":"IF(Q14=\"\",\"\",VLOOKUP($B$22,'DADOS DE ENTRADA'!$B:$E,4,0))","v":0.33},{"$f":"IF(R14=\"\",\"\",VLOOKUP($B$22,'DADOS DE ENTRADA'!$B:$E,4,0))","v":0.33},{"$f":"IF(S14=\"\",\"\",VLOOKUP($B$22,'DADOS DE ENTRADA'!$B:$E,4,0))","v":""},{"$f":"IF(T14=\"\",\"\",VLOOKUP($B$22,'DADOS DE ENTRADA'!$B:$E,4,0))","v":0.33}]
[null,"Espessura da camada de solo-cimento:","erSC =","m",{"$f":"IF(E14=\"\",\"\",VLOOKUP($B$23,'DADOS DE ENTRADA'!$B:$E,4,0))","v":0.1},{"$f":"IF(F14=\"\",\"\",VLOOKUP($B$23,'DADOS DE ENTRADA'!$B:$E,4,0))","v":0.1},{"$f":"IF(G14=\"\",\"\",VLOOKUP($B$23,'DADOS DE ENTRADA'!$B:$E,4,0))","v":0.1},{"$f":"IF(H14=\"\",\"\",VLOOKUP($B$23,'DADOS DE ENTRADA'!$B:$E,4,0))","v":0.1},{"$f":"IF(I14=\"\",\"\",VLOOKUP($B$23,'DADOS DE ENTRADA'!$B:$E,4,0))","v":0.1},{"$f":"IF(J14=\"\",\"\",VLOOKUP($B$23,'DADOS DE ENTRADA'!$B:$E,4,0))","v":0.1},{"$f":"IF(K14=\"\",\"\",VLOOKUP($B$23,'DADOS DE ENTRADA'!$B:$E,4,0))","v":0.1},{"$f":"IF(L14=\"\",\"\",VLOOKUP($B$23,'DADOS DE ENTRADA'!$B:$E,4,0))","v":0.1},{"$f":"IF(M14=\"\",\"\",VLOOKUP($B$23,'DADOS DE ENTRADA'!$B:$E,4,0))","v":0.1},{"$f":"IF(N14=\"\",\"\",VLOOKUP($B$23,'DADOS DE ENTRADA'!$B:$E,4,0))","v":0.1},{"$f":"IF(O14=\"\",\"\",VLOOKUP($B$23,'DADOS DE ENTRADA'!$B:$E,4,0))","v":""},{"$f":"IF(P14=\"\",\"\",VLOOKUP($B$23,'DADOS DE ENTRADA'!$B:$E,4,0))","v":0.1},{"$f":"IF(Q14=\"\",\"\",VLOOKUP($B$23,'DADOS DE ENTRADA'!$B:$E,4,0))","v":0.1},{"$f":"IF(R14=\"\",\"\",VLOOKUP($B$23,'DADOS DE ENTRADA'!$B:$E,4,0))","v":0.1},{"$f":"IF(S14=\"\",\"\",VLOOKUP($B$23,'DADOS DE ENTRADA'!$B:$E,4,0))","v":""},{"$f":"IF(T14=\"\",\"\",VLOOKUP($B$23,'DADOS DE ENTRADA'!$B:$E,4,0))","v":0.1}]
[null,"Área Solo a Retirar (Solo Impróprio):","Acsr =","m2",{"$f":"IF(E14=\"\",\"\",E22*E33)","v":1.7900542843295169},{"$f":"IF(F14=\"\",\"\",F22*F33)","v":1.7563909509111537},{"$f":"IF(G14=\"\",\"\",G22*G33)","v":1.7563909509111537},1.7563909509111537,1.7657247604228163,1.7563909509111537,1.7563909509111537,1.4483752370262939,0.69769047558312158,0.69769047558312158,"",0.8570285706997457,0.80102571362977115,0.7845257136297713,"",0.68119047558312151]
[null,"Área solo-cimento:","Asolo-cim.=","m2",{"$f":"IF(E14=\"\",\"\",E23*E33)","v":0.54244069222106572},{"$f":"IF(F14=\"\",\"\",F23*F33)","v":0.53223968209428907},{"$f":"IF(G14=\"\",\"\",G23*G33)","v":0.53223968209428907},0.53223968209428907,0.53506810921903525,0.53223968209428907,0.53223968209428907,0.43890158697766479,0.21142135623730957,0.21142135623730957,"",0.25970562748477144,0.2427350647362943,0.23773506473629433,"",0.20642135623730953]
[null,"Recomposição de Berma c1:","c1 =","m",0,0,0,0,0,0,0,0,0,0,0,0,0,0,0,0]
[null,"Recomposição de Berma c2:","c2 =","m",0,0,0,0,0,0,0,0,0,0,0,0,0,0,0,0]
[null,"Recomposição de Berma c3:","c3 =","m",0,0,0,0,0,0,0,0,0,0,0,0,0,0,0,0]
[null,null,"área =","m2",{"$f":"IF(E14=\"\",\"\",((E26+E27)/2)*E28)","v":0},{"$f":"IF(F14=\"\",\"\",((F26+F27)/2)*F28)","v":0},{"$f":"IF(G14=\"\",\"\",((G26+G27)/2)*G28)","v":0},0,0,0,0,0,0,0,"",0,0,0,"",0]
[null,"Ancoragem (Largura):","a =","m",{"$f":"IF(E25=\"\",\"\",VLOOKUP($B$30,'DADOS DE ENTRADA'!$B:$E,4,0))","v":0.2},{"$f":"IF(F25=\"\",\"\",VLOOKUP($B$30,'DADOS DE ENTRADA'!$B:$E,4,0))","v":0.2},{"$f":"IF(G25=\"\",\"\",VLOOKUP($B$30,'DADOS DE ENTRADA'!$B:$E,4,0))","v":0.2},{"$f":"IF(H25=\"\",\"\",VLOOKUP($B$30,'DADOS DE ENTRADA'!$B:$E,4,0))","v":0.2},{"$f":"IF(I25=\"\",\"\",VLOOKUP($B$30,'DADOS DE ENTRADA'!$B:$E,4,0))","v":0.2},{"$f":"IF(J25=\"\",\"\",VLOOKUP($B$30,'DADOS DE ENTRADA'!$B:$E,4,0))","v":0.2},{"$f":"IF(K25=\"\",\"\",VLOOKUP($B$30,'DADOS DE ENTRADA'!$B:$E,4,0))","v":0.2},{"$f":"IF(L25=\"\",\"\",VLOOKUP($B$30,'DADOS DE ENTRADA'!$B:$E,4,0))","v":0.2},{"$f":"IF(M25=\"\",\"\",VLOOKUP($B$30,'DADOS DE ENTRADA'!$B:$E,4,0))","v":0.2},{"$f":"IF(N25=\"\",\"\",VLOOKUP($B$30,'DADOS DE ENTRADA'!$B:$E,4,0))","v":0.2},{"$f":"IF(O25=\"\",\"\",VLOOKUP($B$30,'DADOS DE ENTRADA'!$B:$E,4,0))","v":""},{"$f":"IF(P25=\"\",\"\",VLOOKUP($B$30,'DADOS DE ENTRADA'!$B:$E,4,0))","v":0.2},{"$f":"IF(Q25=\"\",\"\",VLOOKUP($B$30,'DADOS DE ENTRADA'!$B:$E,4,0))","v":0.2},{"$f":"IF(R25=\"\",\"\",VLOOKUP($B$30,'DADOS DE ENTRADA'!$B:$E,4,0))","v":0.2},{"$f":"IF(S25=\"\",\"\",VLOOKUP($B$30,'DADOS DE ENTRADA'!$B:$E,4,0))","v":""},{"$f":"IF(T25=\"\",\"\",VLOOKUP($B$30,'DADOS DE ENTRADA'!$B:$E,4,0))","v":0.2}]
[null,"Ancoragem (Altura):","b' =","m",{"$f":"IF(E14=\"\",\"\",VLOOKUP($B$31,'DADOS DE ENTRADA'!$B:$E,4,0))","v":0.2},{"$f":"IF(F14=\"\",\"\",VLOOKUP($B$31,'DADOS DE ENTRADA'!$B:$E,4,0))","v":0.2},{"$f":"IF(G14=\"\",\"\",VLOOKUP($B$31,'DADOS DE ENTRADA'!$B:$E,4,0))","v":0.2},{"$f":"IF(H14=\"\",\"\",VLOOKUP($B$31,'DADOS DE ENTRADA'!$B:$E,4,0))","v":0.2},{"$f":"IF(I14=\"\",\"\",VLOOKUP($B$31,'DADOS DE ENTRADA'!$B:$E,4,0))","v":0.2},{"$f":"IF(J14=\"\",\"\",VLOOKUP($B$31,'DADOS DE ENTRADA'!$B:$E,4,0))","v":0.2},{"$f":"IF(K14=\"\",\"\",VLOOKUP($B$31,'DADOS DE ENTRADA'!$B:$E,4,0))","v":0.2},{"$f":"IF(L14=\"\",\"\",VLOOKUP($B$31,'DADOS DE ENTRADA'!$B:$E,4,0))","v":0.2},{"$f":"IF(M14=\"\",\"\",VLOOKUP($B$31,'DADOS DE ENTRADA'!$B:$E,4,0))","v":0.2},{"$f":"IF(N14=\"\",\"\",VLOOKUP($B$31,'DADOS DE ENTRADA'!$B:$E,4,0))","v":0.2},{"$f":"IF(O14=\"\",\"\",VLOOKUP($B$31,'DADOS DE ENTRADA'!$B:$E,4,0))","v":""},{"$f":"IF(P14=\"\",\"\",VLOOKUP($B$31,'DADOS DE ENTRADA'!$B:$E,4,0))","v":0.2},{"$f":"IF(Q14=\"\",\"\",VLOOKUP($B$31,'DADOS DE ENTRADA'!$B:$E,4,0))","v":0.2},{"$f":"IF(R14=\"\",\"\",VLOOKUP($B$31,'DADOS DE ENTRADA'!$B:$E,4,0))","v":0.2},{"$f":"IF(S14=\"\",\"\",VLOOKUP($B$31,'DADOS DE ENTRADA'!$B:$E,4,0))","v":""},{"$f":"IF(T14=\"\",\"\",VLOOKUP($B$31,'DADOS DE ENTRADA'!$B:$E,4,0))","v":0.2}]
[null,"Seção da Manta PEAD:","pm =","m",{"$f":"IF(E14=\"\",\"\",(E30+E31+E16+E18+E14+E18+E16+E31+E30))","v":6.2244069222106573},{"$f":"IF(F14=\"\",\"\",(F30+F31+F16+F18+F14+F18+F16+F31+F30))","v":6.1223968209428907},{"$f":"IF(G14=\"\",\"\",(G30+G31+G16+G18+G14+G18+G16+G31+G30))","v":6.1223968209428907},6.1223968209428907,6.1506810921903528,6.1223968209428907,6.1223968209428907,5.1890158697766475,2.9142135623730958,2.9142135623730958,"",3.3970562748477149,3.2273506473629436,3.1773506473629434,"",2.8642135623730955]
[null,"Perímetro Seção Canal:","p =","m",{"$f":"IF(E14=\"\",\"\",E16+E18+E14+E18+E16)","v":5.4244069222106566},{"$f":"IF(F14=\"\",\"\",F16+F18+F14+F18+F16)","v":5.32239682094289},{"$f":"IF(G14=\"\",\"\",G16+G18+G14+G18+G16)","v":5.32239682094289},5.32239682094289,5.350681092190352,5.32239682094289,5.32239682094289,4.3890158697766477,2.1142135623730955,2.1142135623730955,"",2.5970562748477142,2.4273506473629429,2.3773506473629431,"",2.0642135623730953]
[null,"Perímetro Seção Canal (r+b+r):","psc =","m",{"$f":"IF(E14=\"\",\"\",E18+E14+E18)","v":5.0244069222106562},{"$f":"IF(F14=\"\",\"\",F18+F14+F18)","v":4.9223968209428897},{"$f":"IF(G14=\"\",\"\",G18+G14+G18)","v":4.9223968209428897},4.9223968209428897,4.9506810921903517,4.9223968209428897,4.9223968209428897,3.9890158697766473,1.7142135623730952,1.7142135623730952,"",2.1970562748477143,2.027350647362943,1.9773506473629427,"",1.6642135623730951]
[null,"Largura de Limpeza Canal p/ cada lado:","L =","m",{"$f":"IF(E14=\"\",\"\",VLOOKUP($B$35,'DADOS DE ENTRADA'!$B:$E,4,0))","v":0.5},{"$f":"IF(F14=\"\",\"\",VLOOKUP($B$35,'DADOS DE ENTRADA'!$B:$E,4,0))","v":0.5},{"$f":"IF(G14=\"\",\"\",VLOOKUP($B$35,'DADOS DE ENTRADA'!$B:$E,4,0))","v":0.5},{"$f":"IF(H14=\"\",\"\",VLOOKUP($B$35,'DADOS DE ENTRADA'!$B:$E,4,0))","v":0.5},{"$f":"IF(I14=\"\",\"\",VLOOKUP($B$35,'DADOS DE ENTRADA'!$B:$E,4,0))","v":0.5},{"$f":"IF(J14=\"\",\"\",VLOOKUP($B$35,'DADOS DE ENTRADA'!$B:$E,4,0))","v":0.5},{"$f":"IF(K14=\"\",\"\",VLOOKUP($B$35,'DADOS DE ENTRADA'!$B:$E,4,0))","v":0.5},{"$f":"IF(L14=\"\",\"\",VLOOKUP($B$35,'DADOS DE ENTRADA'!$B:$E,4,0))","v":0.5},{"$f":"IF(M14=\"\",\"\",VLOOKUP($B$35,'DADOS DE ENTRADA'!$B:$E,4,0))","v":0.5},{"$f":"IF(N14=\"\",\"\",VLOOKUP($B$35,'DADOS DE ENTRADA'!$B:$E,4,0))","v":0.5},{"$f":"IF(O14=\"\",\"\",VLOOKUP($B$35,'DADOS DE ENTRADA'!$B:$E,4,0))","v":""},{"$f":"IF(P14=\"\",\"\",VLOOKUP($B$35,'DADOS DE ENTRADA'!$B:$E,4,0))","v":0.5},{"$f":"IF(Q14=\"\",\"\",VLOOKUP($B$35,'DADOS DE ENTRADA'!$B:$E,4,0))","v":0.5},{"$f":"IF(R14=\"\",\"\",VLOOKUP($B$35,'DADOS DE ENTRADA'!$B:$E,4,0))","v":0.5},{"$f":"IF(S14=\"\",\"\",VLOOKUP($B$35,'DADOS DE ENTRADA'!$B:$E,4,0))","v":""},{"$f":"IF(T14=\"\",\"\",VLOOKUP($B$35,'DADOS DE ENTRADA'!$B:$E,4,0))","v":0.5}]
[null,"DMT (Importação):","DMT 1 =","km",{"$f":"IF(E14=\"\",\"\",VLOOKUP($B$36,'DADOS DE ENTRADA'!$B:$E,4,0))","v":10},{"$f":"IF(F14=\"\",\"\",VLOOKUP($B$36,'DADOS DE ENTRADA'!$B:$E,4,0))","v":10},{"$f":"IF(G14=\"\",\"\",VLOOKUP($B$36,'DADOS DE ENTRADA'!$B:$E,4,0))","v":10},{"$f":"IF(H14=\"\",\"\",VLOOKUP($B$36,'DADOS DE ENTRADA'!$B:$E,4,0))","v":10},{"$f":"IF(I14=\"\",\"\",VLOOKUP($B$36,'DADOS DE ENTRADA'!$B:$E,4,0))","v":10},{"$f":"IF(J14=\"\",\"\",VLOOKUP($B$36,'DADOS DE ENTRADA'!$B:$E,4,0))","v":10},{"$f":"IF(K14=\"\",\"\",VLOOKUP($B$36,'DADOS DE ENTRADA'!$B:$E,4,0))","v":10},{"$f":"IF(L14=\"\",\"\",VLOOKUP($B$36,'DADOS DE ENTRADA'!$B:$E,4,0))","v":10},{"$f":"IF(M14=\"\",\"\",VLOOKUP($B$36,'DADOS DE ENTRADA'!$B:$E,4,0))","v":10},{"$f":"IF(N14=\"\",\"\",VLOOKUP($B$36,'DADOS DE ENTRADA'!$B:$E,4,0))","v":10},{"$f":"IF(O14=\"\",\"\",VLOOKUP($B$36,'DADOS DE ENTRADA'!$B:$E,4,0))","v":""},{"$f":"IF(P14=\"\",\"\",VLOOKUP($B$36,'DADOS DE ENTRADA'!$B:$E,4,0))","v":10},{"$f":"IF(Q14=\"\",\"\",VLOOKUP($B$36,'DADOS DE ENTRADA'!$B:$E,4,0))","v":10},{"$f":"IF(R14=\"\",\"\",VLOOKUP($B$36,'DADOS DE ENTRADA'!$B:$E,4,0))","v":10},{"$f":"IF(S14=\"\",\"\",VLOOKUP($B$36,'DADOS DE ENTRADA'!$B:$E,4,0))","v":""},{"$f":"IF(T14=\"\",\"\",VLOOKUP($B$36,'DADOS DE ENTRADA'!$B:$E,4,0))","v":10}]
[null,"DMT (Bota Fora):","DMT 2 =","km",{"$f":"IF(E14=\"\",\"\",VLOOKUP($B$37,'DADOS DE ENTRADA'!$B:$E,4,0))","v":10},{"$f":"IF(F14=\"\",\"\",VLOOKUP($B$37,'DADOS DE ENTRADA'!$B:$E,4,0))","v":10},{"$f":"IF(G14=\"\",\"\",VLOOKUP($B$37,'DADOS DE ENTRADA'!$B:$E,4,0))","v":10},{"$f":"IF(H14=\"\",\"\",VLOOKUP($B$37,'DADOS DE ENTRADA'!$B:$E,4,0))","v":10},{"$f":"IF(I14=\"\",\"\",VLOOKUP($B$37,'DADOS DE ENTRADA'!$B:$E,4,0))","v":10},{"$f":"IF(J14=\"\",\"\",VLOOKUP($B$37,'DADOS DE ENTRADA'!$B:$E,4,0))","v":10},{"$f":"IF(K14=\"\",\"\",VLOOKUP($B$37,'DADOS DE ENTRADA'!$B:$E,4,0))","v":10},{"$f":"IF(L14=\"\",\"\",VLOOKUP($B$37,'DADOS DE ENTRADA'!$B:$E,4,0))","v":10},{"$f":"IF(M14=\"\",\"\",VLOOKUP($B$37,'DADOS DE ENTRADA'!$B:$E,4,0))","v":10},{"$f":"IF(N14=\"\",\"\",VLOOKUP($B$37,'DADOS DE ENTRADA'!$B:$E,4,0))","v":10},{"$f":"IF(O14=\"\",\"\",VLOOKUP($B$37,'DADOS DE ENTRADA'!$B:$E,4,0))","v":""},{"$f":"IF(P14=\"\",\"\",VLOOKUP($B$37,'DADOS DE ENTRADA'!$B:$E,4,0))","v":10},{"$f":"IF(Q14=\"\",\"\",VLOOKUP($B$37,'DADOS DE ENTRADA'!$B:$E,4,0))","v":10},{"$f":"IF(R14=\"\",\"\",VLOOKUP($B$37,'DADOS DE ENTRADA'!$B:$E,4,0))","v":10},{"$f":"IF(S14=\"\",\"\",VLOOKUP($B$37,'DADOS DE ENTRADA'!$B:$E,4,0))","v":""},{"$f":"IF(T14=\"\",\"\",VLOOKUP($B$37,'DADOS DE ENTRADA'!$B:$E,4,0))","v":10}]
["CANAL TRAPEZOIDAL - QUANTITATIVOS","LOCACAO E NIVELAMENTO DE REDE DE CANAIS COLETORES DE IRRIGAÇÃO COM AUXILIO DE EQUIPAMENTO TOPOGRAFICO - CANAL TRECHO TRAPEZOIDAL",null,"m",{"$f":"IF(E13=\"\",\"\",E12)","v":641.6},520.07000000000005,153.41999999999999,47.14,439.89,126.04,526.24,135,580,238.24,"",80,760,447.4,"",556.67999999999995]
[null,"LIMPEZA MANUAL DE VEGETAÇÃO EM TERRENO COM ENXADA",null,"m²",{"$f":"IF(E13=\"\",\"\",2*E35*E12)","v":641.6},520.07000000000005,153.41999999999999,47.14,439.89,126.04,526.24,135,580,238.24,"",80,760,447.4,"",556.67999999999995]
[null,"DEMOLIÇÃO  DE PLACAS EM CONCRETO",null,"m³",{"$f":"IF(E13=\"\",\"\",E12*E33*E21)","v":243.62096369032506},193.76132402674384,57.159348418834078,17.562845029747351,164.75977739505299,46.958442671814936,196.06006721370906,41.476199969389327,85.83707063234769,35.258316736983645,"",14.543515139147202,129.13505443970857,74.45386757411265,"",80.437448413129815]
[null,"CARGA E DESCARGA MECANICA DE SOLO UTILIZANDO CAMINHAO BASCULANTE 6,0M3/16T E RETROESCAVADEIRA, CAÇAMBA RETRO CAP. 0,20 M3,PESO OPERACIONAL MÍN. 6.570 KG, INCLUSO ENTULHO",null,"m³",{"$f":"IF(E13=\"\",\"\",E40)","v":243.62096369032506},193.76132402674384,57.159348418834078,17.562845029747351,164.75977739505299,46.958442671814936,196.06006721370906,41.476199969389327,85.83707063234769,35.258316736983645,"",14.543515139147202,129.13505443970857,74.45386757411265,"",80.437448413129815]
[null,"TRANSPORTE COMERCIAL COM CAMINHÃO BASCULANTE 6 M3, RODOVIA EM LEITO NATURAL",null,"m³xKm",{"$f":"IF(E13=\"\",\"\",E41*E37)","v":2436.2096369032506},1937.6132402674384,571.59348418834077,175.62845029747351,1647.5977739505299,469.58442671814936,1960.6006721370907,414.76199969389324,858.37070632347695,352.58316736983647,"",145.435151391472,1291.3505443970857,744.53867574112655,"",804.37448413129812]
[null,"ESCAVACAO MECANICA, A CEU ABERTO, EM MATERIAL DE 1A CATEGORIA, COM RETROESCAVADEIRA- SOLO IMPRÓPRIO",null,"m³",{"$f":"IF(E13=\"\",\"\",E12*E24)","v":1148.498828825818},913.44624184036377,269.46549968878918,82.796269425951792,776.72466486239261,221.37551545284182,924.28317400748551,195.53065699854969,404.66047583821052,166.2177789029229,"",68.56228565597965,608.77954235862603,350.99680427795965,"",379.20511394761206]
[null,"CARGA E DESCARGA MECANICA DE SOLO UTILIZANDO CAMINHAO BASCULANTE 6,0M3/16T E RETROESCAVADEIRA, CAÇAMBA RETRO CAP. 0,20 M3,PESO OPERACIONAL MÍN. 6.570 KG, INCLUSO ENTULHO - SOLO IMPRÓPRIO",null,"m³",{"$f":"IF(E13=\"\",\"\",E43)","v":1148.498828825818},913.44624184036377,269.46549968878918,82.796269425951792,776.72466486239261,221.37551545284182,924.28317400748551,195.53065699854969,404.66047583821052,166.2177789029229,"",68.56228565597965,608.77954235862603,350.99680427795965,"",379.20511394761206]
[null,"TRANSPORTE COMERCIAL COM CAMINHAO BASCULANTE 6 M3, RODOVIA EM LEITO NATURAL- SOLO IMPRÓPRIO",null,"m³xKm",{"$f":"IF(E13=\"\",\"\",E44*E37)","v":11484.988288258181},9134.4624184036384,2694.6549968878917,827.96269425951789,7767.2466486239264,2213.7551545284182,9242.8317400748547,1955.3065699854969,4046.604758382105,1662.177789029229,"",685.62285655979645,6087.7954235862599,3509.9680427795965,"",3792.0511394761206]
[null,"PPREPARO E EXECUÇÃO DE SOLO-CIMENTO TRAÇO 1:12 EM VOLUME, (CIMENTO/ARENOSO), COM COMPACTAÇÃO E ESPALHAMENTO, PARA SUPORTE DE FUNDAÇÕES, INCLUSIVE CIMENTO E ARENOSO COMERCIAL ",null,"m³",{"$f":"IF(E13=\"\",\"\",E25*E12)","v":348.0299481290358},276.80189146677696,81.65621202690582,25.089778613924786,235.3711105643614,67.083489531164204,280.08581030529871,59.25171424198475,122.62438661763954,50.369023909976633,"",20.776450198781717,184.47864919958366,106.36266796301808,"",114.91064059018547]
[null,"ATERRO MANUAL COM MATERIAL DE EMPRÉSTIMO, COMPACTAÇÃO MECANIZADA  E REGULARIZAÇÃO DO TALUDE",null,"m²",{"$f":"IF(E13=\"\",\"\",E34*0.25*E12)","v":805.91487032258931},{"$f":"IF(F13=\"\",\"\",F34*0.25*F12)","v":639.99772866694218},188.79853006726452,58.010446534811955,544.43877641090342,155.10472382791045,647.59052576324655,134.62928560496184,248.56096654409879,102.09855977494155,"",43.941125496954285,385.19662299895919,221.16666990754513,"",231.60860147546364]
[null,"ESCAVAÇÃO MANUAL DE VALAS PARA ANCORAGEM DA MANTA PEAD",null,"m³",{"$f":"IF(E13=\"\",\"\",(E30*E31)*E12*2)","v":51.32800000000001},41.60560000000001,12.273600000000002,3.7712000000000008,35.191200000000009,10.083200000000003,42.09920000000001,10.800000000000002,46.400000000000006,19.059200000000004,"",6.4000000000000012,60.800000000000011,35.792000000000002,"",44.534400000000005]
[null,"FORNECIMENTO E INSTALAÇÃO DE GEOMEMBRANA , PEAD, ESP = 1MM",null,"m²",{"$f":"IF(E13=\"\",\"\",E32*E12)","v":3993.5794812903578},{"$f":"IF(F13=\"\",\"\",F32*F12)","v":3184.0749146677695},939.29812026905824,288.60978613924789,2705.6231056436141,771.66689531164195,3221.8501030529869,700.51714241984746,1690.2438661763956,694.28223909976634,"",271.7645019878172,2452.786491995837,1421.5466796301807,"",1594.4504059018548]
[null,"REATERRO COM COMPACTACAO MECANIZADA DAS VALAS ( ANCORAGEM DA MANTA PEAD )",null,"m³",{"$f":"IF(E13=\"\",\"\",E48)","v":51.32800000000001},41.60560000000001,12.273600000000002,3.7712000000000008,35.191200000000009,10.083200000000003,42.09920000000001,10.800000000000002,46.400000000000006,19.059200000000004,"",6.4000000000000012,60.800000000000011,35.792000000000002,"",44.534400000000005]
[null,"ARMACAO EM TELA DE ACO SOLDADA NERVURADA Q-138, ACO CA-60, 4,2MM, MALHA 15X15CM",null,"m²",{"$f":"IF(E13=\"\",\"\",E33*E12)","v":3480.2994812903576},{"$f":"IF(F13=\"\",\"\",F33*F12)","v":2768.018914667769},816.56212026905814,250.89778613924784,2353.7111056436138,670.83489531164184,2800.8581030529863,592.51714241984746,1226.2438661763954,503.6902390997663,"",207.76450198781714,1844.7864919958365,1063.6266796301807,"",1149.1064059018545]
[null,"CONCRETO FCK=20MPA PARA ESTRUTURAS, INCLUINDO PREPARO MECANICO, LANCAMENTO E ADENSAMENTO",null,"m³",{"$f":"IF(E13=\"\",\"\",(E33*E19)*E12)","v":174.0149740645179},{"$f":"IF(F13=\"\",\"\",(F33*F19)*F12)","v":138.40094573338848},40.82810601345291,12.544889306962393,117.6855552821807,33.541744765582102,140.04290515264935,29.625857120992375,61.312193308819772,25.184511954988317,"",10.388225099390858,92.239324599791829,53.181333981509042,"",57.455320295092733]
["CANAL RETANGULAR - MEDIDAS","Canal Retangular (Largura Externa):","B=","m",{"$f":"IF(E55=\"\",\"\",E55+E56+E56)","v":""},{"$f":"IF(F55=\"\",\"\",F55+F56+F56)","v":""},{"$f":"IF(G55=\"\",\"\",G55+G56+G56)","v":""},"","","","","","","",0.59,"","","",0.59,""]
[null,null,"d=","m",{"$f":"IF(E55=\"\",\"\",(E63-E53)/2)","v":""},{"$f":"IF(F55=\"\",\"\",(F63-F53)/2)","v":""},{"$f":"IF(G55=\"\",\"\",(G63-G53)/2)","v":""},"","","","","","","",0.52,"","","",0.65999999999999992,""]
[null,"Canal retangular (Largura Interna):","b=","m",{"$nulls":10},0.35,null,null,null,0.35]
[null,"Canal retangular (Espessura Parede):","c=","m","","","","","","","","","","",0.12,"","","",0.12,""]
[null,"Canal Retangular (Altura Interna):","H=","m",{"$nulls":10},0.5,null,null,null,0.54]
[null,"Canal Retangular (Laje Base Espessura):","eb=","m","","","","","","","","","","",0.1,"","","",0.1,""]
[null,"Canal Retangular (Laje Base Largura):","Le=","m",{"$f":"IF(E55=\"\",\"\",E53+0.05+0.05)","v":""},{"$f":"IF(F55=\"\",\"\",F53+0.05+0.05)","v":""},{"$f":"IF(G55=\"\",\"\",G53+0.05+0.05)","v":""},"","","","","","","",0.69000000000000006,"","","",0.69000000000000006,""]
[null,"Canal retangular (Laje Base Espessura):","h=","m","","","","","","","","","","",0.1,"","","",0.1,""]
[null,"Canal Retangular (Viga Horizontal Superior Largura):","vs=","m","","","","","","","","","","",0.12,"","","",0.12,""]
[null,"Canal retangular (Viga Horizontal Superior Altura):","hs=","m","","","","","","","","","","",0.12,"","","",0.12,""]
[null,"Canal Existente (Largura Base Maior):","B+2d=","m",{"$nulls":10},1.63,null,null,null,1.91]
[null,"Canal Existente (Largura Base Menor):","bc=","m",{"$nulls":10},0.45,null,null,null,0.52]
[null,"Canal Existente (Espessura Placa):","ep=","m","","","","","","","","","","",7.0000000000000007E-2,"","","",7.0000000000000007E-2,""]
[null,"Canal Existente (Altura Interna):","He=","m",{"$nulls":10},0.59,null,null,null,0.63]
[null,"Canal Existente (Inclinação 1:m):","m =",null,{"$f":"IF(E55=\"\",\"\",((E63/2)-(E64/2))/E66)","v":""},{"$f":"IF(F55=\"\",\"\",((F63/2)-(F64/2))/F66)","v":""},{"$f":"IF(G55=\"\",\"\",((G63/2)-(G64/2))/G66)","v":""},"","","","","","","",1,"","","",1.103174603174603,""]
[null,null,"b2=","m",{"$f":"IF(E55=\"\",\"\",((E59)-E64)/2)","v":""},{"$f":"IF(F55=\"\",\"\",((F59)-F64)/2)","v":""},{"$f":"IF(G55=\"\",\"\",((G59)-G64)/2)","v":""},"","","","","","","",0.12000000000000002,"","","",8.500000000000002E-2,""]
[null,"Concreto Magro (Espessura):","em=","m","","","","","","","","","","",0.05,"","","",0.05,""]
[null,null,"h1=","m",{"$f":"IF(E55=\"\",\"\",E71+E72)","v":""},{"$f":"IF(F55=\"\",\"\",F71+F72)","v":""},{"$f":"IF(G55=\"\",\"\",G71+G72)","v":""},"","","","","","","",0.27,"","","",0.22705035971223025,""]
[null,null,"h2=","m",{"$f":"IF(E55=\"\",\"\",E68/E67)","v":""},{"$f":"IF(F55=\"\",\"\",F68/F67)","v":""},{"$f":"IF(G55=\"\",\"\",G68/G67)","v":""},"","","","","","","",0.12000000000000002,"","","",7.7050359712230246E-2,""]
[null,null,"h3=","m",{"$f":"IF(E55=\"\",\"\",E58+E69)","v":""},{"$f":"IF(F55=\"\",\"\",F58+F69)","v":""},{"$f":"IF(G55=\"\",\"\",G58+G69)","v":""},"","","","","","","",0.15000000000000002,"","","",0.15000000000000002,""]
[null,null,"h4=","m",{"$f":"IF(E55=\"\",\"\",E66+E58+E69-E70)","v":""},{"$f":"IF(F55=\"\",\"\",F66+F58+F69-F70)","v":""},{"$f":"IF(G55=\"\",\"\",G66+G58+G69-G70)","v":""},"","","","","","","",0.47,"","","",0.55294964028776983,""]
[null,"Rampa:","r=","m",{"$f":"IF(E55=\"\",\"\",SQRT((E66*E66)+((E66*E67)^2)))","v":""},{"$f":"IF(F55=\"\",\"\",SQRT((F66*F66)+((F66*F67)^2)))","v":""},{"$f":"IF(G55=\"\",\"\",SQRT((G66*G66)+((G66*G67)^2)))","v":""},"","","","","","","",0.83438600180012601,"","","",0.93804317597858999,""]
[null,"Concreto Demolição:","Vdc=","m3",{"$f":"IF(E55=\"\",\"\",(E74+E64+E74)*E65)","v":""},{"$f":"IF(F55=\"\",\"\",(F74+F64+F74)*F65)","v":""},{"$f":"IF(G55=\"\",\"\",(G74+G64+G74)*G65)","v":""},"","","","","","","",0.14831404025201766,"","","",0.16772604463700261,""]
[null,"Escavação (m3):","Ve=","m3",{"$f":"IF(E55=\"\",\"\",(E59*E70)-((E59+E64)/2*E71))","v":""},{"$f":"IF(F55=\"\",\"\",(F59*F70)-((F59+F64)/2*F71))","v":""},{"$f":"IF(G55=\"\",\"\",(G59*G70)-((G59+G64)/2*G71))","v":""},"","","","","","","",0.1179,"","","",0.11004928057553959,""]
[null,"DMT (Importação):","DMT 1 =","km","","","","","","","","","","",10,"","","",10,""]
[null,"DMT (Bota Fora):","DMT 2 =","km","","","","","","","","","","",10,"","","",10,""]
[null,"Concreto Magro:","Vcm=","m3",{"$f":"IF(E55=\"\",\"\",E59*E69)","v":""},{"$f":"IF(F55=\"\",\"\",F59*F69)","v":""},{"$f":"IF(G55=\"\",\"\",G59*G69)","v":""},"","","","","","","",3.4500000000000003E-2,"","","",3.4500000000000003E-2,""]
[null,"Forma:","A=","m2",{"$f":"IF(E55=\"\",\"\",E66*4)","v":""},{"$f":"IF(F55=\"\",\"\",F66*4)","v":""},{"$f":"IF(G55=\"\",\"\",G66*4)","v":""},"","","","","","","",2.36,"","","",2.52,""]
[null,"Junta Transversal:","Jt=","m",{"$f":"IF(E55=\"\",\"\",(E55+E66+E66)/12)","v":""},{"$f":"IF(F55=\"\",\"\",(F55+F66+F66)/12)","v":""},{"$f":"IF(G55=\"\",\"\",(G55+G66+G66)/12)","v":""},"","","","","","","",0.12749999999999997,{"$f":"IF(P55=\"\",\"\",(P55+P66+P66)/12)","v":""},"","",0.13416666666666666,""]
[null,"Treliça Vertical (Metro por metro linear de canal):","Tv=","m",{"$f":"IF(E55=\"\",\"\",((E66+E58)*2)/(11/2))","v":""},{"$f":"IF(F55=\"\",\"\",((F66+F58)*2)/(11/2))","v":""},{"$f":"IF(G55=\"\",\"\",((G66+G58)*2)/(11/2))","v":""},"","","","","","","",0.25090909090909091,"","","",0.26545454545454544,""]
[null,"Volume Concreto Laje Base:","Vclb=","m3",{"$f":"IF(E55=\"\",\"\",E59*E58)","v":""},{"$f":"IF(F55=\"\",\"\",F59*F58)","v":""},{"$f":"IF(G55=\"\",\"\",G59*G58)","v":""},"","","","","","","",6.9000000000000006E-2,"","","",6.9000000000000006E-2,""]
[null,"Volume Concreto Paredes:","Vcp=","m3",{"$f":"IF(E55=\"\",\"\",E56*E57*2)","v":""},{"$f":"IF(F55=\"\",\"\",F56*F57*2)","v":""},{"$f":"IF(G55=\"\",\"\",G56*G57*2)","v":""},"","","","","","","",0.12,"","","",0.12959999999999999,""]
[null,"Volume Concreto Vigas 2por modulo (Volume / metro canal):","Vcv=","m3",{"$f":"IF(E55=\"\",\"\",((E61*E62*E55)*2)/11)","v":""},{"$f":"IF(F55=\"\",\"\",((F61*F62*F55)*2)/11)","v":""},{"$f":"IF(G55=\"\",\"\",((G61*G62*G55)*2)/11)","v":""},"","","","","","","",9.1636363636363627E-4,"","","",9.1636363636363627E-4,""]
[null,"Volume Concreto (Laje Base+Paredes+Vigas):","Vc=","m3",{"$f":"IF(E55=\"\",\"\",E83+E84+E85)","v":""},{"$f":"IF(F55=\"\",\"\",F83+F84+F85)","v":""},{"$f":"IF(G55=\"\",\"\",G83+G84+G85)","v":""},"","","","","","","",0.18991636363636363,"","","",0.19951636363636363,""]
[null,"Reaterro:","Vr=","m3",{"$f":"IF(E55=\"\",\"\",(E54*E73/2*2)+(0.05*E71))","v":""},{"$f":"IF(F55=\"\",\"\",(F54*F73/2*2)+(0.05*F71))","v":""},{"$f":"IF(G55=\"\",\"\",(G54*G73/2*2)+(0.05*G71))","v":""},"","","","","","","",0.25040000000000001,"","","",0.36879928057553957,""]
["CANAL RETANGULAR - QUANTITATIVOS","LOCACAO E NIVELAMENTO DE REDE DE CANAIS COLETORES DE IRRIGAÇÃO COM AUXILIO DE EQUIPAMENTO TOPOGRAFICO",null,"m",{"$f":"IF(E$55=\"\",\"\",E$12)","v":""},"","","","","","","","","",562.54999999999995,"","","",452.29,""]
[null,"LIMPEZA DO TERRENO - ROÇADA",null,"m²",{"$f":"IF(E$55=\"\",\"\",(2*3)*E$12)","v":""},"","","","","","","","","",3375.2999999999997,"","","",2713.7400000000002,""]
[null,"DEMOLIÇÃO E RETIRADA DE PLACAS EM CONCRETO SIMPLES",null,"m³",{"$f":"IF(E$55=\"\",\"\",E$12*E$75)","v":""},"","","","","","","","","",83.434063343772536,"","","",75.860812728869917,""]
[null,"CARGA, TRANSPORTE ATÉ 1 KM E DESCARGA DE ENTULHO DE CONCRETO SIMPLES",null,"m³",{"$f":"IF(E$55=\"\",\"\",E$90+E$93)","v":""},"","","","","","","","","",149.75870834377253,"","","",125.63500184038071,""]
[null,"TRANSPORTE COMERCIAL COM CAMINHAO BASCULANTE 6 M3, RODOVIA EM LEITO NATURAL",null,"m³xKm",{"$f":"IF(E$55=\"\",\"\",E$91*E$78)","v":""},"","","","","","","","","",1497.5870834377251,"","","",1256.3500184038071,""]
[null,"ESCAVAÇÃO MANUAL DE VALAS.",null,"m³",{"$f":"IF(E$55=\"\",\"\",E$12*E$76)","v":""},"","","","","","","","","",66.324645000000004,"","","",49.7741891115108,""]
[null,"REGULARIZACAO MANUAL",null,"m²",{"$f":"IF(E$55=\"\",\"\",E$12*E$59)","v":""},"","","","","","","","","",{"$f":"IF(O$55=\"\",\"\",O$12*0.25*O$59)","v":97.039874999999995},{"$f":"IF(P$55=\"\",\"\",P$12*0.25*P$59)","v":""},"","",78.020025000000004,""]
[null,"EXECUÇÃO DE LASTRO EM CONCRETO (1:2,5:6), PREPARO MANUAL",null,"m³",{"$f":"IF(E$55=\"\",\"\",E$12*E$79)","v":""},"","","","","","","","","",19.407975,"","","",15.604005000000003,""]
[null,"FORMA PLANA METALICA PARA MURETA, UTILIZAÇÃO 20X",null,"m²",{"$f":"IF(E$55=\"\",\"\",E$12*E$80)","v":""},"","","","","","","","","",1327.6179999999997,"","","",1139.7708,""]
[null,"JUNTA DE DILATAÇÃO EM MASTIQUE ELÁSTICO",null,"m",{"$f":"IF(E$55=\"\",\"\",E$12*E$81)","v":""},"","","","","","","","","",71.725124999999977,"","","",60.682241666666663,""]
[null,"ARMAÇÃO DE AÇO CA-60 DIAM. 3,4 A 6,0 MM - FORNECIMENTO / CORTE (C/ PERDA DE 10%) / DOBRA / COLOCAÇÃO",null,"Kg","","","","","","","","","","",6410.2470218181807,"","","",5414.3553665454547,""]
[null,"CONCRETO FCK=20MPA PARA REVESTIMENTO DE CANAIS, INCLUINDO PREPARO MECANICO, LANCAMENTO E ADENSAMENTO (INCLUSIVE INSTALAÇÃO DE GABARITOS)",null,"m³",{"$f":"IF(E$55=\"\",\"\",E$12*E$86)","v":""},"","","","","","","","","",106.83745036363635,"","","",90.239256109090917,""]
[null,"TRELIÇA DE SUSTENTAÇÃO VERTICAL COM ESPAÇAMENTO 5,50 M",null,"m",{"$f":"IF(E$55=\"\",\"\",E$12*E$82)","v":""},"","","","","","","","","",141.14890909090909,"","","",120.06243636363637,""]
[null,"REATERRO COM COMPACTACAO MECANIZADA",null,"m³",{"$f":"IF(E$55=\"\",\"\",E$12*E$87)","v":""},"","","","","","","","","",140.86251999999999,"","","",166.80422661151079,""]

{"sheet":"M. CÁL. CANAIS BOACICA","index":12,"n_rows":96,"n_cols":21,"rows_kept":96,"cut":false,"hidden":false,"merged":[[6,0,31,0],[32,0,46,0],[47,0,81,0],[82,0,95,0],[0,0,0,3],[1,0,1,3],[2,0,5,0],[3,1,3,3],[4,1,4,3]]}
["CANAL PRINCIPAL",null,null,null,"CANAL CLI","CANAL CLI","CANAL CLI","CANAL CLI-1 e DERIVADOS","CANAL CLI-1 e DERIVADOS","CANAL CLI-37 e DERIVADOS","CANAL CLII","CANAL CLII","CANAL CLII-3 e DERIVADOS","CANAL CLII-3 e DERIVADOS","CANAL CLII-3 e DERIVADOS","CANAL CLII-3 e DERIVADOS","CANAL CLII-3 e DERIVADOS","CANAL CLII-13 e DERIVADOS","CANAL CLII-13 e DERIVADOS","CANAL CLII-13 e DERIVADOS","CANAL CLII-13 e DERIVADOS"]
["CANAL / TRECHO",null,null,null,"CLI trecho 6","CLI trecho 11","CLI trecho 24","CLI-1. trecho 5","CLI-1. trecho 6","CLI-37","CLII trecho 1","CLII trecho 2","CLII-3 trecho 1","CLII-3 trecho 2","CLII-3 trecho 3","CLII-3 trecho 4","CLII-3 trecho 5","CLII-13 trecho 1","CLII-13 trecho 2","CLII-13 trecho 3","CLII-13 trecho 4"]
["LOCAÇÃO","COMPRIMENTO ACUMULADO POR CANAL","Lcum=","m",{"$f":"E6","v":60},940,{"$f":"F3+G6","v":980},{"$f":"H6","v":590.03},2694.29,134,13.87,{"$f":"K3+L6","v":1988.79},807.03,1834.32,2239.08,2384.17,2708.34,244.53,432.74,1105.73,1674.12]
[null,"ESTACA - TÉRMINO",null,null,127,232,590,"109+10,03",{"$f":"INT(I3/20)&\"+\"&ROUND(((I3/20)-INT(I3/20))*20,2)","v":"134+14,29"},"11,00+14","0+13,87","99+8,79","40+7,03","91+14,32","111+19,08","119+4,17","135+8,34","12+4,53","21+12,74","55+5,73","83+14,12"]
[null,"ESTACA - INÍCIO",null,null,124,190,588,80,"109+10,03",5,0,{"$f":"IF(LEFT(K2,11)<>LEFT(L2,11),0,INT(K3/20)&\"+\"&ROUND(((K3/20)-INT(K3/20))*20,2))","v":"0+13,87"},0,{"$f":"IF(LEFT(M2,11)<>LEFT(N2,11),0,INT(M3/20)&\"+\"&ROUND(((M3/20)-INT(M3/20))*20,2))","v":"40+7,03"},{"$f":"IF(LEFT(N2,11)<>LEFT(O2,11),0,INT(N3/20)&\"+\"&ROUND(((N3/20)-INT(N3/20))*20,2))","v":"91+14,32"},{"$f":"IF(LEFT(O2,11)<>LEFT(P2,11),0,INT(O3/20)&\"+\"&ROUND(((O3/20)-INT(O3/20))*20,2))","v":"111+19,08"},{"$f":"IF(LEFT(P2,11)<>LEFT(Q2,11),0,INT(P3/20)&\"+\"&ROUND(((P3/20)-INT(P3/20))*20,2))","v":"119+4,17"},0,{"$f":"IF(LEFT(R2,11)<>LEFT(S2,11),0,INT(R3/20)&\"+\"&ROUND(((R3/20)-INT(R3/20))*20,2))","v":"12+4,53"},{"$f":"IF(LEFT(S2,11)<>LEFT(T2,11),0,INT(S3/20)&\"+\"&ROUND(((S3/20)-INT(S3/20))*20,2))","v":"21+12,74"},{"$f":"IF(LEFT(T2,11)<>LEFT(U2,11),0,INT(T3/20)&\"+\"&ROUND(((T3/20)-INT(T3/20))*20,2))","v":"55+5,73"}]
[null,"COMPRIMENTO DO TRECHO:","L=","m",{"$f":"(E4-E5)*20","v":60},840,40,{"$f":"(109-80)*20+10.03","v":590.03},504.26,134,13.87,1974.92,807.03,1027.29,404.76,145.09,324.17,244.53,188.21,672.99,568.39]
["CANAL TRAPEZOIDAL - MEDIDAS","Base Maior do Canal:","B =","m",{"$f":"IF(E8=\"\",\"\",E9*E11*2+E8)","v":8.33},{"$f":"IF(F8=\"\",\"\",F9*F11*2+F8)","v":7.7299999999999995},{"$f":"IF(G8=\"\",\"\",G9*G11*2+G8)","v":6.1099999999999994},3.11,2.8000000000000003,2.7,6.9500000000000011,6.98,2.92,2.59,2.5299999999999998,2.2799999999999998,2.0399999999999996,3.1,2.86,2.68,2.38]
[null,"Base Menor do Canal:","b =","m",2,2,1.4,0.5,0.4,0.3,1.4,1.4,0.4,0.4,0.4,0.3,0.3,0.4,0.4,0.4,0.4]
[null,"Altura do Canal:","H =","m",2.11,1.91,1.57,0.87,0.8,0.8,1.85,1.86,0.84,0.73,0.71,0.66,0.57999999999999996,0.9,0.82,0.76,0.66]
[null,"Gola do Canal:","G =","m",0.2,0.2,0.2,0.2,0.2,0.2,0.2,0.2,0.2,0.2,0.2,0.2,0.2,0.2,0.2,0.2,0.2]
[null,"Inclinação 1:m","m =",null,1.5,1.5,1.5,1.5,1.5,1.5,1.5,1.5,1.5,1.5,1.5,1.5,1.5,1.5,1.5,1.5,1.5]
[null,"Rampa:","r =","m",{"$f":"IF(E8=\"\",\"\",SQRT(((E9*E11)^2)+((E9)^2)))","v":3.8038565956145085},{"$f":"IF(F8=\"\",\"\",SQRT(((F9*F11)^2)+((F9)^2)))","v":3.4433014680681095},2.8303577512392315,1.5684148048268352,1.4422205101855958,1.4422205101855958,3.3351349298041906,3.35316268618151,1.5143315356948754,1.3160262155443561,1.279970702789716,1.1898319209031165,1.0456098698845568,1.6224980739587953,1.4782760229402356,1.370109484676316,1.1898319209031165]
[null,"Espessura Placa Revestimento Canal:","e =","m",{"$f":"IF(E8=\"\",\"\",VLOOKUP($B$13,'DADOS DE ENTRADA'!$B:$E,4,0))","v":0.05},{"$f":"IF(F8=\"\",\"\",VLOOKUP($B$13,'DADOS DE ENTRADA'!$B:$E,4,0))","v":0.05},{"$f":"IF(G8=\"\",\"\",VLOOKUP($B$13,'DADOS DE ENTRADA'!$B:$E,4,0))","v":0.05},{"$f":"IF(H8=\"\",\"\",VLOOKUP($B$13,'DADOS DE ENTRADA'!$B:$E,4,0))","v":0.05},{"$f":"IF(I8=\"\",\"\",VLOOKUP($B$13,'DADOS DE ENTRADA'!$B:$E,4,0))","v":0.05},{"$f":"IF(J8=\"\",\"\",VLOOKUP($B$13,'DADOS DE ENTRADA'!$B:$E,4,0))","v":0.05},{"$f":"IF(K8=\"\",\"\",VLOOKUP($B$13,'DADOS DE ENTRADA'!$B:$E,4,0))","v":0.05},{"$f":"IF(L8=\"\",\"\",VLOOKUP($B$13,'DADOS DE ENTRADA'!$B:$E,4,0))","v":0.05},{"$f":"IF(M8=\"\",\"\",VLOOKUP($B$13,'DADOS DE ENTRADA'!$B:$E,4,0))","v":0.05},{"$f":"IF(N8=\"\",\"\",VLOOKUP($B$13,'DADOS DE ENTRADA'!$B:$E,4,0))","v":0.05},{"$f":"IF(O8=\"\",\"\",VLOOKUP($B$13,'DADOS DE ENTRADA'!$B:$E,4,0))","v":0.05},{"$f":"IF(P8=\"\",\"\",VLOOKUP($B$13,'DADOS DE ENTRADA'!$B:$E,4,0))","v":0.05},{"$f":"IF(Q8=\"\",\"\",VLOOKUP($B$13,'DADOS DE ENTRADA'!$B:$E,4,0))","v":0.05},{"$f":"IF(R8=\"\",\"\",VLOOKUP($B$13,'DADOS DE ENTRADA'!$B:$E,4,0))","v":0.05},{"$f":"IF(S8=\"\",\"\",VLOOKUP($B$13,'DADOS DE ENTRADA'!$B:$E,4,0))","v":0.05},{"$f":"IF(T8=\"\",\"\",VLOOKUP($B$13,'DADOS DE ENTRADA'!$B:$E,4,0))","v":0.05},{"$f":"IF(U8=\"\",\"\",VLOOKUP($B$13,'DADOS DE ENTRADA'!$B:$E,4,0))","v":0.05}]
[null,"Área Seção Concreto Revestimento:","acr =","m2",{"$f":"IF(E8=\"\",\"\",E27*E13)","v":0.50038565956145076},{"$f":"IF(F8=\"\",\"\",F27*F13)","v":0.46433014680681101},0.37303577512392322,0.20184148048268355,0.1842220510185596,0.17922205101855959,0.42351349298041907,0.42531626861815097,0.19143315356948756,0.17160262155443562,0.16799707027897162,0.15398319209031167,0.1395609869884557,0.20224980739587953,0.18782760229402359,0.17701094846763163,0.15898319209031167]
[null,"Espessura Placa Revestimento Canal Existente (Demolição):","ed =","m",{"$f":"IF(E10=\"\",\"\",VLOOKUP($B$15,'DADOS DE ENTRADA'!$B:$E,4,0))","v":7.0000000000000007E-2},{"$f":"IF(F10=\"\",\"\",VLOOKUP($B$15,'DADOS DE ENTRADA'!$B:$E,4,0))","v":7.0000000000000007E-2},{"$f":"IF(G10=\"\",\"\",VLOOKUP($B$15,'DADOS DE ENTRADA'!$B:$E,4,0))","v":7.0000000000000007E-2},{"$f":"IF(H10=\"\",\"\",VLOOKUP($B$15,'DADOS DE ENTRADA'!$B:$E,4,0))","v":7.0000000000000007E-2},{"$f":"IF(I10=\"\",\"\",VLOOKUP($B$15,'DADOS DE ENTRADA'!$B:$E,4,0))","v":7.0000000000000007E-2},{"$f":"IF(J10=\"\",\"\",VLOOKUP($B$15,'DADOS DE ENTRADA'!$B:$E,4,0))","v":7.0000000000000007E-2},{"$f":"IF(K10=\"\",\"\",VLOOKUP($B$15,'DADOS DE ENTRADA'!$B:$E,4,0))","v":7.0000000000000007E-2},{"$f":"IF(L10=\"\",\"\",VLOOKUP($B$15,'DADOS DE ENTRADA'!$B:$E,4,0))","v":7.0000000000000007E-2},{"$f":"IF(M10=\"\",\"\",VLOOKUP($B$15,'DADOS DE ENTRADA'!$B:$E,4,0))","v":7.0000000000000007E-2},{"$f":"IF(N10=\"\",\"\",VLOOKUP($B$15,'DADOS DE ENTRADA'!$B:$E,4,0))","v":7.0000000000000007E-2},{"$f":"IF(O10=\"\",\"\",VLOOKUP($B$15,'DADOS DE ENTRADA'!$B:$E,4,0))","v":7.0000000000000007E-2},{"$f":"IF(P10=\"\",\"\",VLOOKUP($B$15,'DADOS DE ENTRADA'!$B:$E,4,0))","v":7.0000000000000007E-2},{"$f":"IF(Q10=\"\",\"\",VLOOKUP($B$15,'DADOS DE ENTRADA'!$B:$E,4,0))","v":7.0000000000000007E-2},{"$f":"IF(R10=\"\",\"\",VLOOKUP($B$15,'DADOS DE ENTRADA'!$B:$E,4,0))","v":7.0000000000000007E-2},{"$f":"IF(S10=\"\",\"\",VLOOKUP($B$15,'DADOS DE ENTRADA'!$B:$E,4,0))","v":7.0000000000000007E-2},{"$f":"IF(T10=\"\",\"\",VLOOKUP($B$15,'DADOS DE ENTRADA'!$B:$E,4,0))","v":7.0000000000000007E-2},{"$f":"IF(U10=\"\",\"\",VLOOKUP($B$15,'DADOS DE ENTRADA'!$B:$E,4,0))","v":7.0000000000000007E-2}]
[null,"Espessura Camada Solo a Retirar (Solo Impróprio):","ecsi =","m",{"$f":"IF(E11=\"\",\"\",VLOOKUP($B$16,'DADOS DE ENTRADA'!$B:$E,4,0))","v":0.33},{"$f":"IF(F11=\"\",\"\",VLOOKUP($B$16,'DADOS DE ENTRADA'!$B:$E,4,0))","v":0.33},{"$f":"IF(G11=\"\",\"\",VLOOKUP($B$16,'DADOS DE ENTRADA'!$B:$E,4,0))","v":0.33},{"$f":"IF(H11=\"\",\"\",VLOOKUP($B$16,'DADOS DE ENTRADA'!$B:$E,4,0))","v":0.33},{"$f":"IF(I11=\"\",\"\",VLOOKUP($B$16,'DADOS DE ENTRADA'!$B:$E,4,0))","v":0.33},{"$f":"IF(J11=\"\",\"\",VLOOKUP($B$16,'DADOS DE ENTRADA'!$B:$E,4,0))","v":0.33},{"$f":"IF(K11=\"\",\"\",VLOOKUP($B$16,'DADOS DE ENTRADA'!$B:$E,4,0))","v":0.33},{"$f":"IF(L11=\"\",\"\",VLOOKUP($B$16,'DADOS DE ENTRADA'!$B:$E,4,0))","v":0.33},{"$f":"IF(M11=\"\",\"\",VLOOKUP($B$16,'DADOS DE ENTRADA'!$B:$E,4,0))","v":0.33},{"$f":"IF(N11=\"\",\"\",VLOOKUP($B$16,'DADOS DE ENTRADA'!$B:$E,4,0))","v":0.33},{"$f":"IF(O11=\"\",\"\",VLOOKUP($B$16,'DADOS DE ENTRADA'!$B:$E,4,0))","v":0.33},{"$f":"IF(P11=\"\",\"\",VLOOKUP($B$16,'DADOS DE ENTRADA'!$B:$E,4,0))","v":0.33},{"$f":"IF(Q11=\"\",\"\",VLOOKUP($B$16,'DADOS DE ENTRADA'!$B:$E,4,0))","v":0.33},{"$f":"IF(R11=\"\",\"\",VLOOKUP($B$16,'DADOS DE ENTRADA'!$B:$E,4,0))","v":0.33},{"$f":"IF(S11=\"\",\"\",VLOOKUP($B$16,'DADOS DE ENTRADA'!$B:$E,4,0))","v":0.33},{"$f":"IF(T11=\"\",\"\",VLOOKUP($B$16,'DADOS DE ENTRADA'!$B:$E,4,0))","v":0.33},{"$f":"IF(U11=\"\",\"\",VLOOKUP($B$16,'DADOS DE ENTRADA'!$B:$E,4,0))","v":0.33}]
[null,"Espessura da camada de solo-cimento:","erSC =","m",{"$f":"IF(E12=\"\",\"\",VLOOKUP($B$17,'DADOS DE ENTRADA'!$B:$E,4,0))","v":0.1},{"$f":"IF(F12=\"\",\"\",VLOOKUP($B$17,'DADOS DE ENTRADA'!$B:$E,4,0))","v":0.1},{"$f":"IF(G12=\"\",\"\",VLOOKUP($B$17,'DADOS DE ENTRADA'!$B:$E,4,0))","v":0.1},{"$f":"IF(H12=\"\",\"\",VLOOKUP($B$17,'DADOS DE ENTRADA'!$B:$E,4,0))","v":0.1},{"$f":"IF(I12=\"\",\"\",VLOOKUP($B$17,'DADOS DE ENTRADA'!$B:$E,4,0))","v":0.1},{"$f":"IF(J12=\"\",\"\",VLOOKUP($B$17,'DADOS DE ENTRADA'!$B:$E,4,0))","v":0.1},{"$f":"IF(K12=\"\",\"\",VLOOKUP($B$17,'DADOS DE ENTRADA'!$B:$E,4,0))","v":0.1},{"$f":"IF(L12=\"\",\"\",VLOOKUP($B$17,'DADOS DE ENTRADA'!$B:$E,4,0))","v":0.1},{"$f":"IF(M12=\"\",\"\",VLOOKUP($B$17,'DADOS DE ENTRADA'!$B:$E,4,0))","v":0.1},{"$f":"IF(N12=\"\",\"\",VLOOKUP($B$17,'DADOS DE ENTRADA'!$B:$E,4,0))","v":0.1},{"$f":"IF(O12=\"\",\"\",VLOOKUP($B$17,'DADOS DE ENTRADA'!$B:$E,4,0))","v":0.1},{"$f":"IF(P12=\"\",\"\",VLOOKUP($B$17,'DADOS DE ENTRADA'!$B:$E,4,0))","v":0.1},{"$f":"IF(Q12=\"\",\"\",VLOOKUP($B$17,'DADOS DE ENTRADA'!$B:$E,4,0))","v":0.1},{"$f":"IF(R12=\"\",\"\",VLOOKUP($B$17,'DADOS DE ENTRADA'!$B:$E,4,0))","v":0.1},{"$f":"IF(S12=\"\",\"\",VLOOKUP($B$17,'DADOS DE ENTRADA'!$B:$E,4,0))","v":0.1},{"$f":"IF(T12=\"\",\"\",VLOOKUP($B$17,'DADOS DE ENTRADA'!$B:$E,4,0))","v":0.1},{"$f":"IF(U12=\"\",\"\",VLOOKUP($B$17,'DADOS DE ENTRADA'!$B:$E,4,0))","v":0.1}]
[null,"Área Solo a Retirar (Solo Impróprio):","Vcsr =","m3",{"$f":"IF(E8=\"\",\"\",E16*E27)","v":3.3025453531055753},{"$f":"IF(F8=\"\",\"\",F16*F27)","v":3.0645789689249527},2.4620361158178929,1.3321537711857114,1.2158655367224933,1.1828655367224934,2.7951890536707658,2.8070873728797965,1.263458813558618,1.1325773022592751,1.1087806638412128,1.016289067796057,0.92110251412380761,1.3348487288128048,1.2396621751405557,1.1682722598863686,1.0492890677960571]
[null,"Área solo-cimento:","Asolo-cim.=","m2",{"$f":"IF(E8=\"\",\"\",E17*E27)","v":1.0007713191229015},{"$f":"IF(F8=\"\",\"\",F17*F27)","v":0.92866029361362201},0.74607155024784644,0.4036829609653671,0.36844410203711919,0.35844410203711918,0.84702698596083814,0.85063253723630194,0.38286630713897513,0.34320524310887124,0.33599414055794324,0.30796638418062333,0.27912197397691141,0.40449961479175905,0.37565520458804719,0.35402189693526326,0.31796638418062334]
[null,"Recomposição de Berma c1:","c1 =","m",0,0,0,0,0,0,0,0,0,0,0,0,0,0,0,0,0]
[null,"Recomposição de Berma c2:","c2 =","m",0,0,0,0,0,0,0,0,0,0,0,0,0,0,0,0,0]
[null,"Recomposição de Berma c3:","c3 =","m",0,0,0,0,0,0,0,0,0,0,0,0,0,0,0,0,0]
[null,null,"área =","m2",{"$f":"IF(E8=\"\",\"\",((E20+E21)/2)*E22)","v":0},{"$f":"IF(F8=\"\",\"\",((F20+F21)/2)*F22)","v":0},0,0,0,0,0,0,0,0,0,0,0,0,0,0,0]
[null,"Ancoragem (Largura):","a =","m",{"$f":"IF(E19=\"\",\"\",VLOOKUP($B$24,'DADOS DE ENTRADA'!$B:$E,4,0))","v":0.2},{"$f":"IF(F19=\"\",\"\",VLOOKUP($B$24,'DADOS DE ENTRADA'!$B:$E,4,0))","v":0.2},{"$f":"IF(G19=\"\",\"\",VLOOKUP($B$24,'DADOS DE ENTRADA'!$B:$E,4,0))","v":0.2},{"$f":"IF(H19=\"\",\"\",VLOOKUP($B$24,'DADOS DE ENTRADA'!$B:$E,4,0))","v":0.2},{"$f":"IF(I19=\"\",\"\",VLOOKUP($B$24,'DADOS DE ENTRADA'!$B:$E,4,0))","v":0.2},{"$f":"IF(J19=\"\",\"\",VLOOKUP($B$24,'DADOS DE ENTRADA'!$B:$E,4,0))","v":0.2},{"$f":"IF(K19=\"\",\"\",VLOOKUP($B$24,'DADOS DE ENTRADA'!$B:$E,4,0))","v":0.2},{"$f":"IF(L19=\"\",\"\",VLOOKUP($B$24,'DADOS DE ENTRADA'!$B:$E,4,0))","v":0.2},{"$f":"IF(M19=\"\",\"\",VLOOKUP($B$24,'DADOS DE ENTRADA'!$B:$E,4,0))","v":0.2},{"$f":"IF(N19=\"\",\"\",VLOOKUP($B$24,'DADOS DE ENTRADA'!$B:$E,4,0))","v":0.2},{"$f":"IF(O19=\"\",\"\",VLOOKUP($B$24,'DADOS DE ENTRADA'!$B:$E,4,0))","v":0.2},{"$f":"IF(P19=\"\",\"\",VLOOKUP($B$24,'DADOS DE ENTRADA'!$B:$E,4,0))","v":0.2},{"$f":"IF(Q19=\"\",\"\",VLOOKUP($B$24,'DADOS DE ENTRADA'!$B:$E,4,0))","v":0.2},{"$f":"IF(R19=\"\",\"\",VLOOKUP($B$24,'DADOS DE ENTRADA'!$B:$E,4,0))","v":0.2},{"$f":"IF(S19=\"\",\"\",VLOOKUP($B$24,'DADOS DE ENTRADA'!$B:$E,4,0))","v":0.2},{"$f":"IF(T19=\"\",\"\",VLOOKUP($B$24,'DADOS DE ENTRADA'!$B:$E,4,0))","v":0.2},{"$f":"IF(U19=\"\",\"\",VLOOKUP($B$24,'DADOS DE ENTRADA'!$B:$E,4,0))","v":0.2}]
[null,"Ancoragem (Altura):","b' =","m",{"$f":"IF(E20=\"\",\"\",VLOOKUP($B$25,'DADOS DE ENTRADA'!$B:$E,4,0))","v":0.2},{"$f":"IF(F20=\"\",\"\",VLOOKUP($B$25,'DADOS DE ENTRADA'!$B:$E,4,0))","v":0.2},{"$f":"IF(G20=\"\",\"\",VLOOKUP($B$25,'DADOS DE ENTRADA'!$B:$E,4,0))","v":0.2},{"$f":"IF(H20=\"\",\"\",VLOOKUP($B$25,'DADOS DE ENTRADA'!$B:$E,4,0))","v":0.2},{"$f":"IF(I20=\"\",\"\",VLOOKUP($B$25,'DADOS DE ENTRADA'!$B:$E,4,0))","v":0.2},{"$f":"IF(J20=\"\",\"\",VLOOKUP($B$25,'DADOS DE ENTRADA'!$B:$E,4,0))","v":0.2},{"$f":"IF(K20=\"\",\"\",VLOOKUP($B$25,'DADOS DE ENTRADA'!$B:$E,4,0))","v":0.2},{"$f":"IF(L20=\"\",\"\",VLOOKUP($B$25,'DADOS DE ENTRADA'!$B:$E,4,0))","v":0.2},{"$f":"IF(M20=\"\",\"\",VLOOKUP($B$25,'DADOS DE ENTRADA'!$B:$E,4,0))","v":0.2},{"$f":"IF(N20=\"\",\"\",VLOOKUP($B$25,'DADOS DE ENTRADA'!$B:$E,4,0))","v":0.2},{"$f":"IF(O20=\"\",\"\",VLOOKUP($B$25,'DADOS DE ENTRADA'!$B:$E,4,0))","v":0.2},{"$f":"IF(P20=\"\",\"\",VLOOKUP($B$25,'DADOS DE ENTRADA'!$B:$E,4,0))","v":0.2},{"$f":"IF(Q20=\"\",\"\",VLOOKUP($B$25,'DADOS DE ENTRADA'!$B:$E,4,0))","v":0.2},{"$f":"IF(R20=\"\",\"\",VLOOKUP($B$25,'DADOS DE ENTRADA'!$B:$E,4,0))","v":0.2},{"$f":"IF(S20=\"\",\"\",VLOOKUP($B$25,'DADOS DE ENTRADA'!$B:$E,4,0))","v":0.2},{"$f":"IF(T20=\"\",\"\",VLOOKUP($B$25,'DADOS DE ENTRADA'!$B:$E,4,0))","v":0.2},{"$f":"IF(U20=\"\",\"\",VLOOKUP($B$25,'DADOS DE ENTRADA'!$B:$E,4,0))","v":0.2}]
[null,"Seção da Manta PEAD:","pm =","m",{"$f":"IF(E8=\"\",\"\",(E24+E25+E10+E12+E8+E12+E10+E25+E24))","v":10.807713191229015},{"$f":"IF(F8=\"\",\"\",(F24+F25+F10+F12+F8+F12+F10+F25+F24))","v":10.086602936136217},8.2607155024784635,4.8368296096536705,4.4844410203711922,4.3844410203711917,9.2702698596083799,9.3063253723630179,4.6286630713897514,4.2320524310887127,4.159941405579433,3.8796638418062335,3.5912197397691141,4.8449961479175911,4.5565520458804718,4.340218969352633,3.979663841806234]
[null,"Perímetro Seção Canal:","p =","m",{"$f":"IF(E8=\"\",\"\",E10+E12+E8+E12+E10)","v":10.007713191229016},{"$f":"IF(F8=\"\",\"\",F10+F12+F8+F12+F10)","v":9.2866029361362195},7.4607155024784637,4.0368296096536707,3.6844410203711919,3.5844410203711918,8.470269859608381,8.506325372363019,3.8286630713897511,3.4320524310887124,3.3599414055794323,3.0796638418062332,2.7912197397691139,4.0449961479175904,3.7565520458804715,3.5402189693526323,3.1796638418062333]
[null,"Perímetro Seção Canal (r+b+r):","psc =","m",{"$f":"IF(E8=\"\",\"\",E12+E8+E12)","v":9.607713191229017},{"$f":"IF(F8=\"\",\"\",F12+F8+F12)","v":8.8866029361362191},7.0607155024784625,3.6368296096536703,3.2844410203711916,3.1844410203711915,8.0702698596083806,8.1063253723630204,3.4286630713897508,3.032052431088712,2.959941405579432,2.6796638418062333,2.3912197397691139,3.6449961479175905,3.3565520458804712,3.1402189693526319,2.7796638418062329]
[null,"Perímetro Seção Canal (Tela):","psct =","m",{"$f":"E27","v":10.007713191229016},{"$f":"F27","v":9.2866029361362195},7.4607155024784637,4.0368296096536707,3.6844410203711919,3.5844410203711918,8.470269859608381,8.506325372363019,3.8286630713897511,3.4320524310887124,3.3599414055794323,3.0796638418062332,2.7912197397691139,4.0449961479175904,3.7565520458804715,3.5402189693526323,3.1796638418062333]
[null,"Largura de Limpeza Canal p/ cada lado:","L =","m",{"$f":"IF(E25=\"\",\"\",VLOOKUP($B$30,'DADOS DE ENTRADA'!$B:$E,4,0))","v":0.5},{"$f":"IF(F25=\"\",\"\",VLOOKUP($B$30,'DADOS DE ENTRADA'!$B:$E,4,0))","v":0.5},{"$f":"IF(G25=\"\",\"\",VLOOKUP($B$30,'DADOS DE ENTRADA'!$B:$E,4,0))","v":0.5},{"$f":"IF(H25=\"\",\"\",VLOOKUP($B$30,'DADOS DE ENTRADA'!$B:$E,4,0))","v":0.5},{"$f":"IF(I25=\"\",\"\",VLOOKUP($B$30,'DADOS DE ENTRADA'!$B:$E,4,0))","v":0.5},{"$f":"IF(J25=\"\",\"\",VLOOKUP($B$30,'DADOS DE ENTRADA'!$B:$E,4,0))","v":0.5},{"$f":"IF(K25=\"\",\"\",VLOOKUP($B$30,'DADOS DE ENTRADA'!$B:$E,4,0))","v":0.5},{"$f":"IF(L25=\"\",\"\",VLOOKUP($B$30,'DADOS DE ENTRADA'!$B:$E,4,0))","v":0.5},{"$f":"IF(M25=\"\",\"\",VLOOKUP($B$30,'DADOS DE ENTRADA'!$B:$E,4,0))","v":0.5},{"$f":"IF(N25=\"\",\"\",VLOOKUP($B$30,'DADOS DE ENTRADA'!$B:$E,4,0))","v":0.5},{"$f":"IF(O25=\"\",\"\",VLOOKUP($B$30,'DADOS DE ENTRADA'!$B:$E,4,0))","v":0.5},{"$f":"IF(P25=\"\",\"\",VLOOKUP($B$30,'DADOS DE ENTRADA'!$B:$E,4,0))","v":0.5},{"$f":"IF(Q25=\"\",\"\",VLOOKUP($B$30,'DADOS DE ENTRADA'!$B:$E,4,0))","v":0.5},{"$f":"IF(R25=\"\",\"\",VLOOKUP($B$30,'DADOS DE ENTRADA'!$B:$E,4,0))","v":0.5},{"$f":"IF(S25=\"\",\"\",VLOOKUP($B$30,'DADOS DE ENTRADA'!$B:$E,4,0))","v":0.5},{"$f":"IF(T25=\"\",\"\",VLOOKUP($B$30,'DADOS DE ENTRADA'!$B:$E,4,0))","v":0.5},{"$f":"IF(U25=\"\",\"\",VLOOKUP($B$30,'DADOS DE ENTRADA'!$B:$E,4,0))","v":0.5}]
[null,"DMT (Importação):","DMT 1 =","km",{"$f":"IF(E26=\"\",\"\",VLOOKUP($B$31,'DADOS DE ENTRADA'!$B:$E,4,0))","v":10},{"$f":"IF(F26=\"\",\"\",VLOOKUP($B$31,'DADOS DE ENTRADA'!$B:$E,4,0))","v":10},{"$f":"IF(G26=\"\",\"\",VLOOKUP($B$31,'DADOS DE ENTRADA'!$B:$E,4,0))","v":10},{"$f":"IF(H26=\"\",\"\",VLOOKUP($B$31,'DADOS DE ENTRADA'!$B:$E,4,0))","v":10},{"$f":"IF(I26=\"\",\"\",VLOOKUP($B$31,'DADOS DE ENTRADA'!$B:$E,4,0))","v":10},{"$f":"IF(J26=\"\",\"\",VLOOKUP($B$31,'DADOS DE ENTRADA'!$B:$E,4,0))","v":10},{"$f":"IF(K26=\"\",\"\",VLOOKUP($B$31,'DADOS DE ENTRADA'!$B:$E,4,0))","v":10},{"$f":"IF(L26=\"\",\"\",VLOOKUP($B$31,'DADOS DE ENTRADA'!$B:$E,4,0))","v":10},{"$f":"IF(M26=\"\",\"\",VLOOKUP($B$31,'DADOS DE ENTRADA'!$B:$E,4,0))","v":10},{"$f":"IF(N26=\"\",\"\",VLOOKUP($B$31,'DADOS DE ENTRADA'!$B:$E,4,0))","v":10},{"$f":"IF(O26=\"\",\"\",VLOOKUP($B$31,'DADOS DE ENTRADA'!$B:$E,4,0))","v":10},{"$f":"IF(P26=\"\",\"\",VLOOKUP($B$31,'DADOS DE ENTRADA'!$B:$E,4,0))","v":10},{"$f":"IF(Q26=\"\",\"\",VLOOKUP($B$31,'DADOS DE ENTRADA'!$B:$E,4,0))","v":10},{"$f":"IF(R26=\"\",\"\",VLOOKUP($B$31,'DADOS DE ENTRADA'!$B:$E,4,0))","v":10},{"$f":"IF(S26=\"\",\"\",VLOOKUP($B$31,'DADOS DE ENTRADA'!$B:$E,4,0))","v":10},{"$f":"IF(T26=\"\",\"\",VLOOKUP($B$31,'DADOS DE ENTRADA'!$B:$E,4,0))","v":10},{"$f":"IF(U26=\"\",\"\",VLOOKUP($B$31,'DADOS DE ENTRADA'!$B:$E,4,0))","v":10}]
[null,"DMT (Bota Fora):","DMT 2 =","km",{"$f":"IF(E27=\"\",\"\",VLOOKUP($B$32,'DADOS DE ENTRADA'!$B:$E,4,0))","v":10},{"$f":"IF(F27=\"\",\"\",VLOOKUP($B$32,'DADOS DE ENTRADA'!$B:$E,4,0))","v":10},{"$f":"IF(G27=\"\",\"\",VLOOKUP($B$32,'DADOS DE ENTRADA'!$B:$E,4,0))","v":10},{"$f":"IF(H27=\"\",\"\",VLOOKUP($B$32,'DADOS DE ENTRADA'!$B:$E,4,0))","v":10},{"$f":"IF(I27=\"\",\"\",VLOOKUP($B$32,'DADOS DE ENTRADA'!$B:$E,4,0))","v":10},{"$f":"IF(J27=\"\",\"\",VLOOKUP($B$32,'DADOS DE ENTRADA'!$B:$E,4,0))","v":10},{"$f":"IF(K27=\"\",\"\",VLOOKUP($B$32,'DADOS DE ENTRADA'!$B:$E,4,0))","v":10},{"$f":"IF(L27=\"\",\"\",VLOOKUP($B$32,'DADOS DE ENTRADA'!$B:$E,4,0))","v":10},{"$f":"IF(M27=\"\",\"\",VLOOKUP($B$32,'DADOS DE ENTRADA'!$B:$E,4,0))","v":10},{"$f":"IF(N27=\"\",\"\",VLOOKUP($B$32,'DADOS DE ENTRADA'!$B:$E,4,0))","v":10},{"$f":"IF(O27=\"\",\"\",VLOOKUP($B$32,'DADOS DE ENTRADA'!$B:$E,4,0))","v":10},{"$f":"IF(P27=\"\",\"\",VLOOKUP($B$32,'DADOS DE ENTRADA'!$B:$E,4,0))","v":10},{"$f":"IF(Q27=\"\",\"\",VLOOKUP($B$32,'DADOS DE ENTRADA'!$B:$E,4,0))","v":10},{"$f":"IF(R27=\"\",\"\",VLOOKUP($B$32,'DADOS DE ENTRADA'!$B:$E,4,0))","v":10},{"$f":"IF(S27=\"\",\"\",VLOOKUP($B$32,'DADOS DE ENTRADA'!$B:$E,4,0))","v":10},{"$f":"IF(T27=\"\",\"\",VLOOKUP($B$32,'DADOS DE ENTRADA'!$B:$E,4,0))","v":10},{"$f":"IF(U27=\"\",\"\",VLOOKUP($B$32,'DADOS DE ENTRADA'!$B:$E,4,0))","v":10}]
["CANAL TRAPEZOIDAL - QUANTITATIVOS","LOCACAO E NIVELAMENTO DE REDE DE CANAIS COLETORES DE IRRIGAÇÃO COM AUXILIO DE EQUIPAMENTO TOPOGRAFICO",null,"m",{"$f":"IF(E7=\"\",\"\",E6)","v":60},{"$f":"IF(F7=\"\",\"\",F6)","v":840},40,590.03,504.26,134,13.87,1974.92,807.03,1027.29,404.76,145.09,324.17,244.53,188.21,672.99,568.39]
[null,"LIMPEZA DO TERRENO - ROÇADA",null,"m²",{"$f":"IF(E7=\"\",\"\",2*E30*E6)","v":60},{"$f":"IF(F7=\"\",\"\",2*F30*F6)","v":840},40,590.03,504.26,134,13.87,1974.92,807.03,1027.29,404.76,145.09,324.17,244.53,188.21,672.99,568.39]
[null,"DEMOLIÇÃO  DE PLACAS EM CONCRETO",null,"m³",{"$f":"IF(E7=\"\",\"\",E6*E27*E15)","v":42.032395403161871},{"$f":"IF(F7=\"\",\"\",F6*F27*F15)","v":546.05225264480976},20.890003406939698,166.72954022087688,130.05413602526642,33.62205677108178,8.2237850066937774,1175.9518473071021,216.28921709525699,246.79991993531863,95.197891832563187,31.277989876536651,63.338079212866759,69.238603563520201,49.49144623886145,166.77723749292397,126.51023917309715]
[null,"CARGA E DESCARGA MECANICA DE SOLO E ENTULHO UTILIZANDO CAMINHAO BASCULANTE 6,0M3/16T E RETROESCAVADEIRA, CAÇAMBA RETRO CAP. 0,20 M3,PESO OPERACIONAL MÍN. 6.570 KG",null,"m³",{"$f":"IF(E7=\"\",\"\",E35)","v":42.032395403161871},{"$f":"IF(F7=\"\",\"\",F35)","v":546.05225264480976},20.890003406939698,166.72954022087688,130.05413602526642,33.62205677108178,8.2237850066937774,1175.9518473071021,216.28921709525699,246.79991993531863,95.197891832563187,31.277989876536651,63.338079212866759,69.238603563520201,49.49144623886145,166.77723749292397,126.51023917309715]
[null,"TRANSPORTE LOCAL COM CAMINHÃO BASCULANTE 6 M3, RODOVIA COM REVESTIMENTO PRIMARIO",null,"m³xKm",{"$f":"IF(E7=\"\",\"\",E36*E32)","v":420.32395403161871},{"$f":"IF(F7=\"\",\"\",F36*F32)","v":5460.5225264480978},{"$f":"IF(G7=\"\",\"\",G36*G32)","v":208.90003406939698},1667.2954022087688,1300.5413602526642,336.22056771081782,82.237850066937767,11759.518473071021,2162.8921709525698,2467.9991993531862,951.97891832563187,312.77989876536651,633.38079212866762,692.38603563520201,494.91446238861448,1667.7723749292397,1265.1023917309715]
[null,"ESCAVACAO MECANICA, A CEU ABERTO, EM MATERIAL DE 1A CATEGORIA, COM RETROESCAVADEIRA",null,"m³",{"$f":"IF(E7=\"\",\"\",E6*E18)","v":198.15272118633453},{"$f":"IF(F7=\"\",\"\",F6*F18)","v":2574.2463338969601},98.481444632715721,786.01068961270528,613.1123555476845,158.50398192081411,38.769272174413516,5543.7729944477678,1019.6491663062114,1163.4853368379306,448.79006149636928,147.45338084652991,298.59380200351472,326.41055965659518,233.316817983204,786.23554818092725,596.40541324460094]
[null,"CARGA E DESCARGA MECANICA DE SOLO E ENTULHO UTILIZANDO CAMINHAO BASCULANTE 6,0M3/16T E RETROESCAVADEIRA, CAÇAMBA RETRO CAP. 0,20 M3,PESO OPERACIONAL MÍN. 6.570 KG",null,"m³",{"$f":"IF(E7=\"\",\"\",E38)","v":198.15272118633453},{"$f":"IF(F7=\"\",\"\",F38)","v":2574.2463338969601},98.481444632715721,786.01068961270528,613.1123555476845,158.50398192081411,38.769272174413516,5543.7729944477678,1019.6491663062114,1163.4853368379306,448.79006149636928,147.45338084652991,298.59380200351472,326.41055965659518,233.316817983204,786.23554818092725,596.40541324460094]
[null,"TRANSPORTE COMERCIAL COM CAMINHAO BASCULANTE 6 M3, RODOVIA EM LEITO NATURAL",null,"m³xKm",{"$f":"IF(E7=\"\",\"\",E39*E32)","v":1981.5272118633452},{"$f":"IF(F7=\"\",\"\",F39*F32)","v":25742.463338969603},984.81444632715716,7860.106896127053,6131.1235554768446,1585.0398192081411,387.69272174413516,55437.72994447768,10196.491663062114,11634.853368379307,4487.9006149636925,1474.533808465299,2985.938020035147,3264.1055965659516,2333.1681798320401,7862.3554818092725,5964.0541324460091]
[null,"PPREPARO E EXECUÇÃO DE SOLO-CIMENTO TRAÇO 1:12 EM VOLUME, (CIMENTO/ARENOSO), COM COMPACTAÇÃO E ESPALHAMENTO, PARA SUPORTE DE FUNDAÇÕES, INCLUSIVE CIMENTO E ARENOSO COMERCIAL ",null,"m³",{"$f":"IF(E7=\"\",\"\",E19*E6)","v":60.046279147374094},{"$f":"IF(F7=\"\",\"\",F19*F6)","v":780.07464663544249},29.842862009913858,238.18505745839553,185.79162289323773,48.031509672973968,11.748264295276824,1679.9312104387175,308.9845958503671,352.57131419331233,135.99698833223312,44.68284268076664,90.482970304095375,98.912290805028846,70.702066055516369,238.25319641846284,180.72891310442449]
[null,"ATERRO MANUAL COM MATERIAL DE EMPRÉSTIMO, COMPACTAÇÃO MECANIZADA  E REGULARIZAÇÃO DO TALUDE",null,"m²",{"$f":"IF(E7=\"\",\"\",E26*0.25*E6)","v":162.11569786843521},{"$f":"IF(F7=\"\",\"\",F26*0.25*F6)","v":2118.1866165886054},82.607155024784632,{"$f":"IF(H7=\"\",\"\",H26*0.25*H6)","v":713.46864364598878},565.33105723309438,146.87877418243491,32.144660738192059,4594.8120260967926,933.86748962591776,1086.886285483281,420.94447083058282,140.72510670191662,291.04142576023844,296.18672701257213,214.39716513879091,730.2309910461571,565.50028276106127]
[null,"ESCAVAÇÃO MANUAL DE VALAS.",null,"m³",{"$f":"IF(E7=\"\",\"\",(E24*E25)*E6*2)","v":4.8000000000000007},67.200000000000017,3.2000000000000006,47.202400000000004,40.340800000000009,10.720000000000002,1.1096000000000001,157.99360000000004,64.562400000000011,82.183200000000014,32.380800000000008,11.607200000000002,25.933600000000006,19.562400000000004,15.056800000000004,53.839200000000012,45.47120000000001]
[null,"FORNECIMENTO E INSTALAÇÃO DE GEOMENBRANA BITEXTURIZADA, PEAD, ESP = 1MM",null,"m²",{"$f":"IF(E9=\"\",\"\",E26*E6)","v":648.46279147374082},{"$f":"IF(F9=\"\",\"\",F26*F6)","v":8472.7464663544215},{"$f":"IF(G9=\"\",\"\",G26*G6)","v":330.42862009913853},2853.8745745839551,2261.3242289323775,587.51509672973964,128.57864295276823,18379.24810438717,3735.469958503671,4347.5451419331239,1683.7778833223313,562.90042680766646,1164.1657030409538,1184.7469080502885,857.58866055516364,2920.9239641846284,2262.0011310442451]
[null,"REATERRO COM COMPACTACAO MECANIZADA",null,"m³",{"$f":"IF(E7=\"\",\"\",E43)","v":4.8000000000000007},67.200000000000017,3.2000000000000006,47.202400000000004,40.340800000000009,10.720000000000002,1.1096000000000001,157.99360000000004,64.562400000000011,82.183200000000014,32.380800000000008,11.607200000000002,25.933600000000006,19.562400000000004,15.056800000000004,53.839200000000012,45.47120000000001]
[null,"ARMACAO EM TELA DE ACO SOLDADA NERVURADA Q-138, ACO CA-60, 4,2MM, MALHA 15X15CM",null,"m²",{"$f":"IF(E7=\"\",\"\",E29*E6)","v":600.46279147374094},{"$f":"IF(F7=\"\",\"\",F29*F6)","v":7800.7464663544242},298.42862009913853,2381.8505745839552,1857.9162289323772,{"$f":"IF(J7=\"\",\"\",J29*J6)","v":480.31509672973971},117.48264295276823,16799.312104387172,3089.8459585036708,3525.7131419331231,1359.969883322331,446.8284268076664,904.82970304095363,989.1229080502884,707.02066055516354,2382.5319641846281,1807.2891310442449]
[null,"CONCRETO FCK=20MPA PARA REVESTIMENTO DE CANAIS, INCLUINDO PREPARO MECANICO, LANCAMENTO E ADENSAMENTO (INCLUSIVE INSTALAÇÃO DE GABARITOS)",null,"m³",{"$f":"IF(E7=\"\",\"\",(E29*E13)*E6)","v":30.023139573687047},{"$f":"IF(F7=\"\",\"\",(F29*F13)*F6)","v":390.03732331772125},14.921431004956929,119.09252872919777,92.895811446618865,24.015754836486984,5.8741321476384121,839.96560521935874,154.49229792518355,176.28565709665617,67.998494166116558,22.34142134038332,45.241485152047687,49.456145402514423,35.351033027758184,119.12659820923142,90.364456552212246]
["CANAL RETANGULAR - MEDIDAS","Canal Retangular (Largura Externa):","B=","m",{"$f":"IF(E50=\"\",\"\",E50+E51+E51)","v":""},{"$f":"IF(F7=\"\",\"\",F46)","v":7800.7464663544242},"","","","","","","","","","","","","","",""]
[null,null,"d=","m",{"$f":"IF(E50=\"\",\"\",(E58-E48)/2)","v":""},{"$f":"IF(F7=\"\",\"\",F47)","v":390.03732331772125},"","","","","","","","","","","","","","",""]
[null,"Canal retangular (Largura Interna):","b=","m","",{"$f":"IF(F7=\"\",\"\",F29*F6)","v":7800.7464663544242},"","","","","","","","","","","","","","",""]
[null,"Canal retangular (Espessura Parede):","c=","m","",{"$f":"IF(F7=\"\",\"\",(F28*F13)*F6)","v":373.23732331772123},"","","","","","","","","","","","","","",""]
[null,"Canal Retangular (Altura Interna):","H=","m","","","","","","","","","","","","","","","","",""]
[null,"Canal Retangular (Laje Base Espessura):","eb=","m","",0.1,"","","","","","","","","","","","","","",""]
[null,"Canal Retangular (Laje Base Largura):","Le=","m",{"$f":"IF(E50=\"\",\"\",E48+0.05+0.05)","v":""},{"$f":"IF(F50=\"\",\"\",F48+0.05+0.05)","v":7800.8464663544246},"","","","","","","","","","","","","","",""]
[null,"Canal retangular (Laje Base Espessura):","h=","m","",0.1,"","","","","","","","","","","","","","",""]
[null,"Canal Retangular (Viga Horizontal Superior Largura):","vs=","m","",0.12,"","","","","","","","","","","","","","",""]
[null,"Canal retangular (Viga Horizontal Superior Altura):","hs=","m","",0.12,"","","","","","","","","","","","","","",""]
[null,"Canal Existente (Largura Base Maior):","B+2d=","m","","","","","","","","","","","","","","","","",""]
[null,"Canal Existente (Largura Base Menor):","bc=","m","","","","","","","","","","","","","","","","",""]
[null,"Canal Existente (Espessura Placa):","ep=","m","",7.0000000000000007E-2,"","","","","","","","","","","","","","",""]
[null,"Canal Existente (Altura Interna):","He=","m","","","","","","","","","","","","","","","","",""]
[null,"Canal Existente (Inclinação 1:m):","m =",null,{"$f":"IF(E50=\"\",\"\",((E58/2)-(E59/2))/E61)","v":""},{"$f":"IF(F50=\"\",\"\",((F58/2)-(F59/2))/F61)","v":{"$error":"#VALUE!"}},"","","","","","","","","","","","","","",""]
[null,null,"b2=","m",{"$f":"IF(E50=\"\",\"\",((E54)-E59)/2)","v":""},{"$f":"IF(F50=\"\",\"\",((F54)-F59)/2)","v":{"$error":"#VALUE!"}},"","","","","","","","","","","","","","",""]
[null,"Concreto Magro (Espessura):","em=","m","",0.05,"","","","","","","","","","","","","","",""]
[null,null,"h1=","m",{"$f":"IF(E50=\"\",\"\",E66+E67)","v":""},{"$f":"IF(F50=\"\",\"\",F66+F67)","v":{"$error":"#VALUE!"}},"","","","","","","","","","","","","","",""]
[null,null,"h2=","m",{"$f":"IF(E50=\"\",\"\",E63/E62)","v":""},{"$f":"IF(F50=\"\",\"\",F63/F62)","v":{"$error":"#VALUE!"}},"","","","","","","","","","","","","","",""]
[null,null,"h3=","m",{"$f":"IF(E50=\"\",\"\",E53+E64)","v":""},{"$f":"IF(F50=\"\",\"\",F53+F64)","v":0.15000000000000002},"","","","","","","","","","","","","","",""]
[null,null,"h4=","m",{"$f":"IF(E50=\"\",\"\",E61+E53+E64-E65)","v":""},{"$f":"IF(F50=\"\",\"\",F61+F53+F64-F65)","v":{"$error":"#VALUE!"}},"","","","","","","","","","","","","","",""]
[null,"Rampa:","r=","m",{"$f":"IF(E50=\"\",\"\",SQRT((E61*E61)+((E61*E62)^2)))","v":""},{"$f":"IF(F50=\"\",\"\",SQRT((F61*F61)+((F61*F62)^2)))","v":{"$error":"#VALUE!"}},"","","","","","","","","","","","","","",""]
[null,"Concreto Demolição:","Vdc=","m3",{"$f":"IF(E50=\"\",\"\",(E69+E59+E69)*E60)","v":""},{"$f":"IF(F50=\"\",\"\",(F69+F59+F69)*F60)","v":{"$error":"#VALUE!"}},"","","","","","","","","","","","","","",""]
[null,"Escavação (m3):","Ve=","m3",{"$f":"IF(E50=\"\",\"\",(E54*E65)-((E54+E59)/2*E66))","v":""},{"$f":"IF(F50=\"\",\"\",(F54*F65)-((F54+F59)/2*F66))","v":{"$error":"#VALUE!"}},"","","","","","","","","","","","","","",""]
[null,"DMT (Importação):","DMT 1 =","km","",5,"","","","","","","","","","","","","","",""]
[null,"DMT (Bota Fora):","DMT 2 =","km","",5,"","","","","","","","","","","","","","",""]
[null,"Concreto Magro:","Vcm=","m3",{"$f":"IF(E50=\"\",\"\",E54*E64)","v":""},{"$f":"IF(F50=\"\",\"\",F54*F64)","v":390.04232331772124},"","","","","","","","","","","","","","",""]
[null,"Forma:","A=","m2",{"$f":"IF(E50=\"\",\"\",E61*4)","v":""},{"$f":"IF(F50=\"\",\"\",F61*4)","v":{"$error":"#VALUE!"}},"","","","","","","","","","","","","","",""]
[null,"Junta Transversal:","Jt=","m",{"$f":"IF(E50=\"\",\"\",(E50+E61+E61)/12)","v":""},{"$f":"IF(F50=\"\",\"\",(F50+F61+F61)/12)","v":{"$error":"#VALUE!"}},"","","","","","","","","","","","","","",""]
[null,"Treliça Vertical (Metro por metro linear de canal):","Tv=","m",{"$f":"IF(E50=\"\",\"\",((E61+E53)*2)/(11/2))","v":""},{"$f":"IF(F50=\"\",\"\",((F61+F53)*2)/(11/2))","v":{"$error":"#VALUE!"}},"","","","","","","","","","","","","","",""]
[null,"Volume Concreto Laje Base:","Vclb=","m3",{"$f":"IF(E50=\"\",\"\",E54*E53)","v":""},{"$f":"IF(F50=\"\",\"\",F54*F53)","v":780.08464663544248},"","","","","","","","","","","","","","",""]
[null,"Volume Concreto Paredes:","Vcp=","m3",{"$f":"IF(E50=\"\",\"\",E51*E52*2)","v":""},{"$f":"IF(F50=\"\",\"\",F51*F52*2)","v":{"$error":"#VALUE!"}},"","","","","","","","","","","","","","",""]
[null,"Volume Concreto Vigas 2por modulo (Volume / metro canal):","Vcv=","m3",{"$f":"IF(E50=\"\",\"\",((E56*E57*E50)*2)/11)","v":""},{"$f":"IF(F50=\"\",\"\",((F56*F57*F50)*2)/11)","v":20.42377256645522},"","","","","","","","","","","","","","",""]
[null,"Volume Concreto (Laje Base+Paredes+Vigas):","Vc=","m3",{"$f":"IF(E50=\"\",\"\",E78+E79+E80)","v":""},{"$f":"IF(F50=\"\",\"\",F78+F79+F80)","v":{"$error":"#VALUE!"}},"","","","","","","","","","","","","","",""]
[null,"Reaterro:","Vr=","m3",{"$f":"IF(E50=\"\",\"\",(E49*E68/2*2)+(0.05*E66))","v":""},{"$f":"IF(F50=\"\",\"\",(F49*F68/2*2)+(0.05*F66))","v":{"$error":"#VALUE!"}},"","","","","","","","","","","","","","",""]
["CANAL RETANGULAR - QUANTITATIVOS","LOCACAO E NIVELAMENTO DE REDE DE CANAIS COLETORES DE IRRIGAÇÃO COM AUXILIO DE EQUIPAMENTO TOPOGRAFICO",null,"m",{"$f":"IF(E$50=\"\",\"\",E$6)","v":""},{"$f":"IF(F$50=\"\",\"\",F$6)","v":840},"","","","","","","","","","","","","","",""]
[null,"LIMPEZA DO TERRENO - ROÇADA",null,"m²",{"$f":"IF(E$50=\"\",\"\",(2*3)*E$6)","v":""},{"$f":"IF(F$50=\"\",\"\",(2*3)*F$6)","v":5040},"","","","","","","","","","","","","","",""]
[null,"DEMOLIÇÃO E RETIRADA DE PLACAS EM CONCRETO SIMPLES",null,"m³",{"$f":"IF(E$50=\"\",\"\",E$6*E$70)","v":""},{"$f":"IF(F$50=\"\",\"\",F$6*F$70)","v":{"$error":"#VALUE!"}},"","","","","","","","","","","","","","",""]
[null,"CARGA, TRANSPORTE ATÉ 1 KM E DESCARGA DE ENTULHO DE CONCRETO SIMPLES",null,"m³",{"$f":"IF(E$50=\"\",\"\",E$85+E$88)","v":""},{"$f":"IF(F$50=\"\",\"\",F$85+F$88)","v":{"$error":"#VALUE!"}},"","","","","","","","","","","","","","",""]
[null,"TRANSPORTE COMERCIAL COM CAMINHAO BASCULANTE 6 M3, RODOVIA EM LEITO NATURAL",null,"m³xKm",{"$f":"IF(E$50=\"\",\"\",E$86*E$73)","v":""},{"$f":"IF(F$50=\"\",\"\",F$86*F$73)","v":{"$error":"#VALUE!"}},"","","","","","","","","","","","","","",""]
[null,"ESCAVAÇÃO MANUAL DE VALAS.",null,"m³",{"$f":"IF(E$50=\"\",\"\",E$6*E$71)","v":""},{"$f":"IF(F$50=\"\",\"\",F$6*F$71)","v":{"$error":"#VALUE!"}},"","","","","","","","","","","","","","",""]
[null,"REGULARIZACAO MANUAL",null,"m²",{"$f":"IF(E$50=\"\",\"\",E$6*E$54)","v":""},{"$f":"IF(F$50=\"\",\"\",F$6*F$54)","v":6552711.0317377169},"","","","","","","","","","","","","","",""]
[null,"EXECUÇÃO DE LASTRO EM CONCRETO (1:2,5:6), PREPARO MANUAL",null,"m³",{"$f":"IF(E$50=\"\",\"\",E$6*E$74)","v":""},{"$f":"IF(F$50=\"\",\"\",F$6*F$74)","v":327635.55158688582},"","","","","","","","","","","","","","",""]
[null,"FORMA PLANA METALICA PARA MURETA, UTILIZAÇÃO 20X",null,"m²",{"$f":"IF(E$50=\"\",\"\",E$6*E$75)","v":""},{"$f":"IF(F$50=\"\",\"\",F$6*F$75)","v":{"$error":"#VALUE!"}},"","","","","","","","","","","","","","",""]
[null,"JUNTA DE DILATAÇÃO EM MASTIQUE ELÁSTICO",null,"m",{"$f":"IF(E$50=\"\",\"\",E$6*E$76)","v":""},{"$f":"IF(F$50=\"\",\"\",F$6*F$76)","v":{"$error":"#VALUE!"}},"","","","","","","","","","","","","","",""]
[null,"ARMAÇÃO DE AÇO CA-60 DIAM. 3,4 A 6,0 MM - FORNECIMENTO / CORTE (C/ PERDA DE 10%) / DOBRA / COLOCAÇÃO",null,"Kg","",{"$error":"#VALUE!"},"","","","","","","","","","","","","","",""]
[null,"CONCRETO FCK=20MPA PARA REVESTIMENTO DE CANAIS, INCLUINDO PREPARO MECANICO, LANCAMENTO E ADENSAMENTO (INCLUSIVE INSTALAÇÃO DE GABARITOS)",null,"m³",{"$f":"IF(E$50=\"\",\"\",E$6*E$81)","v":""},{"$f":"IF(F$50=\"\",\"\",F$6*F$81)","v":{"$error":"#VALUE!"}},"","","","","","","","","","","","","","",""]
[null,"TRELIÇA DE SUSTENTAÇÃO VERTICAL COM ESPAÇAMENTO 5,50 M",null,"m",{"$f":"IF(E$50=\"\",\"\",E$6*E$77)","v":""},{"$f":"IF(F$50=\"\",\"\",F$6*F$77)","v":{"$error":"#VALUE!"}},"","","","","","","","","","","","","","",""]
[null,"REATERRO COM COMPACTACAO MECANIZADA",null,"m³",{"$f":"IF(E$50=\"\",\"\",E$6*E$82)","v":""},{"$f":"IF(F$50=\"\",\"\",F$6*F$82)","v":{"$error":"#VALUE!"}},"","","","","","","","","","","","","","",""]

{"sheet":"BD_Mobilização e Serv. iniciais","index":13,"n_rows":10,"n_cols":3,"rows_kept":10,"cut":false,"hidden":false,"merged":[[4,0,6,0]]}
["MEMÓRIA DE CÁLCULO PLACA E TEMPO ESTIMADO DA OBRA"]
[]
[]
["Total de área estimada para placa de obras",{"$f":"B7+B8","v":25},"m²"]
["Placa identificação da obra - Governo Federal\n02 ( DUAS) UNIDADES, sendo:\n01 unidade - Perímetro Irrigado do Itiúba\n01 unidade - Perímetro Irrigado do Boacica\n",{"$f":"3*4","v":12},"m²"]
[null,2,"unidades"]
[null,{"$f":"B6*B5","v":24}]
["Placa identificação IMA",1,"m²"]
[]
["Total estimado em meses para administração local",18,"***Meses"]

{"sheet":"Aux. Manut Canteiro","index":14,"n_rows":59,"n_cols":9,"rows_kept":59,"cut":false,"hidden":false,"merged":[[28,1,28,7],[0,2,0,8],[2,1,2,6],[3,1,3,8],[6,1,6,7],[7,1,7,8],[17,1,17,7],[18,1,18,8],[21,1,21,7],[22,1,22,8],[25,1,25,7],[27,3,27,7],[35,1,35,8],[29,1,29,7],[30,1,30,7],[32,2,32,8],[34,1,34,6],[38,1,38,7],[39,1,39,8],[45,1,45,7],[46,1,46,8],[49,1,49,7],[58,1,58,7],[50,1,50,8],[53,1,53,7],[55,3,55,7],[56,1,56,7],[57,1,57,7]]}
[null,"COMP-1"," COMPOSIÇÃO DE PREÇO UNITÁRIO - Auxiliar"]
[null,"SERVIÇO: ",{"$nulls":5},"UNIDADE: ","mês"]
[null,"MATERIAL DE CONSUMO MENSAL (Para atender os Canteiros)",{"$nulls":5},"Valor (R$):  ",{"$f":"I31","v":304.82950000000005}]
[null,"EQUIPAMENTO"]
[null,"DISCRIMINAÇÃO","UNIDADE","QUANT.","PROD","IMPROD","P.UNIT. PROD","P.UNIT. IMPR","P.TOTAL"]
[{"$nulls":8},{"$f":"D6*E6*G6","v":0}]
[null,"SUB-TOTAL:",{"$nulls":6},{"$f":"SUM(I6:I6)","v":0}]
[null,"MATERIAL"]
[null,"DISCRIMINAÇÃO","UNIDADE","QUANT.",null,null,null,"P.UNIT.","P.TOTAL"]
[null,"Água Mineral (20 litros)","garraf",5,null,null,null,7,{"$f":"D10*H10","v":35}]
[null,"Copo descartável 200 ml","Unid.",100,null,null,null,{"$f":"205.59/2000","v":0.102795},{"$f":"D11*H11","v":10.279500000000001}]
[null,"Caneta esfereográfica Azul","Unid.",3,null,null,null,1.2,3.5999999999999996]
[null,"Cartucho colorido para impressora","Unid.",2,null,null,null,77,154]
[null,"Cartucho preto para impressora","Unid.",2,null,null,null,49,98]
[null,"Clips","caixa",1,null,null,null,3,3]
[null,"Lápis grafite","dúzia",1,null,null,null,0.35,0.35]
[null,"Marca texto","Unid.",0.5,null,null,null,1.2,0.6]
[null,"SUB-TOTAL:",{"$nulls":6},{"$f":"SUM(I10:I17)","v":304.82950000000005}]
[null,"SERVIÇOS - COMPOSIÇÕES AUXILIARES"]
[null,"DISCRIMINAÇÃO","UNIDADE","QUANT.",null,null,null,"P.UNIT.","P.TOTAL"]
[{"$nulls":8},{"$f":"D21*H21","v":0}]
[null,"SUB-TOTAL:",{"$nulls":6},{"$f":"SUM(I21:I21)","v":0}]
[null,"MÃO DE OBRA"]
[null,"DISCRIMINAÇÃO","UNIDADE","QUANT.",null,null,null,"P.UNIT.","P.TOTAL"]
[{"$nulls":7},0,{"$f":"D25*H25","v":0}]
[null,"SUB-TOTAL:",{"$nulls":6},{"$f":"SUM(I25:I25)","v":0}]
[]
[null,"PRODUÇÃO DA EQUIPE",1,"CUSTO ",{"$nulls":4},{"$f":"I7+I18+I22+I26","v":304.82950000000005}]
[null,"TOTAL - R$",{"$nulls":6},{"$f":"I28/C28","v":304.82950000000005}]
[null,"BDI                %",{"$nulls":6},1]
[null,"TOTAL DO SERVIÇO - R$",{"$nulls":6},{"$f":"I29*I30","v":304.82950000000005}]
[]
[null,"COMP-2"," COMPOSIÇÃO DE PREÇO UNITÁRIO - Auxiliar"]
[null,"SERVIÇO: ",{"$nulls":5},"UNIDADE: ","mês"]
[null,"MATERIAL DE CONSUMO MENSAL (Para atender os Canteiros)",{"$nulls":5},"Valor (R$):  ",{"$f":"I59","v":8.3000000000000007}]
[null,"EQUIPAMENTO"]
[null,"DISCRIMINAÇÃO","UNIDADE","QUANT.","PROD","IMPROD","P.UNIT. PROD","P.UNIT. IMPR","P.TOTAL"]
[{"$nulls":8},{"$f":"D38*E38*G38","v":0}]
[null,"SUB-TOTAL:",{"$nulls":6},{"$f":"SUM(I38:I38)","v":0}]
[null,"MATERIAL"]
[null,"DISCRIMINAÇÃO","UNIDADE","QUANT.",null,null,null,"P.UNIT.","P.TOTAL"]
[null,"Desinfetante","Unid.",2,null,null,null,1.89,{"$f":"D42*H42","v":3.78}]
[null,"Água Sanitária 1000 ml","Unid.",2,null,null,null,1.0900000000000001,{"$f":"D43*H43","v":2.1800000000000002}]
[null,"Alcool","Unid.",0.5,null,null,null,1.68,{"$f":"D44*H44","v":0.84}]
[null,"Detergente 500ml","Unid.",1,null,null,null,1.5,{"$f":"D45*H45","v":1.5}]
[null,"SUB-TOTAL:",{"$nulls":6},{"$f":"SUM(I42:I45)","v":8.3000000000000007}]
[null,"SERVIÇOS - COMPOSIÇÕES AUXILIARES"]
[null,"DISCRIMINAÇÃO","UNIDADE","QUANT.",null,null,null,"P.UNIT.","P.TOTAL"]
[{"$nulls":8},{"$f":"D49*H49","v":0}]
[null,"SUB-TOTAL:",{"$nulls":6},{"$f":"SUM(I49:I49)","v":0}]
[null,"MÃO DE OBRA"]
[null,"DISCRIMINAÇÃO","UNIDADE","QUANT.",null,null,null,"P.UNIT.","P.TOTAL"]
[{"$nulls":7},0,{"$f":"D53*H53","v":0}]
[null,"SUB-TOTAL:",{"$nulls":6},{"$f":"SUM(I53:I53)","v":0}]
[]
[null,"PRODUÇÃO DA EQUIPE",1,"CUSTO ",{"$nulls":4},{"$f":"I39+I46+I50+I54","v":8.3000000000000007}]
[null,"TOTAL - R$",{"$nulls":6},{"$f":"I56/C56","v":8.3000000000000007}]
[null,"BDI                %",{"$nulls":6},1]
[null,"TOTAL DO SERVIÇO - R$",{"$nulls":6},{"$f":"I57*I58","v":8.3000000000000007}]

{"sheet":"CCU VEÍCULO","index":15,"n_rows":54,"n_cols":4,"rows_kept":54,"cut":false,"hidden":false,"merged":[[0,2,0,4],[1,1,2,1],[1,2,1,4],[2,2,2,4],[4,2,4,4]]}
[null,null,"Ministério da Integração Nacional - MI"]
[null,null,"Companhia de Desenvolvimento dos Vales do São Francisco e do Parnaíba"]
[null,null,"5ª Superintendência Regional"]
[]
[null,"CCU\nVEÍCULO"," FORNECIMENTO DE VEÍCULO LEVE 1.0 OU SUPERIOR,  PARA APOIO A FISCALIZAÇÃO, COM AR-CONDICIONADO, INCLUINDO DESPESAS COM COMBUSTÍVEL, ÓLEOS, CONSERVAÇÃO E MANUTENÇÃO."]
[null,null," "]
[]
[]
[null,"A","Depreciação mensal do equipamento"]
[null,"A1","Preço de Aquisição ( GOL 1.0 12v)",47020]
[null,"A2","Tempo previsto de vida útil (meses)",36]
[null,"A3","Previsão de recup. na venda do bem usado",0.4]
[null,"A4","Custo mensal [A1-(A3xA1)]/A2",{"$f":"(D10-(D12*D10))/D11","v":783.66666666666663}]
[]
[null,"B","Juros pelo Capital empregado"]
[null,"B1","Taxa mensal de Juros ",0.05]
[null,"B2","Juros s/depreciação/aluguel (B1xA4)",{"$f":"D16*D13","v":39.183333333333337}]
[]
[null,"C","Conservação e manutenção "]
[null,"C1","Taxa de gastos s/a deprec. Inc. seguros (%)",1]
[null,"C2","Incidência mensal (C1xA4)",{"$f":"D20*D13","v":783.66666666666663}]
[null," "," "," "]
[null,"D","Combustível"]
[null,"D1","Média mensal de quilômetro por veículo",{"$f":"112*15","v":1680}]
[null,"D2","Preço do litro de combustível \n(GASOLINA COMUM SINAPI 4222)",4.21]
[null,"D3","Quilômetros rodados com um litro combustivel",10]
[null,"D4","Combustivel    (D1/D3)*D2",{"$f":"(D24/D26)*D25","v":707.28}]
[]
[null,"E","Lubrificantes"]
[null,"E1","Quilometragem do Contrato ",{"$f":"D24*12","v":20160}]
[null,"E2","Franquia por troca de óleo (km)",5000]
[null,"E3","Preço do litro de óleo",17]
[null,"E4","Quantidade de litros de óleo por troca (SINAPI 4227)",3.5]
[null,"E5","Quantidade de dias do Contrato",365]
[null,"E6","Lubrificantes  E = (E1*E3*E4*30)/E2*E5",{"$f":"(D30*D32*D33*30)/(D31*D34)","v":19.718136986301371}]
[]
[null,"F","Pneus"]
[null,"F1","Quilometragem do Contrato ",{"$f":"D30","v":20160}]
[null,"F2","Vida do Pneu em quilômetros",45000]
[null,"F3","Quantidade de pneus",5]
[null,"F4","Preço do Pneu",238.91]
[null,"F5","Quantidade de dias do contrato ",{"$f":"D34","v":365}]
[null,"F6","Pneus = (F1*F3*F4*30)/(F2*F5)",{"$f":"(D38*D40*D41*30)/(D39*D42)","v":43.985621917808217}]
[]
[null,"G","Motorista"]
[null,"G1","Salário com encargos sociais",1995.53]
[]
[null,"H","Custo Mensal"," "]
[null,null,"Sem Motorista",{"$f":"D43+D35+D27+D21+D17+D13","v":2377.5004255707763}]
[null,null,"Com Motorista",{"$f":"D49+D46","v":4373.0304255707761}]
[]
[null,"I","Custo Direto p/ km Rodado Mensal"]
[null,null,"Sem Motorista",{"$f":"D49/D24","v":1.4151788247445096}]
[null,null,"Com Motorista",{"$f":"D50/D24","v":2.6029943009349856}]

{"sheet":"BDI SERVIÇOS","index":16,"n_rows":90,"n_cols":8,"rows_kept":90,"cut":false,"hidden":false,"merged":[[33,4,33,5],[33,2,33,3],[9,6,9,7],[9,2,10,2],[9,3,10,3],[9,4,10,4],[31,2,31,3],[32,3,32,4],[1,1,1,7],[3,1,3,7],[9,5,10,5],[31,4,31,5],[5,1,5,7],[7,1,7,7],[87,1,87,2],[35,1,35,7],[39,1,39,7],[41,1,41,7],[37,1,37,7],[48,5,48,6],[48,3,48,4],[47,1,47,6]]}
[]
[null,"Cálculo do BDI de Serviços - Com desoneração sobre a folha de pagamento\nFórmula e parâmetros estabelecidos pelo Acordão 2622/2013-TCU"]
[]
[null,"TIPO DE OBRA - CLASSIFICAÇÃO SEGUNDO ACORDÃO"]
[]
[null,"CONSTRUÇÃO DE REDES DE ABASTECIMENTO DE ÁGUA, COLETA DE\nESGOTO E CONSTRUÇÕES CORRELATAS"]
[]
[null,"DEMONSTRATIVO DO BDI - SERVIÇOS"]
[]
[null,null,"Item","Descrição dos Serviços","Sigla","% adotado","Intervalo aceito \n(Acórdão 2622/2013)"]
[{"$nulls":6},"% mín.","% máx"]
[]
[null,null,1,"ADMINISTRAÇÃO CENTRAL","AC",3.5000000000000003E-2,3.4299999999999997E-2,6.7100000000000007E-2]
[null,null,"1.1","ESCRITÓRIO CENTRAL",null," "]
[null,null,"1.2","VIAGENS",null," "]
[null,null,"1.3","OUTROS",null," "]
[null,null," "," ",null," "]
[null,null,2,"IMPOSTOS E TAXAS","I",{"$f":"SUM(F19:F22)","v":6.1499999999999999E-2}]
[null,null,"2.1","ISS",null,2.5000000000000001E-2]
[null,null,"2.2","PIS",null,6.4999999999999997E-3]
[null,null,"2.3","Cofins",null,0.03]
[null,null,"2.4","Contribuição Previdenciária ¹",null,0]
[]
[null,null,3,"TAXA DE RISCO",null,{"$f":"SUM(F25:F27)","v":1.4999999999999999E-2}]
[null,null,"3.1","SEGURO + GARANTIA","S+G",5.0000000000000001E-3,2.8E-3,7.4999999999999997E-3]
[null,null,"3.2","RISCO","R",0.01,0.01,1.7399999999999999E-2]
[]
[null,null,4,"DESPESAS FINANCEIRAS","DF",9.9000000000000008E-3,9.4000000000000004E-3,1.17E-2]
[]
[null,null,5,"LUCRO","L",7.0999999999999994E-2,6.7400000000000002E-2,9.4E-2]
[]
[null,null,"BDI A SER ADOTADO",null,{"$f":"(((1+F13+F25+F26)*(1+F28)*(1+F30))/(1-F18))-1","v":0.2101044698987744},null,0.20760000000000001,0.26440000000000002]
[null,null,null," "]
[null,null,"Verificação - BDI sem desoneração²",null,{"$f":"((1+F13+F25+F26)*(1+F28)*(1+F30))/(1-(F18-F22))-1","v":0.2101044698987744},null," - Atende ao Acordão"]
[]
[null,"(1) - Como os custos do orçamento estão desonerados, devemos acrescentar no BDI a contribuição previdenciária."]
[]
[null,"(2) - Sem a inclusão da Contribuição Previdenciária"]
[]
[null,"Para o preenchimento da proposta deve-se utilizar o valor de ISS da Prefeitura Local. No caso, ISS em Porto Real do Colégio-AL = 2,5%"]
[]
[null,"Segundo Acórdão 2622/2013 do Tribunal de Contas da União – TCU, o cálculo do BDI deve ser feito seguindo a seguinte fórmula:"]
[]
[]
[]
[]
[]
[null,"DETALHAMENTO DOS ENCARGOS SOCIAIS "]
[null,null,null,"COM DESONERAÇÃO",null,"SEM DESONERAÇÃO"]
[null,"CÓDIGO","DESCRIÇÃO","HORISTA %","MENSALISTA %","HORISTA %","MENSALISTA %"]
[null,null,"GRUPO A"]
[null,"A1","INSS",0,0,20,20]
[null,"A2","SESI",1.5,1.5,1.5,1.5]
[null,"A3","SENAI",1,1,1,1]
[null,"A4","INCRA",0.2,0.2,0.2,0.2]
[null,"A5","SEBRAE",0.6,0.6,0.6,0.6]
[null,"A6","SALÁRIO EDUCAÇÃO",2.5,2.5,2.5,2.5]
[null,"A7","SEGURO CONTRA ACIDENTES DE TRABALHO",3,3,3,3]
[null,"A8","FGTS",8,8,8,8]
[null,"A9","SECONCI",0,0,0,0]
[null,"A","TOTAL DOS ENCARGOS SOCIAIS BÁSICOS",{"$f":"SUM(D51:D60)","v":16.8},{"$f":"SUM(E51:E60)","v":16.8},36.799999999999997,36.799999999999997]
[null,null,"GRUPO B"]
[null,"B1","REPOUSO SEMANAL REMUNERADO",18.059999999999999,"-",18.059999999999999,"-"]
[null,"B2","FERIADOS",4.68,"-",4.68,"-"]
[null,"B3","AUXÍLIO-ENFERMIDADE",0.9,0.69,0.9,0.69]
[null,"B4","13º SALÁRIO",10.83,8.33,10.83,8.33]
[null,"B5","LICENÇA PATERNIDADE",7.0000000000000007E-2,0.06,7.0000000000000007E-2,0.06]
[null,"B6","FALTAS JUSTIFICADAS",0.72,0.56000000000000005,0.72,0.56000000000000005]
[null,"B7","DIAS DE CHUVAS",1.83,"-",1.83,"-"]
[null,"B8","AUXÍLIO ACIDENTE DE TRABALHO",0.11,0.09,0.11,0.09]
[null,"B9","FÉRIAS GOZADAS",14.42,11.1,14.42,11.1]
[null,"B10","SALÁRIO MATERNIDADE",0.03,0.03,0.03,0.03]
[null,"B","TOTAL DE ENCARGOS SOCIAIS QUE RECEBEM INCIDÊNCIAS DE A",{"$f":"SUM(D63:D72)","v":51.65},{"$f":"SUM(E63:E72)","v":20.86},51.65,20.86]
[null,null,"GRUPO C"]
[null,"C1","AVISO PRÉVIO INDENIZADO",4.18,3.22,4.18,3.22]
[null,"C2","AVISO PRÉVIOTRABALHADO",0.1,0.08,0.1,0.08]
[null,"C3","FÉRIAS INDENIZADAS",0,0,0,0]
[null,"C4","DEPÓSITO RESCISÃO SEM JUSTA CAUSA",3.65,2.81,3.65,2.81]
[null,"C5","FÉRIAS(INDENIZADAS)",0.35,0.27,0.35,0.27]
[null,"C","TOTAL DOS E.SOCIAIS QUE NÃO RECEBEM AS INCIDÊNCIAS  DE A",{"$f":"SUM(D75:D79)","v":8.2799999999999994},{"$f":"SUM(E75:E79)","v":6.3800000000000008},8.2799999999999994,6.3800000000000008]
[null,null,"GRUPO D"]
[null,"D1","REINCIDÊNCIA DE A SOBRE B",8.68,3.5,19.010000000000002,7.68]
[null,"D2","REINCIDÊNCIA DE GRUPO A SOBRE\n AVISO PRÉVIO TRABALHADO E \nREINCIDÊNCIA DO FGTS SOBRE \nAVISO PRÉVIO INDENIZADO",0.35,0.27,0.37,0.28999999999999998]
[null,"D","TOTAL DE REINCIDÊNCIA DE UM GRUPO SOBRE O OUTRO",{"$f":"SUM(D82:D83)","v":9.0299999999999994},{"$f":"SUM(E82:E83)","v":3.77},19.380000000000003,7.97]
[null,null,"GRUPO E"]
[null,"D1"]
[null,"D","TOTAL DOS ENCARGOS SOCIAIS COMPLEMENTARES ",0,0,{"$f":"SUM(F86:F86)","v":0},{"$f":"SUM(G86:G86)","v":0}]
[null,"TOTAL (A+B+C+D+E)",null,{"$f":"D87+D84+D80+D73+D61","v":85.759999999999991},{"$f":"E87+E84+E80+E73+E61","v":47.81},116.11,72.009999999999991]
[null,"Obs: *Grupo E deverá ser apropriado como item do custo direto"]
[null,"Fonte: Informação dias de chuva – INMET"]

{"sheet":"BDI FORNECIMENTO","index":17,"n_rows":34,"n_cols":8,"rows_kept":34,"cut":false,"hidden":false,"merged":[[31,1,31,8],[33,1,33,8],[26,2,26,3],[26,4,26,5],[27,3,27,4],[28,2,28,3],[28,4,28,5],[1,1,1,8],[3,1,3,8],[5,2,6,2],[5,3,6,3],[5,4,6,4],[5,5,6,5],[5,6,5,7]]}
[]
[null,"Cálculo do BDI de Fornecimento\nFórmula e parâmetros estabelecidos pelo Acordão 2622/2013-TCU"]
[]
[null,"DEMONSTRATIVO DO BDI - FORNECIMENTO"]
[]
[null,null,"Item","Descrição dos Serviços","Sigla","% adotado","intervalo aceito (Acórdão 2622/2013)"]
[{"$nulls":6},"% mín.","% máx"]
[]
[null,null,1,"ADMINISTRAÇÃO CENTRAL","AC",0.03,1.4999999999999999E-2,4.4900000000000002E-2]
[null,null,"1.1","ESCRITÓRIO CENTRAL",null," "]
[null,null,"1.2","VIAGENS",null," "]
[null,null,"1.3","OUTROS",null," "]
[null,null," "," ",null," "]
[null,null,2,"IMPOSTOS E TAXAS","I",{"$f":"SUM(F15:F17)","v":3.6499999999999998E-2}]
[null,null,"2.1","ISS",null,"-"]
[null,null,"2.2","PIS",null,6.4999999999999997E-3]
[null,null,"2.3","Cofins",null,0.03]
[]
[null,null,3,"TAXA DE RISCO",null,{"$f":"SUM(F20:F22)","v":1.0999999999999999E-2}]
[null,null,"3.1","SEGURO + GARANTIA","S+G",5.0000000000000001E-3,3.0000000000000001E-3,8.2000000000000007E-3]
[null,null,"3.2","RISCO","R",6.0000000000000001E-3,5.5999999999999999E-3,8.8999999999999999E-3]
[]
[null,null,4,"DESPESAS FINANCEIRAS","DF",8.9999999999999993E-3,8.5000000000000006E-3,1.11E-2]
[]
[null,null,5,"LUCRO","L",3.9E-2,3.5000000000000003E-2,6.2199999999999998E-2]
[]
[null,null,"BDI A SER ADOTADO",null,{"$f":"(((1+F9+F20+F21)*(1+F23)*(1+F25))/(1-F14))-1","v":0.13267606746237659},null,0.111,0.16800000000000001]
[null,null,null," "]
[null,null,"Verificação - BDI",null,{"$f":"(((1+F9+F20+F21)*(1+F23)*(1+F25))/(1-(F14)))-1","v":0.13267606746237659},null," - Atende ao Acordão"]
[]
[]
[]
[]
[null,"Segundo Acórdão 2622/2013 do Tribunal de Contas da União – TCU, o cálculo do BDI deve ser feito seguindo a seguinte fórmula:"]

{"sheet":"Plan1","index":18,"n_rows":0,"n_cols":0,"rows_kept":0,"cut":false,"hidden":false,"merged":[]}