{"text_format":"2","workbook":"xlsx","n_sheets":5,"sheets":["44 h","12x36 Diurno","12x36 Noturno","Resumo","Média Insumos"],"not_rendered":{"charts":0,"images":0,"macros":0,"external_links":0,"defined_names":6,"comments":0,"pivot_tables":0},"unopened":[],"bounds":{"document_bytes":16777216,"sheet_cells":100000,"run_cost":"one","rows_first":2000,"rows_last":500,"rows_between":2000,"halvings":0,"cell_chars":16384,"cell_head_chars":4096},"cells_cut":0,"cells_raw":0,"read":"whole","date_system":"1900"}

{"sheet":"44 h","index":0,"n_rows":148,"n_cols":9,"rows_kept":148,"cut":false,"hidden":false,"merged":[[0,0,0,8],[1,0,1,8],[2,0,2,8],[3,0,3,8],[4,0,4,8],[6,0,6,8],[6,10,6,18],[7,1,7,7],[7,11,7,12],[7,13,7,16],[7,17,7,18],[8,1,8,7],[8,11,8,12],[8,13,8,16],[8,17,8,18],[9,1,9,7],[9,10,9,18],[10,1,10,7],[10,10,10,18],[11,10,11,18],[12,0,12,8],[12,10,12,18],[13,0,13,1],[13,2,13,3],[13,4,13,8],[13,11,13,16],[13,17,13,18],[14,0,14,1],[14,2,14,3],[14,4,14,8],[14,11,14,16],[14,17,14,18],[15,11,15,16],[15,17,15,18],[16,0,16,8],[16,11,16,16],[16,17,16,18],[17,1,17,7],[18,1,18,7],[19,1,19,7],[20,1,20,7],[21,1,21,7],[22,0,22,8],[23,0,23,8],[24,1,24,6],[25,1,25,6],[26,1,26,6],[27,1,27,6],[28,1,28,6],[29,0,29,7],[31,0,31,8],[32,0,32,6],[33,1,33,6],[34,1,34,6],[35,0,35,6],[36,0,36,8],[37,0,37,6],[38,1,38,6],[39,1,39,6],[40,1,40,6],[41,1,41,6],[42,1,42,6],[43,1,43,6],[44,1,44,6],[45,1,45,6],[46,0,46,6],[47,0,47,8],[48,0,48,6],[49,1,49,6],[50,1,50,6],[51,1,51,6],[52,1,52,6],[53,1,53,6],[54,1,54,6],[55,1,55,6],[56,1,56,6],[57,0,57,7],[58,0,58,8],[59,0,59,8],[60,0,60,7],[61,1,61,7],[62,1,62,7],[63,1,63,7],[64,0,64,7],[65,0,65,8],[66,0,66,8],[67,1,67,6],[68,1,68,6],[69,1,69,6],[70,1,70,6],[71,1,71,6],[72,1,72,6],[73,1,73,6],[74,1,74,6],[75,0,75,6],[76,0,76,8],[77,0,77,8],[78,0,78,6],[79,1,79,6],[80,1,80,6],[81,1,81,6],[82,1,82,6],[83,1,83,6],[84,1,84,6],[85,1,85,6],[86,0,86,6],[87,0,87,8],[88,0,88,6],[89,1,89,6],[90,0,90,6],[91,0,91,8],[92,0,92,8],[93,0,93,7],[94,1,94,7],[95,1,95,7],[96,0,96,7],[97,0,97,8],[98,0,98,8],[99,1,99,6],[100,1,100,6],[101,1,101,6],[102,1,102,6],[103,1,103,6],[104,1,104,6],[105,1,105,6],[106,0,106,6],[107,0,107,8],[108,0,108,8],[109,1,109,6],[110,1,110,6],[111,1,111,6],[112,1,112,6],[113,1,113,6],[114,1,114,6],[115,1,115,6],[116,0,116,6],[117,1,117,8],[119,0,119,8],[120,0,120,7],[121,1,121,7],[122,1,122,7],[123,1,123,7],[124,1,124,7],[125,1,125,7],[126,1,126,7],[127,1,127,7],[128,0,128,7],[130,1,130,6],[131,0,131,1],[131,2,131,3],[131,4,131,5],[132,0,132,1],[132,2,132,3],[132,4,132,5],[133,0,133,1],[133,2,133,3],[133,4,133,5],[134,0,134,1],[134,2,134,3],[134,4,134,5],[135,0,135,1],[135,2,135,3],[135,4,135,5],[136,0,136,1],[136,2,136,3],[136,4,136,5],[137,0,137,1],[137,2,137,3],[137,4,137,5],[138,0,138,7],[140,1,140,6],[141,0,141,8],[142,1,142,7],[143,1,143,7],[144,1,144,7],[145,1,145,7],[146,0,146,7]]}
["ANEXO I - PLANILHA DE CUSTOS E FORMAÇÃO DE PREÇOS"]
[]
["Nº do Processo: 59540.000477/2018-68"]
["Licitação Nº:"]
["Dia ____/_____/_____ às  ____:_____"]
[]
["Discriminação dos Serviços"]
["A","Data de apresentação da proposta"]
["B","Município/UF",{"$nulls":6},"Aracaju/SE"]
["C","Ano do Acordo, Convenção ou Dissídio Coletivo",{"$nulls":6},2018]
["D","Nº de meses de execução contratual",{"$nulls":6},12]
[]
["Identificação do Serviço"]
["Tipo de Serviço",null,"Unidade de Medida",null,"Quantidade total a contratar (em função da unidade de medida)"]
["Vigilância Armada",null,"Posto 44 h semanais",null,1]
[]
["Dados para composição dos custos referentes à mão-de-obra"]
[1,"Tipo de serviço (mesmo serviço com características distintas)",{"$nulls":6},"Vigilâcia"]
[2,"Classificação Brasileira de Ocupações (CBO)",{"$nulls":6},5173]
[3,"Salário Nominativo da Categoria Profissional",{"$nulls":6},1086.53]
[4,"Categoria profissional (vinculada à execução contratual)",{"$nulls":6},"Vigilante"]
[5,"Data base da categoria (dia/mês/ano)",{"$nulls":6},"2018-01-01"]
[]
["MÓDULO 1 - COMPOSIÇÃO DA REMUNERAÇÃO"]
[1,"COMPOSIÇÃO DA REMUNERAÇÃO",{"$nulls":5},"%","VALOR (R$)"]
["A","Salário Base",{"$nulls":6},{"$f":"I20","v":1086.53}]
["B","Adicional Periculosidade",{"$nulls":6},{"$f":"I26*0.3","v":325.959}]
["C","Adicional Noturno",{"$nulls":6},0]
["D","Adicional de Hora Noturna Reduzida",{"$nulls":6},0]
["TOTAL DO MÓDULO 1",{"$nulls":7},{"$f":"(SUM(I26:I29))","v":1412.489}]
[]
["MÓDULO 2 – ENCARGOS E BENEFÍCIOS ANUAIS, MENSAIS E DIÁRIOS"]
["Submódulo 2.1 - 13º Salário, Férias e Adicional de Férias",{"$nulls":6},"%","VALOR (R$)"]
["A","13 (Décimo-terceiro) salário ",{"$nulls":5},0.0833,{"$f":"$I$30*H34","v":117.6603337}]
["B","Férias e Adicional de Férias",{"$nulls":5},{"$f":"(0.0833+0.0278)","v":0.1111},{"$f":"H35*I30","v":156.9275279}]
["TOTAL SUBMÓDULO 2.1",{"$nulls":6},{"$f":"TRUNC(SUM(H34:H35),4)","v":0.1944},{"$f":"(SUM(I34:I35))","v":274.5878616}]
[]
["Submódulo 2.2 - GPS, FGTS e Outras Contribuições",{"$nulls":6},"%","VALOR (R$)"]
["A","INSS",{"$nulls":5},0.2,{"$f":"H39*($I$30+$I$36)","v":337.41537232}]
["B","Salário Educação",{"$nulls":5},0.025,{"$f":"H40*($I$30+$I$36)","v":42.17692154}]
["C","SAT (Seguro Acidente de Trabalho)",{"$nulls":5},0.03,{"$f":"H41*($I$30+$I$36)","v":50.612305848}]
["D","SESC ou SESI",{"$nulls":5},0.015,{"$f":"H42*($I$30+$I$36)","v":25.306152924}]
["E","SENAI - SENAC",{"$nulls":5},0.01,{"$f":"H43*($I$30+$I$36)","v":16.870768616}]
["F","SEBRAE",{"$nulls":5},0.006,{"$f":"H44*($I$30+$I$36)","v":10.1224611696}]
["G","INCRA",{"$nulls":5},0.002,{"$f":"H45*($I$30+$I$36)","v":3.3741537232}]
["H","FGTS",{"$nulls":5},0.08,{"$f":"H46*($I$30+$I$36)","v":134.966148928}]
["TOTAL SUBMÓDULO 2.2",{"$nulls":6},{"$f":"SUM(H39:H46)","v":0.368},{"$f":"(SUM(I39:I46))","v":620.8442850688}]
[]
["Submódulo 2.3 - Benefícios Mensais e Diários",{"$nulls":7},"VALOR (R$)"]
["A","Transporte",{"$nulls":5},"-",{"$f":"(3.5*2*22)-(I26*0.06)","v":88.8082}]
["B","Auxílio-Refeição/Alimentação",{"$nulls":5},"-",{"$f":"16*22*0.9","v":316.8}]
["C","Assistência Médica e Familiar",{"$nulls":5},"-",0]
["D","Seguro de vida, invalidez e funeral",{"$nulls":5},"-",{"$f":"'Média Insumos'!E5","v":7.66666666666667}]
["E","Exames Médicos e Adminicionais",{"$nulls":5},"-",{"$f":"'Média Insumos'!E6","v":108.01}]
["F","Prêmio Trabalho Noturno",{"$nulls":5},"-",0]
["G","Prêmio Trabalho em Feriado",{"$nulls":5},"-",0]
["H","Outros (especificar)",{"$nulls":5},"-",0]
["TOTAL SUBMÓDULO 2.3",{"$nulls":7},{"$f":"(SUM(I50:I57))","v":521.284866666667}]
[]
["QUADRO-RESUMO DO MÓDULO 2 - ENCARGOS, BENEFÍCIOS ANUAIS, MENSAIS E DIÁRIOS"]
["Módulo 2 - Encargos, Benefícios Anuais, Mensais e Diários",{"$nulls":7},"VALOR (R$)"]
["2.1","13º Salário, Férias e Adicional de Férias",{"$nulls":6},{"$f":"I36","v":274.5878616}]
["2.2","GPS, FGTS e Outras Contribuições",{"$nulls":6},{"$f":"I47","v":620.8442850688}]
["2.3","Benefícios Mensais e Diários",{"$nulls":6},{"$f":"I58","v":521.284866666667}]
["TOTAL DO MÓDULO 2",{"$nulls":7},{"$f":"(SUM(I62:I64))","v":1416.71701333547}]
[]
["MÓDULO 3 – PROVISÃO PARA RESCISÃO"]
[3,"PROVISÃO PARA RESCISÃO",{"$nulls":5},"%","VALOR (R$)"]
["3.1","Custo do Aviso Prévio Indenizado",{"$nulls":6},{"$f":"I70+I71","v":196.623605496809}]
["A","Aviso Prévio Indenizado",{"$nulls":6},{"$f":"(I30+I65-I39-I40-I41-I42-I43-I44-I45)/12*0.7483","v":146.126020875397}]
["B","Multa do FGTS e Contribuição Social sobre o Aviso Prévio Indenizado",{"$nulls":6},{"$f":"I46*0.5*0.7483","v":50.4975846214112}]
["3.2","Custo do Aviso Prévio Trabalhado",{"$nulls":6},{"$f":"I73+I74","v":25.2000951303065}]
["A","Aviso Prévio Trabalhado",{"$nulls":6},{"$f":"(I30+I65)/12*0.0831","v":19.5922516423481}]
["B","Multa do FGTS e Contribuição Social sobre o Aviso Prévio Trabalhado.",{"$nulls":6},{"$f":"I46*0.5*0.0831","v":5.6078434879584}]
["3.3","Custo da Demissão com Justa Causa",{"$nulls":6},{"$f":"(-I36)*0.0264","v":-7.24911954624}]
["TOTAL DO MÓDULO 3",{"$nulls":7},{"$f":"I69+I72+I75","v":214.574581080875}]
[]
["MÓDULO 4 – CUSTO DE REPOSIÇÃO DO PROFISSIONAL AUSENTE"]
["Submódulo 4.1 - Ausências Legais",{"$nulls":6},"%","VALOR (R$)"]
["A","Férias",{"$nulls":5},{"$f":"20.7123/12/30","v":0.0575341666666667},{"$f":"(I30+I65+I76)*H80","v":175.121380015916}]
["B","Ausências Legais",{"$nulls":5},{"$f":"(3.4521+0.3044+0.0427+0.037+0.02+0.004+0.0014)/12/30","v":0.0107266666666667},{"$f":"(I30+I65+I76)*H81","v":32.6496198427726}]
["C","Licença Paternidade",{"$nulls":5},{"$f":"0.4436/12/30","v":0.00123222222222222},{"$f":"(I30+I65+I76)*H82","v":3.75061408800858}]
["D","Ausência por Acidente de Trabalho ",{"$nulls":5},{"$f":"0.9545/12/30","v":0.00265138888888889},{"$f":"(I30+I65+I76)*H83","v":8.07024604825111}]
["E","Afastamento Maternidade",{"$nulls":5},{"$f":"0.3446/12/30","v":0.000957222222222222},{"$f":"(I30+I65+I76)*H84","v":2.91357442454409}]
["F","Ausências Justificadas",{"$nulls":5},{"$f":"1/12/30","v":0.00277777777777778},{"$f":"(I30+I65+I76)*H85","v":8.45494609560095}]
["G","Outros (especificar)",{"$nulls":5},0,{"$f":"(I30+I65+I76)*H86","v":0}]
["TOTAL SUBMÓDULO 4.1",{"$nulls":6},{"$f":"SUM(H80:H86)","v":0.0758794444444444},{"$f":"SUM(I80:I86)","v":230.960380515093}]
[]
["Submódulo 4.2 - Intrajornada",{"$nulls":6},"%","VALOR (R$)"]
["A","Intervalo para Repouso ou Alimentação",{"$nulls":5},0,{"$f":"$I$30*H90","v":0}]
["TOTAL SUBMÓDULO 4.2",{"$nulls":6},{"$f":"TRUNC(SUM(H90),4)","v":0},{"$f":"(SUM(I90))","v":0}]
[]
["QUADRO-RESUMO DO MÓDULO 4 - CUSTO DE REPOSIÇÃO DO PROFISSIONAL AUSENTE"]
["Módulo 4 - Custo de Reposição do Profissional Ausente",{"$nulls":7},"VALOR (R$)"]
["4.1","Ausências Legais",{"$nulls":6},{"$f":"I87","v":230.960380515093}]
["4.2","Intrajornada",{"$nulls":6},{"$f":"I91","v":0}]
["TOTAL DO MÓDULO 4",{"$nulls":7},{"$f":"(SUM(I95:I96))","v":230.960380515093}]
[]
["MÓDULO 5 – INSUMOS DIVERSOS"]
[5,"INSUMOS DIVERSOS",{"$nulls":6},"VALOR (R$)"]
["A","Uniformes",{"$nulls":5},"-",0]
["B","Materiais",{"$nulls":5},"-",0]
["C","Armamento e munição",{"$nulls":5},"-",0]
["D","Equipamentos de Proteção Individual (EPI`s) e outros equipamentos",{"$nulls":5},"-",0]
["E","Outros (especificar)",{"$nulls":5},"-",0]
["F","Estimativa do MPOG para SE",{"$nulls":5},0.0512,{"$f":"(I30+I65+I76+I97)*H106","v":167.666737916489}]
["TOTAL DO MÓDULO 5",{"$nulls":6},"-",{"$f":"(SUM(I101:I106))","v":167.666737916489}]
[]
["MÓDULO 6 – CUSTOS INDIRETOS, TRIBUTOS E LUCRO"]
[6,"CUSTOS INDIRETOS, TRIBUTOS E LUCRO",{"$nulls":5},"%","VALOR (R$)"]
["A","Custos Indiretos",{"$nulls":5},0.06,{"$f":"(I30+I65+I76+I97+I107)*H111","v":206.544462770875}]
["B","Lucro",{"$nulls":5},0.0679,{"$f":"(I30+I65+I76+I97+I107+I111)*H112","v":247.763852724516}]
["C","TRIBUTOS",{"$nulls":5},{"$f":"H114+H115+H116","v":0.0865}]
["C.1","PIS",{"$nulls":5},0.0065,{"$f":"(I127+I111+I112)/(1-H113)*H114","v":27.7270434419612}]
["C.2","COFINS",{"$nulls":5},0.03,{"$f":"(I127+I111+I112)/(1-H113)*H115","v":127.970969732129}]
["C.3","ISS",{"$nulls":5},0.05,{"$f":"(I127+I111+I112)/(1-H113)*H116","v":213.284949553548}]
["TOTAL DO MÓDULO 6",{"$nulls":6},{"$f":"H111+H112+H113","v":0.2144},{"$f":"(SUM(I111:I116))","v":823.291278223029}]
[]
[]
["QUADRO RESUMO DO CUSTO POR EMPREGADO"]
["Mão-de-Obra vinculada à execução contratual (valor por empregado)",{"$nulls":7},"VALOR (R$)"]
["A",{"$f":"A24","v":"MÓDULO 1 - COMPOSIÇÃO DA REMUNERAÇÃO"},{"$nulls":6},{"$f":"I30","v":1412.489}]
["B",{"$f":"A32","v":"MÓDULO 2 – ENCARGOS E BENEFÍCIOS ANUAIS, MENSAIS E DIÁRIOS"},{"$nulls":6},{"$f":"I65","v":1416.71701333547}]
["C",{"$f":"A67","v":"MÓDULO 3 – PROVISÃO PARA RESCISÃO"},{"$nulls":6},{"$f":"I76","v":214.574581080875}]
["D",{"$f":"A78","v":"MÓDULO 4 – CUSTO DE REPOSIÇÃO DO PROFISSIONAL AUSENTE"},{"$nulls":6},{"$f":"I97","v":230.960380515093}]
["E",{"$f":"A99","v":"MÓDULO 5 – INSUMOS DIVERSOS"},{"$nulls":6},{"$f":"I107","v":167.666737916489}]
[null,"Subtotal (A + B + C + D + E)",{"$nulls":6},{"$f":"(SUM(I122:I126))","v":3442.40771284792}]
["F",{"$f":"A109","v":"MÓDULO 6 – CUSTOS INDIRETOS, TRIBUTOS E LUCRO"},{"$nulls":6},{"$f":"I117","v":823.291278223029}]
["PREÇO TOTAL MENSAL POR EMPREGADO / POSTO",{"$nulls":7},{"$f":"(SUM(I127:I128))","v":4265.69899107095}]
[]
[null,"Quadro Resumo - VALOR MENSAL DOS SERVIÇOS"]
["Tipo de Serviço (A)",null,"Valor Por Empregado(B)",null,"Qde de Empregados por posto ( C )",null,"Valor Proposto por Posto (D) = (B x C)","Qde Postos (E)","VALOR (R$)"]
["Serviço 1 (indicar)",null,"R$",null,null,null,"R$",null,0]
["Serviço 2 (indicar)",null,"R$",null,null,null,"R$",null,0]
["Serviço 3 (indicar)",null,"R$",null,null,null,"R$",null,0]
["Serviço ... (indicar)",null,"R$",null,null,null,"R$",null,0]
[]
[]
["VALOR MENSAL DOS SERVIÇOS (I + II + III + ...)",{"$nulls":7},{"$f":"SUM(I137:I138)","v":0}]
[]
["Anexo III-D","Quadro Demonstrativo - VALOR GLOBAL DA PROPOSTA"]
["VALOR GLOBAL DA PROPOSTA"]
[null,"Descrição",{"$nulls":6},"VALOR (R$)"]
["A","Valor proposto por unidade de medida*",{"$nulls":6},{"$f":"I114","v":27.7270434419612}]
["B","Valor mensal do serviço",{"$nulls":6},{"$f":"#REF!","v":{"$error":"#REF!"}}]
["C","Valor Global da Proposta (valor mensal do serviço X nº meses do contrato).",{"$nulls":6},{"$f":"I117","v":823.291278223029}]
["TOTAL",{"$nulls":7},{"$f":"SUM(I144:I146)","v":{"$error":"#REF!"}}]
["Nota(1):","Informar o valor da unidade de medida por tipo de serviço."]

{"sheet":"12x36 Diurno","index":1,"n_rows":148,"n_cols":9,"rows_kept":148,"cut":false,"hidden":false,"merged":[[0,0,0,8],[1,0,1,8],[2,0,2,8],[3,0,3,8],[4,0,4,8],[6,0,6,8],[6,10,6,18],[7,1,7,7],[7,11,7,12],[7,13,7,16],[7,17,7,18],[8,1,8,7],[8,11,8,12],[8,13,8,16],[8,17,8,18],[9,1,9,7],[9,10,9,18],[10,1,10,7],[10,10,10,18],[11,10,11,18],[12,0,12,8],[12,10,12,18],[13,0,13,1],[13,2,13,3],[13,4,13,8],[13,11,13,16],[13,17,13,18],[14,0,14,1],[14,2,14,3],[14,4,14,8],[14,11,14,16],[14,17,14,18],[15,11,15,16],[15,17,15,18],[16,0,16,8],[16,11,16,16],[16,17,16,18],[17,1,17,7],[18,1,18,7],[19,1,19,7],[20,1,20,7],[21,1,21,7],[22,0,22,8],[23,0,23,8],[24,1,24,6],[25,1,25,6],[26,1,26,6],[27,1,27,6],[28,1,28,6],[29,0,29,7],[31,0,31,8],[32,0,32,6],[33,1,33,6],[34,1,34,6],[35,0,35,6],[36,0,36,8],[37,0,37,6],[38,1,38,6],[39,1,39,6],[40,1,40,6],[41,1,41,6],[42,1,42,6],[43,1,43,6],[44,1,44,6],[45,1,45,6],[46,0,46,6],[47,0,47,8],[48,0,48,6],[49,1,49,6],[50,1,50,6],[51,1,51,6],[52,1,52,6],[53,1,53,6],[54,1,54,6],[55,1,55,6],[56,1,56,6],[57,0,57,7],[58,0,58,8],[59,0,59,8],[60,0,60,7],[61,1,61,7],[62,1,62,7],[63,1,63,7],[64,0,64,7],[65,0,65,8],[66,0,66,8],[67,1,67,6],[68,1,68,6],[69,1,69,6],[70,1,70,6],[71,1,71,6],[72,1,72,6],[73,1,73,6],[74,1,74,6],[75,0,75,6],[76,0,76,8],[77,0,77,8],[78,0,78,6],[79,1,79,6],[80,1,80,6],[81,1,81,6],[82,1,82,6],[83,1,83,6],[84,1,84,6],[85,1,85,6],[86,0,86,6],[87,0,87,8],[88,0,88,6],[89,1,89,6],[90,0,90,6],[91,0,91,8],[92,0,92,8],[93,0,93,7],[94,1,94,7],[95,1,95,7],[96,0,96,7],[97,0,97,8],[98,0,98,8],[99,1,99,6],[100,1,100,6],[101,1,101,6],[102,1,102,6],[103,1,103,6],[104,1,104,6],[105,1,105,6],[106,0,106,6],[107,0,107,8],[108,0,108,8],[109,1,109,6],[110,1,110,6],[111,1,111,6],[112,1,112,6],[113,1,113,6],[114,1,114,6],[115,1,115,6],[116,0,116,6],[117,1,117,8],[119,0,119,8],[120,0,120,7],[121,1,121,7],[122,1,122,7],[123,1,123,7],[124,1,124,7],[125,1,125,7],[126,1,126,7],[127,1,127,7],[128,0,128,7],[129,0,129,7],[130,1,130,6],[131,0,131,1],[131,2,131,3],[131,4,131,5],[132,0,132,1],[132,2,132,3],[132,4,132,5],[133,0,133,1],[133,2,133,3],[133,4,133,5],[134,0,134,1],[134,2,134,3],[134,4,134,5],[135,0,135,1],[135,2,135,3],[135,4,135,5],[136,0,136,1],[136,2,136,3],[136,4,136,5],[137,0,137,1],[137,2,137,3],[137,4,137,5],[138,0,138,7],[140,1,140,6],[141,0,141,8],[142,1,142,7],[143,1,143,7],[144,1,144,7],[145,1,145,7],[146,0,146,7]]}
["ANEXO I - PLANILHA DE CUSTOS E FORMAÇÃO DE PREÇOS"]
[]
["Nº do Processo: 59540.000477/2018-68"]
["Licitação Nº:"]
["Dia ____/_____/_____ às  ____:_____"]
[]
["Discriminação dos Serviços"]
["A","Data de apresentação da proposta"]
["B","Município/UF",{"$nulls":6},"Propriá/SE"]
["C","Ano do Acordo, Convenção ou Dissídio Coletivo",{"$nulls":6},2018]
["D","Nº de meses de execução contratual",{"$nulls":6},12]
[]
["Identificação do Serviço"]
["Tipo de Serviço",null,"Unidade de Medida",null,"Quantidade total a contratar (em função da unidade de medida)"]
["Vigilância Armada",null,"Posto Diurno 12 X 36",null,1]
[]
["Dados para composição dos custos referentes à mão-de-obra"]
[1,"Tipo de serviço (mesmo serviço com características distintas)",{"$nulls":6},"Vigilâcia"]
[2,"Classificação Brasileira de Ocupações (CBO)",{"$nulls":6},5173]
[3,"Salário Nominativo da Categoria Profissional",{"$nulls":6},1086.53]
[4,"Categoria profissional (vinculada à execução contratual)",{"$nulls":6},"Vigilante"]
[5,"Data base da categoria (dia/mês/ano)",{"$nulls":6},"2018-01-01"]
[]
["MÓDULO 1 - COMPOSIÇÃO DA REMUNERAÇÃO"]
[1,"COMPOSIÇÃO DA REMUNERAÇÃO",{"$nulls":5},"%","VALOR (R$)"]
["A","Salário Base",{"$nulls":6},{"$f":"I20","v":1086.53}]
["B","Adicional Periculosidade",{"$nulls":6},{"$f":"I26*0.3","v":325.959}]
["C","Adicional Noturno",{"$nulls":6},0]
["D","Adicional de Hora Noturna Reduzida",{"$nulls":6},0]
["TOTAL DO MÓDULO 1",{"$nulls":7},{"$f":"(SUM(I26:I29))","v":1412.489}]
[]
["MÓDULO 2 – ENCARGOS E BENEFÍCIOS ANUAIS, MENSAIS E DIÁRIOS"]
["Submódulo 2.1 - 13º Salário, Férias e Adicional de Férias",{"$nulls":6},"%","VALOR (R$)"]
["A","13 (Décimo-terceiro) salário ",{"$nulls":5},0.0833,{"$f":"$I$30*H34","v":117.6603337}]
["B","Férias e Adicional de Férias",{"$nulls":5},{"$f":"(0.0833+0.0278)","v":0.1111},{"$f":"H35*I30","v":156.9275279}]
["TOTAL SUBMÓDULO 2.1",{"$nulls":6},{"$f":"TRUNC(SUM(H34:H35),4)","v":0.1944},{"$f":"(SUM(I34:I35))","v":274.5878616}]
[]
["Submódulo 2.2 - GPS, FGTS e Outras Contribuições",{"$nulls":6},"%","VALOR (R$)"]
["A","INSS",{"$nulls":5},0.2,{"$f":"H39*($I$30+$I$36)","v":337.41537232}]
["B","Salário Educação",{"$nulls":5},0.025,{"$f":"H40*($I$30+$I$36)","v":42.17692154}]
["C","SAT (Seguro Acidente de Trabalho)",{"$nulls":5},0.03,{"$f":"H41*($I$30+$I$36)","v":50.612305848}]
["D","SESC ou SESI",{"$nulls":5},0.015,{"$f":"H42*($I$30+$I$36)","v":25.306152924}]
["E","SENAI - SENAC",{"$nulls":5},0.01,{"$f":"H43*($I$30+$I$36)","v":16.870768616}]
["F","SEBRAE",{"$nulls":5},0.006,{"$f":"H44*($I$30+$I$36)","v":10.1224611696}]
["G","INCRA",{"$nulls":5},0.002,{"$f":"H45*($I$30+$I$36)","v":3.3741537232}]
["H","FGTS",{"$nulls":5},0.08,{"$f":"H46*($I$30+$I$36)","v":134.966148928}]
["TOTAL SUBMÓDULO 2.2",{"$nulls":6},{"$f":"SUM(H39:H46)","v":0.368},{"$f":"(SUM(I39:I46))","v":620.8442850688}]
[]
["Submódulo 2.3 - Benefícios Mensais e Diários",{"$nulls":7},"VALOR (R$)"]
["A","Transporte",{"$nulls":5},"-",0]
["B","Auxílio-Refeição/Alimentação",{"$nulls":5},"-",{"$f":"16*15*0.9","v":216}]
["C","Assistência Médica e Familiar",{"$nulls":5},"-",0]
["D","Seguro de vida, invalidez e funeral",{"$nulls":5},"-",{"$f":"'Média Insumos'!E5","v":7.66666666666667}]
["E","Exames Médicos e Adminicionais",{"$nulls":5},"-",{"$f":"'Média Insumos'!E6","v":108.01}]
["F","Prêmio Trabalho Noturno",{"$nulls":5},"-",0]
["G","Prêmio Trabalho em Feriado",{"$nulls":5},"-",80]
["H","Outros (especificar)",{"$nulls":5},"-",0]
["TOTAL SUBMÓDULO 2.3",{"$nulls":7},{"$f":"(SUM(I50:I57))","v":411.676666666667}]
[]
["QUADRO-RESUMO DO MÓDULO 2 - ENCARGOS, BENEFÍCIOS ANUAIS, MENSAIS E DIÁRIOS"]
["Módulo 2 - Encargos, Benefícios Anuais, Mensais e Diários",{"$nulls":7},"VALOR (R$)"]
["2.1","13º Salário, Férias e Adicional de Férias",{"$nulls":6},{"$f":"I36","v":274.5878616}]
["2.2","GPS, FGTS e Outras Contribuições",{"$nulls":6},{"$f":"I47","v":620.8442850688}]
["2.3","Benefícios Mensais e Diários",{"$nulls":6},{"$f":"I58","v":411.676666666667}]
["TOTAL DO MÓDULO 2",{"$nulls":7},{"$f":"(SUM(I62:I64))","v":1307.10881333547}]
[]
["MÓDULO 3 – PROVISÃO PARA RESCISÃO"]
[3,"PROVISÃO PARA RESCISÃO",{"$nulls":5},"%","VALOR (R$)"]
["3.1","Custo do Aviso Prévio Indenizado",{"$nulls":6},{"$f":"I70+I71","v":189.788620825142}]
["A","Aviso Prévio Indenizado",{"$nulls":6},{"$f":"(I30+I65-I39-I40-I41-I42-I43-I44-I45)/12*0.7483","v":139.291036203731}]
["B","Multa do FGTS e Contribuição Social sobre o Aviso Prévio Indenizado",{"$nulls":6},{"$f":"I46*0.5*0.7483","v":50.4975846214112}]
["3.2","Custo do Aviso Prévio Trabalhado",{"$nulls":6},{"$f":"I73+I74","v":24.4410583453065}]
["A","Aviso Prévio Trabalhado",{"$nulls":6},{"$f":"(I30+I65)/12*0.0831","v":18.8332148573481}]
["B","Multa do FGTS e Contribuição Social sobre o Aviso Prévio Trabalhado.",{"$nulls":6},{"$f":"I46*0.5*0.0831","v":5.6078434879584}]
["3.3","Custo da Demissão com Justa Causa",{"$nulls":6},{"$f":"(-I36)*0.0264","v":-7.24911954624}]
["TOTAL DO MÓDULO 3",{"$nulls":7},{"$f":"I69+I72+I75","v":206.980559624208}]
[]
["MÓDULO 4 – CUSTO DE REPOSIÇÃO DO PROFISSIONAL AUSENTE"]
["Submódulo 4.1 - Ausências Legais",{"$nulls":6},"%","VALOR (R$)"]
["A","Férias",{"$nulls":5},{"$f":"15/12/30","v":0.0416666666666667},{"$f":"(I30+I65+I76)*H80","v":121.940765539986}]
["B","Ausências Legais",{"$nulls":5},{"$f":"(2.5+0.3044+0.0309+0.0185+0.02+0.004+0.0014)/12/30","v":0.00799777777777778},{"$f":"(I30+I65+I76)*H81","v":23.4061234761819}]
["C","Licença Paternidade",{"$nulls":5},{"$f":"0.3213/12/30","v":0.0008925},{"$f":"(I30+I65+I76)*H82","v":2.61197119786651}]
["D","Ausência por Acidente de Trabalho ",{"$nulls":5},{"$f":"0.6913/12/30","v":0.00192027777777778},{"$f":"(I30+I65+I76)*H83","v":5.61984341451951}]
["E","Afastamento Maternidade",{"$nulls":5},{"$f":"0.2496/12/30","v":0.000693333333333333},{"$f":"(I30+I65+I76)*H84","v":2.02909433858537}]
["F","Ausências Justificadas",{"$nulls":5},{"$f":"1/12/30","v":0.00277777777777778},{"$f":"(I30+I65+I76)*H85","v":8.12938436933243}]
["G","Outros (especificar)",{"$nulls":5},0,{"$f":"(I30+I65+I76)*H86","v":0}]
["TOTAL SUBMÓDULO 4.1",{"$nulls":6},{"$f":"SUM(H80:H86)","v":0.0559483333333333},{"$f":"SUM(I80:I86)","v":163.737182336472}]
[]
["Submódulo 4.2 - Intrajornada",{"$nulls":6},"%","VALOR (R$)"]
["A","Intervalo para Repouso ou Alimentação",{"$nulls":5},"-",{"$f":"I30/220*15*1.5","v":144.459102272727}]
["TOTAL SUBMÓDULO 4.2",{"$nulls":6},"-",{"$f":"(SUM(I90))","v":144.459102272727}]
[]
["QUADRO-RESUMO DO MÓDULO 4 - CUSTO DE REPOSIÇÃO DO PROFISSIONAL AUSENTE"]
["Módulo 4 - Custo de Reposição do Profissional Ausente",{"$nulls":7},"VALOR (R$)"]
["4.1","Ausências Legais",{"$nulls":6},{"$f":"I87","v":163.737182336472}]
["4.2","Intrajornada",{"$nulls":6},{"$f":"I91","v":144.459102272727}]
["TOTAL DO MÓDULO 4",{"$nulls":7},{"$f":"(SUM(I95:I96))","v":308.1962846092}]
[]
["MÓDULO 5 – INSUMOS DIVERSOS"]
[5,"INSUMOS DIVERSOS",{"$nulls":6},"VALOR (R$)"]
["A","Uniformes",{"$nulls":5},"-",0]
["B","Materiais",{"$nulls":5},"-",0]
["C","Armamento e munição",{"$nulls":5},"-",0]
["D","Equipamentos de Proteção Individual (EPI`s) e outros equipamentos",{"$nulls":5},"-",0]
["E","Outros (especificar)",{"$nulls":5},"-",0]
["F","Estimativa do MPOG para SE",{"$nulls":5},0.0305,{"$f":"(I30+I65+I76+I97)*H106","v":98.6606270558507}]
["TOTAL DO MÓDULO 5",{"$nulls":6},"-",{"$f":"(SUM(I101:I106))","v":98.6606270558507}]
[]
["MÓDULO 6 – CUSTOS INDIRETOS, TRIBUTOS E LUCRO"]
[6,"CUSTOS INDIRETOS, TRIBUTOS E LUCRO",{"$nulls":5},"%","VALOR (R$)"]
["A","Custos Indiretos",{"$nulls":5},0.06,{"$f":"(I30+I65+I76+I97+I107)*H111","v":200.006117077484}]
["B","Lucro",{"$nulls":5},0.0679,{"$f":"(I30+I65+I76+I97+I107+I111)*H112","v":239.92067117558}]
["C","TRIBUTOS",{"$nulls":5},{"$f":"H114+H115+H116","v":0.0865}]
["C.1","PIS",{"$nulls":5},0.0065,{"$f":"(I127+I111+I112)/(1-H113)*H114","v":26.8493196209147}]
["C.2","COFINS",{"$nulls":5},0.03,{"$f":"(I127+I111+I112)/(1-H113)*H115","v":123.919936711914}]
["C.3","ISS",{"$nulls":5},0.05,{"$f":"(I127+I111+I112)/(1-H113)*H116","v":206.53322785319}]
["TOTAL DO MÓDULO 6",{"$nulls":6},{"$f":"H111+H112+H113","v":0.2144},{"$f":"(SUM(I111:I116))","v":797.229272439083}]
[]
[]
["QUADRO RESUMO DO CUSTO POR EMPREGADO"]
["Mão-de-Obra vinculada à execução contratual (valor por empregado)",{"$nulls":7},"VALOR (R$)"]
["A",{"$f":"A24","v":"MÓDULO 1 - COMPOSIÇÃO DA REMUNERAÇÃO"},{"$nulls":6},{"$f":"I30","v":1412.489}]
["B",{"$f":"A32","v":"MÓDULO 2 – ENCARGOS E BENEFÍCIOS ANUAIS, MENSAIS E DIÁRIOS"},{"$nulls":6},{"$f":"I65","v":1307.10881333547}]
["C",{"$f":"A67","v":"MÓDULO 3 – PROVISÃO PARA RESCISÃO"},{"$nulls":6},{"$f":"I76","v":206.980559624208}]
["D",{"$f":"A78","v":"MÓDULO 4 – CUSTO DE REPOSIÇÃO DO PROFISSIONAL AUSENTE"},{"$nulls":6},{"$f":"I97","v":308.1962846092}]
["E",{"$f":"A99","v":"MÓDULO 5 – INSUMOS DIVERSOS"},{"$nulls":6},{"$f":"I107","v":98.6606270558507}]
[null,"Subtotal (A + B + C + D + E)",{"$nulls":6},{"$f":"(SUM(I122:I126))","v":3333.43528462473}]
["F",{"$f":"A109","v":"MÓDULO 6 – CUSTOS INDIRETOS, TRIBUTOS E LUCRO"},{"$nulls":6},{"$f":"I117","v":797.229272439083}]
["PREÇO TOTAL MENSAL POR EMPREGADO",{"$nulls":7},{"$f":"(SUM(I127:I128))","v":4130.66455706381}]
["PREÇO TOTAL MENSAL POR POSTO",{"$nulls":7},{"$f":"I129*2","v":8261.32911412762}]
[null,"Quadro Resumo - VALOR MENSAL DOS SERVIÇOS"]
["Tipo de Serviço (A)",null,"Valor Por Empregado(B)",null,"Qde de Empregados por posto ( C )",null,"Valor Proposto por Posto (D) = (B x C)","Qde Postos (E)","VALOR (R$)"]
["Serviço 1 (indicar)",null,"R$",null,null,null,"R$",null,0]
["Serviço 2 (indicar)",null,"R$",null,null,null,"R$",null,0]
["Serviço 3 (indicar)",null,"R$",null,null,null,"R$",null,0]
["Serviço ... (indicar)",null,"R$",null,null,null,"R$",null,0]
[]
[]
["VALOR MENSAL DOS SERVIÇOS (I + II + III + ...)",{"$nulls":7},{"$f":"SUM(I137:I138)","v":0}]
[]
["Anexo III-D","Quadro Demonstrativo - VALOR GLOBAL DA PROPOSTA"]
["VALOR GLOBAL DA PROPOSTA"]
[null,"Descrição",{"$nulls":6},"VALOR (R$)"]
["A","Valor proposto por unidade de medida*",{"$nulls":6},{"$f":"I114","v":26.8493196209147}]
["B","Valor mensal do serviço",{"$nulls":6},{"$f":"#REF!","v":{"$error":"#REF!"}}]
["C","Valor Global da Proposta (valor mensal do serviço X nº meses do contrato).",{"$nulls":6},{"$f":"I117","v":797.229272439083}]
["TOTAL",{"$nulls":7},{"$f":"SUM(I144:I146)","v":{"$error":"#REF!"}}]
["Nota(1):","Informar o valor da unidade de medida por tipo de serviço."]

{"sheet":"12x36 Noturno","index":2,"n_rows":150,"n_cols":9,"rows_kept":150,"cut":false,"hidden":false,"merged":[[0,0,0,8],[1,0,1,8],[2,0,2,8],[3,0,3,8],[4,0,4,8],[6,0,6,8],[7,1,7,7],[8,1,8,7],[9,1,9,7],[10,1,10,7],[12,0,12,8],[13,0,13,1],[13,2,13,3],[13,4,13,8],[14,0,14,1],[14,2,14,3],[14,4,14,8],[16,0,16,8],[17,1,17,7],[18,1,18,7],[19,1,19,7],[20,1,20,7],[21,1,21,7],[22,0,22,8],[23,0,23,8],[24,1,24,6],[25,1,25,6],[26,1,26,6],[27,1,27,6],[28,1,28,6],[29,1,29,6],[30,1,30,6],[31,0,31,7],[33,0,33,8],[34,0,34,6],[35,1,35,6],[36,1,36,6],[37,0,37,6],[38,0,38,8],[39,0,39,6],[40,1,40,6],[41,1,41,6],[42,1,42,6],[43,1,43,6],[44,1,44,6],[45,1,45,6],[46,1,46,6],[47,1,47,6],[48,0,48,6],[49,0,49,8],[50,0,50,6],[51,1,51,6],[52,1,52,6],[53,1,53,6],[54,1,54,6],[55,1,55,6],[56,1,56,6],[57,1,57,6],[58,1,58,6],[59,0,59,7],[60,0,60,8],[61,0,61,8],[62,0,62,7],[63,1,63,7],[64,1,64,7],[65,1,65,7],[66,0,66,7],[67,0,67,8],[68,0,68,8],[69,1,69,6],[70,1,70,6],[71,1,71,6],[72,1,72,6],[73,1,73,6],[74,1,74,6],[75,1,75,6],[76,1,76,6],[77,0,77,6],[78,0,78,8],[79,0,79,8],[80,0,80,6],[81,1,81,6],[82,1,82,6],[83,1,83,6],[84,1,84,6],[85,1,85,6],[86,1,86,6],[87,1,87,6],[88,0,88,6],[89,0,89,8],[90,0,90,6],[91,1,91,6],[92,0,92,6],[93,0,93,8],[94,0,94,8],[95,0,95,7],[96,1,96,7],[97,1,97,7],[98,0,98,7],[99,0,99,8],[100,0,100,8],[101,1,101,6],[102,1,102,6],[103,1,103,6],[104,1,104,6],[105,1,105,6],[106,1,106,6],[107,1,107,6],[108,0,108,6],[109,0,109,8],[110,0,110,8],[111,1,111,6],[112,1,112,6],[113,1,113,6],[114,1,114,6],[115,1,115,6],[116,1,116,6],[117,1,117,6],[118,0,118,6],[119,1,119,8],[121,0,121,8],[122,0,122,7],[123,1,123,7],[124,1,124,7],[125,1,125,7],[126,1,126,7],[127,1,127,7],[128,1,128,7],[129,1,129,7],[130,0,130,7],[131,0,131,7],[132,1,132,6],[133,0,133,1],[133,2,133,3],[133,4,133,5],[134,0,134,1],[134,2,134,3],[134,4,134,5],[135,0,135,1],[135,2,135,3],[135,4,135,5],[136,0,136,1],[136,2,136,3],[136,4,136,5],[137,0,137,1],[137,2,137,3],[137,4,137,5],[138,0,138,1],[138,2,138,3],[138,4,138,5],[139,0,139,1],[139,2,139,3],[139,4,139,5],[140,0,140,7],[142,1,142,6],[143,0,143,8],[144,1,144,7],[145,1,145,7],[146,1,146,7],[147,1,147,7],[148,0,148,7]]}
["ANEXO I - PLANILHA DE CUSTOS E FORMAÇÃO DE PREÇOS"]
[]
["Nº do Processo: 59540.000477/2018-68"]
["Licitação Nº:"]
["Dia ____/_____/_____ às  ____:_____"]
[]
["Discriminação dos Serviços"]
["A","Data de apresentação da proposta"]
["B","Município/UF",{"$nulls":6},"Propriá/SE"]
["C","Ano do Acordo, Convenção ou Dissídio Coletivo",{"$nulls":6},2018]
["D","Nº de meses de execução contratual",{"$nulls":6},12]
[]
["Identificação do Serviço"]
["Tipo de Serviço",null,"Unidade de Medida",null,"Quantidade total a contratar (em função da unidade de medida)"]
["Vigilância Armada",null,"Posto Noturno 12 X 36",null,1]
[]
["Dados para composição dos custos referentes à mão-de-obra"]
[1,"Tipo de serviço (mesmo serviço com características distintas)",{"$nulls":6},"Vigilâcia"]
[2,"Classificação Brasileira de Ocupações (CBO)",{"$nulls":6},5173]
[3,"Salário Nominativo da Categoria Profissional",{"$nulls":6},1086.53]
[4,"Categoria profissional (vinculada à execução contratual)",{"$nulls":6},"Vigilante"]
[5,"Data base da categoria (dia/mês/ano)",{"$nulls":6},"2018-01-01"]
[]
["MÓDULO 1 - COMPOSIÇÃO DA REMUNERAÇÃO"]
[1,"COMPOSIÇÃO DA REMUNERAÇÃO",{"$nulls":5},"%","VALOR (R$)"]
["A","Salário Base",{"$nulls":6},{"$f":"I20","v":1086.53}]
["B","Adicional Periculosidade",{"$nulls":6},{"$f":"I26*0.3","v":325.959}]
["C","Adicional Noturno",{"$nulls":6},134.4]
["D","Adicional de Hora Noturna Reduzida",{"$nulls":6},158.25]
["E","Reflexo DSR Hr. Noturna Reduzida",{"$nulls":6},31.65]
["F","Reflexo DSR Adicicional Noturno",{"$nulls":6},26.88]
["TOTAL DO MÓDULO 1",{"$nulls":7},{"$f":"SUM(I26:I31)","v":1763.669}]
[]
["MÓDULO 2 – ENCARGOS E BENEFÍCIOS ANUAIS, MENSAIS E DIÁRIOS"]
["Submódulo 2.1 - 13º Salário, Férias e Adicional de Férias",{"$nulls":6},"%","VALOR (R$)"]
["A","13 (Décimo-terceiro) salário ",{"$nulls":5},0.0833,{"$f":"$I$32*H36","v":146.9136277}]
["B","Férias e Adicional de Férias",{"$nulls":5},{"$f":"(0.0833+0.0278)","v":0.1111},{"$f":"H37*I32","v":195.9436259}]
["TOTAL SUBMÓDULO 2.1",{"$nulls":6},{"$f":"TRUNC(SUM(H36:H37),4)","v":0.1944},{"$f":"(SUM(I36:I37))","v":342.8572536}]
[]
["Submódulo 2.2 - GPS, FGTS e Outras Contribuições",{"$nulls":6},"%","VALOR (R$)"]
["A","INSS",{"$nulls":5},0.2,{"$f":"H41*($I$32+$I$38)","v":421.30525072}]
["B","Salário Educação",{"$nulls":5},0.025,{"$f":"H42*($I$32+$I$38)","v":52.66315634}]
["C","SAT (Seguro Acidente de Trabalho)",{"$nulls":5},0.03,{"$f":"H43*($I$32+$I$38)","v":63.195787608}]
["D","SESC ou SESI",{"$nulls":5},0.015,{"$f":"H44*($I$32+$I$38)","v":31.597893804}]
["E","SENAI - SENAC",{"$nulls":5},0.01,{"$f":"H45*($I$32+$I$38)","v":21.065262536}]
["F","SEBRAE",{"$nulls":5},0.006,{"$f":"H46*($I$32+$I$38)","v":12.6391575216}]
["G","INCRA",{"$nulls":5},0.002,{"$f":"H47*($I$32+$I$38)","v":4.2130525072}]
["H","FGTS",{"$nulls":5},0.08,{"$f":"H48*($I$32+$I$38)","v":168.522100288}]
["TOTAL SUBMÓDULO 2.2",{"$nulls":6},{"$f":"SUM(H41:H48)","v":0.368},{"$f":"(SUM(I41:I48))","v":775.2016613248}]
[]
["Submódulo 2.3 - Benefícios Mensais e Diários",{"$nulls":7},"VALOR (R$)"]
["A","Transporte",{"$nulls":5},"-",0]
["B","Auxílio-Refeição/Alimentação",{"$nulls":5},"-",{"$f":"16*15*0.9","v":216}]
["C","Assistência Médica e Familiar",{"$nulls":5},"-",0]
["D","Seguro de vida, invalidez e funeral",{"$nulls":5},"-",{"$f":"'Média Insumos'!E5","v":7.66666666666667}]
["E","Exames Médicos e Adminicionais",{"$nulls":5},"-",{"$f":"'Média Insumos'!E6","v":108.01}]
["F","Prêmio Trabalho Noturno",{"$nulls":5},"-",40]
["G","Prêmio Trabalho em Feriado",{"$nulls":5},"-",40]
["H","Outros (especificar)",{"$nulls":5},"-",0]
["TOTAL SUBMÓDULO 2.3",{"$nulls":7},{"$f":"(SUM(I52:I59))","v":411.676666666667}]
[]
["QUADRO-RESUMO DO MÓDULO 2 - ENCARGOS, BENEFÍCIOS ANUAIS, MENSAIS E DIÁRIOS"]
["Módulo 2 - Encargos, Benefícios Anuais, Mensais e Diários",{"$nulls":7},"VALOR (R$)"]
["2.1","13º Salário, Férias e Adicional de Férias",{"$nulls":6},{"$f":"I38","v":342.8572536}]
["2.2","GPS, FGTS e Outras Contribuições",{"$nulls":6},{"$f":"I49","v":775.2016613248}]
["2.3","Benefícios Mensais e Diários",{"$nulls":6},{"$f":"I60","v":411.676666666667}]
["TOTAL DO MÓDULO 2",{"$nulls":7},{"$f":"(SUM(I64:I66))","v":1529.73558159147}]
[]
["MÓDULO 3 – PROVISÃO PARA RESCISÃO"]
[3,"PROVISÃO PARA RESCISÃO",{"$nulls":5},"%","VALOR (R$)"]
["3.1","Custo do Aviso Prévio Indenizado",{"$nulls":6},{"$f":"I72+I73","v":230.59223822951}]
["A","Aviso Prévio Indenizado",{"$nulls":6},{"$f":"(I32+I67-I41-I42-I43-I44-I45-I46-I47)/12*0.7483","v":167.539694406755}]
["B","Multa do FGTS e Contribuição Social sobre o Aviso Prévio Indenizado",{"$nulls":6},{"$f":"I48*0.5*0.7483","v":63.0525438227552}]
["3.2","Custo do Aviso Prévio Trabalhado",{"$nulls":6},{"$f":"I75+I76","v":29.8089199944873}]
["A","Aviso Prévio Trabalhado",{"$nulls":6},{"$f":"(I32+I67)/12*0.0831","v":22.8068267275209}]
["B","Multa do FGTS e Contribuição Social sobre o Aviso Prévio Trabalhado.",{"$nulls":6},{"$f":"I48*0.5*0.0831","v":7.0020932669664}]
["3.3","Custo da Demissão com Justa Causa",{"$nulls":6},{"$f":"(-I38)*0.0264","v":-9.05143149504}]
["TOTAL DO MÓDULO 3",{"$nulls":7},{"$f":"I71+I74+I77","v":251.349726728957}]
[]
["MÓDULO 4 – CUSTO DE REPOSIÇÃO DO PROFISSIONAL AUSENTE"]
["Submódulo 4.1 - Ausências Legais",{"$nulls":6},"%","VALOR (R$)"]
["A","Férias",{"$nulls":5},{"$f":"15/12/30","v":0.0416666666666667},{"$f":"(I32+I67+I78)*H82","v":147.698096180018}]
["B","Ausências Legais",{"$nulls":5},{"$f":"(2.5+0.3044+0.0309+0.0185+0.02+0.004+0.0014)/12/30","v":0.00799777777777778},{"$f":"(I32+I67+I78)*H83","v":28.3501572347671}]
["C","Licença Paternidade",{"$nulls":5},{"$f":"0.3213/12/30","v":0.0008925},{"$f":"(I32+I67+I78)*H84","v":3.16369322017598}]
["D","Ausência por Acidente de Trabalho ",{"$nulls":5},{"$f":"0.6913/12/30","v":0.00192027777777778},{"$f":"(I32+I67+I78)*H85","v":6.80691292594975}]
["E","Afastamento Maternidade",{"$nulls":5},{"$f":"0.2496/12/30","v":0.000693333333333333},{"$f":"(I32+I67+I78)*H86","v":2.45769632043549}]
["F","Ausências Justificadas",{"$nulls":5},{"$f":"1/12/30","v":0.00277777777777778},{"$f":"(I32+I67+I78)*H87","v":9.84653974533451}]
["G","Outros (especificar)",{"$nulls":5},0,{"$f":"(I32+I67+I78)*H88","v":0}]
["TOTAL SUBMÓDULO 4.1",{"$nulls":6},{"$f":"SUM(H82:H88)","v":0.0559483333333333},{"$f":"SUM(I82:I88)","v":198.323095626681}]
[]
["Submódulo 4.2 - Intrajornada",{"$nulls":6},"%","VALOR (R$)"]
["A","Intervalo para Repouso ou Alimentação",{"$nulls":5},"-",158.25]
["TOTAL SUBMÓDULO 4.2",{"$nulls":6},"-",{"$f":"(SUM(I92))","v":158.25}]
[]
["QUADRO-RESUMO DO MÓDULO 4 - CUSTO DE REPOSIÇÃO DO PROFISSIONAL AUSENTE"]
["Módulo 4 - Custo de Reposição do Profissional Ausente",{"$nulls":7},"VALOR (R$)"]
["4.1","Ausências Legais",{"$nulls":6},{"$f":"I89","v":198.323095626681}]
["4.2","Intrajornada",{"$nulls":6},{"$f":"I93","v":158.25}]
["TOTAL DO MÓDULO 4",{"$nulls":7},{"$f":"(SUM(I97:I98))","v":356.573095626681}]
[]
["MÓDULO 5 – INSUMOS DIVERSOS"]
[5,"INSUMOS DIVERSOS",{"$nulls":6},"VALOR (R$)"]
["A","Uniformes",{"$nulls":5},"-",0]
["B","Materiais",{"$nulls":5},"-",0]
["C","Armamento e munição",{"$nulls":5},"-",0]
["D","Equipamentos de Proteção Individual (EPI`s) e outros equipamentos",{"$nulls":5},"-",0]
["E","Outros (especificar)",{"$nulls":5},"-",0]
["F","Estimativa do MPOG para SE",{"$nulls":5},0.0305,{"$f":"(I32+I67+I78+I99)*H108","v":118.990485820387}]
["TOTAL DO MÓDULO 5",{"$nulls":6},"-",{"$f":"(SUM(I103:I108))","v":118.990485820387}]
[]
["MÓDULO 6 – CUSTOS INDIRETOS, TRIBUTOS E LUCRO"]
[6,"CUSTOS INDIRETOS, TRIBUTOS E LUCRO",{"$nulls":5},"%","VALOR (R$)"]
["A","Custos Indiretos",{"$nulls":5},0.06,{"$f":"(I32+I67+I78+I99+I109)*H113","v":241.219073386049}]
["B","Lucro",{"$nulls":5},0.0679,{"$f":"(I32+I67+I78+I99+I109+I113)*H114","v":289.358359798125}]
["C","TRIBUTOS",{"$nulls":5},{"$f":"H116+H117+H118","v":0.0865}]
["C.1","PIS",{"$nulls":5},0.0065,{"$f":"(I129+I113+I114)/(1-H115)*H116","v":32.3818495885997}]
["C.2","COFINS",{"$nulls":5},0.03,{"$f":"(I129+I113+I114)/(1-H115)*H117","v":149.454690408922}]
["C.3","ISS",{"$nulls":5},0.05,{"$f":"(I129+I113+I114)/(1-H115)*H118","v":249.091150681536}]
["TOTAL DO MÓDULO 6",{"$nulls":6},{"$f":"H113+H114+H115","v":0.2144},{"$f":"(SUM(I113:I118))","v":961.505123863233}]
[]
[]
["QUADRO RESUMO DO CUSTO POR EMPREGADO"]
["Mão-de-Obra vinculada à execução contratual (valor por empregado)",{"$nulls":7},"VALOR (R$)"]
["A",{"$f":"A24","v":"MÓDULO 1 - COMPOSIÇÃO DA REMUNERAÇÃO"},{"$nulls":6},{"$f":"I32","v":1763.669}]
["B",{"$f":"A34","v":"MÓDULO 2 – ENCARGOS E BENEFÍCIOS ANUAIS, MENSAIS E DIÁRIOS"},{"$nulls":6},{"$f":"I67","v":1529.73558159147}]
["C",{"$f":"A69","v":"MÓDULO 3 – PROVISÃO PARA RESCISÃO"},{"$nulls":6},{"$f":"I78","v":251.349726728957}]
["D",{"$f":"A80","v":"MÓDULO 4 – CUSTO DE REPOSIÇÃO DO PROFISSIONAL AUSENTE"},{"$nulls":6},{"$f":"I99","v":356.573095626681}]
["E",{"$f":"A101","v":"MÓDULO 5 – INSUMOS DIVERSOS"},{"$nulls":6},{"$f":"I109","v":118.990485820387}]
[null,"Subtotal (A + B + C + D + E)",{"$nulls":6},{"$f":"(SUM(I124:I128))","v":4020.31788976749}]
["F",{"$f":"A111","v":"MÓDULO 6 – CUSTOS INDIRETOS, TRIBUTOS E LUCRO"},{"$nulls":6},{"$f":"I119","v":961.505123863233}]
["PREÇO TOTAL MENSAL POR EMPREGADO",{"$nulls":7},{"$f":"(SUM(I129:I130))","v":4981.82301363072}]
["PREÇO TOTAL MENSAL POR POSTO",{"$nulls":7},{"$f":"I131*2","v":9963.64602726145}]
[null,"Quadro Resumo - VALOR MENSAL DOS SERVIÇOS"]
["Tipo de Serviço (A)",null,"Valor Por Empregado(B)",null,"Qde de Empregados por posto ( C )",null,"Valor Proposto por Posto (D) = (B x C)","Qde Postos (E)","VALOR (R$)"]
["Serviço 1 (indicar)",null,"R$",null,null,null,"R$",null,0]
["Serviço 2 (indicar)",null,"R$",null,null,null,"R$",null,0]
["Serviço 3 (indicar)",null,"R$",null,null,null,"R$",null,0]
["Serviço ... (indicar)",null,"R$",null,null,null,"R$",null,0]
[]
[]
["VALOR MENSAL DOS SERVIÇOS (I + II + III + ...)",{"$nulls":7},{"$f":"SUM(I139:I140)","v":0}]
[]
["Anexo III-D","Quadro Demonstrativo - VALOR GLOBAL DA PROPOSTA"]
["VALOR GLOBAL DA PROPOSTA"]
[null,"Descrição",{"$nulls":6},"VALOR (R$)"]
["A","Valor proposto por unidade de medida*",{"$nulls":6},{"$f":"I116","v":32.3818495885997}]
["B","Valor mensal do serviço",{"$nulls":6},{"$f":"#REF!","v":{"$error":"#REF!"}}]
["C","Valor Global da Proposta (valor mensal do serviço X nº meses do contrato).",{"$nulls":6},{"$f":"I119","v":961.505123863233}]
["TOTAL",{"$nulls":7},{"$f":"SUM(I146:I148)","v":{"$error":"#REF!"}}]
["Nota(1):","Informar o valor da unidade de medida por tipo de serviço."]

{"sheet":"Resumo","index":3,"n_rows":12,"n_cols":6,"rows_kept":12,"cut":false,"hidden":false,"merged":[[0,0,0,5],[1,0,1,5],[2,0,2,5],[3,0,3,5],[4,0,4,5],[5,0,5,5],[11,0,11,4]]}
["QUADRO RESUMO DOS CUSTOS DE VIGILÂNCIA"]
[]
["Nº do Processo: 59540.000477/2018-68"]
["Licitação Nº:"]
["Dia ____/_____/_____ às  ____:_____"]
[]
["POSTOS DE VIGILÂNCIA","12X36 Diurno","12X36 Noturno","44 h","Mensal","Anual"]
["Armada 12x36, 24 h, 4 vigilantes, para Perímetro Irrigado de Propriá, município de Propriá/SE.",{"$f":"'12x36 Diurno'!I130","v":8261.32911412762},{"$f":"'12x36 Noturno'!I132","v":9963.64602726145},0,{"$f":"SUM(B8:D8)","v":18224.9751413891},{"$f":"E8*12","v":218699.701696669}]
["Armada 12x36, 24 h, 4 vigilantes, para Perímetro Irrigado de Cotinguiba/Pindoba, município de Propriá/SE.",{"$f":"'12x36 Diurno'!I130","v":8261.32911412762},{"$f":"'12x36 Noturno'!I132","v":9963.64602726145},0,{"$f":"SUM(B9:D9)","v":18224.9751413891},{"$f":"E9*12","v":218699.701696669}]
["Armada 12x36, 24 h, 4 vigilantes, para a Unidade de São Vicente, município de Propriá/SE.",{"$f":"'12x36 Diurno'!I130","v":8261.32911412762},{"$f":"'12x36 Noturno'!I132","v":9963.64602726145},0,{"$f":"SUM(B10:D10)","v":18224.9751413891},{"$f":"E10*12","v":218699.701696669}]
["Armada 44 h semanais, 1 vigilante, para o prédio sede da Codevasf 4ªSR, município de Aracaju/SE.",0,0,{"$f":"'44 h'!I129","v":4265.69899107095},{"$f":"SUM(B11:D11)","v":4265.69899107095},{"$f":"E11*12","v":51188.3878928515}]
["TOTAL GERAL",{"$nulls":4},{"$f":"SUM(F8:F11)","v":707287.492982858}]

{"sheet":"Média Insumos","index":4,"n_rows":9,"n_cols":5,"rows_kept":9,"cut":false,"hidden":false,"merged":[[0,0,1,4],[2,0,2,4]]}
["CÁLCULO DO VALOR MÉDIO DE BENEFÍCIOS E INSUMOS\n PARA PLANILHA DE CUSTOS E FORMAÇÃO DE PREÇOS"]
[]
[]
["ITENS ORÇADOS","Pinheiro","NC","Multseg","Média"]
["Seguro de vida, invalidez e funeral",9,7.2,6.8,{"$f":"(B5+C5+D5)/3","v":7.66666666666667}]
["Exames Médicos e Adminicionais",123,102.53,98.5,{"$f":"(B6+C6+D6)/3","v":108.01}]
["Uniformes",111.22,99.74,94.86,{"$f":"(B7+C7+D7)/3","v":101.94}]
["Armamento e munição",92,88,65,{"$f":"(B8+C8+D8)/3","v":81.6666666666667}]
["Equipamentos de Proteção Individual (EPI`s) e outros equipamentos",89.95,82,75,{"$f":"(B9+C9+D9)/3","v":82.3166666666667}]