{"text_format":"2","workbook":"xlsx","n_sheets":8,"sheets":["Composição","BDI","Enc Sociais","VEICULOS","ORÇAMENTO","COMPOSIÇÕES UNITARIAS","PO-I","DIÁRIA ESTADIA"],"not_rendered":{"charts":0,"images":1,"macros":0,"external_links":0,"defined_names":739,"comments":0,"pivot_tables":0},"unopened":[],"bounds":{"document_bytes":16777216,"sheet_cells":100000,"run_cost":"one","rows_first":2000,"rows_last":500,"rows_between":2000,"halvings":0,"cell_chars":16384,"cell_head_chars":4096},"cells_cut":0,"cells_raw":0,"read":"whole","date_system":"1900"}

{"sheet":"Composição","index":0,"n_rows":46,"n_cols":17,"rows_kept":46,"cut":false,"hidden":false,"merged":[[8,9,8,12],[1,1,1,6],[2,1,2,6],[3,1,3,6],[4,1,4,6],[5,1,5,6],[6,1,6,6],[8,2,8,6],[12,2,12,6],[15,1,15,5],[16,1,16,4],[17,1,17,5],[18,1,18,6],[21,1,21,5],[22,1,22,6],[26,1,26,5],[39,2,39,5],[27,1,27,6],[35,1,35,5],[36,1,36,5],[37,2,37,4],[38,2,38,5]]}
[]
[]
[null,"LEVANTAMENTO PLANIALTIMÉTRICO CADASTRAL"]
[null,"COMPOSIÇÃO DE PREÇOS - UNIDADE: EQUIPE/DIA"]
[]
[null,"BASE: TABELA DE ENGENHARIA CONSULTIVA CODEVASF FEVEREIRO 2016 - LEVANTAMENTO PLANIALTIMÉTRICO "]
[null,"MÃO DE OBRA."]
[null,1,"DESCRIÇÃO DOS INSUMOS","UNID.","QUANT.","CUSTOS UNITÁRIO (R$).","CUSTO TOTAL (R$)."]
[null,"1.1","CAMPO",{"$nulls":6},"TABELA SERVIÇO TOPOGRAFIA-fev/2016"]
[null,"1.1.1","Coordenador/campo","mês",0.15,{"$f":"I10","v":8201.6},{"$f":"E10*F10","v":1230.24},null,8201.6,"EQUIPE G=08-09-16"]
[null,"1.1.2","Topógrafo","mês",1,{"$f":"I11","v":4403.5200000000004},{"$f":"E11*F11","v":4403.5200000000004},null,4403.5200000000004,null,null,"sinapi 07/16",7592,13.66,{"$f":"N11/2.8983","v":4.7131076838146502},{"$f":"O11*2.5022","v":11.793138046440999},{"$f":"P11*220","v":2594.49037021702}]
[null,"1.1.3","Aux. de topografia","mês",2,1814.56,{"$f":"E12*F12","v":3629.12},null,1814.56,null,null,"sinapi",244,10.26,{"$f":"N12/2.8983","v":3.5400062105372099},{"$f":"O12*2.5022","v":8.8578035400062092},{"$f":"P12*220","v":1948.7167788013701}]
[null,"1.2","ESCRITÓRIO"]
[null,"1.2.1","Coordenador/Esc","mês",0.2,7480,{"$f":"E14*F14","v":1496},null,7480]
[null,"1.2.2","Cadista/Calculista","mês",0.4,3775.2,{"$f":"E15*F15","v":1510.08},null,3775.2]
[null,"SUB TOTAL:",{"$nulls":4},{"$f":"SUM(G10:G15)","v":12268.96}]
[null,"ENCARGOS SOCIAIS",null,null,null,0.50219999999999998,{"$f":"G16*F17","v":6161.47}]
[null,"Total do Item 1:",{"$nulls":4},{"$f":"SUM(G16:G17)","v":18430.43}]
[null,"LOCAÇÃO DE VEICULOS."]
[null,2,"DESCRIÇÃO DOS INSUMOS","UNID.","QUANT.","CUSTOS UNITÁRIO (R$).","CUSTO TOTAL (R$)."]
[null,"2.1","Veículo popular potencia de motor de 1.0, incluindo despesas com combustível, lubrificantes, manutenção, licenciamento, seguros, impostos etc., sem motorista","mês",1,{"$f":"VEICULOS!D39","v":2399.6},{"$f":"E21*F21","v":2399.6},null,"CODEVASF ","2016-02-01"]
[null,"Total do Item 2:",{"$nulls":4},{"$f":"SUM(G21)","v":2399.6}]
[null,"EQUIPAMENTOS TOPOGRAFICOS."]
[null,3,"DESCRIÇÃO DOS INSUMOS","UNID.","QUANT.","CUSTOS UNITÁRIO (R$).","CUSTO TOTAL (R$)."]
[null,"3.1","Estação total classe 1 completa","mês",1,{"$f":"I25","v":950},{"$f":"E25*F25","v":950},null,950]
[null,"3.2","Micro/soft/rádio","mês",0.3,{"$f":"I26","v":499.88},{"$f":"E26*F26","v":149.96},null,499.88]
[null,"Total do Item 3",{"$nulls":4},{"$f":"SUM(G25:G26)","v":1099.96}]
[null,"DESPESAS GERAIS E MATERIAL DE CONSUMO ESTIMADOS PARA USO SIMULTÂNEO DE 02 EQUIPES."]
[null,4,"DESCRIÇÃO DOS INSUMOS","UNID.","QUANT.","CUSTOS UNITÁRIO (R$).","CUSTO TOTAL (R$)."]
[null,"4.1","Diárias de estadia","unid.",66,{"$f":"'DIÁRIA ESTADIA'!E22","v":111.24},{"$f":"E30*F30","v":7341.84},null,"CODEVASF"]
[null,"4.2","Aluguel de Sala para escritório","mês",0.5,{"$f":"J31","v":500},250,null,"CODEVASF",500]
[null,"4.3","Energia elétrica","kwh",200,0.39,78,null,"CELPE "]
[null,"4.4","Telefone - tarifa mensal","unid.",1,50,50,null,"TIM"]
[null,"4.5","Internet","mês",0.5,49.9,24.95,null,"TIM"]
[null,"4.6","Material de consumo desenho e escritório","mês",1,{"$f":"J35","v":200},200,null,null,200]
[null,"Total do item 4",{"$nulls":4},{"$f":"SUM(G30:G35)","v":7944.79}]
[null,"Total Itens 1, 2, 3 e 4",{"$nulls":4},{"$f":"SUM(G18,G22,G27,G36)","v":29874.78}]
[null,5,"BDI",null,null,{"$f":"BDI!F31","v":0.218},{"$f":"G37*F38","v":6512.7}]
[null,6,"PREÇO MENSAL DA EQUIPE = 1+2+3+4+5",null,null,null,{"$f":"G38+G37","v":36387.480000000003},null,"2 EQUIPES PRAZO 12 MESES"]
[null,7,"PREÇO UNITÁRIO POR DIA (22 DIAS POR MÊS)",null,null,null,{"$f":"G39/22","v":1653.98},null,{"$f":"G40*10*22*2","v":727751.2}]
[{"$nulls":8},{"$f":"10*22*2","v":440},"DIÁRIAS"]
[]
[{"$nulls":8},{"$f":"490000/G40","v":296.25509377380598}]
[]
[]
[{"$nulls":6},{"$f":"G37+G38","v":36387.480000000003}]

{"sheet":"BDI","index":1,"n_rows":37,"n_cols":6,"rows_kept":37,"cut":false,"hidden":false,"merged":[[1,2,1,5],[3,2,3,5]]}
[]
[null,null,"OBRA: REALIZAÇÃO DE LEVANTAMENTOS TOPOGRÁFICOS PARA APOIO À FISCALIZAÇÃO CODEVASF EM OBRAS DE DIVERSOS MUNICIPIOS DE PERNAMBUCO, NA ÁREA DE ATUAÇÃO DA 3ª SUPERINTENDÊNCIA REGIONAL DA CODEVASF."]
[]
[null,null,"DETALHAMENTO DO BDI"]
[]
[null,null,"Item","Descrição dos serviços","Preço de Venda (%)","Custo Direto (%)"]
[]
[null,null,1,"Administração Central (A)",null,3.5000000000000003E-2]
[]
[null,null,2,"Impostos e Taxas (I)",{"$f":"SUM(E11:E14)","v":0.1115}]
[null,null,"2.1","ISS",0.03]
[null,null,"2.2","PIS",6.4999999999999997E-3]
[null,null,"2.3","Cofins",0.03]
[null,null,"2.4","CPRB",4.4999999999999998E-2]
[]
[null,null,"3","Risco, seguro e garantia (R) ",null,{"$f":"SUM(F17:F18)","v":1.4E-2}]
[null,null,"3.1","Risco",null,0.01]
[null,null,"3.2","Seguro + Garantia",null,4.0000000000000001E-3]
[]
[null,null,4,"Despesas Financeiras (DF)",null,7.0000000000000001E-3]
[]
[null,null,5,"Lucro (L)",null,0.03]
[]
[null,null,null,"BDI* (%)",null,{"$f":"ROUND(((((1+F8+F16)*(1+F20)*(1+F22))/(1-E10))-1),4)","v":0.22459999999999999}]
[]
[]
[null,"Considerações:","Acórdão nº 2369/2011 - TCU - Plenário - DOU nº174 em 20 de setembro de 2011"]
[null,null,"(*) BDI (%) = ((((1+AC+R)*(1+DF)*(1+L))/(1-I))-1)"]
[]
[]
[null,null,null,"BDI (%) - ADOTADO",null,0.218]
[]
[null,null,"AC = ","taxa de rateio da Administração Central",null,{"$f":"F8","v":3.5000000000000003E-2}]
[null,null,"I =","taxa de tributos",null,{"$f":"E10","v":0.1115}]
[null,null,"R = ","taxa de risco, seguro e garantia",null,{"$f":"F16","v":1.4E-2}]
[null,null,"DF = ","taxa das despesas financeiras",null,{"$f":"F20","v":7.0000000000000001E-3}]
[null,null,"L = ","taxa de lucro",null,{"$f":"F22","v":0.03}]

{"sheet":"Enc Sociais","index":2,"n_rows":48,"n_cols":8,"rows_kept":48,"cut":false,"hidden":false,"merged":[[1,1,2,7],[3,1,4,5],[3,6,3,7],[5,2,5,7],[6,2,6,5],[7,2,7,5],[8,2,8,5],[9,2,9,5],[10,2,10,5],[11,2,11,5],[12,2,12,5],[13,2,13,5],[14,1,14,5],[15,1,15,6],[16,2,16,7],[17,2,17,5],[27,1,27,5],[28,2,28,7],[29,2,29,7],[30,2,30,5],[18,2,18,5],[19,2,19,5],[20,2,20,5],[21,2,21,5],[22,2,22,5],[23,2,23,5],[24,2,24,5],[25,2,25,5],[26,2,26,5],[31,2,31,5],[32,2,32,5],[35,1,35,5],[36,1,36,7],[37,2,37,7],[33,2,33,5],[34,2,34,5],[38,2,38,5],[39,2,39,5],[40,1,40,5],[41,1,41,7],[42,1,42,5],[46,1,46,7],[47,1,47,7],[43,1,43,3],[43,4,43,7],[44,1,44,3],[44,4,44,7],[45,1,45,7]]}
[]
[null,"DETALHAMENTO DOS ENCARGOS SOCIAIS - MÊS"]
[]
[null,"PLANILHA DE CÁLCULO - HORISTAS",{"$nulls":4},"VALORES"]
[{"$nulls":6},"%","R$"]
[null,"A","ENCARGOS SOCIAIS BÁSICOS"]
[null,"A2","INSS",null,null,null,0,{"$f":"G7*Composição!G16","v":0}]
[null,"A3","FGTS",null,null,null,0.08,{"$f":"G8*Composição!G16","v":981.52}]
[null,"A4","Incra",null,null,null,2E-3,{"$f":"G9*Composição!G16","v":24.54}]
[null,"A5","Salário Educação",null,null,null,2.5000000000000001E-2,{"$f":"G10*Composição!G16","v":306.72000000000003}]
[null,"A6","Sebrae",null,null,null,6.0000000000000001E-3,{"$f":"G11*Composição!G16","v":73.61}]
[null,"A7","Seguro contra acidente",null,null,null,0.03,{"$f":"G12*Composição!G16","v":368.07}]
[null,"A8","Senai",null,null,null,0.01,{"$f":"G13*Composição!G16","v":122.69}]
[null,"A9","Sesi",null,null,null,1.4999999999999999E-2,{"$f":"G14*Composição!G16","v":184.03}]
[null,"SUBTOTAL DE \"A\"",{"$nulls":4},{"$f":"ROUND(SUM(G7:G14),4)","v":0.16800000000000001},{"$f":"SUM(H7:H14)","v":2061.1799999999998}]
[]
[null,"B","ENCARGOS SOCIAIS QUE RECEBEM INCIDÊNCIA DE \"A\""]
[null,"B1","Repouso Semanal Remunerado",null,null,null,"Não incide"]
[null,"B2","Feriados",null,null,null,"Não incide"]
[null,"B3","Auxilio - Enfermidade",null,null,null,6.8999999999999999E-3,{"$f":"G20*Composição!G16","v":84.66}]
[null,"B4","13º Salário",null,null,null,8.3299999999999999E-2,{"$f":"G21*Composição!G16","v":1022}]
[null,"B5","Licença Paternidade",null,null,null,5.9999999999999995E-4,{"$f":"G22*Composição!G16","v":7.36}]
[null,"B6","Faltas Justificadas",null,null,null,5.5999999999999999E-3,{"$f":"G23*Composição!G16","v":68.709999999999994}]
[null,"B7","Dias de Chuvas",null,null,null,"Não incide"]
[null,"B8","Auxlio Acidente de Trabalho",null,null,null,8.9999999999999998E-4,{"$f":"G25*Composição!G16","v":11.04}]
[null,"B9","Férias Gozadas",null,null,null,7.5700000000000003E-2,{"$f":"G26*Composição!G16","v":928.76}]
[null,"B10","Salário Maternidade",null,null,null,2.0000000000000001E-4,{"$f":"G27*Composição!G16","v":2.4500000000000002}]
[null,"SUBTOTAL DE  \"B\"",{"$nulls":4},{"$f":"ROUND(SUM(G18:G27),4)","v":0.17319999999999999},{"$f":"SUM(H18:H27)","v":2124.98}]
[]
[null,"C","ENCARGOS SOCIAIS QUE NÃO RECEBEM INCIDÊNCIA DE \"A\""]
[null,"C1","Aviso Prévio Indenizado",null,null,null,4.9399999999999999E-2,{"$f":"G31*Composição!G16","v":606.09}]
[null,"C2","Aviso Prévio Trabalhado",null,null,null,1.1999999999999999E-3,{"$f":"G32*Composição!G16","v":14.72}]
[null,"C3","Férias Indenizadas",null,null,null,3.3300000000000003E-2,{"$f":"G33*Composição!G16","v":408.56}]
[null,"C4","Depósito Rescisão Sem Justa Causa",null,null,null,3.9600000000000003E-2,{"$f":"G34*Composição!G16","v":485.85}]
[null,"C5","Indenização Adicional",null,null,null,4.1999999999999997E-3,{"$f":"G35*Composição!G16","v":51.53}]
[null,"SUBTOTAL DE \"C\"",{"$nulls":4},{"$f":"ROUND(SUM(G31:G35),4)","v":0.12770000000000001},{"$f":"SUM(H31:H35)","v":1566.75}]
[]
[null,"D","REINCIDÊNCIAS"]
[null,"D1","Reincidência de Grupo A sobre o Grupo B",null,null,null,2.9100000000000001E-2,{"$f":"G39*Composição!G16","v":357.03}]
[null,"D2","Reincidência de Grupo A sobre aviso Prévio Trabalhado e Reincidência do FGTS sobre aviso Prévio Indenizad",null,null,null,4.1999999999999997E-3,{"$f":"G40*Composição!G16","v":51.53}]
[null,"SUBTOTAL DE \"D\"",{"$nulls":4},{"$f":"ROUND(SUM(G39:G40),4)","v":3.3300000000000003E-2},{"$f":"SUM(H39:H40)","v":408.56}]
[]
[null,"TOTAIS DE ENCARGOS SOCIAIS",{"$nulls":4},{"$f":"ROUND(G15+G28+G36+G41,4)","v":0.50219999999999998},{"$f":"H15+H28+H36+H41","v":6161.47}]
[null,"NOME DO INFORMANTE:",null,null,"QUALIFICAÇÃO:"]
[null,"ASSINATURA:",null,null,"DATA:"]
[null,"OBSERVAÇÃO:"]
[null,"1 - DISCRIMINAR OS ENCARGOS SOCIAIS COM SEUS RESPECTIVOS PERCENTUAS TOTALIZANDO OS MESMOS."]
[null,"2 - APLICAR O  % TOTAL P/ CALCULAR OS E. SOCIAIS INCIDENTES NA MÃO-DE-OBRA COM VÍNCULO, LINHA \"B1\" DO FPRO"]

{"sheet":"VEICULOS","index":3,"n_rows":46,"n_cols":12,"rows_kept":46,"cut":false,"hidden":false,"merged":[[1,1,1,3],[2,1,2,3],[3,1,3,3],[4,2,4,3],[9,2,9,3],[37,2,37,3],[40,2,40,3],[43,2,43,3],[12,2,12,3],[15,2,15,3],[20,2,20,3],[27,2,27,3],[34,2,34,3]]}
[]
[null,"CODEVASF"]
[null,"Serviço de apoio a fiscalização."]
[null,"Veiculo Popular com ar-condicionado - 1.0 flex. (72CV)"]
[null,"A","Depreciação mensal do equipamento"]
[null,"A1","Preço de Aquisição",31407,null,"Tabela Fipe"]
[null,"A2","Tempo previsto de vida útil (meses)",36]
[null,"A3","Previsão de recup. Na venda do bem usado",0.4]
[null,"A4","Custo mensal [A1-(A3xA1)]/A2",{"$f":"(D6-(D8*D6))/D7","v":523.45000000000005}]
[null,"B","Juros pelo Capital empregado"]
[null,"B1","Taxa mensal de Juros",0.05]
[null,"B2","Juros s/depreciação/aluguel (B1xA4)",{"$f":"D11*D9","v":26.17}]
[null,"C","Conservação e manutenção"]
[null,"C1","Taxa de gastos s/a deprec. Inc. seguros (%)",1]
[null,"C2","Incidência mensal (C1xA4)",{"$f":"D14*D9","v":523.45000000000005}]
[null,"D","Combustível"]
[null,"D1","Média mensal de quilômetro por veículo",3000]
[null,"D2","Preço do litro de combustível",{"$f":"G18","v":4},null,"cotação",4]
[null,"D3","Quilômetros rodados com um litro combustivel",10]
[null,"D4","Combustivel    (D1/D3)*D2",{"$f":"(D17/D19)*D18","v":1200}]
[null,"E","Lubrificantes"]
[null,"E1","Quilometragem do Contrato",{"$f":"D17*12","v":36000}]
[null,"E2","Franquia por troca de óleo (km)",5000]
[null,"E3","Preço do litro de óleo",24.53]
[null,"E4","Quantidade de litros de óleo por troca",3.5]
[null,"E5","Quantidade de dias do Contrato",365]
[null,"E6","Lubrificantes  E = (E1*E3*E4*30)/E2*E5",{"$f":"(D22*D24*D25*30)/(D23*D26)","v":50.81}]
[null,"F","Pneus"]
[null,"F1","Quilometragem do Contrato",{"$f":"D17*12","v":36000}]
[null,"F2","Vida do Pneu em quilômetros",45000]
[null,"F3","Quantidade de pneus",5]
[null,"F4","Preço do Pneu",230.3]
[null,"F5","Quantidade de dias do contrato",365]
[null,"F6","Pneus = (F1*F3*F4*30)/(F2*F5)",{"$f":"(D29*D31*D32*30)/(D30*D33)","v":75.72}]
[null,"G","Motorista"]
[null,"G1","Salário sem encargos sociais",{"$f":"L36*2.5022","v":17.350000000000001},null,"Sinapi pag. 65/105 cód. 4095",null,null,{"$f":"20.1/2.2638","v":8.8788762258150005},null,20.100000000000001,{"$f":"K36/2.8983","v":6.9350998861401498}]
[{"$nulls":8},{"$f":"I36*2.2418","v":19.904664723032099},null,{"$f":"K36/2","v":10.050000000000001},{"$f":"L36*2.5022","v":17.353006935099899}]
[null,"H","Custo Mensal"]
[null,null,"Sem Motorista",{"$f":"D9+D12+D15+D20+D27+D34","v":2399.6}]
[null,null,"Com Motorista",{"$f":"D9+D12+D15+D20+D27+D34+D36","v":2416.9499999999998}]
[null,"I","Custo Direto p/ km Rodado"]
[null,null,"Sem Motorista",{"$f":"D39/D17","v":0.8}]
[null,null,"Com Motorista",{"$f":"D40/D17","v":0.81}]
[null,"J","Preço cobrado pela empresa"]
[null,"J1","Sem Motorista",{"$f":"D39*1.218","v":2922.71},null,{"$f":"D45/D39","v":1.21799883313886}]
[null,"J2","Com Motorista",{"$f":"D40*1.218","v":2943.85}]

{"sheet":"ORÇAMENTO","index":4,"n_rows":19,"n_cols":7,"rows_kept":19,"cut":false,"hidden":false,"merged":[[18,1,18,6],[20,1,20,6],[26,1,26,5],[1,1,5,6],[6,1,7,6],[8,1,9,6],[10,1,11,6],[17,1,17,5]]}
[]
[]
[]
[]
[]
[]
[null,"ANEXO I - PLANILHA ORÇAMENTÁRIA"]
[]
[null,"SERVIÇO: REALIZAÇÃO DE LEVANTAMENTOS TOPOGRÁFICOS PARA APOIO À FISCALIZAÇÃO CODEVASF."]
[]
[null,"LOCAL: DIVERSOS MUNICÍPIOS DE ATUAÇÃO DA 3ª SUPERINTENDÊNCIA REGIONAL NO ESTADO DE PERNAMBUCO"]
[]
[]
[null,"Item","Descrição dos Serviços","Unidade","Quant.","Valor Unitário","Valor Total"]
[null,1,"Mobilização.","un",1,{"$f":"'COMPOSIÇÕES UNITARIAS'!I31","v":1081.58},{"$f":"E15*F15","v":1081.58}]
[null,2,"Equipe de topografia para execução de serviços especializados em conformidade ao especificado no Termo de Referência.","dia",180,{"$f":"Composição!G40","v":1653.98},{"$f":"E16*F16","v":297716.40000000002}]
[null,3,"Desmobilização.","un",1,{"$f":"'COMPOSIÇÕES UNITARIAS'!I59","v":1081.58},{"$f":"E17*F17","v":1081.58}]
[null,"TOTAL GERAL R$",{"$nulls":4},{"$f":"SUM(G15:G17)","v":299879.56}]
[null,"Base para orçamento: Tabela de Engenharia Consultiva CODEVASF 02/2016"]

{"sheet":"COMPOSIÇÕES UNITARIAS","index":5,"n_rows":59,"n_cols":13,"rows_kept":59,"cut":false,"hidden":false,"merged":[[1,1,4,8],[5,3,5,8],[6,1,6,6],[6,7,6,8],[7,1,7,6],[8,1,8,8],[11,1,11,7],[12,1,12,8],[16,1,16,7],[17,1,17,8],[20,1,20,7],[21,1,21,8],[25,1,25,7],[26,1,26,7],[27,3,27,7],[28,1,28,7],[29,3,29,7],[30,1,30,7],[33,3,33,8],[34,1,34,6],[34,7,34,8],[35,1,35,6],[36,1,36,8],[39,1,39,7],[40,1,40,8],[44,1,44,7],[55,3,55,7],[56,1,56,7],[57,3,57,7],[58,1,58,7],[45,1,45,8],[48,1,48,7],[49,1,49,8],[53,1,53,7],[54,1,54,7]]}
[]
[]
[]
[]
[]
[null,"CODEVASF","01.03-A","COMPOSIÇÃO DE PREÇO UNITÁRIO"]
[null,"OBRA: APOIO A FISCALIZAÇÃO DE OBRAS DA 3º SUPERINTENDENCIA REGIONAL.",{"$nulls":5},"DATA: Julho/2016"]
[null,"SERVIÇO :Mobilização de equipamentos, materiais e pessoal.",{"$nulls":5},"UNIDADE:","unid."]
[null,"EQUIPAMENTO"]
[null,"DISCRIMINAÇÃO","UNID","QUANT.","PROD","IMPROD","P.UNIT. PROD","P.UNIT. IMPR","P.TOTAL"]
[{"$nulls":8},{"$f":"G11*D11","v":0}]
[null,"SUB-TOTAL",{"$nulls":6},{"$f":"SUM(I11:I11)","v":0}]
[null,"MATERIAL"]
[null,"DISCRIMINAÇÃO","UNID","QUANT.",null,null,null,"P.UNIT.","P.TOTAL"]
[null,"Passagem de ônibus da cidade de origem (Recife) para Petrolina.","unid.",6,null,null,null,148,{"$f":"D15*H15","v":888},null,"PROGRESSO","COTAÇÃO","2016-09-08"]
[{"$nulls":8},{"$f":"D16*H16","v":0}]
[null,"SUB-TOTAL",{"$nulls":6},{"$f":"SUM(I15:I16)","v":888}]
[null,"SERVIÇOS - COMPOSIÇÕES AUXILIARES"]
[null,"DISCRIMINAÇÃO","UNID","QUANT.",null,null,null,"P.UNIT.","P.TOTAL"]
[{"$nulls":8},{"$f":"D20*H20","v":0}]
[null,"SUB-TOTAL",{"$nulls":6},{"$f":"SUM(I20:I20)","v":0}]
[null,"MÃO DE OBRA"]
[null,"DISCRIMINAÇÃO","UNID","QUANT.",null,null,null,"P.UNIT.","P.TOTAL"]
[{"$nulls":8},{"$f":"D24*H24","v":0}]
[{"$nulls":8},{"$f":"D25*H25","v":0}]
[null,"Leis Sociais: 50,08 %",{"$nulls":6},{"$f":"SUM(I24:I25)*1.2796","v":0}]
[null,"SUB-TOTAL",{"$nulls":6},{"$f":"SUM(I24:I26)","v":0}]
[null,"PRODUÇÃO DA EQUIPE",1,"CUSTO",{"$nulls":4},{"$f":"I27+I21+I17+I12","v":888}]
[null,"TOTAL - R$",{"$nulls":6},{"$f":"I28/C28","v":888}]
[null,"BDI",{"$f":"BDI!F31","v":0.218},{"$nulls":5},{"$f":"I29*C30","v":193.58}]
[null,"TOTAL DO SERVIÇO - R$",{"$nulls":6},{"$f":"I30+I29","v":1081.58}]
[]
[]
[null,"CODEVASF","01.04-A","COMPOSIÇÃO DE PREÇO UNITÁRIO"]
[null,"OBRA: APOIO A FISCALIZAÇÃO DE OBRAS DA 3º SUPERINTENDENCIA REGIONAL.",{"$nulls":5},"DATA: Agosto/2012"]
[null,"SERVIÇO : Desmobilização de equipamentos, materiais e pessoal.",{"$nulls":5},"UNIDADE:","unid."]
[null,"EQUIPAMENTO"]
[null,"DISCRIMINAÇÃO","UNID","QUANT.","PROD","IMPROD","P.UNIT. PROD","P.UNIT. IMPR","P.TOTAL"]
[{"$nulls":8},{"$f":"G39*D39","v":0}]
[null,"SUB-TOTAL",{"$nulls":6},{"$f":"SUM(I39:I39)","v":0}]
[null,"MATERIAL"]
[null,"DISCRIMINAÇÃO","UNID","QUANT.",null,null,null,"P.UNIT.","P.TOTAL"]
[null,"Passagem de ônibus de Petrolina para cidade de origem (Recife).","unid.",6,null,null,null,{"$f":"H15","v":148},{"$f":"D43*H43","v":888},null,"PROGRESSO","COTAÇÃO"]
[{"$nulls":8},{"$f":"D44*H44","v":0}]
[null,"SUB-TOTAL",{"$nulls":6},{"$f":"SUM(I43:I44)","v":888}]
[null,"SERVIÇOS - COMPOSIÇÕES AUXILIARES"]
[null,"DISCRIMINAÇÃO","UNID","QUANT.",null,null,null,"P.UNIT.","P.TOTAL"]
[{"$nulls":8},{"$f":"D48*H48","v":0}]
[null,"SUB-TOTAL",{"$nulls":6},{"$f":"SUM(I48:I48)","v":0}]
[null,"MÃO DE OBRA"]
[null,"DISCRIMINAÇÃO","UNID","QUANT.",null,null,null,"P.UNIT.","P.TOTAL"]
[{"$nulls":8},{"$f":"D52*H52","v":0}]
[{"$nulls":8},{"$f":"D53*H53","v":0}]
[null,"Leis Sociais: 50,08 %",{"$nulls":6},{"$f":"SUM(I52:I53)*1.2796","v":0}]
[null,"SUB-TOTAL",{"$nulls":6},{"$f":"SUM(I52:I54)","v":0}]
[null,"PRODUÇÃO DA EQUIPE",1,"CUSTO",{"$nulls":4},{"$f":"I55+I49+I45+I40","v":888}]
[null,"TOTAL - R$",{"$nulls":6},{"$f":"I56/C56","v":888}]
[null,"BDI",{"$f":"BDI!F31","v":0.218},{"$nulls":5},{"$f":"I57*C58","v":193.58}]
[null,"TOTAL DO SERVIÇO - R$",{"$nulls":6},{"$f":"I58+I57","v":1081.58}]

{"sheet":"PO-I","index":6,"n_rows":21,"n_cols":7,"rows_kept":21,"cut":false,"hidden":false,"merged":[[19,1,19,5],[20,1,20,6],[22,1,22,6],[28,1,28,5],[2,1,2,6],[3,1,7,6],[8,1,9,6],[10,1,11,6],[12,1,13,6]]}
[]
[]
[null,"PO - I (MODELO)"]
[]
[]
[]
[]
[]
[null,"ANEXO I - PLANILHA ORÇAMENTÁRIA"]
[]
[null,"SERVIÇO: REALIZAÇÃO DE LEVANTAMENTOS TOPOGRÁFICOS PARA APOIO À FISCALIZAÇÃO CODEVASF."]
[]
[null,"LOCAL: DIVERSOS MUNICÍPIOS DE ATUAÇÃO DA 3ª SUPERINTENDÊNCIA REGIONAL NO ESTADO DE PERNAMBUCO"]
[]
[]
[null,"Item","Descrição dos Serviços","Unidade","Quant.","Valor Unitário","Valor Total"]
[null,1,"Mobilização.","unid.",1,0,{"$f":"E17*F17","v":0}]
[null,2,"Equipe de topografia para execução de serviços especializados em conformidade ao especificado no Termo de Referência.","dia",180,0,{"$f":"E18*F18","v":0}]
[null,3,"Desmobilização.","unid.",1,0,{"$f":"E19*F19","v":0}]
[null,"TOTAL GERAL R$",{"$nulls":4},{"$f":"SUM(G17:G19)","v":0}]
[null,"Base para orçamento: Tabela de Engenharia Consultiva CODEVASF 02/2015"]

{"sheet":"DIÁRIA ESTADIA","index":7,"n_rows":22,"n_cols":7,"rows_kept":22,"cut":false,"hidden":false,"merged":[[20,0,20,6],[19,0,19,3],[9,0,9,3],[21,0,21,3],[1,0,2,6],[10,0,12,6]]}
[]
["DEMONSTRATIVO DE ESTADIA"]
[]
["DESCRIÇÃO DOS INSUMOS","DOCUMENTO","UNID.","QUANT. DIÁRIAS","CUSTOS UNITÁRIO (R$).","CUSTO TOTAL (R$).","Cidades"]
["Diárias de estadia",87125,"unid.",2,95,{"$f":"D5*E5","v":190},"Afrânio"]
["Diárias de estadia",4895,"unid.",5,100,{"$f":"D6*E6","v":500},"Arcoverde"]
["Diárias de estadia","2012-05-24","unid.",3,95,285,"Serra Talhada"]
["Diárias de estadia",2277,"unid.",4,95,380,"Serra Talhada"]
["SUB-TOTAL",null,null,{"$f":"SUM(D5:D8)","v":14},{"$f":"F9/D9","v":96.79},{"$f":"SUM(F5:F8)","v":1355}]
["Equipe 3 pessoas",null,null,null,3,{"$f":"E9/E10","v":32.26}]
["DEMONSTRATIVO DE REFEIÇÃO"]
[]
[]
["DESCRIÇÃO DOS INSUMOS","DOCUMENTO","UNID.","QUANT.","CUSTOS UNITÁRIO (R$).","CUSTO TOTAL (R$).","Cidades"]
["Refeição ",65,"unid.",3,15,{"$f":"D15*E15","v":45},"Serra Talhada"]
["Refeição ","28-02-12.","unid.",2,15,{"$f":"D16*E16","v":30},"Arcoverde"]
["Refeição ","23-02-12.","unid.",3,13,{"$f":"D17*E17","v":39},"Afrânio"]
["Refeição ",14656,"unid.",3,15,{"$f":"D18*E18","v":45},"Exu"]
["SUB-TOTAL",null,null,{"$f":"SUM(D15:D18)","v":11},{"$f":"F19/D19","v":14.45},{"$f":"SUM(F15:F18)","v":159}]
["2 Refeições (Almoço+Jantar)",null,null,null,3,{"$f":"E19*E20","v":43.35}]
[]
["TOTAL DIÁRIA+REFEIÇÕES (3 PESSOAS)",null,null,null,{"$f":"E9+E19","v":111.24},{"$f":"E22*D15","v":333.72}]