{"text_format":"2","workbook":"xlsx","n_sheets":4,"sheets":["06 horas contínua","uniforme e equip","ANEXO VI PROPOSTA","ANEXO VI PROP BRANCO"],"not_rendered":{"charts":0,"images":1,"macros":0,"external_links":1,"defined_names":19,"comments":0,"pivot_tables":0},"unopened":[],"bounds":{"document_bytes":16777216,"sheet_cells":100000,"run_cost":"one","rows_first":2000,"rows_last":500,"rows_between":2000,"halvings":0,"cell_chars":16384,"cell_head_chars":4096},"cells_cut":0,"cells_raw":0,"read":"whole","date_system":"1900"}

{"sheet":"06 horas contínua","index":0,"n_rows":269,"n_cols":16,"rows_kept":269,"cut":false,"hidden":false,"merged":[[0,0,0,8],[6,0,6,8],[7,0,7,8],[8,0,8,8],[10,0,10,3],[10,4,10,8],[11,0,11,3],[11,4,11,8],[12,0,12,3],[12,4,12,8],[13,0,13,8],[14,0,14,8],[16,1,16,6],[16,7,16,8],[17,1,17,6],[17,7,17,8],[18,1,18,6],[18,7,18,8],[19,1,19,6],[19,7,19,8],[21,0,21,8],[23,0,23,1],[23,2,23,3],[23,4,23,8],[24,0,24,1],[24,2,24,3],[24,4,24,8],[25,0,25,1],[25,2,25,3],[25,4,25,8],[26,0,26,1],[26,2,26,3],[26,4,26,8],[28,0,28,8],[29,1,29,6],[29,7,29,8],[30,0,30,8],[32,0,32,8],[33,1,33,6],[33,7,33,8],[34,1,34,6],[34,7,34,8],[35,1,35,6],[35,7,35,8],[36,1,36,6],[36,7,36,8],[38,0,38,8],[40,1,40,6],[41,1,41,5],[42,1,42,5],[43,1,43,5],[44,1,44,5],[45,1,45,5],[46,1,46,5],[47,1,47,5],[48,1,48,5],[50,1,50,6],[52,0,52,8],[55,1,55,5],[56,1,56,5],[49,1,49,5],[57,1,57,5],[58,1,58,5],[59,1,59,5],[60,1,60,5],[62,1,62,6],[63,0,63,8],[61,1,61,5],[65,0,65,8],[67,1,67,6],[68,1,68,6],[69,1,69,6],[70,1,70,6],[71,1,71,6],[72,1,72,6],[73,0,73,8],[75,0,75,8],[77,0,77,8],[79,1,79,6],[80,1,80,6],[81,1,81,6],[82,1,82,6],[83,1,83,6],[84,1,84,6],[85,1,85,6],[86,1,86,6],[87,1,87,6],[88,0,88,6],[89,0,89,8],[90,0,90,8],[92,0,92,8],[94,1,94,6],[95,1,95,6],[96,0,96,6],[97,1,97,6],[98,0,98,6],[100,0,100,8],[102,1,102,6],[103,1,103,6],[104,1,104,6],[105,0,105,6],[106,0,106,6],[106,7,106,8],[107,0,107,8],[109,1,109,6],[110,1,110,6],[111,1,111,6],[112,1,112,6],[113,1,113,6],[114,1,114,6],[115,1,115,6],[116,0,116,6],[117,1,117,6],[117,7,117,8],[118,0,118,6],[120,1,120,6],[121,1,121,6],[122,1,122,6],[123,1,123,6],[124,1,124,6],[125,1,125,6],[126,1,126,6],[127,0,127,6],[128,1,128,6],[129,0,129,6],[131,0,131,6],[133,1,133,6],[134,1,134,6],[135,1,135,6],[136,1,136,6],[137,1,137,6],[138,1,138,6],[139,1,139,6],[140,0,140,6],[142,0,142,8],[144,1,144,6],[145,1,145,6],[146,1,146,6],[147,1,147,6],[148,1,148,6],[149,3,149,4],[149,5,149,6],[150,1,150,6],[151,0,151,6],[152,0,152,8],[153,0,153,8],[155,0,155,8],[157,1,157,6],[158,1,158,6],[159,1,159,6],[160,1,160,6],[161,1,161,6],[162,0,162,6],[163,1,163,6],[164,0,164,6],[166,0,166,8],[168,0,168,1],[168,2,168,3],[168,4,168,5],[169,0,169,1],[169,2,169,3],[169,4,169,5],[170,0,170,1],[170,2,170,3],[170,4,170,5],[171,0,171,1],[171,2,171,3],[171,4,171,5],[172,0,172,7],[174,0,174,8],[176,1,176,6],[176,7,176,8],[177,1,177,6],[177,7,177,8],[178,1,178,6],[178,7,178,8],[179,1,179,6],[179,7,179,8],[191,0,191,8],[188,1,188,3],[188,4,188,5],[188,7,188,8],[189,1,189,3],[189,4,189,5],[189,7,189,8],[180,1,180,6],[180,7,180,8],[181,0,181,8],[183,0,183,8],[185,0,185,8],[187,1,187,3],[187,4,187,5],[187,7,187,8],[190,0,190,6],[190,7,190,8]]}
{"$rows_empty":7}
["ANEXO II - PLANILHA DE CUSTOS E FORMAÇÃO DE PREÇOS "]
[]
[]
["Nº do Processo: 59510.001653/2017-55"]
["Licitação Nº"]
["Dia  04/07/2017   ",{"$nulls":11},"valores portaria SLTI"]
[{"$nulls":12},"12 X 36 DIA"]
["Discriminação Dos Serviços (dados referentes à contratação)",{"$nulls":11},"mínimo","máximo"]
[{"$nulls":12},8953.44,9961.15]
["A","Data de Apresentação da Proposta (dia/mês/ano)"]
["B","Município/UF"]
["C","Ano Acordo, Convenção ou Sentença Normativa em Dissídio Coletivo"]
["D","Nº de meses de execução contratual",{"$nulls":5},12]
[]
["Identificação do Serviço"]
[]
["Tipo de Serviço",null,"Unidade de Medida",null,"Quantidade (total) a contratar (em função da unidade de medida)",{"$nulls":7},2014,2015,2015]
["Serviços de vigilância",null,"Posto",null,1,{"$nulls":7},"salario 2014","salario reaj. 7,57%","salario reaj. 7,57%"]
[{"$nulls":12},1255.02,{"$f":"M26*1.0757","v":1350.0250140000001},{"$f":"N26*1.0757","v":1452.2219075598002}]
[]
[]
["ANEXO III-A - Mão-de-obra"]
[]
["MÓDULO DE MÃO -DE-OBRA, VINCULADA À EXECUÇÃO CONTRATUAL"]
[{"$nulls":12},"Fómulas"]
["Dados Complementares para composição dos custos referente à mão-de-obra"]
[1,"Tipo de Serviço",{"$nulls":5},{"$f":"A25","v":"Serviços de vigilância"},{"$nulls":4},"Servente"]
[2,"Salário Normativo da Categoria Profissional",{"$nulls":10},"Auxiliar de Jardinagem"]
[3,"Categoria profissional",{"$nulls":10},"Vigilância"]
[4,"Data Base da categoria (dia/mês/ano)"]
[]
["Módulo 1: COMPOSIÇÃO DA REMUNERAÇÃO"]
[]
[1,"Composição da remuneração",{"$nulls":5},"%","Valor (R$)",null,null,null,"Fórmulas","Fórmulas"]
["A","Salário Base",{"$nulls":4},"Incidência"]
["B","Adicional de periculosidade (art. 189 a 192 da CLT)",{"$nulls":4},"Sim",{"$nulls":5},"Sim",0.1]
["C","Adicional de insalubridade (art. 189 a 192 da CLT).",{"$nulls":4},"Não",{"$nulls":5},"Não",0.2]
["D","Adicional noturno",{"$nulls":4},"Não",{"$nulls":6},0.4]
["E","Hora noturna adicional",{"$nulls":4},"Não"]
["F","Adicional de hora extra",{"$nulls":4},"Não"]
["G","Intervalo Intrajornada",{"$nulls":4},"Não"]
["H","SUMULA 444 TST",{"$nulls":4},"Não",{"$nulls":6},"* VALOR DA HORA X 12 HORAS (01 FERIADO POR MÊS)"]
["I","Outros"]
[null,"Total da remuneração"]
[]
["Módulo 2: BENEFÍCIOS MENSAIS E DIÁRIOS"]
[]
[]
[2,"Benefícios Mensais e Diários",{"$nulls":4},"Quantidade","Valor","Valor (R$)",null,null,null,"distancia km","custo por KM (R$)","TOTAL (R$)"]
["A","Transporte ",{"$nulls":10},7,1.2,{"$f":"N57*M57","v":8.4},{"$f":"O57*G57","v":0}]
["B","Auxílio alimentação e tiquete Refeição",{"$nulls":10},"desc. Ticket 2015"]
["C","Assistência médica e famíliar",{"$nulls":10},15.99,{"$f":"M59*0.1","v":1.5990000000000002},{"$f":"M59-N59","v":14.391}]
["D","Seguro de vida, invalidez e funeral"]
["E","Prog. Combate vigilância clandestina",{"$nulls":10},"assist. medica",2014,2015]
["F","Outros (especificar)",{"$nulls":11},71.400000000000006,{"$f":"N62*1.0757","v":76.804980000000015}]
[null,"Total de benefícios mensais e diários"]
["Nota: o valor informado deverá ser o custo real do insumo (descontado o valor eventualmente pago pelo empregado)."]
[]
["Módulo 3: INSUMOS DIVERSOS"]
[{"$nulls":15},{"$f":"I42*0.06","v":0}]
[3,"Insumos diversos",{"$nulls":5},"Mensal","Valor (R$)"]
["A","Uniformes ",{"$nulls":7},"verificar planilha anexo custo uniforme",null,null,55.08,68.7,76.42]
["B","Materiais (planilha em anexo)",{"$nulls":11},22.9,51.75]
["C","Equipamentos (planilha em anexo)",{"$nulls":7},"verificar planilha anexo e custo equipamentos",null,null,null,179.8,51.75]
["D","Motocicleta 125CC off-road"]
[null,"Total de insumos diversos"]
["Nota: Valores mensais por empregado."]
[]
["Módulo 4: ENCARGOS SOCIAIS E TRABALHISTAS"]
[]
["Submódulo 4.1 - Encargos previdenciários e FGTS:"]
[]
["4.1","Encargos previdenciários e FGTS:",{"$nulls":5},"%","Valor (R$)"]
["A","INSS",{"$nulls":5},0.2]
["B","SESI ou SESC",{"$nulls":5},1.4999999999999999E-2]
["C","SENAI ou SENAC",{"$nulls":5},0.01]
["D","INCRA",{"$nulls":5},2E-3]
["E","Salário Educação",{"$nulls":5},2.5000000000000001E-2]
["F","FGTS",{"$nulls":5},0.08]
["G","Seguro acidente do trabalho: (Vigilância: 3% e Limpeza: 2%)",{"$nulls":5},0.03]
["H","SEBRAE",{"$nulls":5},6.0000000000000001E-3]
["TOTAL",{"$nulls":6},{"$f":"SUM(H81:H88)","v":0.3680000000000001}]
["Nota: (1) - Os percentuais dos encargos previdenciários e FGTS são aqueles estabelecidos pela legislação vigente."]
["Nota: (2) - Percentuais incidentes sobre a remuneração."]
[]
["Submódulo 4.2 - 13º Salário"]
[]
["4.2","13º Salário",{"$nulls":5},"%","Valor (R$)"]
["A","13º Salário "]
["Subtotal",{"$nulls":8},"adicional de férias"]
["B","Incidência do Submódulo 4.1 sobre 13º Salário e Adicional de Férias"]
["TOTAL"]
[]
["Submódulo 4.3 - Afastamento Maternidade"]
[]
["4.3","Afastamento Maternidade",{"$nulls":5},"%","Valor (R$)"]
["A","Afastamento Maternidade"]
["B","Incidência do Submódulo 4.1 sobre afastamento maternidade"]
["TOTAL"]
[]
["Submódulo 4.4 - Provisão para Rescisão"]
[]
["4.4","Provisão para Rescisão",{"$nulls":5},"%","Valor (R$)"]
["A","Aviso prévio indenizado"]
["B","Incidência do FGTS sobre aviso prévio indenizado"]
["C","Multa do FGTS do sobre aviso prévio indenizado"]
["D","Aviso prévio trabalhado"]
["E","Incidência do Submódulo 4.1 sobre aviso prévio trabalhado"]
["F","Multa do FGTS do aviso prévio trabalhado"]
["TOTAL"]
[]
["Submódulo 4.5 - Custo de Reposição do Profissional Ausente"]
[]
["4.5","Composição do Custo de Reposição do Profissional Ausente",{"$nulls":5},"%","Valor (R$)"]
["A","Férias e terço constitucional de férias"]
["B","Ausência por doença"]
["C","Licença paternidade: "]
["D","Ausências legais"]
["E","Ausência por Acidente de trabalho"]
["F","Outros (Ausencias treinamento reciclagem, participação CIPA, etc)"]
["Subtotal"]
["G","Incidência do submódulo 4.1 sobre o Custo de reposição"]
["TOTAL"]
[]
["Quadro - resumo - Módulo 4 - Encargos sociais e trabalhistas"]
[]
[4,"Módulo 4 - Encargos sociais e trabalhistas",{"$nulls":5},"%","Valor (R$)"]
["4.1","Encargos previdenciários, FGTS e outras contribuições"]
["4.2","13º salário"]
["4.3","Afastamento maternidade"]
["4.4","Custo de rescisão"]
["4.5","Custo de reposição do profissional ausente"]
["4.6","Outros (especificar)"]
["TOTAL"]
[]
["Módulo 5: CUSTOS INDIRETOS, TRIBUTOS E LUCRO"]
[]
[5,"Custos Indiretos, tributos e Lucro",{"$nulls":5},"%","Valor (R$)"]
["A","Custos Indiretos/Despesas Administrativas: "]
["B","Tributos"]
[null,"B1. Tributos Federais (PIS e COFINS)"]
[null,"B2. Tributos Estaduais (especificar)"]
[null,"B3. Tributos Municipais (ISS)",null,"Município:",null,{"$f":"H18","v":0}]
["C","Lucro"]
["TOTAL"]
["Nota (1) - Custos Indiretos, Tributos e Lucro por empregado."]
["Nota (2) - O valor referente a tributos é obtido aplicando-se o percentual sobre o valor do faturamento."]
[]
["ANEXO III - B - Quadro-resumo do Custo por empregado"]
[]
[null,"Mão-de-obra vinculada à execução contratual (valor por empregado)",{"$nulls":5},"%","Valor (R$)"]
["A","Módulo 1 - Composição da remuneração"]
["B","Módulo 2 - Benefícios Mensais e Diários"]
["C","Módulo 3 - Insumos Diversos (uniformes, materiais, equipamentos e outros)"]
["D","Módulo 4 - Encargos Sociais e Trabalhistas"]
["Subtotal (A+B+C+D)"]
["E","Módulo 5 - Custos indiretos, tributos e lucro"]
["Valor total por empregado"]
[]
["ANEXO III - C - Quadro-resumo - VALOR MENSAL DOS SERVIÇOS"]
[]
["Tipo de serviço (A)",null,"Valor proposto por empregado (B)",null,"Qtde de empregados por posto ( C )",null,"Valor proposto por posto           (D) = (B X C)","Qtde de postos                                           (E)","Valor total do serviço                  (F) = (D X E)"]
[]
[]
["...     Serviço ... ",{"$nulls":5},{"$f":"C172*E172","v":0}]
["VALOR MENSAL DOS SERVIÇOS (I+II + III+...)"]
[]
["ANEXO III - D - Quadro - demonstrativo - VALOR GLOBAL DA PROPOSTA"]
[]
[null,"Valor Global da Proposta",{"$nulls":5},"Valor (R$)"]
[null,"Descrição"]
["A","Valor proposto por unidade de medida*"]
["B","Valor mensal do serviço"]
["C","Valor global da proposta (valor mensal do serviço X nº meses do contrato)."]
["Nota (1): Informar o valor a unidade de medida por tipo de serviço."]
[]
["ANEXO III-E - Complemento dos Serviços de Vigilância"]
[]
["VALOR MENSAL DOS SERVIÇOS"]
[]
[null,"ESCALA DE TRABALHO",null,null,"PREÇO MENSAL DO POSTO",null,"Nº DE POSTOS","SUBTOTAL (R$)"]
["I."]
[]
["TOTAL MENSAL"]
{"$rows_empty":69}
[{"$nulls":12},{"$f":"4049.39/(1-0.0865)","v":4432.8297755883959}]
{"$rows_empty":7}
[{"$nulls":12},{"$f":"SUM(I269:I271,J267)","v":0}]

{"sheet":"uniforme e equip","index":1,"n_rows":35,"n_cols":6,"rows_kept":35,"cut":false,"hidden":false,"merged":[[35,1,35,5],[1,1,1,5],[11,1,11,4],[20,1,20,5],[34,1,34,4]]}
[]
[null,"PLANILHA ORÇAMENTO UNIFORME VIGILANTE"]
[]
[null,"Descrição","Preço médio unitário (R$)","Quantidade anual","Custo anual por vigilante (R$)","Custo mensal por vigilante (R$)"]
{"$rows_empty":7}
[null,"TOTAL",null,null,null,{"$f":"SUM(F5:F11)","v":0}]
{"$rows_empty":8}
[null,"PLANILHA CUSTO DOS EQUIPAMENTOS"]
[null,"DESCRIÇÃO","QTDE","VALOR UNITÁRIO","DEPRECIAÇÃO","VALOR MENSAL"]
{"$rows_empty":12}
[null,"VALOR TOTAL MENSAL DOS EQUIPAMENTOS POR EMPREGADO",null,null,null,{"$f":"SUM(F23:F34)","v":0}]

{"sheet":"ANEXO VI PROPOSTA","index":2,"n_rows":45,"n_cols":10,"rows_kept":45,"cut":false,"hidden":true,"merged":[[34,0,35,0],[34,4,35,6],[36,0,36,6],[25,0,25,6],[27,0,27,6],[30,0,30,6],[31,4,31,6],[32,4,32,6],[33,4,33,6],[24,0,24,5],[0,0,0,6],[2,0,2,1],[3,0,3,1],[4,0,4,1],[5,0,5,1]]}
["QUADRO RESUMO VALOR MENSAL DOS SERVIÇOS ITEM 1",{"$nulls":6},12]
[]
[null,null,"Valor proposto por empregado","Qtde de empregados por posto","Valor proposto por posto","Qtde","Valor total do serviço"]
["Tipo de serviço",null,"(B)","(C)","(D) = (B x C)","de postos"]
[{"$nulls":5},"(E)","(F) = (D x E)"]
["(A)"]
["I",{"$nulls":6},{"$f":"G7*$H$1","v":0},63999.99,{"$f":"I7-H7","v":63999.99}]
["IV",{"$f":"[1]base!D13","v":{"$error":"#REF!"}},{"$f":"'[1]Anexo III (4)'!$D$149","v":314.05},null,{"$f":"C8*D8","v":0},{"$f":"[1]base!E13","v":{"$error":"#REF!"}},{"$f":"E8*F8","v":{"$error":"#REF!"}},null,null,{"$f":"I8-H8","v":0}]
["V",{"$f":"[1]base!D14","v":{"$error":"#REF!"}},{"$f":"'[1]Anexo III (5)'!$D$149","v":314.05},null,0,{"$f":"[1]base!E14","v":{"$error":"#REF!"}},{"$error":"#REF!"},null,null,0]
["VI",{"$f":"[1]base!D15","v":{"$error":"#REF!"}},{"$f":"'[1]Anexo III (6)'!$D$149","v":314.05},null,0,{"$f":"[1]base!E15","v":{"$error":"#REF!"}},{"$error":"#REF!"},null,null,0]
["VII",{"$f":"[1]base!D16","v":{"$error":"#REF!"}},{"$f":"'[1]Anexo III (7)'!$D$149","v":314.05},null,0,{"$f":"[1]base!E16","v":{"$error":"#REF!"}},{"$error":"#REF!"},null,null,0]
["VIII",{"$f":"[1]base!D17","v":{"$error":"#REF!"}},{"$f":"'[1]Anexo III (8)'!$D$149","v":314.05},null,0,{"$f":"[1]base!E17","v":{"$error":"#REF!"}},{"$error":"#REF!"},null,null,0]
["IX",{"$f":"[1]base!D18","v":{"$error":"#REF!"}},{"$f":"'[1]Anexo III (9)'!$D$149","v":314.05},null,0,{"$f":"[1]base!E18","v":{"$error":"#REF!"}},{"$error":"#REF!"},null,null,0]
["X",{"$f":"[1]base!D19","v":{"$error":"#REF!"}},{"$f":"'[1]Anexo III (10)'!$D$149","v":314.05},null,0,{"$f":"[1]base!E19","v":{"$error":"#REF!"}},{"$error":"#REF!"},null,null,0]
["XI",{"$f":"[1]base!D20","v":{"$error":"#REF!"}},{"$f":"'[1]Anexo III (11)'!$D$149","v":314.05},null,0,{"$f":"[1]base!E20","v":{"$error":"#REF!"}},{"$error":"#REF!"},null,null,0]
["XII",{"$f":"[1]base!D21","v":{"$error":"#REF!"}},{"$f":"'[1]Anexo III (12)'!$D$149","v":314.05},null,0,{"$f":"[1]base!E21","v":{"$error":"#REF!"}},{"$error":"#REF!"},null,null,0]
["XIII",{"$f":"[1]base!D22","v":{"$error":"#REF!"}},{"$f":"'[1]Anexo III (13)'!$D$149","v":314.05},null,0,{"$f":"[1]base!E22","v":{"$error":"#REF!"}},{"$error":"#REF!"},null,null,0]
["XIV",{"$f":"[1]base!D23","v":{"$error":"#REF!"}},{"$f":"'[1]Anexo III (14)'!$D$149","v":314.05},null,0,{"$f":"[1]base!E23","v":{"$error":"#REF!"}},{"$error":"#REF!"},null,null,0]
["XV",{"$f":"[1]base!D24","v":{"$error":"#REF!"}},{"$f":"'[1]Anexo III (15)'!$D$149","v":314.05},null,0,{"$f":"[1]base!E24","v":{"$error":"#REF!"}},{"$error":"#REF!"},null,null,0]
["XVI",{"$f":"[1]base!D25","v":{"$error":"#REF!"}},{"$f":"'[1]Anexo III (16)'!$D$149","v":314.05},null,0,{"$f":"[1]base!E25","v":{"$error":"#REF!"}},{"$error":"#REF!"},null,null,0]
["XVII",{"$f":"[1]base!D26","v":{"$error":"#REF!"}},{"$f":"'[1]Anexo III (17)'!$D$149","v":314.05},null,0,{"$f":"[1]base!E26","v":{"$error":"#REF!"}},{"$error":"#REF!"},null,null,0]
["XVIII",{"$f":"[1]base!D27","v":{"$error":"#REF!"}},{"$f":"'[1]Anexo III (18)'!$D$149","v":314.05},null,0,{"$f":"[1]base!E27","v":{"$error":"#REF!"}},{"$error":"#REF!"},null,null,0]
["XIX",{"$f":"[1]base!D28","v":{"$error":"#REF!"}},{"$f":"'[1]Anexo III (19)'!$D$149","v":314.05},null,0,{"$f":"[1]base!E28","v":{"$error":"#REF!"}},{"$error":"#REF!"},null,null,0]
["XX",{"$f":"[1]base!D29","v":{"$error":"#REF!"}},{"$f":"'[1]Anexo III (20)'!$D$149","v":314.05},null,0,{"$f":"[1]base!E29","v":{"$error":"#REF!"}},{"$error":"#REF!"},null,null,0]
["VALOR MENSAL DOS SERVIÇOS ",{"$nulls":6},{"$f":"SUM(H7:H24)","v":0},230132.78,230132.78]
[]
[]
["Quadro - demonstrativo - VALOR GLOBAL DA PROPOSTA ITEM 1"]
[]
[]
["Valor Global da Proposta",{"$nulls":7},{"$f":"E7+#REF!","v":{"$error":"#REF!"}}]
[null,"Descrição",null,null,"Valor (R$)"]
["A","Valor proposto por unidade de medida *"]
["B","Valor mensal do serviço"]
["C","Valor global da proposta"]
[null,"(valor mensal do serviço X nº meses do contrato)."]
[]
["Nota (1): Informar o valor da unidade de medida por tipo de serviço."]
[]
[]
[]
[]
[]
[]
[{"$nulls":6}," "]

{"sheet":"ANEXO VI PROP BRANCO","index":3,"n_rows":46,"n_cols":10,"rows_kept":46,"cut":false,"hidden":false,"merged":[[39,0,39,2],[40,0,40,2],[45,0,45,2],[34,0,35,0],[34,4,35,6],[36,0,36,6],[33,4,33,6],[0,0,0,6],[2,0,2,1],[3,0,3,1],[4,0,4,1],[5,0,5,1],[24,0,24,5],[25,0,25,6],[27,0,27,6],[30,0,30,6],[31,4,31,6],[32,4,32,6]]}
["ANEXO VI - Quadro-resumo - VALOR MENSAL DOS SERVIÇOS ITEM 1",{"$nulls":6},12]
[]
[null,null,"Valor proposto por empregado","Qtde de empregados por posto","Valor proposto por posto","Qtde","Valor total do serviço"]
["Tipo de serviço",null,"(B)","(C)","(D) = (B x C)","de postos"]
[{"$nulls":5},"(E)","(F) = (D x E)"]
["(A)"]
["I",{"$f":"'ANEXO VI PROPOSTA'!B7","v":0},null,2,null,{"$f":"[1]base!E10","v":1},null,{"$f":"G7*$H$1","v":0},63999.99,{"$f":"I7-H7","v":63999.99}]
["IV",{"$f":"[1]base!D13","v":{"$error":"#REF!"}},{"$f":"'[1]Anexo III (4)'!$D$149","v":314.05},null,{"$f":"C8*D8","v":0},{"$f":"[1]base!E13","v":{"$error":"#REF!"}},null,null,null,{"$f":"I8-H8","v":0}]
["V",{"$f":"[1]base!D14","v":{"$error":"#REF!"}},{"$f":"'[1]Anexo III (5)'!$D$149","v":314.05},null,0,{"$f":"[1]base!E14","v":{"$error":"#REF!"}},null,null,null,0]
["VI",{"$f":"[1]base!D15","v":{"$error":"#REF!"}},{"$f":"'[1]Anexo III (6)'!$D$149","v":314.05},null,0,{"$f":"[1]base!E15","v":{"$error":"#REF!"}},null,null,null,0]
["VII",{"$f":"[1]base!D16","v":{"$error":"#REF!"}},{"$f":"'[1]Anexo III (7)'!$D$149","v":314.05},null,0,{"$f":"[1]base!E16","v":{"$error":"#REF!"}},null,null,null,0]
["VIII",{"$f":"[1]base!D17","v":{"$error":"#REF!"}},{"$f":"'[1]Anexo III (8)'!$D$149","v":314.05},null,0,{"$f":"[1]base!E17","v":{"$error":"#REF!"}},null,null,null,0]
["IX",{"$f":"[1]base!D18","v":{"$error":"#REF!"}},{"$f":"'[1]Anexo III (9)'!$D$149","v":314.05},null,0,{"$f":"[1]base!E18","v":{"$error":"#REF!"}},null,null,null,0]
["X",{"$f":"[1]base!D19","v":{"$error":"#REF!"}},{"$f":"'[1]Anexo III (10)'!$D$149","v":314.05},null,0,{"$f":"[1]base!E19","v":{"$error":"#REF!"}},null,null,null,0]
["XI",{"$f":"[1]base!D20","v":{"$error":"#REF!"}},{"$f":"'[1]Anexo III (11)'!$D$149","v":314.05},null,0,{"$f":"[1]base!E20","v":{"$error":"#REF!"}},null,null,null,0]
["XII",{"$f":"[1]base!D21","v":{"$error":"#REF!"}},{"$f":"'[1]Anexo III (12)'!$D$149","v":314.05},null,0,{"$f":"[1]base!E21","v":{"$error":"#REF!"}},null,null,null,0]
["XIII",{"$f":"[1]base!D22","v":{"$error":"#REF!"}},{"$f":"'[1]Anexo III (13)'!$D$149","v":314.05},null,0,{"$f":"[1]base!E22","v":{"$error":"#REF!"}},null,null,null,0]
["XIV",{"$f":"[1]base!D23","v":{"$error":"#REF!"}},{"$f":"'[1]Anexo III (14)'!$D$149","v":314.05},null,0,{"$f":"[1]base!E23","v":{"$error":"#REF!"}},null,null,null,0]
["XV",{"$f":"[1]base!D24","v":{"$error":"#REF!"}},{"$f":"'[1]Anexo III (15)'!$D$149","v":314.05},null,0,{"$f":"[1]base!E24","v":{"$error":"#REF!"}},null,null,null,0]
["XVI",{"$f":"[1]base!D25","v":{"$error":"#REF!"}},{"$f":"'[1]Anexo III (16)'!$D$149","v":314.05},null,0,{"$f":"[1]base!E25","v":{"$error":"#REF!"}},null,null,null,0]
["XVII",{"$f":"[1]base!D26","v":{"$error":"#REF!"}},{"$f":"'[1]Anexo III (17)'!$D$149","v":314.05},null,0,{"$f":"[1]base!E26","v":{"$error":"#REF!"}},null,null,null,0]
["XVIII",{"$f":"[1]base!D27","v":{"$error":"#REF!"}},{"$f":"'[1]Anexo III (18)'!$D$149","v":314.05},null,0,{"$f":"[1]base!E27","v":{"$error":"#REF!"}},null,null,null,0]
["XIX",{"$f":"[1]base!D28","v":{"$error":"#REF!"}},{"$f":"'[1]Anexo III (19)'!$D$149","v":314.05},null,0,{"$f":"[1]base!E28","v":{"$error":"#REF!"}},null,null,null,0]
["XX",{"$f":"[1]base!D29","v":{"$error":"#REF!"}},{"$f":"'[1]Anexo III (20)'!$D$149","v":314.05},null,0,{"$f":"[1]base!E29","v":{"$error":"#REF!"}},null,null,null,0]
["VALOR MENSAL DOS SERVIÇOS ",{"$nulls":6},{"$f":"SUM(H7:H24)","v":0},230132.78,230132.78]
[]
[]
["Quadro - demonstrativo - VALOR GLOBAL DA PROPOSTA ITEM 1"]
[]
[]
["Valor Global da Proposta",{"$nulls":7},{"$f":"E7+#REF!","v":{"$error":"#REF!"}}]
[null,"Descrição",null,null,"Valor (R$)"]
["A","Valor proposto por unidade de medida *"]
["B","Valor mensal do serviço"]
["C","Valor global da proposta"]
[null,"(valor mensal do serviço X nº meses do contrato)."]
[]
["Nota (1): Informar o valor da unidade de medida por tipo de serviço."]
[]
["II - VALOR TOTAL MENSAL DOS SERVIÇOS (R$):"]
["III - VALOR GLOBAL DA PROPOSTA R$ (valor total mensal dos serviços x 12 meses):"]
["LOCAL E DATA:"]
["RAZÃO SOCIAL:"]
["CNPJ:"]
["RESPONSÁVEL:",{"$nulls":5}," "]
["IDENTIDADE:                                     CPF:"]